{"text_format":"1","workbook":"xlsx","n_sheets":12,"sheets":["Directives","Demande-média","Demande-employé","Annexe A-employé","Annexe A1-employé","Annexe B-média"," Annexe E-employé"," Annexe E1-employé"," Annexe E2-employé"," Annexe E3-employé","Annexe E (Exemple)","Liste des établissements"],"not_rendered":{"charts":0,"images":1,"macros":0,"external_links":3,"defined_names":73,"comments":0,"pivot_tables":0},"unopened":[],"bounds":{"document_bytes":16777216,"sheet_cells":100000,"rows_first":2000,"rows_last":500,"rows_between":2000,"halvings":0,"cell_chars":16384,"cell_head_chars":4096},"cells_cut":0,"cells_raw":0,"read":"whole","date_system":"1900"}

{"sheet":"Directives","index":0,"n_rows":41,"n_cols":14,"rows_kept":41,"cut":false,"hidden":false,"merged":[[31,0,31,37],[0,0,0,12],[0,13,0,37],[1,0,1,37],[5,0,5,37],[2,0,2,37],[4,0,4,37],[3,0,3,37],[6,0,6,37],[7,0,7,37],[8,0,8,37],[9,0,9,37],[10,0,10,37],[22,0,22,37],[21,0,21,37],[20,0,20,37],[40,1,40,33],[39,0,39,33],[24,0,24,37],[26,0,26,37],[35,1,35,33],[30,0,30,37],[36,0,36,33],[37,0,37,33],[38,0,38,33],[27,0,27,37],[28,0,28,37],[33,0,33,33],[32,0,32,37],[34,0,34,37],[25,0,25,37],[29,0,29,37],[19,1,19,37],[17,0,17,37],[18,1,18,37],[16,0,16,37],[11,0,11,37],[12,0,12,37],[13,0,13,37],[14,0,14,37],[15,0,15,37]]}
[null,null,null,null,null,null,null,null,null,null,null,null,null,"Soutien à la presse d'information écrite\n(version 2023-09)"]
["Directives – Demande d'attestations de média et d'employé "]
["Ce document indique la procédure à suivre pour obtenir une attestation certifiant que la société ou la société de personnes produit et diffuse un média admissible et une attestation d'employé admissible requises pour réclamer le crédit d'impôt pour soutenir la presse d'information écrite (CPIE). La société doit par la suite réclamer ce crédit d'impôt à Revenu Québec en produisant sa déclaration de revenus CO-17 et les annexes afférentes dans le délai prévu."]
["La demande d’attestations de média et d'employé doit être présentée après la fin de l'exercice financier visé, et ce, pour chaque exercice financier pour lequel la société a droit au crédit d'impôt. "]
["Nous vous conseillons fortement de consulter la fiche détaillée relative au crédit d’impôt visé par la demande sur notre site Internet avant de remplir ce formulaire. Assurez-vous d’utiliser la dernière version à jour du formulaire. Par ailleurs, vous pouvez consulter le chapitre XIX, de l'annexe A de la Loi concernant les paramètres sectoriels de certaines mesures fiscales qui inclut tous les paramètres sectoriels applicables à cette mesure."]
[]
["DÉLAIS APPLICABLES AUX EXERCICES FINANCIERS DÉBUTANT APRÈS LE 26 MARS 2015"]
["À la suite du budget 2015-2016 du 26 mars 2015, des modifications ont été apportées aux règles afférentes aux délais relatifs à une demande de crédit d’impôt remboursable pour les exercices financiers commençant après le 26 mars 2015."]
[]
["Dépôt d'une demande d'attestation annuelle à Investissement Québec"]
["La société doit présenter sa demande d’attestations d'admissibilité à Investissement Québec avant la fin du 15e mois suivant la fin de l’exercice financier de la société. Si la demande d’attestation d'admissibilité est présentée après cette date, mais avant l’expiration du délai de 18 mois suivant la fin de l’exercice financier de la société, Investissement Québec peut, de manière discrétionnaire, accepter la demande d’attestation si elle est d’avis que les motifs de retard sont raisonnables et justifient une telle demande « tardive ». Par conséquent, si vous êtes dans cette situation, veuillez joindre un document faisant état de vos motifs de retard."]
[]
["Toutefois, une demande d'attestation déposée à Investissement Québec après l'expiration du délai de 18 mois sera refusée."]
[]
["Production des documents à Revenu Québec"]
["La société doit présenter sa demande de crédit d’impôt et les attestations à Revenu Québec à la plus tardive des dates suivantes :\n   - Le dernier jour du 18e mois suivant la fin de l’exercice financier visé de la société;\n   - Le dernier jour de la période de 3 mois suivant la date de délivrance des attestations d’Investissement Québec.                                                                                                                                                                                                                                                                                                                                                                                                          "]
["De plus, seules les demandes complètes seront traitées. Toute demande reçue avant la fin de l'exercice financier visé sera retournée à l'expéditeur."]
["Une demande complète inclut tous les documents obligatoires suivants :"]
[" -","Demande d'attestation de média dûment complétée et signée ainsi que les documents obligatoires indiqués à la section 5;"]
[" -","Demande d'attestation d'employé dûment complétée et signée ainsi que les documents obligatoires indiqués à la section 5."]
[]
["ENTENTE D'ÉCHANGE DE RENSEIGNEMENTS"]
["Investissement Québec et Revenu Québec ont conclu, le 7 octobre 2009, une entente intitulée « Entente portant sur l'échange de renseignements nécessaires à l'administration de mesures fiscales ou à l’application d’une loi fiscale ». Cette entente permet à chaque organisme d'échanger des renseignements essentiels à l'exercice de leurs mandats respectifs, et ce, sans qu'il soit nécessaire de demander le consentement de la personne en cause. La communication de renseignements à Revenu Québec se fait exclusivement dans le cadre de cette entente. La Commission d'accès à l'information du Québec a d'ailleurs approuvé cette entente après avoir analysé la nature des renseignements et les fins pour lesquelles ils seraient communiqués, ainsi que les moyens mis en œuvre pour assurer la confidentialité et les mesures de sécurité prévues."]
[]
[]
["HONORAIRES EXIGÉS"]
["Investissement Québec exige des honoraires pour les attestations qu'elle délivre. Si vous souhaitez obtenir plus d'information à ce sujet, consultez la grille de tarification accessible sur notre site Internet. "]
[]
["ADRESSES D’ENVOI ET MODE DE TRANSMISSION DES FORMULAIRES DE LA DEMANDE D’ATTESTATIONS\n"]
["Vous devez transmettre les demandes signées par courrier électronique afin d’accélérer le traitement de vos demandes. À cet effet, veuillez joindre les demandes d'attestations (média et employé) dûment signées en format PDF."]
["Si vos fichiers sont volumineux, vous pouvez demander un lien sécurisé à l'une des adresses courriel indiquées ci-dessous en indiquant le nom de la société pour laquelle ce lien est requis. (Ne pas transmettre de fichiers par d'autres types de lien comme Google)."]
["Dans tous les cas, assurez-vous d’envoyer le fichier électronique de la demande d’attestations (incluant les annexes) en format Excel.\n"]
["Pour les sociétés dont le siège social est situé dans l'une des régions suivantes :\n\nBas-Saint-Laurent;\nCapitale-Nationale;\nChaudière-Appalaches;\nCentre-du-Québec;\nCôte-Nord;\nEstrie;\nGaspésie–Îles-de-la-Madeleine;\nLanaudière;\nMauricie;\nMontérégie;\nNord-du-Québec;\nSaguenay–Lac-Saint-Jean."]
[]
["Investissement Québec\nDirection, Mesures fiscales (Québec)\nÉdifice Iberville 1\n1195, avenue Lavigerie, bureau 060\nQuébec (Québec)  G1V 4N3"]
[" -","par courriel à l’adresse suivante : mfquebec@invest-quebec.com"]
[]
["Pour les sociétés dont le siège social est situé dans l’une des régions suivantes :\n\nAbitibi-Témiscamingue;\nLaval;\nLaurentides;\nMontréal;\nOutaouais."]
[]
["Investissement Québec\nDirection, Mesures fiscales (Montréal)\n1001, boulevard Robert-Bourassa, bureau 1000\nMontréal (Québec) H3B 4L4"]
[" -","par courriel à l’adresse suivante : mfmontreal@invest-quebec.com"]

{"sheet":"Demande-média","index":1,"n_rows":137,"n_cols":34,"rows_kept":137,"cut":false,"hidden":false,"merged":[[39,27,39,31],[39,32,39,34],[44,16,44,21],[35,0,35,25],[35,26,35,34],[44,22,44,38],[20,0,20,25],[109,1,109,28],[30,0,30,25],[87,0,87,34],[90,0,90,34],[66,0,66,28],[67,29,67,30],[43,8,43,13],[43,14,43,15],[56,0,56,7],[68,1,68,27],[46,0,46,34],[60,0,60,34],[65,0,65,34],[58,0,58,34],[56,8,56,13],[57,0,57,7],[57,8,57,13],[0,0,0,12],[0,13,0,34],[1,0,1,34],[4,0,4,34],[5,0,5,34],[6,0,6,7],[6,10,6,17],[6,20,6,27],[6,29,6,34],[2,0,2,34],[118,1,118,26],[108,1,108,31],[71,0,71,28],[71,29,71,30],[59,0,59,38],[115,0,117,0],[115,1,115,35],[120,0,120,34],[51,0,51,28],[53,0,53,28],[54,0,54,34],[63,0,63,38],[57,14,57,34],[135,0,135,20],[135,23,135,34],[134,0,134,34],[116,1,116,18],[47,0,47,34],[45,0,45,38],[138,0,138,34],[136,0,136,20],[136,23,136,34],[130,1,130,34],[132,1,132,34],[48,29,48,30],[49,0,49,28],[83,0,83,34],[61,0,61,38],[48,0,48,28],[88,0,88,32],[94,0,94,23],[85,0,85,31],[96,0,96,34],[131,0,131,34],[77,0,77,38],[23,26,23,34],[25,0,25,25],[37,0,37,25],[38,0,38,25],[38,27,38,34],[36,0,36,25],[28,26,28,34],[25,26,25,34],[26,0,26,34],[39,0,39,25],[133,0,133,34],[44,0,44,7],[44,8,44,13],[33,0,33,34],[34,0,34,34],[44,14,44,15],[67,1,67,27],[15,26,15,34],[16,0,16,34],[17,0,17,34],[18,0,18,25],[18,26,18,34],[29,0,29,25],[123,0,123,34],[127,0,127,34],[27,0,27,34],[43,16,43,21],[43,22,43,38],[31,0,31,25],[31,27,31,34],[32,0,32,25],[29,27,29,32],[41,0,41,38],[28,0,28,25],[9,0,9,34],[3,0,3,34],[14,0,14,34],[30,27,30,31],[29,33,29,34],[30,33,30,34],[32,27,32,31],[37,27,37,31],[37,33,37,34],[36,33,36,34],[7,0,7,7],[7,10,7,17],[7,20,7,27],[7,29,7,34],[8,0,8,34],[15,0,15,25],[36,27,36,32],[10,0,10,25],[11,0,11,25],[20,26,20,34],[21,0,21,34],[22,0,22,34],[23,0,23,25],[13,0,13,34],[12,0,12,25],[129,0,129,34],[111,1,111,31],[113,1,113,31],[97,33,97,34],[70,0,70,27],[70,28,70,31],[81,0,81,28],[80,0,80,28],[80,29,80,30],[78,0,78,34],[72,1,72,27],[73,1,73,34],[76,0,76,34],[75,0,75,34],[121,0,122,0],[121,1,122,34],[126,1,126,38],[128,0,128,34],[43,0,43,7],[117,1,117,36],[93,0,93,32],[91,0,91,31]]}
[null,null,null,null,null,null,null,null,null,null,null,null,null,{"$f":"Directives!N1","v":"Soutien à la presse d'information écrite\n(version 2023-09)"}]
["Demande d'attestation de média admissible"]
["Avant de remplir le formulaire, veuillez lire l'onglet Directives"]
["1. IDENTIFICATION DE LA SOCIÉTÉ OU DE LA SOCIÉTÉ DE PERSONNES"]
["Nom de la société ou de la société de personnes"]
[]
["NEQ (numéro d'entreprise du Qc)",null,null,null,null,null,null,null,null,null,"Numéro d'entreprise IQ*",null,null,null,null,null,null,null,null,null,"Numéro de dossier IQ*",null,null,null,null,null,null,null,null,"Date d'incorporation"]
[]
["*Il s'agit du numéro d'entreprise ou de dossier pour le crédit d'impôt pour soutenir la presse d'information écrite attribué par Investissement Québec (IQ). Non requis lors de la première demande. Dans le cas d'une deuxième demande, vous retracerez ce numéro sur la correspondance reçue de la part d'IQ."]
["Liste des noms des associés, s'il y a lieu"]
[]
[]
[]
[]
["Adresse du site Internet de la société ou de la société de personnes"]
[]
[]
["Adresse de tous les établissements (s'il y a plus d'un établissement, veuillez nous fournir la liste complète en annexe)"]
[]
[]
[]
[]
["Adresse de correspondance"]
[]
[]
[]
[]
["Représentant autorisé de la société ou de la société de personnes"]
[]
["Titre du représentant (ex. : président(e) de la société)",null,null,null,null,null,null,null,null,null,null,null,null,null,null,null,null,null,null,null,null,null,null,null,null,null,null,"Téléphone",null,null,null,null,null,"Poste"]
[]
["Adresse de courriel du représentant",null,null,null,null,null,null,null,null,null,null,null,null,null,null,null,null,null,null,null,null,null,null,null,null,null,null,"Cellulaire"]
[]
[]
["Mandataire autorisé de la société ou de la société de personnes, le cas échéant"]
[]
["Titre du mandataire (ex. : comptable, consultant externe)",null,null,null,null,null,null,null,null,null,null,null,null,null,null,null,null,null,null,null,null,null,null,null,null,null,null,"Téléphone",null,null,null,null,null,"Poste"]
[]
["Adresse de courriel du mandataire",null,null,null,null,null,null,null,null,null,null,null,null,null,null,null,null,null,null,null,null,null,null,null,null,null,null,"Cellulaire"]
[]
[]
["2. EXERCICE FINANCIER VISÉ PAR LA DEMANDE D'ATTESTATION"]
[]
["Exercice financier du :",null,null,null,null,null,null,null,null,null,null,null,null,null,"au :"]
[null,null,null,null,null,null,null,null,"(aaaa-mm-jj)",null,null,null,null,null,null,null,"(aaaa-mm-jj)"]
[]
["3. RÉORGANISATION OU ACQUISITION DE CONTRÔLE"]
["Au cours de l'exercice financier visé jusqu'au dépôt de la demande, la société ou la société de personnes a-t-elle :"]
[null,null,null,null,null,null,null,null,null,null,null,null,null,null,null,null,null,null,null,null,null,null,null,null,null,null,null,null,null,"Oui",null,"Non"]
["— fait l'objet d'une acquisition de contrôle donnant lieu à une fin d'année présumée?"]
[]
["— acquis une participation dans une autre société ou société de personnes?"]
[]
["— fait l'objet d'une réorganisation (ex. : fusion, liquidation, achat ou vente d'actifs en bloc)?"]
["Le cas échéant, précisez la date et la nature des changements survenus :"]
[]
["Date"]
[null,null,null,null,null,null,null,null,"(aaaa-mm-jj)"]
[]
[]
["4. INFORMATION SUR LA SOCIÉTÉ OU LA SOCIÉTÉ DE PERSONNES ET DESCRIPTION DU MÉDIA ADMISSIBLE"]
["FOURNISSEZ UNE RÉPONSE ÉCRITE POUR CHAQUE POINT, DANS UN DOCUMENT DISTINCT JOINT AU FORMULAIRE."]
[]
["INFORMATION SUR LA SOCIÉTÉ OU LA SOCIÉTÉ DE PERSONNES"]
[]
["Décrivez sommairement l’historique de la société ou de la société de personnes ainsi que ses activités sauf si vous répondez oui à la question a)."]
[]
["a)","Est-ce que la société ou la société de personnes a obtenu pour la même année d'imposition une attestation de média suite à une demande d'attestation\nrelative au crédit d'impôt pour appuyer la transformation numérique de la presse\n",null,null,null,null,null,null,null,null,null,null,null,null,null,null,null,null,null,null,null,null,null,null,null,null,null,null,null,"Oui",null,"Non"]
["   ","\nd'information écrite (CTNP)?\n"]
[]
["Si vous avez répondu oui à la question a) nous indiquer le numéro de dossier IQ relatif au CTNP.",null,null,null,null,null,null,null,null,null,null,null,null,null,null,null,null,null,null,null,null,null,null,null,null,null,null,null,"D"]
[null,null,null,null,null,null,null,null,null,null,null,null,null,null,null,null,null,null,null,null,null,null,null,null,null,null,null,null,null,"Oui",null,"Non"]
["b)","Est-ce que la présente demande d'attestation de média inclut des médias qui ne figurent "]
["   ","pas sur la demande d'attestation de média mentionnée au point a)?"]
[]
["Si vous avez répondu non à la question a) ou oui à la question b) répondre aux questions demandées à la section : Description du média admissible."]
["Si vous avez répondu oui à la question a) et non à la question b), passez à section 5."]
[]
["DESCRIPTION DU MÉDIA ADMISSIBLE\n(si vous présentez une demande pour plusieurs médias, veuillez fournir l'information pour chacun des médias)"]
[]
[null,null,null,null,null,null,null,null,null,null,null,null,null,null,null,null,null,null,null,null,null,null,null,null,null,null,null,null,null,"Oui",null,"Non"]
["Est-ce une première demande de la société ou de la société de personnes pour un ou des médias?"]
[]
["Dans l'affirmative, nous fournir tout document et copie de ce ou ces médias en format PDF ou autre démontrant que chacun des médias a été produit et diffusé depuis douze mois et plus avant le dépôt de la demande et nous indiquer la date de la première diffusion de chacun des médias à l'annexe B."]
[]
["1. Complétez l'annexe B."]
[]
["2. Indiquez l'emplacement de la salle de rédaction (salle de presse) et dressez la liste des journalistes dont la tâche principale"]
["    est de produire le contenu écrit d'information original du média."]
["  "]
["3. Décrivez en quoi le média comporte un contenu écrit d'information original (par exemple, reportages, portraits ou entrevues,"]
["    analyses, chroniques, dossiers d'enquêtes, éditoriaux). "]
[]
[]
["4. Décrivez la clientèle visée par le média."]
[]
["5. DOCUMENTS OBLIGATOIRES À JOINDRE À LA PRÉSENTE DEMANDE (cocher si les documents sont joints)"]
[null,null,null,null,null,null,null,null,null,null,null,null,null,null,null,null,null,null,null,null,null,null,null,null,null,null,null,null,null,null,null,null,null,"Déjà \nfourni"]
["—  ","États financiers non consolidés de l'exercice financier visé1;"]
[]
["—  ","Balance de vérification de l'exercice financier visé;"]
[]
["—  ","Organigramme corporatif identifiant les actionnaires et les membres  d'une coopérative ou d'une société de personnes"]
["      et les sociétés et sociétés de personnes liées ou associées  (le pourcentage de détention d'actions et des parts doit"]
[null," être inscrit);"]
[]
["—  ","Information demandée à la section 4;"]
[]
["—  ","Copie de la première diffusion et de la dernière diffusion de chaque média (en format PDF ou autre)"]
[null,"dans l'exercice financier visé;"]
[]
["—  ","Ficher électronique de la demande d'attestations (incluant les annexes) en format Excel;"]
[]
["—  ","Demande d'attestations de média et d'employés dûment signées en format  PDF;"]
[]
["—   ","S'il y a lieu, procuration, dûment signée, désignant un mandataire pour représenter la société ou la société "]
[null,"de personnes auprès d'Investissement Québec.  "]
[null,"Vous pouvez vous inspirer du modèle publié sur le site Internet d'Investissement Québec à l’adresse suivante : "]
[null,"http://www.investquebec.com/documents/qc/formulaires/Procuration_fr.doc"]
["Dans l'éventualité où les documents ne sont pas joints, veuillez indiquer la raison."]
[]
[1,"Les états financiers peuvent être à l’état de projet à condition que vous nous fassiez parvenir une version finale des états financiers dès qu’ils seront disponibles."]
[]
[]
[]
[]
["6.  ","DÉCLARATION DU REPRÉSENTANT OU DU MANDATAIRE AUTORISÉ DE LA SOCIÉTÉ OU DE LA SOCIÉTÉ DE \nPERSONNES"]
["Je, soussigné(e), représentant(e) ou mandataire dûment autorisé(e) de la société ou de la société de personnes, déclare que les renseignements fournis dans la présente demande, l'annexe et les documents afférents sont complets et véridiques en tous points."]
["De plus, sauf indication contraire expresse à cet effet, j’autorise Investissement Québec à utiliser les renseignements obtenus dans le cadre de cette demande et pouvant s’avérer nécessaires à l’analyse de toute demande de financement, d’investissement ou à l’égard de tout autre service offert par Investissement Québec."]
["Enfin, je soussigné(e), représentant(e) ou mandataire dûment autorisé(e) de la société, représente et garantis à Investissement Québec que la société a obtenu, conformément à la loi, tous les consentements requis des personnes concernées par les renseignements personnels divulgués en lien avec cette demande et qui sont nécessaires afin qu’Investissement Québec puisse les utiliser, les communiquer à Revenu Québec ou aux prestataires de services ou partenaires d'Investissement Québec si nécessaire, les transférer hors Québec si applicable, le tout, aux fins de traiter la demande de la société."]
[null," J'autorise le partage des renseignements"]
[]
[null," Je n'autorise pas le partage des renseignements"]
[]
["Enfin, je certifie que la société ou la société de personnes n'a pas modifié le contenu de la présente demande."]
[]
["Signature du représentant ou du mandataire autorisé \nde la société ou de la société de personnes",null,null,null,null,null,null,null,null,null,null,null,null,null,null,null,null,null,null,null,null,null,null,"Date"]

{"sheet":"Demande-employé","index":2,"n_rows":109,"n_cols":36,"rows_kept":109,"cut":false,"hidden":false,"merged":[[13,0,13,37],[3,0,3,33],[10,0,10,25],[11,0,11,25],[12,0,12,25],[17,0,17,33],[103,0,103,33],[39,27,39,32],[38,0,38,37],[39,0,39,25],[49,0,49,37],[46,16,46,21],[46,8,46,13],[47,8,47,13],[47,16,47,21],[47,22,47,37],[43,0,43,25],[43,27,43,32],[43,35,43,37],[47,14,47,15],[47,0,47,7],[46,0,46,7],[20,26,20,37],[15,26,15,37],[42,0,42,25],[15,0,15,25],[21,0,21,37],[19,26,19,37],[20,0,20,25],[25,26,25,37],[26,0,26,37],[34,0,34,25],[34,27,34,34],[34,35,34,37],[35,0,35,37],[41,0,41,37],[36,0,36,37],[40,35,40,37],[39,35,39,37],[37,26,37,37],[40,0,40,25],[40,27,40,32],[19,0,19,25],[22,0,22,37],[25,0,25,25],[31,27,31,31],[105,0,105,33],[106,0,106,33],[58,1,58,19],[62,0,62,37],[58,30,58,36],[60,1,60,37],[76,0,76,37],[64,0,64,37],[71,1,71,37],[72,1,72,37],[70,0,70,37],[95,1,95,37],[97,0,97,37],[98,1,98,37],[78,1,78,30],[79,1,79,30],[81,1,81,30],[82,1,82,30],[104,1,104,33],[99,0,99,37],[100,0,100,37],[74,1,74,37],[61,0,61,37],[96,0,96,37],[108,23,108,37],[108,0,108,20],[107,0,107,20],[107,23,107,37],[27,0,27,37],[28,0,28,25],[28,26,28,37],[30,0,30,25],[30,27,30,32],[30,35,30,37],[29,0,29,37],[31,0,31,25],[31,35,31,37],[33,0,33,25],[32,0,32,37],[33,27,33,37],[59,1,59,37],[48,0,48,37],[57,21,57,29],[50,1,50,37],[102,1,102,33],[42,27,42,37],[37,0,37,25],[46,22,46,37],[0,0,0,12],[1,0,1,37],[0,13,0,37],[2,0,2,37],[23,0,23,25],[24,0,24,25],[5,0,5,37],[4,0,4,37],[6,0,6,7],[6,10,6,17],[6,20,6,27],[6,30,6,37],[24,26,24,37],[16,0,16,37],[14,0,14,37],[7,0,7,7],[7,10,7,17],[8,0,8,37],[7,20,7,27],[23,26,23,37],[7,30,7,37],[9,0,9,37],[18,0,18,25],[18,26,18,37],[44,0,44,37],[46,14,46,15],[45,0,45,37],[85,0,85,37],[91,1,91,37],[90,0,90,37],[89,1,89,37],[56,1,56,19],[57,1,57,19],[57,30,57,36],[56,21,56,29],[51,0,51,37],[58,21,58,29],[56,30,56,36],[55,1,55,37],[52,1,53,37],[52,0,53,0],[54,9,54,37],[83,0,83,33],[63,0,63,37],[77,0,77,33],[86,0,86,37],[54,1,54,8],[101,0,101,37],[92,1,92,37],[87,1,87,37],[88,1,88,37],[94,1,94,37],[93,0,93,37],[65,1,65,37],[66,1,66,37],[67,1,67,37],[73,1,73,38],[75,1,75,37],[68,1,68,37]]}
[null,null,null,null,null,null,null,null,null,null,null,null,null,{"$f":"Directives!N1","v":"Soutien à la presse d'information écrite\n(version 2023-09)"}]
["Demande d'attestation d'employé"]
["1. IDENTIFICATION DE LA SOCIÉTÉ OU DE LA SOCIÉTÉ DE PERSONNES"]
["Nom de la société ou de la société de personnes"]
[{"$f":"IF('Demande-média'!A6:AI6=\"\",\"\",'Demande-média'!A6:AI6)","v":""}]
[]
["NEQ (numéro d'entreprise du Qc)",null,null,null,null,null,null,null,null,null,"Numéro d'entreprise IQ*",null,null,null,null,null,null,null,null,null,"Numéro de dossier IQ*",null,null,null,null,null,null,null,null,null,"Date d'incorporation"]
[{"$f":"IF('Demande-média'!A8:H8=\"\",\"\",'Demande-média'!A8:H8)","v":""},null,null,null,null,null,null,null,null,null,{"$f":"IF('Demande-média'!K8:R8=\"\",\"\",'Demande-média'!K8:R8)","v":""},null,null,null,null,null,null,null,null,null,{"$f":"IF('Demande-média'!U8:AB8=\"\",\"\",'Demande-média'!U8:AB8)","v":""},null,null,null,null,null,null,null,null,null,{"$f":"IF('Demande-média'!AD8=\"\",\"\",'Demande-média'!AD8)","v":""}]
["*Il s'agit du numéro d'entreprise ou de dossier attribué par IQ pour le crédit d'impôt pour soutenir la presse d'information écrite. Vous retracerez ce numéro sur la correspondance relativement au média admissible attesté reçue de la part d'IQ."]
["Liste des noms des associés, s'il y a lieu"]
[]
[]
[]
[]
["Adresse du site Internet de la société ou de la société de personnes"]
[]
[]
["Adresse de tous les établissements (s'il y a plus d'un établissement, veuillez nous fournir la liste complète en annexe)"]
[]
[]
[]
[]
["Adresse de correspondance"]
[]
[]
[]
[]
["Représentant autorisé de la société ou de la société de personnes"]
[]
[]
["Titre du représentant (ex. : président(e) de la société)",null,null,null,null,null,null,null,null,null,null,null,null,null,null,null,null,null,null,null,null,null,null,null,null,null,null,"Téléphone",null,null,null,null,null,null,null,"Poste"]
[]
[]
["Adresse de courriel du représentant",null,null,null,null,null,null,null,null,null,null,null,null,null,null,null,null,null,null,null,null,null,null,null,null,null,null,"Cellulaire"]
[]
[]
["Mandataire autorisé de la société ou de la société de personnes"]
[]
[]
["Titre du mandataire (ex. : comptable, consultant externe)",null,null,null,null,null,null,null,null,null,null,null,null,null,null,null,null,null,null,null,null,null,null,null,null,null,null,"Téléphone",null,null,null,null,null,"Poste",null,"Poste"]
[]
[]
["Adresse de courriel du mandataire",null,null,null,null,null,null,null,null,null,null,null,null,null,null,null,null,null,null,null,null,null,null,null,null,null,null,"Cellulaire"]
[]
[]
["2. EXERCICE FINANCIER VISÉ PAR LA DEMANDE D'ATTESTATION"]
["Exercice financier du :",null,null,null,null,null,null,null,{"$f":"IF('Demande-média'!I44=\"\",\"\",'Demande-média'!I44)","v":""},null,null,null,null,null,"au :",null,{"$f":"IF('Demande-média'!Q44=\"\",\"\",'Demande-média'!Q44)","v":""}]
[null,null,null,null,null,null,null,null,"(aaaa-mm-jj)",null,null,null,null,null,null,null,"(aaaa-mm-jj)"]
[]
["3. RENSEIGNEMENTS SUR LES EMPLOYÉS"]
["— ","Veuillez compléter l'annexe A « LISTE DES EMPLOYÉS VISÉS » et  l'Annexe E « DESCRIPTION DE POSTE » pour tous les employés pour lesquels vous demandez le crédit d'impôt."]
[]
["—  ","Indiquez le nombre total d’employés à l'emploi de votre société ou société de personnes pour l'exercice financier visé. Le nombre total d'employés doit comprendre tous les employés de la société ou de la société de personnes (qu’ils soient réclamés ou non, qu’ils travaillent à temps plein ou à temps partiel, de façon saisonnière ou qu’ils aient été à l’emploi de la société ou de la société de personnes pour toute l’année ou pour une période plus courte)."]
[]
[]
["—  ","Indiquez les postes non réclamés dans la présente demande ainsi que le nombre d'employés non réclamés"]
[null,"Postes non réclamés",null,null,null,null,null,null,null,null,null,null,null,null,null,null,null,null,null,null,null,"Nombre d'employés non réclamés"]
[]
[]
[null,"Décrivez de façon détaillée la méthodologie utilisée pour déterminer les pourcentages déclarés à l'annexe E (pourcentage de temps consacré à chacune des fonctions énumérées). De plus, veuillez indiquer les documents ou les outils informatiques utilisés pour déterminer ces pourcentages (agrandir la ligne au besoin ou joindre un document séparé). (Exemple de documents utilisés : feuille de temps, rapport de projet, etc.)"]
[]
[]
["4.  ACTIVITÉS ADMISSIBLES DES EMPLOYÉS"]
["Veuillez cocher la ou les catégories qui correspondent le mieux aux activités admissibles réalisées par les employés réclamés."]
["Activités relatives à la production de contenu écrit original destiné à être diffusé dans un média admissible."]
[null,"La recherche, la collecte de données et la vérification des faits;"]
[null,"La photographie;"]
[null,"La rédaction et la révision;"]
[null,"La conception et toute autre préparation de contenu."]
[]
["Activités relatives à l'exploitation des technologies de l'information liées à la production ou à la diffusion d'un tel contenu écrit original."]
[null,"La gestion ou l'exploitation de systèmes informatiques d'applications ou d'infrastructures technologiques;"]
[null,"L'exploitation d'un service de gestion des relations avec la clientèle;"]
[null,"La gestion ou l'exploitation d'un système d'information concernant le marketing qui vise à accroître la visibilité du média admissible "]
[null,"et à le promouvoir auprès d'une clientèle actuelle ou potentielle;"]
[null,"Autre activité de gestion ou d'exploitation exercée aux fins de la production ou de la diffusion du média admissible."]
[]
["5. DOCUMENTS OBLIGATOIRES À JOINDRE À LA PRÉSENTE DEMANDE (cocher si les documents sont joints)"]
["—  ","Les annexes A, A1 et E ainsi que les documents requis à l'appui de l'annexe A et A1 (relevé d'emploi, contrat "]
[null,"d'embauche, curriculum vitae, relevé de paie);"]
[]
["—  ","Organigramme détaillé présentant les liens hiérarchiques et identifiant tous les employés de la société ou de"]
[null,"la société de personnes. Cet organigramme doit présenter les employés réclamés et ceux non réclamés."]
[]
[]
[]
["6. AUTRES ACTIVITÉS"]
[null,"Précisez si les activités suivantes ont été effectuées par des employés figurant à l'annexe A—Liste des employés visés au cours de l'exercice financier visé :"]
["1. ","Précisez si les employés de votre société ou société de personnes ont reçu de la formation et si oui, veuillez préciser lesquels. De plus, veuillez préciser le nombre d'heures pour chaque employé visé ou veuillez inscrire le pourcentage de temps que représente la formation via l'annexe E (agrandir la ligne au besoin);"]
[]
[]
["2.","Précisez si les employés de votre société ou société de personnes ont réalisé des activités pour des médias ne figurant pas sur l'attestation d'un média admissible pour l'exercice financier visé et si oui, veuillez préciser lesquels. De plus, veuillez préciser le nombre d'heures pour chaque employé visé ou veuillez inscrire le pourcentage de temps que cela représente via l'annexe E (agrandir la ligne au besoin);"]
[]
[]
["3. ","Précisez si les employés de votre société ou société de personnes ont réalisé des activités de conversion numérique pour un ou des médias produits et diffusés pendant l'exercice financier visé et si oui, veuillez préciser lesquels. De plus, veuillez préciser le nombre d'heures pour chaque employé visé ou veuillez inscrire le pourcentage de temps que cela représente via l'annexe E (agrandir la ligne au besoin);"]
[]
[]
[]
["7.  ","DÉCLARATION DU REPRÉSENTANT OU DU MANDATAIRE AUTORISÉ DE LA SOCIÉTÉ OU DE LA SOCIÉTÉ DE PERSONNES"]
["Je, soussigné(e), représentant(e) ou mandataire dûment autorisé(e) de la société ou de la société de personnes, déclare que les renseignements fournis dans la présente demande, l'annexe et les documents afférents sont complets et véridiques en tous points."]
["De plus, sauf indication contraire expresse à cet effet, j’autorise Investissement Québec à utiliser les renseignements obtenus dans le cadre de cette demande et pouvant s’avérer nécessaires à l’analyse de toute demande de financement, d’investissement ou à l’égard de tout autre service offert par Investissement Québec."]
["Enfin, je soussigné(e), représentant(e) ou mandataire dûment autorisé(e) de la société, représente et garantis à Investissement Québec que la société a obtenu, conformément à la loi, tous les consentements requis des personnes concernées par les renseignements personnels divulgués en lien avec cette demande et qui sont nécessaires afin qu’Investissement Québec puisse les utiliser, les communiquer à Revenu Québec ou aux prestataires de services ou partenaires d'Investissement Québec si nécessaire, les transférer hors Québec si applicable, le tout, aux fins de traiter la demande de la société."]
[null," J'autorise le partage des renseignements"]
[]
[null," Je n'autorise pas le partage des renseignements"]
[]
["Enfin, je certifie que la société ou la société de personnes n'a pas modifié le contenu de la présente demande."]
[]
["Signature du représentant ou du mandataire autorisé \nde la société ou de la société de personnes",null,null,null,null,null,null,null,null,null,null,null,null,null,null,null,null,null,null,null,null,null,null,"Date"]

{"sheet":"Annexe A-employé","index":3,"n_rows":57,"n_cols":34,"rows_kept":57,"cut":false,"hidden":false,"merged":[[9,11,12,11],[9,10,12,10],[16,0,16,17],[9,14,12,14],[9,0,12,0],[9,15,12,15],[15,0,15,22],[9,2,12,2],[9,18,12,27],[13,18,13,27],[14,19,14,27],[9,8,12,8],[41,0,41,22],[35,0,35,22],[29,0,29,14],[30,0,30,14],[27,0,27,22],[38,5,38,8],[39,5,39,8],[32,0,32,13],[34,0,34,13],[38,0,38,3],[31,0,31,14],[8,23,8,24],[8,6,8,7],[6,6,6,7],[6,3,6,5],[7,6,7,7],[7,9,7,10],[5,0,5,22],[6,9,6,10],[4,11,4,12],[3,11,3,12],[22,1,22,13],[4,1,4,6],[20,1,20,13],[21,1,21,13],[18,0,18,13],[19,0,19,6],[9,13,12,13],[9,12,12,12],[9,6,11,7],[9,9,12,9],[9,3,12,3],[9,5,12,5],[23,1,23,13],[0,0,0,3],[6,22,6,23],[3,19,3,22],[4,19,4,22],[1,0,1,13],[0,23,0,27],[1,14,1,27],[3,14,3,16],[4,14,4,17],[0,7,0,13],[9,4,12,4],[9,17,12,17],[9,16,12,16],[9,1,12,1],[3,1,3,6]]}
[null,null,null,null,null,null,null,{"$f":"Directives!N1","v":"Soutien à la presse d'information écrite\n(version 2023-09)"},null,null,null,null,null,null,null,null,null,null,null,null,null,null,null,{"$f":"Directives!N1","v":"Soutien à la presse d'information écrite\n(version 2023-09)"}]
["Annexe A - Demande d'attestation d'employé \nListe des employés visés",null,null,null,null,null,null,null,null,null,null,null,null,null,"Annexe A—Demande d'attestation d'employé \nListe des employés visés"]
[]
[null,"Nom de la société ou société de personnes",null,null,null,null,null,null,null,"NEQ",null,"Numéro de dossier IQ",null,null,"Nom de la société ou société de personnes",null,null,null,null,null,null,null,null,null,"NEQ",null,"Numéro de dossier IQ"]
[null,{"$f":"IF('Demande-média'!A6=\"\",\"\",'Demande-média'!A6)","v":""},null,null,null,null,null,null,null,{"$f":"IF('Demande-média'!A8=\"\",\"\",'Demande-média'!A8)","v":""},null,{"$f":"IF('Demande-média'!U8=\"\",\"\",'Demande-média'!U8)","v":""},null,null,{"$f":"B5","v":""},null,null,null,null,null,null,null,null,null,{"$f":"J5","v":""},null,{"$f":"L5","v":""},{"$f":"L5","v":""}]
[]
[null,null,null,"Exercice financier du ",null,null,{"$f":"IF('Demande-média'!I44=\"\",\"\",'Demande-média'!I44)","v":""},null,"au",{"$f":"IF('Demande-média'!Q44=\"\",\"\",'Demande-média'!Q44)","v":""},null,null,null,null,null,null,null,null,null,null,null,null,"Exercice financier du",null,{"$f":"G7","v":""},"au",{"$f":"J7","v":""}]
[null,null,null,null,null,null,"(aaaa-mm-jj)",null,null,"(aaaa-mm-jj)",null,null,null,null,null,null,null,null,null,null,null,null,null,null,"(aaaa-mm-jj)",null,"(aaaa-mm-jj)"]
[]
["Lieu de l'établissement où l'employé admissible se présente au travail. \n\nsi : \nAu Québec = inscrire 1\nHors Québec, mais au Canada = inscrire 2\n","Adresse de l'établissement où l'employé admissible se présente au travail","Nom de l'employé1","N.A.S                           999-999-999","Poste \n(doit correspondre au titre inscrit dans sa description de poste et sur l'organigramme)","Date de la dernière embauche\n(aaaa-mm-jj)","Période d'emploi pendant l'exercice financier2 et 8",null,"L'employé occupe-t-il toujours le même emploi en date de la signature de la présente demande3 (choisir)","Salaire versé4 pour cette période d'emploi\n(arrondis au $)","Heures totales (incluant les maladies, vacances, sans solde, etc.) pour cette période d'emploi","Heures travaillées (excluant les maladies, vacances, sans solde, etc.) pour cette période d'emploi","Nombre total de semaines depuis l'embauche5","Nombre moyen d'heures travaillées  par semaine pour cette période  d'emploi6","Nom du média admissible sur lequel a travaillé l'employé admissible","Numéro du média admisible IQ si connu","Nombre d'heures consacrées  à réaliser des activités admissibles pour chaque média admissible","Activités admissibles réalisées sur le média admissible\nChoisir","Commentaires7"]
[]
[]
[null,null,null,null,null,null,"Du :                                       (aaaa-mm-jj)","Au :                                     (aaaa-mm-jj)"]
[null,null,null,null,null,null,null,null,null,null,null,null,null,null,null,null,null,null,null,null,null,null,null,null,null,null,null,null,null,null,{"$f":"IF(ISBLANK($H14),AND($G14>=$F14,$G14>=DATE(2008,3,14)),AND($G14>=$F14,$G14>=DATE(2008,3,14),$G14<=$H14))","v":false}]
[null,null,null,null,null,null,null,null,null,null,null,null,null,null,null,null,null,null,null,null,null,null,null,null,null,null,null,null,null,null,false]
["1. Veuillez consulter la fiche détaillée publiée dans la section suivante de notre site Internet : http://www.investquebec.com/iq/mesures fiscales  pour connaître les conditions d'admissibilité d'un employé.",null,null,null,null,null,null,null,null,null,null,null,null,null,null,null,null,null,null,null,null,null,null,null,null,null,null,null,null,null,false]
["     Et lorsqu'un employé a réalisé des activités admissibles à l'égard de plus d'un média, son nom doit apparaître à chacun des médias concernés."]
[]
["2. La période d’emploi doit être comprise dans l’exercice financier visé par la demande et se terminer dès que le lien d’emploi avec la société est rompu, et ce, même si des sommes sont versées à l’employé après son départ (comme une paie de vacances).",null,null,null,null,null,null,null,null,null,null,null,null,null,null,null,null,null,null,null,null,null,null,null,null,null,null,null,null,null,false]
["   Dans les cas suivants, la période d’absence sera incluse dans la période d’emploi :"]
[null,"a) vacances;"]
[null,"b) assurance-emploi pour un congé parental, de maternité ou de maladie (dans la mesure où le lien d'emploi n'est pas rompu);"]
[null,"c) congé payé par la CSST pour une maladie ou une invalidité temporaire. Si l'absence pour maladie ou invalidité est permanente, cette période ne pourra être incluse;"]
[null,"d) assurance-salaire versée par un tiers payeur autre que la société, dans la mesure où la période d'absence est temporaire.",null,null,null,null,null,null,null,null,null,null,null,null,null,null,null,null,null,null,null,null,null,null,null,null,null,null,null,null,null,"oui"]
[]
["3. Pour les départs d'employés qui ont un nombre total de semaines inférieur à 40 depuis l'embauche, veuillez compléter l'annexe A1- Mouvement de personnel.",null,null,null,null,null,null,null,null,null,null,null,null,null,null,null,null,null,null,null,null,null,null,null,null,null,null,null,null,null,null,"non"]
[]
["4. Le salaire versé correspond au salaire brut versé à l'employé pour la période d'emploi visée.",null,null,null,null,null,null,null,null,null,null,null,null,null,null,null,null,null,null,null,null,null,null,null,null,null,null,null,null,null,null,"Au Québec"]
[]
["5. Pour chacun des employés qui ont un nombre de semaines inférieur à 40, veuillez nous fournir :",null,null,null,null,null,null,null,null,null,null,null,null,null,null,null,null,null,null,null,null,null,null,null,null,null,null,null,null,null,null,"Hors Québec, mais au Canada"]
["      a) une copie de son contrat d’embauche signé par les deux parties;",null,null,null,null,null,null,null,null,null,null,null,null,null,null,null,null,null,null,null,null,null,null,null,null,null,null,null,null,null,null,"Production de contenu d'information écrit original"]
["      b) une copie de son curriculum vitae transmis lors de l'embauche.",null,null,null,null,null,null,null,null,null,null,null,null,null,null,null,null,null,null,null,null,null,null,null,null,null,null,null,null,null,null,"Activité d'exploitation des technologies de l'information"]
["Si le nombre d’employés concernés dépasse 25, veuillez soumettre votre demande sans fournir les documents demandés.  Le directeur de projets communiquera avec vous dans les meilleurs délais afin d’obtenir les documents nécessaires pour procéder à l'étude de votre demande."]
[]
["6. Rappelons que pour se qualifier, l'employé doit avoir travaillé un minimum de 26 heures par semaine. Pour tous les employés réclamés n’ayant pas un nombre moyen de 26 heures travaillées par semaine, veuillez nous fournir tous leurs relevés de paie pour l'exercice financier visé par la demande, à l'exception des employés qui étaient en congé de maladie, de maternité ou de paternité. "]
["7. Dans cette colonne, veuillez fournir les renseignements qui nous permettront de traiter votre demande plus rapidement. Par exemple, détails à l'égard d'absence temporaire et de changement de fonctions.",null,null,null,null,null,null,null,null,null,null,null,null,null,null,null,null,null,null,null,null,null,null,null,null,null,null,null,null,null,{"$f":"IF(ISBLANK($H36),AND($G36>=$F36,$G36>=DATE(2008,3,14)),AND($G36>=$F36,$G36>=DATE(2008,3,14),$G36<=$H36))","v":false}]
[null,null,null,null,"Exemples : ","congé de maladie pour huit semaines;",null,null,null,null,null,null,null,null,null,null,null,null,null,null,null,null,null,null,null,null,null,null,null,null,null,null,null,{"$f":"IF(ISBLANK($W37),AND($L37>=$G37,$L37>=DATE(2008,3,14)),AND($L37>=$G37,$L37>=DATE(2008,3,14),$L37<=$W37))","v":false}]
[null,null,null,null,null,"congé de paternité du 5 mars au 5 avril;",null,null,null,null,null,null,null,null,null,null,null,null,null,null,null,null,null,null,null,null,null,null,null,null,null,null,null,{"$f":"IF(ISBLANK($W38),AND($L38>=$G38,$L38>=DATE(2008,3,14)),AND($L38>=$G38,$L38>=DATE(2008,3,14),$L38<=$W38))","v":false}]
[null,null,null,null,null,"stagiaire du 1er janvier au 1er juillet;",null,null,null,null,null,null,null,null,null,null,null,null,null,null,null,null,null,null,null,null,null,null,null,null,null,null,null,{"$f":"IF(ISBLANK($W39),AND($L39>=$G39,$L39>=DATE(2008,3,14)),AND($L39>=$G39,$L39>=DATE(2008,3,14),$L39<=$W39))","v":false}]
[null,null,null,null,null,"congé sans solde.",null,null,null,null,null,null,null,null,null,null,null,null,null,null,null,null,null,null,null,null,null,null,null,null,{"$f":"IF(ISBLANK($H40),AND($G40>=$F40,$G40>=DATE(2008,3,14)),AND($G40>=$F40,$G40>=DATE(2008,3,14),$G40<=$H40))","v":false}]
["8. Le début de la période ne peut être antérieur au 1er janvier 2019.",null,null,null,null,null,null,null,null,null,null,null,null,null,null,null,null,null,null,null,null,null,null,null,null,null,null,null,null,null,false]
[null,null,null,null,null,null,null,null,null,null,null,null,null,null,null,null,null,null,null,null,null,null,null,null,null,null,null,null,null,null,false]
[null,null,null,null,null,null,null,null,null,null,null,null,null,null,null,null,null,null,null,null,null,null,null,null,null,null,null,null,null,null,false]
[null,null,null,null,null,null,null,null,null,null,null,null,null,null,null,null,null,null,null,null,null,null,null,null,null,null,null,null,null,null,false]
[null,null,null,null,null,null,null,null,null,null,null,null,null,null,null,null,null,null,null,null,null,null,null,null,null,null,null,null,null,null,false]
[null,null,null,null,null,null,null,null,null,null,null,null,null,null,null,null,null,null,null,null,null,null,null,null,null,null,null,null,null,null,false]
[null,null,null,null,null,null,null,null,null,null,null,null,null,null,null,null,null,null,null,null,null,null,null,null,null,null,null,null,null,null,false]
[null,null,null,null,null,null,null,null,null,null,null,null,null,null,null,null,null,null,null,null,null,null,null,null,null,null,null,null,null,null,false]
[null,null,null,null,null,null,null,null,null,null,null,null,null,null,null,null,null,null,null,null,null,null,null,null,null,null,null,null,null,null,false]
[null,null,null,null,null,null,null,null,null,null,null,null,null,null,null,null,null,null,null,null,null,null,null,null,null,null,null,null,null,null,false]
[null,null,null,null,null,null,null,null,null,null,null,null,null,null,null,null,null,null,null,null,null,null,null,null,null,null,null,null,null,null,false]
[null,null,null,null,null,null,null,null,null,null,null,null,null,null,null,null,null,null,null,null,null,null,null,null,null,null,null,null,null,null,false]
[null,null,null,null,null,null,null,null,null,null,null,null,null,null,null,null,null,null,null,null,null,null,null,null,null,null,null,null,null,null,false]
[null,null,null,null,null,null,null,null,null,null,null,null,null,null,null,null,null,null,null,null,null,null,null,null,null,null,null,null,null,null,false]
[null,null,null,null,null,null,null,null,null,null,null,null,null,null,null,null,null,null,null,null,null,null,null,null,null,null,null,null,null,null,false]
[null,null,null,null,null,null,null,null,null,null,null,null,null,null,null,null,null,null,null,null,null,null,null,null,null,null,null,null,null,null,false]
[null,null,null,null,null,null,null,null,null,null,null,null,null,null,null,null,null,null,null,null,null,null,null,null,null,null,null,null,null,null,false]

{"sheet":"Annexe A1-employé","index":4,"n_rows":49,"n_cols":26,"rows_kept":49,"cut":false,"hidden":false,"merged":[[1976,9,1976,10],[1974,9,1974,10],[1951,9,1951,10],[1952,9,1952,10],[1953,9,1953,10],[1975,9,1975,10],[1972,9,1972,10],[1973,9,1973,10],[1960,9,1960,10],[1969,9,1969,10],[1977,9,1977,10],[1982,9,1982,10],[1978,9,1978,10],[1979,9,1979,10],[1980,9,1980,10],[1981,9,1981,10],[30,0,30,12],[1959,9,1959,10],[1970,9,1970,10],[1961,9,1961,10],[1962,9,1962,10],[1963,9,1963,10],[1968,9,1968,10],[1964,9,1964,10],[1965,9,1965,10],[1967,9,1967,10],[1938,9,1938,10],[1939,9,1939,10],[1940,9,1940,10],[1941,9,1941,10],[1957,9,1957,10],[1950,9,1950,10],[1942,9,1942,10],[1943,9,1943,10],[1944,9,1944,10],[1945,9,1945,10],[1971,9,1971,10],[1966,9,1966,10],[1958,9,1958,10],[1946,9,1946,10],[1947,9,1947,10],[1948,9,1948,10],[1949,9,1949,10],[1954,9,1954,10],[1955,9,1955,10],[1956,9,1956,10],[1921,9,1921,10],[1922,9,1922,10],[1923,9,1923,10],[1924,9,1924,10],[1925,9,1925,10],[1926,9,1926,10],[1927,9,1927,10],[1928,9,1928,10],[1929,9,1929,10],[1930,9,1930,10],[1931,9,1931,10],[1932,9,1932,10],[1933,9,1933,10],[1934,9,1934,10],[1935,9,1935,10],[1936,9,1936,10],[1937,9,1937,10],[1904,9,1904,10],[1905,9,1905,10],[1906,9,1906,10],[1907,9,1907,10],[1908,9,1908,10],[1909,9,1909,10],[1910,9,1910,10],[1911,9,1911,10],[1912,9,1912,10],[1913,9,1913,10],[1914,9,1914,10],[1915,9,1915,10],[1916,9,1916,10],[1917,9,1917,10],[1918,9,1918,10],[1919,9,1919,10],[1920,9,1920,10],[1887,9,1887,10],[1888,9,1888,10],[1889,9,1889,10],[1890,9,1890,10],[1891,9,1891,10],[1892,9,1892,10],[1893,9,1893,10],[1894,9,1894,10],[1895,9,1895,10],[1896,9,1896,10],[1897,9,1897,10],[1898,9,1898,10],[1899,9,1899,10],[1900,9,1900,10],[1901,9,1901,10],[1902,9,1902,10],[1903,9,1903,10],[1870,9,1870,10],[1871,9,1871,10],[1872,9,1872,10],[1873,9,1873,10],[1874,9,1874,10],[1875,9,1875,10],[1876,9,1876,10],[1877,9,1877,10],[1878,9,1878,10],[1879,9,1879,10],[1880,9,1880,10],[1881,9,1881,10],[1882,9,1882,10],[1883,9,1883,10],[1884,9,1884,10],[1885,9,1885,10],[1886,9,1886,10],[1853,9,1853,10],[1854,9,1854,10],[1855,9,1855,10],[1856,9,1856,10],[1857,9,1857,10],[1858,9,1858,10],[1859,9,1859,10],[1860,9,1860,10],[1861,9,1861,10],[1862,9,1862,10],[1863,9,1863,10],[1864,9,1864,10],[1865,9,1865,10],[1866,9,1866,10],[1867,9,1867,10],[1868,9,1868,10],[1869,9,1869,10],[1836,9,1836,10],[1837,9,1837,10],[1838,9,1838,10],[1839,9,1839,10],[1840,9,1840,10],[1841,9,1841,10],[1842,9,1842,10],[1843,9,1843,10],[1844,9,1844,10],[1845,9,1845,10],[1846,9,1846,10],[1847,9,1847,10],[1848,9,1848,10],[1849,9,1849,10],[1850,9,1850,10],[1851,9,1851,10],[1852,9,1852,10],[1819,9,1819,10],[1820,9,1820,10],[1821,9,1821,10],[1822,9,1822,10],[1823,9,1823,10],[1824,9,1824,10],[1825,9,1825,10],[1826,9,1826,10],[1827,9,1827,10],[1828,9,1828,10],[1829,9,1829,10],[1830,9,1830,10],[1831,9,1831,10],[1832,9,1832,10],[1833,9,1833,10],[1834,9,1834,10],[1835,9,1835,10],[1802,9,1802,10],[1803,9,1803,10],[1804,9,1804,10],[1805,9,1805,10],[1806,9,1806,10],[1807,9,1807,10],[1808,9,1808,10],[1809,9,1809,10],[1810,9,1810,10],[1811,9,1811,10],[1812,9,1812,10],[1813,9,1813,10],[1814,9,1814,10],[1815,9,1815,10],[1816,9,1816,10],[1817,9,1817,10],[1818,9,1818,10],[1785,9,1785,10],[1786,9,1786,10],[1787,9,1787,10],[1788,9,1788,10],[1789,9,1789,10],[1790,9,1790,10],[1791,9,1791,10],[1792,9,1792,10],[1793,9,1793,10],[1794,9,1794,10],[1795,9,1795,10],[1796,9,1796,10],[1797,9,1797,10],[1798,9,1798,10],[1799,9,1799,10],[1800,9,1800,10],[1801,9,1801,10],[1768,9,1768,10],[1769,9,1769,10],[1770,9,1770,10],[1771,9,1771,10],[1772,9,1772,10],[1773,9,1773,10],[1774,9,1774,10],[1775,9,1775,10],[1776,9,1776,10],[1777,9,1777,10],[1778,9,1778,10],[1779,9,1779,10],[1780,9,1780,10],[1781,9,1781,10],[1782,9,1782,10],[1783,9,1783,10],[1784,9,1784,10],[1751,9,1751,10],[1752,9,1752,10],[1753,9,1753,10],[1754,9,1754,10],[1755,9,1755,10],[1756,9,1756,10],[1757,9,1757,10],[1758,9,1758,10],[1759,9,1759,10],[1760,9,1760,10],[1761,9,1761,10],[1762,9,1762,10],[1763,9,1763,10],[1764,9,1764,10],[1765,9,1765,10],[1766,9,1766,10],[1767,9,1767,10],[1734,9,1734,10],[1735,9,1735,10],[1736,9,1736,10],[1737,9,1737,10],[1738,9,1738,10],[1739,9,1739,10],[1740,9,1740,10],[1741,9,1741,10],[1742,9,1742,10],[1743,9,1743,10],[1744,9,1744,10],[1745,9,1745,10],[1746,9,1746,10],[1747,9,1747,10],[1748,9,1748,10],[1749,9,1749,10],[1750,9,1750,10],[1717,9,1717,10],[1718,9,1718,10],[1719,9,1719,10],[1720,9,1720,10],[1721,9,1721,10],[1722,9,1722,10],[1723,9,1723,10],[1724,9,1724,10],[1725,9,1725,10],[1726,9,1726,10],[1727,9,1727,10],[1728,9,1728,10],[1729,9,1729,10],[1730,9,1730,10],[1731,9,1731,10],[1732,9,1732,10],[1733,9,1733,10],[1700,9,1700,10],[1701,9,1701,10],[1702,9,1702,10],[1703,9,1703,10],[1704,9,1704,10],[1705,9,1705,10],[1706,9,1706,10],[1707,9,1707,10],[1708,9,1708,10],[1709,9,1709,10],[1710,9,1710,10],[1711,9,1711,10],[1712,9,1712,10],[1713,9,1713,10],[1714,9,1714,10],[1715,9,1715,10],[1716,9,1716,10],[1683,9,1683,10],[1684,9,1684,10],[1685,9,1685,10],[1686,9,1686,10],[1687,9,1687,10],[1688,9,1688,10],[1689,9,1689,10],[1690,9,1690,10],[1691,9,1691,10],[1692,9,1692,10],[1693,9,1693,10],[1694,9,1694,10],[1695,9,1695,10],[1696,9,1696,10],[1697,9,1697,10],[1698,9,1698,10],[1699,9,1699,10],[1666,9,1666,10],[1667,9,1667,10],[1668,9,1668,10],[1669,9,1669,10],[1670,9,1670,10],[1671,9,1671,10],[1672,9,1672,10],[1673,9,1673,10],[1674,9,1674,10],[1675,9,1675,10],[1676,9,1676,10],[1677,9,1677,10],[1678,9,1678,10],[1679,9,1679,10],[1680,9,1680,10],[1681,9,1681,10],[1682,9,1682,10],[1649,9,1649,10],[1650,9,1650,10],[1651,9,1651,10],[1652,9,1652,10],[1653,9,1653,10],[1654,9,1654,10],[1655,9,1655,10],[1656,9,1656,10],[1657,9,1657,10],[1658,9,1658,10],[1659,9,1659,10],[1660,9,1660,10],[1661,9,1661,10],[1662,9,1662,10],[1663,9,1663,10],[1664,9,1664,10],[1665,9,1665,10],[1632,9,1632,10],[1633,9,1633,10],[1634,9,1634,10],[1635,9,1635,10],[1636,9,1636,10],[1637,9,1637,10],[1638,9,1638,10],[1639,9,1639,10],[1640,9,1640,10],[1641,9,1641,10],[1642,9,1642,10],[1643,9,1643,10],[1644,9,1644,10],[1645,9,1645,10],[1646,9,1646,10],[1647,9,1647,10],[1648,9,1648,10],[1615,9,1615,10],[1616,9,1616,10],[1617,9,1617,10],[1618,9,1618,10],[1619,9,1619,10],[1620,9,1620,10],[1621,9,1621,10],[1622,9,1622,10],[1623,9,1623,10],[1624,9,1624,10],[1625,9,1625,10],[1626,9,1626,10],[1627,9,1627,10],[1628,9,1628,10],[1629,9,1629,10],[1630,9,1630,10],[1631,9,1631,10],[1598,9,1598,10],[1599,9,1599,10],[1600,9,1600,10],[1601,9,1601,10],[1602,9,1602,10],[1603,9,1603,10],[1604,9,1604,10],[1605,9,1605,10],[1606,9,1606,10],[1607,9,1607,10],[1608,9,1608,10],[1609,9,1609,10],[1610,9,1610,10],[1611,9,1611,10],[1612,9,1612,10],[1613,9,1613,10],[1614,9,1614,10],[1581,9,1581,10],[1582,9,1582,10],[1583,9,1583,10],[1584,9,1584,10],[1585,9,1585,10],[1586,9,1586,10],[1587,9,1587,10],[1588,9,1588,10],[1589,9,1589,10],[1590,9,1590,10],[1591,9,1591,10],[1592,9,1592,10],[1593,9,1593,10],[1594,9,1594,10],[1595,9,1595,10],[1596,9,1596,10],[1597,9,1597,10],[1564,9,1564,10],[1565,9,1565,10],[1566,9,1566,10],[1567,9,1567,10],[1568,9,1568,10],[1569,9,1569,10],[1570,9,1570,10],[1571,9,1571,10],[1572,9,1572,10],[1573,9,1573,10],[1574,9,1574,10],[1575,9,1575,10],[1576,9,1576,10],[1577,9,1577,10],[1578,9,1578,10],[1579,9,1579,10],[1580,9,1580,10],[1547,9,1547,10],[1548,9,1548,10],[1549,9,1549,10],[1550,9,1550,10],[1551,9,1551,10],[1552,9,1552,10],[1553,9,1553,10],[1554,9,1554,10],[1555,9,1555,10],[1556,9,1556,10],[1557,9,1557,10],[1558,9,1558,10],[1559,9,1559,10],[1560,9,1560,10],[1561,9,1561,10],[1562,9,1562,10],[1563,9,1563,10],[1530,9,1530,10],[1531,9,1531,10],[1532,9,1532,10],[1533,9,1533,10],[1534,9,1534,10],[1535,9,1535,10],[1536,9,1536,10],[1537,9,1537,10],[1538,9,1538,10],[1539,9,1539,10],[1540,9,1540,10],[1541,9,1541,10],[1542,9,1542,10],[1543,9,1543,10],[1544,9,1544,10],[1545,9,1545,10],[1546,9,1546,10],[1513,9,1513,10],[1514,9,1514,10],[1515,9,1515,10],[1516,9,1516,10],[1517,9,1517,10],[1518,9,1518,10],[1519,9,1519,10],[1520,9,1520,10],[1521,9,1521,10],[1522,9,1522,10],[1523,9,1523,10],[1524,9,1524,10],[1525,9,1525,10],[1526,9,1526,10],[1527,9,1527,10],[1528,9,1528,10],[1529,9,1529,10],[1496,9,1496,10],[1497,9,1497,10],[1498,9,1498,10],[1499,9,1499,10],[1500,9,1500,10],[1501,9,1501,10],[1502,9,1502,10],[1503,9,1503,10],[1504,9,1504,10],[1505,9,1505,10],[1506,9,1506,10],[1507,9,1507,10],[1508,9,1508,10],[1509,9,1509,10],[1510,9,1510,10],[1511,9,1511,10],[1512,9,1512,10],[1479,9,1479,10],[1480,9,1480,10],[1481,9,1481,10],[1482,9,1482,10],[1483,9,1483,10],[1484,9,1484,10],[1485,9,1485,10],[1486,9,1486,10],[1487,9,1487,10],[1488,9,1488,10],[1489,9,1489,10],[1490,9,1490,10],[1491,9,1491,10],[1492,9,1492,10],[1493,9,1493,10],[1494,9,1494,10],[1495,9,1495,10],[1462,9,1462,10],[1463,9,1463,10],[1464,9,1464,10],[1465,9,1465,10],[1466,9,1466,10],[1467,9,1467,10],[1468,9,1468,10],[1469,9,1469,10],[1470,9,1470,10],[1471,9,1471,10],[1472,9,1472,10],[1473,9,1473,10],[1474,9,1474,10],[1475,9,1475,10],[1476,9,1476,10],[1477,9,1477,10],[1478,9,1478,10],[1445,9,1445,10],[1446,9,1446,10],[1447,9,1447,10],[1448,9,1448,10],[1449,9,1449,10],[1450,9,1450,10],[1451,9,1451,10],[1452,9,1452,10],[1453,9,1453,10],[1454,9,1454,10],[1455,9,1455,10],[1456,9,1456,10],[1457,9,1457,10],[1458,9,1458,10],[1459,9,1459,10],[1460,9,1460,10],[1461,9,1461,10],[1428,9,1428,10],[1429,9,1429,10],[1430,9,1430,10],[1431,9,1431,10],[1432,9,1432,10],[1433,9,1433,10],[1434,9,1434,10],[1435,9,1435,10],[1436,9,1436,10],[1437,9,1437,10],[1438,9,1438,10],[1439,9,1439,10],[1440,9,1440,10],[1441,9,1441,10],[1442,9,1442,10],[1443,9,1443,10],[1444,9,1444,10],[1411,9,1411,10],[1412,9,1412,10],[1413,9,1413,10],[1414,9,1414,10],[1415,9,1415,10],[1416,9,1416,10],[1417,9,1417,10],[1418,9,1418,10],[1419,9,1419,10],[1420,9,1420,10],[1421,9,1421,10],[1422,9,1422,10],[1423,9,1423,10],[1424,9,1424,10],[1425,9,1425,10],[1426,9,1426,10],[1427,9,1427,10],[1394,9,1394,10],[1395,9,1395,10],[1396,9,1396,10],[1397,9,1397,10],[1398,9,1398,10],[1399,9,1399,10],[1400,9,1400,10],[1401,9,1401,10],[1402,9,1402,10],[1403,9,1403,10],[1404,9,1404,10],[1405,9,1405,10],[1406,9,1406,10],[1407,9,1407,10],[1408,9,1408,10],[1409,9,1409,10],[1410,9,1410,10],[1377,9,1377,10],[1378,9,1378,10],[1379,9,1379,10],[1380,9,1380,10],[1381,9,1381,10],[1382,9,1382,10],[1383,9,1383,10],[1384,9,1384,10],[1385,9,1385,10],[1386,9,1386,10],[1387,9,1387,10],[1388,9,1388,10],[1389,9,1389,10],[1390,9,1390,10],[1391,9,1391,10],[1392,9,1392,10],[1393,9,1393,10],[1360,9,1360,10],[1361,9,1361,10],[1362,9,1362,10],[1363,9,1363,10],[1364,9,1364,10],[1365,9,1365,10],[1366,9,1366,10],[1367,9,1367,10],[1368,9,1368,10],[1369,9,1369,10],[1370,9,1370,10],[1371,9,1371,10],[1372,9,1372,10],[1373,9,1373,10],[1374,9,1374,10],[1375,9,1375,10],[1376,9,1376,10],[1343,9,1343,10],[1344,9,1344,10],[1345,9,1345,10],[1346,9,1346,10],[1347,9,1347,10],[1348,9,1348,10],[1349,9,1349,10],[1350,9,1350,10],[1351,9,1351,10],[1352,9,1352,10],[1353,9,1353,10],[1354,9,1354,10],[1355,9,1355,10],[1356,9,1356,10],[1357,9,1357,10],[1358,9,1358,10],[1359,9,1359,10],[1326,9,1326,10],[1327,9,1327,10],[1328,9,1328,10],[1329,9,1329,10],[1330,9,1330,10],[1331,9,1331,10],[1332,9,1332,10],[1333,9,1333,10],[1334,9,1334,10],[1335,9,1335,10],[1336,9,1336,10],[1337,9,1337,10],[1338,9,1338,10],[1339,9,1339,10],[1340,9,1340,10],[1341,9,1341,10],[1342,9,1342,10],[1309,9,1309,10],[1310,9,1310,10],[1311,9,1311,10],[1312,9,1312,10],[1313,9,1313,10],[1314,9,1314,10],[1315,9,1315,10],[1316,9,1316,10],[1317,9,1317,10],[1318,9,1318,10],[1319,9,1319,10],[1320,9,1320,10],[1321,9,1321,10],[1322,9,1322,10],[1323,9,1323,10],[1324,9,1324,10],[1325,9,1325,10],[1292,9,1292,10],[1293,9,1293,10],[1294,9,1294,10],[1295,9,1295,10],[1296,9,1296,10],[1297,9,1297,10],[1298,9,1298,10],[1299,9,1299,10],[1300,9,1300,10],[1301,9,1301,10],[1302,9,1302,10],[1303,9,1303,10],[1304,9,1304,10],[1305,9,1305,10],[1306,9,1306,10],[1307,9,1307,10],[1308,9,1308,10],[1275,9,1275,10],[1276,9,1276,10],[1277,9,1277,10],[1278,9,1278,10],[1279,9,1279,10],[1280,9,1280,10],[1281,9,1281,10],[1282,9,1282,10],[1283,9,1283,10],[1284,9,1284,10],[1285,9,1285,10],[1286,9,1286,10],[1287,9,1287,10],[1288,9,1288,10],[1289,9,1289,10],[1290,9,1290,10],[1291,9,1291,10],[1258,9,1258,10],[1259,9,1259,10],[1260,9,1260,10],[1261,9,1261,10],[1262,9,1262,10],[1263,9,1263,10],[1264,9,1264,10],[1265,9,1265,10],[1266,9,1266,10],[1267,9,1267,10],[1268,9,1268,10],[1269,9,1269,10],[1270,9,1270,10],[1271,9,1271,10],[1272,9,1272,10],[1273,9,1273,10],[1274,9,1274,10],[1241,9,1241,10],[1242,9,1242,10],[1243,9,1243,10],[1244,9,1244,10],[1245,9,1245,10],[1246,9,1246,10],[1247,9,1247,10],[1248,9,1248,10],[1249,9,1249,10],[1250,9,1250,10],[1251,9,1251,10],[1252,9,1252,10],[1253,9,1253,10],[1254,9,1254,10],[1255,9,1255,10],[1256,9,1256,10],[1257,9,1257,10],[1224,9,1224,10],[1225,9,1225,10],[1226,9,1226,10],[1227,9,1227,10],[1228,9,1228,10],[1229,9,1229,10],[1230,9,1230,10],[1231,9,1231,10],[1232,9,1232,10],[1233,9,1233,10],[1234,9,1234,10],[1235,9,1235,10],[1236,9,1236,10],[1237,9,1237,10],[1238,9,1238,10],[1239,9,1239,10],[1240,9,1240,10],[1207,9,1207,10],[1208,9,1208,10],[1209,9,1209,10],[1210,9,1210,10],[1211,9,1211,10],[1212,9,1212,10],[1213,9,1213,10],[1214,9,1214,10],[1215,9,1215,10],[1216,9,1216,10],[1217,9,1217,10],[1218,9,1218,10],[1219,9,1219,10],[1220,9,1220,10],[1221,9,1221,10],[1222,9,1222,10],[1223,9,1223,10],[1190,9,1190,10],[1191,9,1191,10],[1192,9,1192,10],[1193,9,1193,10],[1194,9,1194,10],[1195,9,1195,10],[1196,9,1196,10],[1197,9,1197,10],[1198,9,1198,10],[1199,9,1199,10],[1200,9,1200,10],[1201,9,1201,10],[1202,9,1202,10],[1203,9,1203,10],[1204,9,1204,10],[1205,9,1205,10],[1206,9,1206,10],[1173,9,1173,10],[1174,9,1174,10],[1175,9,1175,10],[1176,9,1176,10],[1177,9,1177,10],[1178,9,1178,10],[1179,9,1179,10],[1180,9,1180,10],[1181,9,1181,10],[1182,9,1182,10],[1183,9,1183,10],[1184,9,1184,10],[1185,9,1185,10],[1186,9,1186,10],[1187,9,1187,10],[1188,9,1188,10],[1189,9,1189,10],[1156,9,1156,10],[1157,9,1157,10],[1158,9,1158,10],[1159,9,1159,10],[1160,9,1160,10],[1161,9,1161,10],[1162,9,1162,10],[1163,9,1163,10],[1164,9,1164,10],[1165,9,1165,10],[1166,9,1166,10],[1167,9,1167,10],[1168,9,1168,10],[1169,9,1169,10],[1170,9,1170,10],[1171,9,1171,10],[1172,9,1172,10],[1139,9,1139,10],[1140,9,1140,10],[1141,9,1141,10],[1142,9,1142,10],[1143,9,1143,10],[1144,9,1144,10],[1145,9,1145,10],[1146,9,1146,10],[1147,9,1147,10],[1148,9,1148,10],[1149,9,1149,10],[1150,9,1150,10],[1151,9,1151,10],[1152,9,1152,10],[1153,9,1153,10],[1154,9,1154,10],[1155,9,1155,10],[1122,9,1122,10],[1123,9,1123,10],[1124,9,1124,10],[1125,9,1125,10],[1126,9,1126,10],[1127,9,1127,10],[1128,9,1128,10],[1129,9,1129,10],[1130,9,1130,10],[1131,9,1131,10],[1132,9,1132,10],[1133,9,1133,10],[1134,9,1134,10],[1135,9,1135,10],[1136,9,1136,10],[1137,9,1137,10],[1138,9,1138,10],[1105,9,1105,10],[1106,9,1106,10],[1107,9,1107,10],[1108,9,1108,10],[1109,9,1109,10],[1110,9,1110,10],[1111,9,1111,10],[1112,9,1112,10],[1113,9,1113,10],[1114,9,1114,10],[1115,9,1115,10],[1116,9,1116,10],[1117,9,1117,10],[1118,9,1118,10],[1119,9,1119,10],[1120,9,1120,10],[1121,9,1121,10],[1088,9,1088,10],[1089,9,1089,10],[1090,9,1090,10],[1091,9,1091,10],[1092,9,1092,10],[1093,9,1093,10],[1094,9,1094,10],[1095,9,1095,10],[1096,9,1096,10],[1097,9,1097,10],[1098,9,1098,10],[1099,9,1099,10],[1100,9,1100,10],[1101,9,1101,10],[1102,9,1102,10],[1103,9,1103,10],[1104,9,1104,10],[1071,9,1071,10],[1072,9,1072,10],[1073,9,1073,10],[1074,9,1074,10],[1075,9,1075,10],[1076,9,1076,10],[1077,9,1077,10],[1078,9,1078,10],[1079,9,1079,10],[1080,9,1080,10],[1081,9,1081,10],[1082,9,1082,10],[1083,9,1083,10],[1084,9,1084,10],[1085,9,1085,10],[1086,9,1086,10],[1087,9,1087,10],[1054,9,1054,10],[1055,9,1055,10],[1056,9,1056,10],[1057,9,1057,10],[1058,9,1058,10],[1059,9,1059,10],[1060,9,1060,10],[1061,9,1061,10],[1062,9,1062,10],[1063,9,1063,10],[1064,9,1064,10],[1065,9,1065,10],[1066,9,1066,10],[1067,9,1067,10],[1068,9,1068,10],[1069,9,1069,10],[1070,9,1070,10],[1037,9,1037,10],[1038,9,1038,10],[1039,9,1039,10],[1040,9,1040,10],[1041,9,1041,10],[1042,9,1042,10],[1043,9,1043,10],[1044,9,1044,10],[1045,9,1045,10],[1046,9,1046,10],[1047,9,1047,10],[1048,9,1048,10],[1049,9,1049,10],[1050,9,1050,10],[1051,9,1051,10],[1052,9,1052,10],[1053,9,1053,10],[1020,9,1020,10],[1021,9,1021,10],[1022,9,1022,10],[1023,9,1023,10],[1024,9,1024,10],[1025,9,1025,10],[1026,9,1026,10],[1027,9,1027,10],[1028,9,1028,10],[1029,9,1029,10],[1030,9,1030,10],[1031,9,1031,10],[1032,9,1032,10],[1033,9,1033,10],[1034,9,1034,10],[1035,9,1035,10],[1036,9,1036,10],[1003,9,1003,10],[1004,9,1004,10],[1005,9,1005,10],[1006,9,1006,10],[1007,9,1007,10],[1008,9,1008,10],[1009,9,1009,10],[1010,9,1010,10],[1011,9,1011,10],[1012,9,1012,10],[1013,9,1013,10],[1014,9,1014,10],[1015,9,1015,10],[1016,9,1016,10],[1017,9,1017,10],[1018,9,1018,10],[1019,9,1019,10],[986,9,986,10],[987,9,987,10],[988,9,988,10],[989,9,989,10],[990,9,990,10],[991,9,991,10],[992,9,992,10],[993,9,993,10],[994,9,994,10],[995,9,995,10],[996,9,996,10],[997,9,997,10],[998,9,998,10],[999,9,999,10],[1000,9,1000,10],[1001,9,1001,10],[1002,9,1002,10],[969,9,969,10],[970,9,970,10]],"merged_total":2042,"flags":["merged_cut"]}
[null,null,null,null,null,null,{"$f":"Directives!N1","v":"Soutien à la presse d'information écrite\n(version 2023-09)"}]
["Annexe A1—Mouvement de personnel \nListe des employés visés"]
["(L'Annexe A1 fait partie intégrante de la présente demande d'attestation d'employé)"]
[null,"Remplissez la présente annexe pour tous les employés réclamés qui ne sont plus à l'emploi de la société ou de la société de personnes en date de la signature de la présente demande et qui ont un nombre de semaines inférieur à 40 depuis l'embauche. "]
[null,"Nom de la société ou société de personnes",null,null,null,null,"Numéro de dossier",null,"Exercice financier"]
[null,{"$f":"IF('Demande-média'!A6=\"\",\"\",'Demande-média'!A6)","v":""},null,null,null,null,{"$f":"IF('Demande-média'!U8=\"\",\"\",'Demande-média'!U8)","v":""},"du",{"$f":"IF('Demande-média'!I44=\"\",\"\",'Demande-média'!I44)","v":""},"au",{"$f":"IF('Demande-média'!Q44=\"\",\"\",'Demande-média'!Q44)","v":""}]
[null,null,null,null,null,null,null,null,"(aaaa-mm-jj)",null,"(aaaa-mm-jj)"]
[]
["Nom des employés qui ont quitté et qui ont un nombre de semaines inférieur à 40 depuis l'embauche1","Poste \n(doit correspondre au titre inscrit dans sa description de poste et sur l'organigramme)",null,"Date de terminaison\n(aaaa-mm-jj)","Motif de terminaison",null,"Employé remplacé? (choisir)","Nom du remplaçant2 le cas échéant","Si l'employé n'a pas été remplacé, spécifiez la raison",null,"Date du premier jour de travail du remplaçant"]
[]
["Comme suit                                 Nom (1 espace) Prénom"]
[null,null,null,null,null,null,null,null,null,null,null,null,null,null,null,null,null,null,null,null,null,null,null,null,null,{"$f":"IF(ISBLANK($F12),AND($E12>=$D12,$E12>=DATE(2008,3,14)),AND($E12>=$D12,$E12>=DATE(2008,3,14),$E12<=$F12))","v":false}]
[null,null,null,null,null,null,null,null,null,null,null,null,null,null,null,null,null,null,null,null,null,null,null,null,null,{"$f":"IF(ISBLANK($F13),AND($E13>=$D13,$E13>=DATE(2008,3,14)),AND($E13>=$D13,$E13>=DATE(2008,3,14),$E13<=$F13))","v":false}]
[]
[]
[]
[]
[null,null,null,null,null,null,null,null,null,null,null,null,null,null,null,null,null,null,null,null,null,null,null,null,null,{"$f":"IF(ISBLANK($F18),AND($E18>=$D18,$E18>=DATE(2008,3,14)),AND($E18>=$D18,$E18>=DATE(2008,3,14),$E18<=$F18))","v":false}]
[null,null,null,null,null,null,null,null,null,null,null,null,null,null,null,null,null,null,null,null,null,null,null,null,null,{"$f":"IF(ISBLANK($F19),AND($E19>=$D19,$E19>=DATE(2008,3,14)),AND($E19>=$D19,$E19>=DATE(2008,3,14),$E19<=$F19))","v":false}]
[]
[]
[]
[]
[]
[null,null,null,null,null,null,null,null,null,null,null,null,null,null,null,null,null,null,null,null,null,null,null,null,null,{"$f":"IF(ISBLANK($F25),AND($E25>=$D25,$E25>=DATE(2008,3,14)),AND($E25>=$D25,$E25>=DATE(2008,3,14),$E25<=$F25))","v":false}]
[null,null,null,null,null,null,null,null,null,null,null,null,null,null,null,null,null,null,null,null,null,null,null,null,null,{"$f":"IF(ISBLANK($F26),AND($E26>=$D26,$E26>=DATE(2008,3,14)),AND($E26>=$D26,$E26>=DATE(2008,3,14),$E26<=$F26))","v":false}]
[null,null,null,null,null,null,null,null,null,null,null,null,null,null,null,null,null,null,null,null,null,null,null,null,null,{"$f":"IF(ISBLANK($F27),AND($E27>=$D27,$E27>=DATE(2008,3,14)),AND($E27>=$D27,$E27>=DATE(2008,3,14),$E27<=$F27))","v":false}]
["1. Pour chacun des employés réclamés qui ont quitté en date de la signature de la présente demande, veuillez nous fournir le relevé d'emploi."]
["2. Si l’employé a été remplacé, veuillez nous fournir le contrat d’embauche du remplaçant signé par les deux parties ainsi qu’une copie de son curriculum vitae transmis lors de l'embauche.",null,null,null,null,null,null,null,null,null,null,null,null,null,null,null,null,null,null,null,null,null,null,null,null,{"$f":"IF(ISBLANK($F29),AND($E29>=$D29,$E29>=DATE(2008,3,14)),AND($E29>=$D29,$E29>=DATE(2008,3,14),$E29<=$F29))","v":false}]
[]
["Si le nombre d’employés concernés aux notes 1 et 2 ci-haut mentionnées dépasse 25, veuillez soumettre votre demande sans fournir les documents demandés. Le directeur de projets communiquera avec vous dans les meilleurs délais afin d’obtenir les documents nécessaires pour procéder à l’étude de votre demande. ",null,null,null,null,null,null,null,null,null,null,null,null,null,null,null,null,null,null,null,null,null,null,null,null,{"$f":"IF(ISBLANK($F31),AND($E31>=$D31,$E31>=DATE(2008,3,14)),AND($E31>=$D31,$E31>=DATE(2008,3,14),$E31<=$F31))","v":false}]
[null,null,null,null,null,null,null,null,null,null,null,null,null,null,null,null,null,null,null,null,null,null,null,null,null,false]
[null,null,null,null,null,null,null,null,null,null,null,null,null,null,null,null,null,null,null,null,null,null,null,null,null,false]
[null,null,null,null,null,null,null,null,null,null,null,null,null,null,null,null,null,null,null,null,null,null,null,null,null,false]
[null,null,null,null,null,null,null,null,null,null,null,null,null,null,null,null,null,null,null,null,null,null,null,null,null,false]
[null,null,null,null,null,null,null,null,null,null,null,null,null,null,null,null,null,null,null,null,null,null,null,null,null,false]
[null,null,null,null,null,null,null,null,null,null,null,null,null,null,null,null,null,null,null,null,null,null,null,null,null,false]
[null,null,null,null,null,null,null,null,null,null,null,null,null,null,null,null,null,null,null,null,null,null,null,null,null,false]
[null,null,null,null,null,null,null,null,null,null,null,null,null,null,null,null,null,null,null,null,null,null,null,null,null,false]
[null,null,null,null,null,null,null,null,null,null,null,null,null,null,null,null,null,null,null,null,null,null,null,null,null,false]
[null,null,null,null,null,null,null,null,null,null,null,null,null,null,null,null,null,null,null,null,null,null,null,null,null,false]
[null,null,null,null,null,null,null,null,null,null,null,null,null,null,null,null,null,null,null,null,null,null,null,null,null,false]
[null,null,null,null,null,null,null,null,null,null,null,null,null,null,null,null,null,null,null,null,null,null,null,null,null,false]
[null,null,null,null,null,null,null,null,null,null,null,null,null,null,null,null,null,null,null,null,null,null,null,null,null,false]
[null,null,null,null,null,null,null,null,null,null,null,null,null,null,null,null,null,null,null,null,null,null,null,null,null,false]
[null,null,null,null,null,null,null,null,null,null,null,null,null,null,null,null,null,null,null,null,null,null,null,null,null,false]
[null,null,null,null,null,null,null,null,null,null,null,null,null,null,null,null,null,null,null,null,null,null,null,null,null,false]
["Oui",null,null,null,null,null,null,null,null,null,null,null,null,null,null,null,null,null,null,null,null,null,null,null,null,false]
["Non"]

{"sheet":"Annexe B-média","index":5,"n_rows":3993,"n_cols":19,"rows_kept":3993,"cut":false,"hidden":false,"merged":[[11,1,12,1],[10,3,10,5],[11,3,13,5],[11,6,12,7],[11,8,12,8],[11,2,12,2],[5,1,5,2],[4,1,4,2],[4,9,4,10],[2,1,2,10],[24,6,24,7],[14,6,14,7],[15,6,15,7],[16,6,16,7],[18,6,18,7],[19,6,19,7],[20,6,20,7],[21,6,21,7],[22,6,22,7],[23,6,23,7],[19,3,19,5],[20,3,20,5],[27,3,27,5],[25,6,25,7],[26,6,26,7],[27,6,27,7],[26,3,26,5],[36,3,36,9],[29,3,29,5],[30,3,30,5],[31,3,31,5],[28,3,28,5],[33,3,33,9],[31,6,31,7],[28,6,28,7],[29,6,29,7],[30,6,30,7],[35,3,35,9],[29,9,29,10],[30,9,30,10],[31,9,31,10],[0,14,0,18],[1,12,1,18],[2,12,2,18],[0,3,0,4],[0,6,0,10],[1,1,1,10],[6,3,6,9],[16,3,16,5],[17,3,17,5],[8,4,8,6],[14,3,14,5],[15,3,15,5],[17,6,17,7],[18,3,18,5],[11,9,12,10],[14,9,14,10],[15,9,15,10],[16,9,16,10],[17,9,17,10],[18,9,18,10],[21,3,21,5],[22,3,22,5],[23,3,23,5],[24,3,24,5],[25,3,25,5],[11,11,12,11],[5,12,5,14],[6,12,6,18],[11,13,12,13],[11,14,12,14],[11,15,12,15],[10,12,10,18],[11,16,12,16],[11,18,12,18],[11,17,12,17],[11,12,12,12],[19,9,19,10],[20,9,20,10],[21,9,21,10],[22,9,22,10],[23,9,23,10],[24,9,24,10],[25,9,25,10],[26,9,26,10],[27,9,27,10],[28,9,28,10]]}
[null,null,null,null,null,null,{"$f":"Directives!N1","v":"Soutien à la presse d'information écrite\n(version 2023-09)"},null,null,null,null,null,null,null,{"$f":"Directives!N1","v":"Soutien à la presse d'information écrite\n(version 2023-09)"}]
[null,"Annexe B - Demande d'attestation de média\nDescription du média produit et diffusé par la société ou la société de personnes",null,null,null,null,null,null,null,null,null,null,"Annexe B - Demande d'attestation de média\nDescription du média produit et diffusé par la société ou la société de personnes"]
[null,"(L'Annexe B fait partie intégrante de la présente demande)"]
[]
[null,"Nom de la société ou société de personnes",null,null,null,null,null,"NEQ",null,"Numéro de dossier IQ",null,null,"Nom de la société ou société de personnes",null,null,null,"NEQ",null,"Numéro de dossier IQ"]
[null,{"$f":"IF('Demande-média'!A6=\"\",\"\",'Demande-média'!A6)","v":""},null,null,null,null,null,{"$f":"IF('Demande-média'!A8=\"\",\"\",'Demande-média'!A8)","v":""},null,{"$f":"IF('Demande-média'!U8=\"\",\"\",'Demande-média'!U8)","v":""},null,null,{"$f":"B6","v":""},null,null,null,{"$f":"H6","v":""},null,{"$f":"J6","v":""}]
[]
[]
[null,null,null,null,"Exercice financier du",null,null,{"$f":"IF('Demande-média'!I44=\"\",\"\",'Demande-média'!I44)","v":""},"au",{"$f":"IF('Demande-média'!Q44=\"\",\"\",'Demande-média'!Q44)","v":""},null,null,null,null,null,"Exercice financier du",{"$f":"IF('Demande-média'!I44=\"\",\"\",'Demande-média'!I44)","v":""},"au",{"$f":"IF('Demande-média'!Q44=\"\",\"\",'Demande-média'!Q44)","v":""}]
[null,null,null,null,null,null,null,"(aaaa-mm-jj)",null,"(aaaa-mm-jj)",null,null,null,null,null,null,"(aaaa-mm-jj)",null,"(aaaa-mm-jj)"]
[null,null,null,null,null,null,null,null,null,null,null,null,"Contenu portant sur l'actualité d'intérêt général : Cocher les thèmes couverts par le média (minimum de 3 sur 7 requis) "]
[null,"Nom du média","Numéro du média admissible IQ si connu","Indiquer le moyen de diffusion\n(Choisir)                                                                                                                                                                                                                                                                                                                                                                                                                                                                                                                                                                                                                                                                                                                                                                                                                                                                                                                                                                                                                                                                                                                                                                                                                                                                                                                                                                                                                                                                                                                                                                                ",null,null,"Date de la première diffusion du média                                                      (aaaa-mm-jj)",null,"Y a-t-il eu des changements significatifs du média depuis sa dernière attestation (choisir)","Indiquer l'adresse de l'établissement dans lequel se trouve la salle de rédaction du média admissible ",null,"Nom du média","La politique\n","Le domaine municipal\n ","Le domaine international\n","Le domaine culturel\n","Les affaires et l\"économie\n","Les nouvelles d'intérêt local\n ","Les faits divers\n"]
[]
[]
[{"$f":"ROW()","v":15},null,null,null,null,null,null,null,null,null,null,{"$f":"IF(B15=\"\",\"\",B15)","v":""}]
[{"$f":"ROW()","v":16},null,null,null,null,null,null,null,null,null,null,{"$f":"IF(B16=\"\",\"\",B16)","v":""}]
[{"$f":"ROW()","v":17},null,null,null,null,null,null,null,null,null,null,""]
[{"$f":"ROW()","v":18},null,null,null,null,null,null,null,null,null,null,""]
[{"$f":"ROW()","v":19},null,null,null,null,null,null,null,null,null,null,""]
[{"$f":"ROW()","v":20},null,null,null,null,null,null,null,null,null,null,""]
[{"$f":"ROW()","v":21},null,null,null,null,null,null,null,null,null,null,""]
[{"$f":"ROW()","v":22},null,null,null,null,null,null,null,null,null,null,""]
[{"$f":"ROW()","v":23},null,null,null,null,null,null,null,null,null,null,""]
[{"$f":"ROW()","v":24},null,null,null,null,null,null,null,null,null,null,""]
[{"$f":"ROW()","v":25},null,null,null,null,null,null,null,null,null,null,""]
[{"$f":"ROW()","v":26},null,null,null,null,null,null,null,null,null,null,""]
[{"$f":"ROW()","v":27},null,null,null,null,null,null,null,null,null,null,""]
[null,null,null,null,null,null,null,null,null,null,null,""]
[null,null,null,null,null,null,null,null,null,null,null,""]
[{"$f":"ROW()","v":30},null,null,null,null,null,null,null,null,null,null,""]
[{"$f":"ROW()","v":31},null,null,null,null,null,null,null,null,null,null,""]
[{"$f":"ROW()","v":32},null,null,null,null,null,null,null,null,null,null,""]
[{"$f":"ROW()","v":33}]
[{"$f":"ROW()","v":34}]
[{"$f":"ROW()","v":35}]
[{"$f":"ROW()","v":36}]
[{"$f":"ROW()","v":37}]
[{"$f":"ROW()","v":38}]
[{"$f":"ROW()","v":39}]
[{"$f":"ROW()","v":40}]
[{"$f":"ROW()","v":41}]
[{"$f":"ROW()","v":42}]
[{"$f":"ROW()","v":43}]
[{"$f":"ROW()","v":44}]
[{"$f":"ROW()","v":45}]
[{"$f":"ROW()","v":46}]
[{"$f":"ROW()","v":47}]
[{"$f":"ROW()","v":48}]
[{"$f":"ROW()","v":49}]
[{"$f":"ROW()","v":50},"Publication imprimée"]
[{"$f":"ROW()","v":51},"Site Web"]
[{"$f":"ROW()","v":52},"Application mobile réservée à l'information"]
[{"$f":"ROW()","v":53}]
[{"$f":"ROW()","v":54},"Oui"]
[{"$f":"ROW()","v":55},"Non"]
[{"$f":"ROW()","v":56}]
[{"$f":"ROW()","v":57}]
[{"$f":"ROW()","v":58}]
[{"$f":"ROW()","v":59}]
[{"$f":"ROW()","v":60}]
[{"$f":"ROW()","v":61}]
[{"$f":"ROW()","v":62}]
[{"$f":"ROW()","v":63}]
[{"$f":"ROW()","v":64}]
[{"$f":"ROW()","v":65}]
[{"$f":"ROW()","v":66}]
[{"$f":"ROW()","v":67}]
[{"$f":"ROW()","v":68}]
[{"$f":"ROW()","v":69}]
[{"$f":"ROW()","v":70}]
[{"$f":"ROW()","v":71}]
[{"$f":"ROW()","v":72}]
[{"$f":"ROW()","v":73}]
[{"$f":"ROW()","v":74}]
[{"$f":"ROW()","v":75}]
[{"$f":"ROW()","v":76}]
[{"$f":"ROW()","v":77}]
[{"$f":"ROW()","v":78}]
[{"$f":"ROW()","v":79}]
[{"$f":"ROW()","v":80}]
[{"$f":"ROW()","v":81}]
[{"$f":"ROW()","v":82}]
[{"$f":"ROW()","v":83}]
[{"$f":"ROW()","v":84}]
[{"$f":"ROW()","v":85}]
[{"$f":"ROW()","v":86}]
[{"$f":"ROW()","v":87}]
[{"$f":"ROW()","v":88}]
[{"$f":"ROW()","v":89}]
[{"$f":"ROW()","v":90}]
[{"$f":"ROW()","v":91}]
[{"$f":"ROW()","v":92}]
[{"$f":"ROW()","v":93}]
[{"$f":"ROW()","v":94}]
[{"$f":"ROW()","v":95}]
[{"$f":"ROW()","v":96}]
[{"$f":"ROW()","v":97}]
[{"$f":"ROW()","v":98}]
[{"$f":"ROW()","v":99}]
[{"$f":"ROW()","v":100}]
[{"$f":"ROW()","v":101}]
[{"$f":"ROW()","v":102}]
[{"$f":"ROW()","v":103}]
[{"$f":"ROW()","v":104}]
[{"$f":"ROW()","v":105}]
[{"$f":"ROW()","v":106}]
[{"$f":"ROW()","v":107}]
[{"$f":"ROW()","v":108}]
[{"$f":"ROW()","v":109}]
[{"$f":"ROW()","v":110}]
[{"$f":"ROW()","v":111}]
[{"$f":"ROW()","v":112}]
[{"$f":"ROW()","v":113}]
[{"$f":"ROW()","v":114}]
[{"$f":"ROW()","v":115}]
[{"$f":"ROW()","v":116}]
[{"$f":"ROW()","v":117}]
[{"$f":"ROW()","v":118}]
[{"$f":"ROW()","v":119}]
[{"$f":"ROW()","v":120}]
[{"$f":"ROW()","v":121}]
[{"$f":"ROW()","v":122}]
[{"$f":"ROW()","v":123}]
[{"$f":"ROW()","v":124}]
[{"$f":"ROW()","v":125}]
[{"$f":"ROW()","v":126}]
[{"$f":"ROW()","v":127}]
[{"$f":"ROW()","v":128}]
[{"$f":"ROW()","v":129}]
[{"$f":"ROW()","v":130}]
[{"$f":"ROW()","v":131}]
[{"$f":"ROW()","v":132}]
[{"$f":"ROW()","v":133}]
[{"$f":"ROW()","v":134}]
[{"$f":"ROW()","v":135}]
[{"$f":"ROW()","v":136}]
[{"$f":"ROW()","v":137}]
[{"$f":"ROW()","v":138}]
[{"$f":"ROW()","v":139}]
[{"$f":"ROW()","v":140}]
[{"$f":"ROW()","v":141}]
[{"$f":"ROW()","v":142}]
[{"$f":"ROW()","v":143}]
[{"$f":"ROW()","v":144}]
[{"$f":"ROW()","v":145}]
[{"$f":"ROW()","v":146}]
[{"$f":"ROW()","v":147}]
[{"$f":"ROW()","v":148}]
[{"$f":"ROW()","v":149}]
[{"$f":"ROW()","v":150}]
[{"$f":"ROW()","v":151}]
[{"$f":"ROW()","v":152}]
[{"$f":"ROW()","v":153}]
[{"$f":"ROW()","v":154}]
[{"$f":"ROW()","v":155}]
[{"$f":"ROW()","v":156}]
[{"$f":"ROW()","v":157}]
[{"$f":"ROW()","v":158}]
[{"$f":"ROW()","v":159}]
[{"$f":"ROW()","v":160}]
[{"$f":"ROW()","v":161}]
[{"$f":"ROW()","v":162}]
[{"$f":"ROW()","v":163}]
[{"$f":"ROW()","v":164}]
[{"$f":"ROW()","v":165}]
[{"$f":"ROW()","v":166}]
[{"$f":"ROW()","v":167}]
[{"$f":"ROW()","v":168}]
[{"$f":"ROW()","v":169}]
[{"$f":"ROW()","v":170}]
[{"$f":"ROW()","v":171}]
[{"$f":"ROW()","v":172}]
[{"$f":"ROW()","v":173}]
[{"$f":"ROW()","v":174}]
[{"$f":"ROW()","v":175}]
[{"$f":"ROW()","v":176}]
[{"$f":"ROW()","v":177}]
[{"$f":"ROW()","v":178}]
[{"$f":"ROW()","v":179}]
[{"$f":"ROW()","v":180}]
[{"$f":"ROW()","v":181}]
[{"$f":"ROW()","v":182}]
[{"$f":"ROW()","v":183}]
[{"$f":"ROW()","v":184}]
[{"$f":"ROW()","v":185}]
[{"$f":"ROW()","v":186}]
[{"$f":"ROW()","v":187}]
[{"$f":"ROW()","v":188}]
[{"$f":"ROW()","v":189}]
[{"$f":"ROW()","v":190}]
[{"$f":"ROW()","v":191}]
[{"$f":"ROW()","v":192}]
[{"$f":"ROW()","v":193}]
[{"$f":"ROW()","v":194}]
[{"$f":"ROW()","v":195}]
[{"$f":"ROW()","v":196}]
[{"$f":"ROW()","v":197}]
[{"$f":"ROW()","v":198}]
[{"$f":"ROW()","v":199}]
[{"$f":"ROW()","v":200}]
[{"$f":"ROW()","v":201}]
[{"$f":"ROW()","v":202}]
[{"$f":"ROW()","v":203}]
[{"$f":"ROW()","v":204}]
[{"$f":"ROW()","v":205}]
[{"$f":"ROW()","v":206}]
[{"$f":"ROW()","v":207}]
[{"$f":"ROW()","v":208}]
[{"$f":"ROW()","v":209}]
[{"$f":"ROW()","v":210}]
[{"$f":"ROW()","v":211}]
[{"$f":"ROW()","v":212}]
[{"$f":"ROW()","v":213}]
[{"$f":"ROW()","v":214}]
[{"$f":"ROW()","v":215}]
[{"$f":"ROW()","v":216}]
[{"$f":"ROW()","v":217}]
[{"$f":"ROW()","v":218}]
[{"$f":"ROW()","v":219}]
[{"$f":"ROW()","v":220}]
[{"$f":"ROW()","v":221}]
[{"$f":"ROW()","v":222}]
[{"$f":"ROW()","v":223}]
[{"$f":"ROW()","v":224}]
[{"$f":"ROW()","v":225}]
[{"$f":"ROW()","v":226}]
[{"$f":"ROW()","v":227}]
[{"$f":"ROW()","v":228}]
[{"$f":"ROW()","v":229}]
[{"$f":"ROW()","v":230}]
[{"$f":"ROW()","v":231}]
[{"$f":"ROW()","v":232}]
[{"$f":"ROW()","v":233}]
[{"$f":"ROW()","v":234}]
[{"$f":"ROW()","v":235}]
[{"$f":"ROW()","v":236}]
[{"$f":"ROW()","v":237}]
[{"$f":"ROW()","v":238}]
[{"$f":"ROW()","v":239}]
[{"$f":"ROW()","v":240}]
[{"$f":"ROW()","v":241}]
[{"$f":"ROW()","v":242}]
[{"$f":"ROW()","v":243}]
[{"$f":"ROW()","v":244}]
[{"$f":"ROW()","v":245}]
[{"$f":"ROW()","v":246}]
[{"$f":"ROW()","v":247}]
[{"$f":"ROW()","v":248}]
[{"$f":"ROW()","v":249}]
[{"$f":"ROW()","v":250}]
[{"$f":"ROW()","v":251}]
[{"$f":"ROW()","v":252}]
[{"$f":"ROW()","v":253}]
[{"$f":"ROW()","v":254}]
[{"$f":"ROW()","v":255}]
[{"$f":"ROW()","v":256}]
[{"$f":"ROW()","v":257}]
[{"$f":"ROW()","v":258}]
[{"$f":"ROW()","v":259}]
[{"$f":"ROW()","v":260}]
[{"$f":"ROW()","v":261}]
[{"$f":"ROW()","v":262}]
[{"$f":"ROW()","v":263}]
[{"$f":"ROW()","v":264}]
[{"$f":"ROW()","v":265}]
[{"$f":"ROW()","v":266}]
[{"$f":"ROW()","v":267}]
[{"$f":"ROW()","v":268}]
[{"$f":"ROW()","v":269}]
[{"$f":"ROW()","v":270}]
[{"$f":"ROW()","v":271}]
[{"$f":"ROW()","v":272}]
[{"$f":"ROW()","v":273}]
[{"$f":"ROW()","v":274}]
[{"$f":"ROW()","v":275}]
[{"$f":"ROW()","v":276}]
[{"$f":"ROW()","v":277}]
[{"$f":"ROW()","v":278}]
[{"$f":"ROW()","v":279}]
[{"$f":"ROW()","v":280}]
[{"$f":"ROW()","v":281}]
[{"$f":"ROW()","v":282}]
[{"$f":"ROW()","v":283}]
[{"$f":"ROW()","v":284}]
[{"$f":"ROW()","v":285}]
[{"$f":"ROW()","v":286}]
[{"$f":"ROW()","v":287}]
[{"$f":"ROW()","v":288}]
[{"$f":"ROW()","v":289}]
[{"$f":"ROW()","v":290}]
[{"$f":"ROW()","v":291}]
[{"$f":"ROW()","v":292}]
[{"$f":"ROW()","v":293}]
[{"$f":"ROW()","v":294}]
[{"$f":"ROW()","v":295}]
[{"$f":"ROW()","v":296}]
[{"$f":"ROW()","v":297}]
[{"$f":"ROW()","v":298}]
[{"$f":"ROW()","v":299}]
[{"$f":"ROW()","v":300}]
[{"$f":"ROW()","v":301}]
[{"$f":"ROW()","v":302}]
[{"$f":"ROW()","v":303}]
[{"$f":"ROW()","v":304}]
[{"$f":"ROW()","v":305}]
[{"$f":"ROW()","v":306}]
[{"$f":"ROW()","v":307}]
[{"$f":"ROW()","v":308}]
[{"$f":"ROW()","v":309}]
[{"$f":"ROW()","v":310}]
[{"$f":"ROW()","v":311}]
[{"$f":"ROW()","v":312}]
[{"$f":"ROW()","v":313}]
[{"$f":"ROW()","v":314}]
[{"$f":"ROW()","v":315}]
[{"$f":"ROW()","v":316}]
[{"$f":"ROW()","v":317}]
[{"$f":"ROW()","v":318}]
[{"$f":"ROW()","v":319}]
[{"$f":"ROW()","v":320}]
[{"$f":"ROW()","v":321}]
[{"$f":"ROW()","v":322}]
[{"$f":"ROW()","v":323}]
[{"$f":"ROW()","v":324}]
[{"$f":"ROW()","v":325}]
[{"$f":"ROW()","v":326}]
[{"$f":"ROW()","v":327}]
[{"$f":"ROW()","v":328}]
[{"$f":"ROW()","v":329}]
[{"$f":"ROW()","v":330}]
[{"$f":"ROW()","v":331}]
[{"$f":"ROW()","v":332}]
[{"$f":"ROW()","v":333}]
[{"$f":"ROW()","v":334}]
[{"$f":"ROW()","v":335}]
[{"$f":"ROW()","v":336}]
[{"$f":"ROW()","v":337}]
[{"$f":"ROW()","v":338}]
[{"$f":"ROW()","v":339}]
[{"$f":"ROW()","v":340}]
[{"$f":"ROW()","v":341}]
[{"$f":"ROW()","v":342}]
[{"$f":"ROW()","v":343}]
[{"$f":"ROW()","v":344}]
[{"$f":"ROW()","v":345}]
[{"$f":"ROW()","v":346}]
[{"$f":"ROW()","v":347}]
[{"$f":"ROW()","v":348}]
[{"$f":"ROW()","v":349}]
[{"$f":"ROW()","v":350}]
[{"$f":"ROW()","v":351}]
[{"$f":"ROW()","v":352}]
[{"$f":"ROW()","v":353}]
[{"$f":"ROW()","v":354}]
[{"$f":"ROW()","v":355}]
[{"$f":"ROW()","v":356}]
[{"$f":"ROW()","v":357}]
[{"$f":"ROW()","v":358}]
[{"$f":"ROW()","v":359}]
[{"$f":"ROW()","v":360}]
[{"$f":"ROW()","v":361}]
[{"$f":"ROW()","v":362}]
[{"$f":"ROW()","v":363}]
[{"$f":"ROW()","v":364}]
[{"$f":"ROW()","v":365}]
[{"$f":"ROW()","v":366}]
[{"$f":"ROW()","v":367}]
[{"$f":"ROW()","v":368}]
[{"$f":"ROW()","v":369}]
[{"$f":"ROW()","v":370}]
[{"$f":"ROW()","v":371}]
[{"$f":"ROW()","v":372}]
[{"$f":"ROW()","v":373}]
[{"$f":"ROW()","v":374}]
[{"$f":"ROW()","v":375}]
[{"$f":"ROW()","v":376}]
[{"$f":"ROW()","v":377}]
[{"$f":"ROW()","v":378}]
[{"$f":"ROW()","v":379}]
[{"$f":"ROW()","v":380}]
[{"$f":"ROW()","v":381}]
[{"$f":"ROW()","v":382}]
[{"$f":"ROW()","v":383}]
[{"$f":"ROW()","v":384}]
[{"$f":"ROW()","v":385}]
[{"$f":"ROW()","v":386}]
[{"$f":"ROW()","v":387}]
[{"$f":"ROW()","v":388}]
[{"$f":"ROW()","v":389}]
[{"$f":"ROW()","v":390}]
[{"$f":"ROW()","v":391}]
[{"$f":"ROW()","v":392}]
[{"$f":"ROW()","v":393}]
[{"$f":"ROW()","v":394}]
[{"$f":"ROW()","v":395}]
[{"$f":"ROW()","v":396}]
[{"$f":"ROW()","v":397}]
[{"$f":"ROW()","v":398}]
[{"$f":"ROW()","v":399}]
[{"$f":"ROW()","v":400}]
[{"$f":"ROW()","v":401}]
[{"$f":"ROW()","v":402}]
[{"$f":"ROW()","v":403}]
[{"$f":"ROW()","v":404}]
[{"$f":"ROW()","v":405}]
[{"$f":"ROW()","v":406}]
[{"$f":"ROW()","v":407}]
[{"$f":"ROW()","v":408}]
[{"$f":"ROW()","v":409}]
[{"$f":"ROW()","v":410}]
[{"$f":"ROW()","v":411}]
[{"$f":"ROW()","v":412}]
[{"$f":"ROW()","v":413}]
[{"$f":"ROW()","v":414}]
[{"$f":"ROW()","v":415}]
[{"$f":"ROW()","v":416}]
[{"$f":"ROW()","v":417}]
[{"$f":"ROW()","v":418}]
[{"$f":"ROW()","v":419}]
[{"$f":"ROW()","v":420}]
[{"$f":"ROW()","v":421}]
[{"$f":"ROW()","v":422}]
[{"$f":"ROW()","v":423}]
[{"$f":"ROW()","v":424}]
[{"$f":"ROW()","v":425}]
[{"$f":"ROW()","v":426}]
[{"$f":"ROW()","v":427}]
[{"$f":"ROW()","v":428}]
[{"$f":"ROW()","v":429}]
[{"$f":"ROW()","v":430}]
[{"$f":"ROW()","v":431}]
[{"$f":"ROW()","v":432}]
[{"$f":"ROW()","v":433}]
[{"$f":"ROW()","v":434}]
[{"$f":"ROW()","v":435}]
[{"$f":"ROW()","v":436}]
[{"$f":"ROW()","v":437}]
[{"$f":"ROW()","v":438}]
[{"$f":"ROW()","v":439}]
[{"$f":"ROW()","v":440}]
[{"$f":"ROW()","v":441}]
[{"$f":"ROW()","v":442}]
[{"$f":"ROW()","v":443}]
[{"$f":"ROW()","v":444}]
[{"$f":"ROW()","v":445}]
[{"$f":"ROW()","v":446}]
[{"$f":"ROW()","v":447}]
[{"$f":"ROW()","v":448}]
[{"$f":"ROW()","v":449}]
[{"$f":"ROW()","v":450}]
[{"$f":"ROW()","v":451}]
[{"$f":"ROW()","v":452}]
[{"$f":"ROW()","v":453}]
[{"$f":"ROW()","v":454}]
[{"$f":"ROW()","v":455}]
[{"$f":"ROW()","v":456}]
[{"$f":"ROW()","v":457}]
[{"$f":"ROW()","v":458}]
[{"$f":"ROW()","v":459}]
[{"$f":"ROW()","v":460}]
[{"$f":"ROW()","v":461}]
[{"$f":"ROW()","v":462}]
[{"$f":"ROW()","v":463}]
[{"$f":"ROW()","v":464}]
[{"$f":"ROW()","v":465}]
[{"$f":"ROW()","v":466}]
[{"$f":"ROW()","v":467}]
[{"$f":"ROW()","v":468}]
[{"$f":"ROW()","v":469}]
[{"$f":"ROW()","v":470}]
[{"$f":"ROW()","v":471}]
[{"$f":"ROW()","v":472}]
[{"$f":"ROW()","v":473}]
[{"$f":"ROW()","v":474}]
[{"$f":"ROW()","v":475}]
[{"$f":"ROW()","v":476}]
[{"$f":"ROW()","v":477}]
[{"$f":"ROW()","v":478}]
[{"$f":"ROW()","v":479}]
[{"$f":"ROW()","v":480}]
[{"$f":"ROW()","v":481}]
[{"$f":"ROW()","v":482}]
[{"$f":"ROW()","v":483}]
[{"$f":"ROW()","v":484}]
[{"$f":"ROW()","v":485}]
[{"$f":"ROW()","v":486}]
[{"$f":"ROW()","v":487}]
[{"$f":"ROW()","v":488}]
[{"$f":"ROW()","v":489}]
[{"$f":"ROW()","v":490}]
[{"$f":"ROW()","v":491}]
[{"$f":"ROW()","v":492}]
[{"$f":"ROW()","v":493}]
[{"$f":"ROW()","v":494}]
[{"$f":"ROW()","v":495}]
[{"$f":"ROW()","v":496}]
[{"$f":"ROW()","v":497}]
[{"$f":"ROW()","v":498}]
[{"$f":"ROW()","v":499}]
[{"$f":"ROW()","v":500}]
[{"$f":"ROW()","v":501}]
[{"$f":"ROW()","v":502}]
[{"$f":"ROW()","v":503}]
[{"$f":"ROW()","v":504}]
[{"$f":"ROW()","v":505}]
[{"$f":"ROW()","v":506}]
[{"$f":"ROW()","v":507}]
[{"$f":"ROW()","v":508}]
[{"$f":"ROW()","v":509}]
[{"$f":"ROW()","v":510}]
[{"$f":"ROW()","v":511}]
[{"$f":"ROW()","v":512}]
[{"$f":"ROW()","v":513}]
[{"$f":"ROW()","v":514}]
[{"$f":"ROW()","v":515}]
[{"$f":"ROW()","v":516}]
[{"$f":"ROW()","v":517}]
[{"$f":"ROW()","v":518}]
[{"$f":"ROW()","v":519}]
[{"$f":"ROW()","v":520}]
[{"$f":"ROW()","v":521}]
[{"$f":"ROW()","v":522}]
[{"$f":"ROW()","v":523}]
[{"$f":"ROW()","v":524}]
[{"$f":"ROW()","v":525}]
[{"$f":"ROW()","v":526}]
[{"$f":"ROW()","v":527}]
[{"$f":"ROW()","v":528}]
[{"$f":"ROW()","v":529}]
[{"$f":"ROW()","v":530}]
[{"$f":"ROW()","v":531}]
[{"$f":"ROW()","v":532}]
[{"$f":"ROW()","v":533}]
[{"$f":"ROW()","v":534}]
[{"$f":"ROW()","v":535}]
[{"$f":"ROW()","v":536}]
[{"$f":"ROW()","v":537}]
[{"$f":"ROW()","v":538}]
[{"$f":"ROW()","v":539}]
[{"$f":"ROW()","v":540}]
[{"$f":"ROW()","v":541}]
[{"$f":"ROW()","v":542}]
[{"$f":"ROW()","v":543}]
[{"$f":"ROW()","v":544}]
[{"$f":"ROW()","v":545}]
[{"$f":"ROW()","v":546}]
[{"$f":"ROW()","v":547}]
[{"$f":"ROW()","v":548}]
[{"$f":"ROW()","v":549}]
[{"$f":"ROW()","v":550}]
[{"$f":"ROW()","v":551}]
[{"$f":"ROW()","v":552}]
[{"$f":"ROW()","v":553}]
[{"$f":"ROW()","v":554}]
[{"$f":"ROW()","v":555}]
[{"$f":"ROW()","v":556}]
[{"$f":"ROW()","v":557}]
[{"$f":"ROW()","v":558}]
[{"$f":"ROW()","v":559}]
[{"$f":"ROW()","v":560}]
[{"$f":"ROW()","v":561}]
[{"$f":"ROW()","v":562}]
[{"$f":"ROW()","v":563}]
[{"$f":"ROW()","v":564}]
[{"$f":"ROW()","v":565}]
[{"$f":"ROW()","v":566}]
[{"$f":"ROW()","v":567}]
[{"$f":"ROW()","v":568}]
[{"$f":"ROW()","v":569}]
[{"$f":"ROW()","v":570}]
[{"$f":"ROW()","v":571}]
[{"$f":"ROW()","v":572}]
[{"$f":"ROW()","v":573}]
[{"$f":"ROW()","v":574}]
[{"$f":"ROW()","v":575}]
[{"$f":"ROW()","v":576}]
[{"$f":"ROW()","v":577}]
[{"$f":"ROW()","v":578}]
[{"$f":"ROW()","v":579}]
[{"$f":"ROW()","v":580}]
[{"$f":"ROW()","v":581}]
[{"$f":"ROW()","v":582}]
[{"$f":"ROW()","v":583}]
[{"$f":"ROW()","v":584}]
[{"$f":"ROW()","v":585}]
[{"$f":"ROW()","v":586}]
[{"$f":"ROW()","v":587}]
[{"$f":"ROW()","v":588}]
[{"$f":"ROW()","v":589}]
[{"$f":"ROW()","v":590}]
[{"$f":"ROW()","v":591}]
[{"$f":"ROW()","v":592}]
[{"$f":"ROW()","v":593}]
[{"$f":"ROW()","v":594}]
[{"$f":"ROW()","v":595}]
[{"$f":"ROW()","v":596}]
[{"$f":"ROW()","v":597}]
[{"$f":"ROW()","v":598}]
[{"$f":"ROW()","v":599}]
[{"$f":"ROW()","v":600}]
[{"$f":"ROW()","v":601}]
[{"$f":"ROW()","v":602}]
[{"$f":"ROW()","v":603}]
[{"$f":"ROW()","v":604}]
[{"$f":"ROW()","v":605}]
[{"$f":"ROW()","v":606}]
[{"$f":"ROW()","v":607}]
[{"$f":"ROW()","v":608}]
[{"$f":"ROW()","v":609}]
[{"$f":"ROW()","v":610}]
[{"$f":"ROW()","v":611}]
[{"$f":"ROW()","v":612}]
[{"$f":"ROW()","v":613}]
[{"$f":"ROW()","v":614}]
[{"$f":"ROW()","v":615}]
[{"$f":"ROW()","v":616}]
[{"$f":"ROW()","v":617}]
[{"$f":"ROW()","v":618}]
[{"$f":"ROW()","v":619}]
[{"$f":"ROW()","v":620}]
[{"$f":"ROW()","v":621}]
[{"$f":"ROW()","v":622}]
[{"$f":"ROW()","v":623}]
[{"$f":"ROW()","v":624}]
[{"$f":"ROW()","v":625}]
[{"$f":"ROW()","v":626}]
[{"$f":"ROW()","v":627}]
[{"$f":"ROW()","v":628}]
[{"$f":"ROW()","v":629}]
[{"$f":"ROW()","v":630}]
[{"$f":"ROW()","v":631}]
[{"$f":"ROW()","v":632}]
[{"$f":"ROW()","v":633}]
[{"$f":"ROW()","v":634}]
[{"$f":"ROW()","v":635}]
[{"$f":"ROW()","v":636}]
[{"$f":"ROW()","v":637}]
[{"$f":"ROW()","v":638}]
[{"$f":"ROW()","v":639}]
[{"$f":"ROW()","v":640}]
[{"$f":"ROW()","v":641}]
[{"$f":"ROW()","v":642}]
[{"$f":"ROW()","v":643}]
[{"$f":"ROW()","v":644}]
[{"$f":"ROW()","v":645}]
[{"$f":"ROW()","v":646}]
[{"$f":"ROW()","v":647}]
[{"$f":"ROW()","v":648}]
[{"$f":"ROW()","v":649}]
[{"$f":"ROW()","v":650}]
[{"$f":"ROW()","v":651}]
[{"$f":"ROW()","v":652}]
[{"$f":"ROW()","v":653}]
[{"$f":"ROW()","v":654}]
[{"$f":"ROW()","v":655}]
[{"$f":"ROW()","v":656}]
[{"$f":"ROW()","v":657}]
[{"$f":"ROW()","v":658}]
[{"$f":"ROW()","v":659}]
[{"$f":"ROW()","v":660}]
[{"$f":"ROW()","v":661}]
[{"$f":"ROW()","v":662}]
[{"$f":"ROW()","v":663}]
[{"$f":"ROW()","v":664}]
[{"$f":"ROW()","v":665}]
[{"$f":"ROW()","v":666}]
[{"$f":"ROW()","v":667}]
[{"$f":"ROW()","v":668}]
[{"$f":"ROW()","v":669}]
[{"$f":"ROW()","v":670}]
[{"$f":"ROW()","v":671}]
[{"$f":"ROW()","v":672}]
[{"$f":"ROW()","v":673}]
[{"$f":"ROW()","v":674}]
[{"$f":"ROW()","v":675}]
[{"$f":"ROW()","v":676}]
[{"$f":"ROW()","v":677}]
[{"$f":"ROW()","v":678}]
[{"$f":"ROW()","v":679}]
[{"$f":"ROW()","v":680}]
[{"$f":"ROW()","v":681}]
[{"$f":"ROW()","v":682}]
[{"$f":"ROW()","v":683}]
[{"$f":"ROW()","v":684}]
[{"$f":"ROW()","v":685}]
[{"$f":"ROW()","v":686}]
[{"$f":"ROW()","v":687}]
[{"$f":"ROW()","v":688}]
[{"$f":"ROW()","v":689}]
[{"$f":"ROW()","v":690}]
[{"$f":"ROW()","v":691}]
[{"$f":"ROW()","v":692}]
[{"$f":"ROW()","v":693}]
[{"$f":"ROW()","v":694}]
[{"$f":"ROW()","v":695}]
[{"$f":"ROW()","v":696}]
[{"$f":"ROW()","v":697}]
[{"$f":"ROW()","v":698}]
[{"$f":"ROW()","v":699}]
[{"$f":"ROW()","v":700}]
[{"$f":"ROW()","v":701}]
[{"$f":"ROW()","v":702}]
[{"$f":"ROW()","v":703}]
[{"$f":"ROW()","v":704}]
[{"$f":"ROW()","v":705}]
[{"$f":"ROW()","v":706}]
[{"$f":"ROW()","v":707}]
[{"$f":"ROW()","v":708}]
[{"$f":"ROW()","v":709}]
[{"$f":"ROW()","v":710}]
[{"$f":"ROW()","v":711}]
[{"$f":"ROW()","v":712}]
[{"$f":"ROW()","v":713}]
[{"$f":"ROW()","v":714}]
[{"$f":"ROW()","v":715}]
[{"$f":"ROW()","v":716}]
[{"$f":"ROW()","v":717}]
[{"$f":"ROW()","v":718}]
[{"$f":"ROW()","v":719}]
[{"$f":"ROW()","v":720}]
[{"$f":"ROW()","v":721}]
[{"$f":"ROW()","v":722}]
[{"$f":"ROW()","v":723}]
[{"$f":"ROW()","v":724}]
[{"$f":"ROW()","v":725}]
[{"$f":"ROW()","v":726}]
[{"$f":"ROW()","v":727}]
[{"$f":"ROW()","v":728}]
[{"$f":"ROW()","v":729}]
[{"$f":"ROW()","v":730}]
[{"$f":"ROW()","v":731}]
[{"$f":"ROW()","v":732}]
[{"$f":"ROW()","v":733}]
[{"$f":"ROW()","v":734}]
[{"$f":"ROW()","v":735}]
[{"$f":"ROW()","v":736}]
[{"$f":"ROW()","v":737}]
[{"$f":"ROW()","v":738}]
[{"$f":"ROW()","v":739}]
[{"$f":"ROW()","v":740}]
[{"$f":"ROW()","v":741}]
[{"$f":"ROW()","v":742}]
[{"$f":"ROW()","v":743}]
[{"$f":"ROW()","v":744}]
[{"$f":"ROW()","v":745}]
[{"$f":"ROW()","v":746}]
[{"$f":"ROW()","v":747}]
[{"$f":"ROW()","v":748}]
[{"$f":"ROW()","v":749}]
[{"$f":"ROW()","v":750}]
[{"$f":"ROW()","v":751}]
[{"$f":"ROW()","v":752}]
[{"$f":"ROW()","v":753}]
[{"$f":"ROW()","v":754}]
[{"$f":"ROW()","v":755}]
[{"$f":"ROW()","v":756}]
[{"$f":"ROW()","v":757}]
[{"$f":"ROW()","v":758}]
[{"$f":"ROW()","v":759}]
[{"$f":"ROW()","v":760}]
[{"$f":"ROW()","v":761}]
[{"$f":"ROW()","v":762}]
[{"$f":"ROW()","v":763}]
[{"$f":"ROW()","v":764}]
[{"$f":"ROW()","v":765}]
[{"$f":"ROW()","v":766}]
[{"$f":"ROW()","v":767}]
[{"$f":"ROW()","v":768}]
[{"$f":"ROW()","v":769}]
[{"$f":"ROW()","v":770}]
[{"$f":"ROW()","v":771}]
[{"$f":"ROW()","v":772}]
[{"$f":"ROW()","v":773}]
[{"$f":"ROW()","v":774}]
[{"$f":"ROW()","v":775}]
[{"$f":"ROW()","v":776}]
[{"$f":"ROW()","v":777}]
[{"$f":"ROW()","v":778}]
[{"$f":"ROW()","v":779}]
[{"$f":"ROW()","v":780}]
[{"$f":"ROW()","v":781}]
[{"$f":"ROW()","v":782}]
[{"$f":"ROW()","v":783}]
[{"$f":"ROW()","v":784}]
[{"$f":"ROW()","v":785}]
[{"$f":"ROW()","v":786}]
[{"$f":"ROW()","v":787}]
[{"$f":"ROW()","v":788}]
[{"$f":"ROW()","v":789}]
[{"$f":"ROW()","v":790}]
[{"$f":"ROW()","v":791}]
[{"$f":"ROW()","v":792}]
[{"$f":"ROW()","v":793}]
[{"$f":"ROW()","v":794}]
[{"$f":"ROW()","v":795}]
[{"$f":"ROW()","v":796}]
[{"$f":"ROW()","v":797}]
[{"$f":"ROW()","v":798}]
[{"$f":"ROW()","v":799}]
[{"$f":"ROW()","v":800}]
[{"$f":"ROW()","v":801}]
[{"$f":"ROW()","v":802}]
[{"$f":"ROW()","v":803}]
[{"$f":"ROW()","v":804}]
[{"$f":"ROW()","v":805}]
[{"$f":"ROW()","v":806}]
[{"$f":"ROW()","v":807}]
[{"$f":"ROW()","v":808}]
[{"$f":"ROW()","v":809}]
[{"$f":"ROW()","v":810}]
[{"$f":"ROW()","v":811}]
[{"$f":"ROW()","v":812}]
[{"$f":"ROW()","v":813}]
[{"$f":"ROW()","v":814}]
[{"$f":"ROW()","v":815}]
[{"$f":"ROW()","v":816}]
[{"$f":"ROW()","v":817}]
[{"$f":"ROW()","v":818}]
[{"$f":"ROW()","v":819}]
[{"$f":"ROW()","v":820}]
[{"$f":"ROW()","v":821}]
[{"$f":"ROW()","v":822}]
[{"$f":"ROW()","v":823}]
[{"$f":"ROW()","v":824}]
[{"$f":"ROW()","v":825}]
[{"$f":"ROW()","v":826}]
[{"$f":"ROW()","v":827}]
[{"$f":"ROW()","v":828}]
[{"$f":"ROW()","v":829}]
[{"$f":"ROW()","v":830}]
[{"$f":"ROW()","v":831}]
[{"$f":"ROW()","v":832}]
[{"$f":"ROW()","v":833}]
[{"$f":"ROW()","v":834}]
[{"$f":"ROW()","v":835}]
[{"$f":"ROW()","v":836}]
[{"$f":"ROW()","v":837}]
[{"$f":"ROW()","v":838}]
[{"$f":"ROW()","v":839}]
[{"$f":"ROW()","v":840}]
[{"$f":"ROW()","v":841}]
[{"$f":"ROW()","v":842}]
[{"$f":"ROW()","v":843}]
[{"$f":"ROW()","v":844}]
[{"$f":"ROW()","v":845}]
[{"$f":"ROW()","v":846}]
[{"$f":"ROW()","v":847}]
[{"$f":"ROW()","v":848}]
[{"$f":"ROW()","v":849}]
[{"$f":"ROW()","v":850}]
[{"$f":"ROW()","v":851}]
[{"$f":"ROW()","v":852}]
[{"$f":"ROW()","v":853}]
[{"$f":"ROW()","v":854}]
[{"$f":"ROW()","v":855}]
[{"$f":"ROW()","v":856}]
[{"$f":"ROW()","v":857}]
[{"$f":"ROW()","v":858}]
[{"$f":"ROW()","v":859}]
[{"$f":"ROW()","v":860}]
[{"$f":"ROW()","v":861}]
[{"$f":"ROW()","v":862}]
[{"$f":"ROW()","v":863}]
[{"$f":"ROW()","v":864}]
[{"$f":"ROW()","v":865}]
[{"$f":"ROW()","v":866}]
[{"$f":"ROW()","v":867}]
[{"$f":"ROW()","v":868}]
[{"$f":"ROW()","v":869}]
[{"$f":"ROW()","v":870}]
[{"$f":"ROW()","v":871}]
[{"$f":"ROW()","v":872}]
[{"$f":"ROW()","v":873}]
[{"$f":"ROW()","v":874}]
[{"$f":"ROW()","v":875}]
[{"$f":"ROW()","v":876}]
[{"$f":"ROW()","v":877}]
[{"$f":"ROW()","v":878}]
[{"$f":"ROW()","v":879}]
[{"$f":"ROW()","v":880}]
[{"$f":"ROW()","v":881}]
[{"$f":"ROW()","v":882}]
[{"$f":"ROW()","v":883}]
[{"$f":"ROW()","v":884}]
[{"$f":"ROW()","v":885}]
[{"$f":"ROW()","v":886}]
[{"$f":"ROW()","v":887}]
[{"$f":"ROW()","v":888}]
[{"$f":"ROW()","v":889}]
[{"$f":"ROW()","v":890}]
[{"$f":"ROW()","v":891}]
[{"$f":"ROW()","v":892}]
[{"$f":"ROW()","v":893}]
[{"$f":"ROW()","v":894}]
[{"$f":"ROW()","v":895}]
[{"$f":"ROW()","v":896}]
[{"$f":"ROW()","v":897}]
[{"$f":"ROW()","v":898}]
[{"$f":"ROW()","v":899}]
[{"$f":"ROW()","v":900}]
[{"$f":"ROW()","v":901}]
[{"$f":"ROW()","v":902}]
[{"$f":"ROW()","v":903}]
[{"$f":"ROW()","v":904}]
[{"$f":"ROW()","v":905}]
[{"$f":"ROW()","v":906}]
[{"$f":"ROW()","v":907}]
[{"$f":"ROW()","v":908}]
[{"$f":"ROW()","v":909}]
[{"$f":"ROW()","v":910}]
[{"$f":"ROW()","v":911}]
[{"$f":"ROW()","v":912}]
[{"$f":"ROW()","v":913}]
[{"$f":"ROW()","v":914}]
[{"$f":"ROW()","v":915}]
[{"$f":"ROW()","v":916}]
[{"$f":"ROW()","v":917}]
[{"$f":"ROW()","v":918}]
[{"$f":"ROW()","v":919}]
[{"$f":"ROW()","v":920}]
[{"$f":"ROW()","v":921}]
[{"$f":"ROW()","v":922}]
[{"$f":"ROW()","v":923}]
[{"$f":"ROW()","v":924}]
[{"$f":"ROW()","v":925}]
[{"$f":"ROW()","v":926}]
[{"$f":"ROW()","v":927}]
[{"$f":"ROW()","v":928}]
[{"$f":"ROW()","v":929}]
[{"$f":"ROW()","v":930}]
[{"$f":"ROW()","v":931}]
[{"$f":"ROW()","v":932}]
[{"$f":"ROW()","v":933}]
[{"$f":"ROW()","v":934}]
[{"$f":"ROW()","v":935}]
[{"$f":"ROW()","v":936}]
[{"$f":"ROW()","v":937}]
[{"$f":"ROW()","v":938}]
[{"$f":"ROW()","v":939}]
[{"$f":"ROW()","v":940}]
[{"$f":"ROW()","v":941}]
[{"$f":"ROW()","v":942}]
[{"$f":"ROW()","v":943}]
[{"$f":"ROW()","v":944}]
[{"$f":"ROW()","v":945}]
[{"$f":"ROW()","v":946}]
[{"$f":"ROW()","v":947}]
[{"$f":"ROW()","v":948}]
[{"$f":"ROW()","v":949}]
[{"$f":"ROW()","v":950}]
[{"$f":"ROW()","v":951}]
[{"$f":"ROW()","v":952}]
[{"$f":"ROW()","v":953}]
[{"$f":"ROW()","v":954}]
[{"$f":"ROW()","v":955}]
[{"$f":"ROW()","v":956}]
[{"$f":"ROW()","v":957}]
[{"$f":"ROW()","v":958}]
[{"$f":"ROW()","v":959}]
[{"$f":"ROW()","v":960}]
[{"$f":"ROW()","v":961}]
[{"$f":"ROW()","v":962}]
[{"$f":"ROW()","v":963}]
[{"$f":"ROW()","v":964}]
[{"$f":"ROW()","v":965}]
[{"$f":"ROW()","v":966}]
[{"$f":"ROW()","v":967}]
[{"$f":"ROW()","v":968}]
[{"$f":"ROW()","v":969}]
[{"$f":"ROW()","v":970}]
[{"$f":"ROW()","v":971}]
[{"$f":"ROW()","v":972}]
[{"$f":"ROW()","v":973}]
[{"$f":"ROW()","v":974}]
[{"$f":"ROW()","v":975}]
[{"$f":"ROW()","v":976}]
[{"$f":"ROW()","v":977}]
[{"$f":"ROW()","v":978}]
[{"$f":"ROW()","v":979}]
[{"$f":"ROW()","v":980}]
[{"$f":"ROW()","v":981}]
[{"$f":"ROW()","v":982}]
[{"$f":"ROW()","v":983}]
[{"$f":"ROW()","v":984}]
[{"$f":"ROW()","v":985}]
[{"$f":"ROW()","v":986}]
[{"$f":"ROW()","v":987}]
[{"$f":"ROW()","v":988}]
[{"$f":"ROW()","v":989}]
[{"$f":"ROW()","v":990}]
[{"$f":"ROW()","v":991}]
[{"$f":"ROW()","v":992}]
[{"$f":"ROW()","v":993}]
[{"$f":"ROW()","v":994}]
[{"$f":"ROW()","v":995}]
[{"$f":"ROW()","v":996}]
[{"$f":"ROW()","v":997}]
[{"$f":"ROW()","v":998}]
[{"$f":"ROW()","v":999}]
[{"$f":"ROW()","v":1000}]
[{"$f":"ROW()","v":1001}]
[{"$f":"ROW()","v":1002}]
[{"$f":"ROW()","v":1003}]
[{"$f":"ROW()","v":1004}]
[{"$f":"ROW()","v":1005}]
[{"$f":"ROW()","v":1006}]
[{"$f":"ROW()","v":1007}]
[{"$f":"ROW()","v":1008}]
[{"$f":"ROW()","v":1009}]
[{"$f":"ROW()","v":1010}]
[{"$f":"ROW()","v":1011}]
[{"$f":"ROW()","v":1012}]
[{"$f":"ROW()","v":1013}]
[{"$f":"ROW()","v":1014}]
[{"$f":"ROW()","v":1015}]
[{"$f":"ROW()","v":1016}]
[{"$f":"ROW()","v":1017}]
[{"$f":"ROW()","v":1018}]
[{"$f":"ROW()","v":1019}]
[{"$f":"ROW()","v":1020}]
[{"$f":"ROW()","v":1021}]
[{"$f":"ROW()","v":1022}]
[{"$f":"ROW()","v":1023}]
[{"$f":"ROW()","v":1024}]
[{"$f":"ROW()","v":1025}]
[{"$f":"ROW()","v":1026}]
[{"$f":"ROW()","v":1027}]
[{"$f":"ROW()","v":1028}]
[{"$f":"ROW()","v":1029}]
[{"$f":"ROW()","v":1030}]
[{"$f":"ROW()","v":1031}]
[{"$f":"ROW()","v":1032}]
[{"$f":"ROW()","v":1033}]
[{"$f":"ROW()","v":1034}]
[{"$f":"ROW()","v":1035}]
[{"$f":"ROW()","v":1036}]
[{"$f":"ROW()","v":1037}]
[{"$f":"ROW()","v":1038}]
[{"$f":"ROW()","v":1039}]
[{"$f":"ROW()","v":1040}]
[{"$f":"ROW()","v":1041}]
[{"$f":"ROW()","v":1042}]
[{"$f":"ROW()","v":1043}]
[{"$f":"ROW()","v":1044}]
[{"$f":"ROW()","v":1045}]
[{"$f":"ROW()","v":1046}]
[{"$f":"ROW()","v":1047}]
[{"$f":"ROW()","v":1048}]
[{"$f":"ROW()","v":1049}]
[{"$f":"ROW()","v":1050}]
[{"$f":"ROW()","v":1051}]
[{"$f":"ROW()","v":1052}]
[{"$f":"ROW()","v":1053}]
[{"$f":"ROW()","v":1054}]
[{"$f":"ROW()","v":1055}]
[{"$f":"ROW()","v":1056}]
[{"$f":"ROW()","v":1057}]
[{"$f":"ROW()","v":1058}]
[{"$f":"ROW()","v":1059}]
[{"$f":"ROW()","v":1060}]
[{"$f":"ROW()","v":1061}]
[{"$f":"ROW()","v":1062}]
[{"$f":"ROW()","v":1063}]
[{"$f":"ROW()","v":1064}]
[{"$f":"ROW()","v":1065}]
[{"$f":"ROW()","v":1066}]
[{"$f":"ROW()","v":1067}]
[{"$f":"ROW()","v":1068}]
[{"$f":"ROW()","v":1069}]
[{"$f":"ROW()","v":1070}]
[{"$f":"ROW()","v":1071}]
[{"$f":"ROW()","v":1072}]
[{"$f":"ROW()","v":1073}]
[{"$f":"ROW()","v":1074}]
[{"$f":"ROW()","v":1075}]
[{"$f":"ROW()","v":1076}]
[{"$f":"ROW()","v":1077}]
[{"$f":"ROW()","v":1078}]
[{"$f":"ROW()","v":1079}]
[{"$f":"ROW()","v":1080}]
[{"$f":"ROW()","v":1081}]
[{"$f":"ROW()","v":1082}]
[{"$f":"ROW()","v":1083}]
[{"$f":"ROW()","v":1084}]
[{"$f":"ROW()","v":1085}]
[{"$f":"ROW()","v":1086}]
[{"$f":"ROW()","v":1087}]
[{"$f":"ROW()","v":1088}]
[{"$f":"ROW()","v":1089}]
[{"$f":"ROW()","v":1090}]
[{"$f":"ROW()","v":1091}]
[{"$f":"ROW()","v":1092}]
[{"$f":"ROW()","v":1093}]
[{"$f":"ROW()","v":1094}]
[{"$f":"ROW()","v":1095}]
[{"$f":"ROW()","v":1096}]
[{"$f":"ROW()","v":1097}]
[{"$f":"ROW()","v":1098}]
[{"$f":"ROW()","v":1099}]
[{"$f":"ROW()","v":1100}]
[{"$f":"ROW()","v":1101}]
[{"$f":"ROW()","v":1102}]
[{"$f":"ROW()","v":1103}]
[{"$f":"ROW()","v":1104}]
[{"$f":"ROW()","v":1105}]
[{"$f":"ROW()","v":1106}]
[{"$f":"ROW()","v":1107}]
[{"$f":"ROW()","v":1108}]
[{"$f":"ROW()","v":1109}]
[{"$f":"ROW()","v":1110}]
[{"$f":"ROW()","v":1111}]
[{"$f":"ROW()","v":1112}]
[{"$f":"ROW()","v":1113}]
[{"$f":"ROW()","v":1114}]
[{"$f":"ROW()","v":1115}]
[{"$f":"ROW()","v":1116}]
[{"$f":"ROW()","v":1117}]
[{"$f":"ROW()","v":1118}]
[{"$f":"ROW()","v":1119}]
[{"$f":"ROW()","v":1120}]
[{"$f":"ROW()","v":1121}]
[{"$f":"ROW()","v":1122}]
[{"$f":"ROW()","v":1123}]
[{"$f":"ROW()","v":1124}]
[{"$f":"ROW()","v":1125}]
[{"$f":"ROW()","v":1126}]
[{"$f":"ROW()","v":1127}]
[{"$f":"ROW()","v":1128}]
[{"$f":"ROW()","v":1129}]
[{"$f":"ROW()","v":1130}]
[{"$f":"ROW()","v":1131}]
[{"$f":"ROW()","v":1132}]
[{"$f":"ROW()","v":1133}]
[{"$f":"ROW()","v":1134}]
[{"$f":"ROW()","v":1135}]
[{"$f":"ROW()","v":1136}]
[{"$f":"ROW()","v":1137}]
[{"$f":"ROW()","v":1138}]
[{"$f":"ROW()","v":1139}]
[{"$f":"ROW()","v":1140}]
[{"$f":"ROW()","v":1141}]
[{"$f":"ROW()","v":1142}]
[{"$f":"ROW()","v":1143}]
[{"$f":"ROW()","v":1144}]
[{"$f":"ROW()","v":1145}]
[{"$f":"ROW()","v":1146}]
[{"$f":"ROW()","v":1147}]
[{"$f":"ROW()","v":1148}]
[{"$f":"ROW()","v":1149}]
[{"$f":"ROW()","v":1150}]
[{"$f":"ROW()","v":1151}]
[{"$f":"ROW()","v":1152}]
[{"$f":"ROW()","v":1153}]
[{"$f":"ROW()","v":1154}]
[{"$f":"ROW()","v":1155}]
[{"$f":"ROW()","v":1156}]
[{"$f":"ROW()","v":1157}]
[{"$f":"ROW()","v":1158}]
[{"$f":"ROW()","v":1159}]
[{"$f":"ROW()","v":1160}]
[{"$f":"ROW()","v":1161}]
[{"$f":"ROW()","v":1162}]
[{"$f":"ROW()","v":1163}]
[{"$f":"ROW()","v":1164}]
[{"$f":"ROW()","v":1165}]
[{"$f":"ROW()","v":1166}]
[{"$f":"ROW()","v":1167}]
[{"$f":"ROW()","v":1168}]
[{"$f":"ROW()","v":1169}]
[{"$f":"ROW()","v":1170}]
[{"$f":"ROW()","v":1171}]
[{"$f":"ROW()","v":1172}]
[{"$f":"ROW()","v":1173}]
[{"$f":"ROW()","v":1174}]
[{"$f":"ROW()","v":1175}]
[{"$f":"ROW()","v":1176}]
[{"$f":"ROW()","v":1177}]
[{"$f":"ROW()","v":1178}]
[{"$f":"ROW()","v":1179}]
[{"$f":"ROW()","v":1180}]
[{"$f":"ROW()","v":1181}]
[{"$f":"ROW()","v":1182}]
[{"$f":"ROW()","v":1183}]
[{"$f":"ROW()","v":1184}]
[{"$f":"ROW()","v":1185}]
[{"$f":"ROW()","v":1186}]
[{"$f":"ROW()","v":1187}]
[{"$f":"ROW()","v":1188}]
[{"$f":"ROW()","v":1189}]
[{"$f":"ROW()","v":1190}]
[{"$f":"ROW()","v":1191}]
[{"$f":"ROW()","v":1192}]
[{"$f":"ROW()","v":1193}]
[{"$f":"ROW()","v":1194}]
[{"$f":"ROW()","v":1195}]
[{"$f":"ROW()","v":1196}]
[{"$f":"ROW()","v":1197}]
[{"$f":"ROW()","v":1198}]
[{"$f":"ROW()","v":1199}]
[{"$f":"ROW()","v":1200}]
[{"$f":"ROW()","v":1201}]
[{"$f":"ROW()","v":1202}]
[{"$f":"ROW()","v":1203}]
[{"$f":"ROW()","v":1204}]
[{"$f":"ROW()","v":1205}]
[{"$f":"ROW()","v":1206}]
[{"$f":"ROW()","v":1207}]
[{"$f":"ROW()","v":1208}]
[{"$f":"ROW()","v":1209}]
[{"$f":"ROW()","v":1210}]
[{"$f":"ROW()","v":1211}]
[{"$f":"ROW()","v":1212}]
[{"$f":"ROW()","v":1213}]
[{"$f":"ROW()","v":1214}]
[{"$f":"ROW()","v":1215}]
[{"$f":"ROW()","v":1216}]
[{"$f":"ROW()","v":1217}]
[{"$f":"ROW()","v":1218}]
[{"$f":"ROW()","v":1219}]
[{"$f":"ROW()","v":1220}]
[{"$f":"ROW()","v":1221}]
[{"$f":"ROW()","v":1222}]
[{"$f":"ROW()","v":1223}]
[{"$f":"ROW()","v":1224}]
[{"$f":"ROW()","v":1225}]
[{"$f":"ROW()","v":1226}]
[{"$f":"ROW()","v":1227}]
[{"$f":"ROW()","v":1228}]
[{"$f":"ROW()","v":1229}]
[{"$f":"ROW()","v":1230}]
[{"$f":"ROW()","v":1231}]
[{"$f":"ROW()","v":1232}]
[{"$f":"ROW()","v":1233}]
[{"$f":"ROW()","v":1234}]
[{"$f":"ROW()","v":1235}]
[{"$f":"ROW()","v":1236}]
[{"$f":"ROW()","v":1237}]
[{"$f":"ROW()","v":1238}]
[{"$f":"ROW()","v":1239}]
[{"$f":"ROW()","v":1240}]
[{"$f":"ROW()","v":1241}]
[{"$f":"ROW()","v":1242}]
[{"$f":"ROW()","v":1243}]
[{"$f":"ROW()","v":1244}]
[{"$f":"ROW()","v":1245}]
[{"$f":"ROW()","v":1246}]
[{"$f":"ROW()","v":1247}]
[{"$f":"ROW()","v":1248}]
[{"$f":"ROW()","v":1249}]
[{"$f":"ROW()","v":1250}]
[{"$f":"ROW()","v":1251}]
[{"$f":"ROW()","v":1252}]
[{"$f":"ROW()","v":1253}]
[{"$f":"ROW()","v":1254}]
[{"$f":"ROW()","v":1255}]
[{"$f":"ROW()","v":1256}]
[{"$f":"ROW()","v":1257}]
[{"$f":"ROW()","v":1258}]
[{"$f":"ROW()","v":1259}]
[{"$f":"ROW()","v":1260}]
[{"$f":"ROW()","v":1261}]
[{"$f":"ROW()","v":1262}]
[{"$f":"ROW()","v":1263}]
[{"$f":"ROW()","v":1264}]
[{"$f":"ROW()","v":1265}]
[{"$f":"ROW()","v":1266}]
[{"$f":"ROW()","v":1267}]
[{"$f":"ROW()","v":1268}]
[{"$f":"ROW()","v":1269}]
[{"$f":"ROW()","v":1270}]
[{"$f":"ROW()","v":1271}]
[{"$f":"ROW()","v":1272}]
[{"$f":"ROW()","v":1273}]
[{"$f":"ROW()","v":1274}]
[{"$f":"ROW()","v":1275}]
[{"$f":"ROW()","v":1276}]
[{"$f":"ROW()","v":1277}]
[{"$f":"ROW()","v":1278}]
[{"$f":"ROW()","v":1279}]
[{"$f":"ROW()","v":1280}]
[{"$f":"ROW()","v":1281}]
[{"$f":"ROW()","v":1282}]
[{"$f":"ROW()","v":1283}]
[{"$f":"ROW()","v":1284}]
[{"$f":"ROW()","v":1285}]
[{"$f":"ROW()","v":1286}]
[{"$f":"ROW()","v":1287}]
[{"$f":"ROW()","v":1288}]
[{"$f":"ROW()","v":1289}]
[{"$f":"ROW()","v":1290}]
[{"$f":"ROW()","v":1291}]
[{"$f":"ROW()","v":1292}]
[{"$f":"ROW()","v":1293}]
[{"$f":"ROW()","v":1294}]
[{"$f":"ROW()","v":1295}]
[{"$f":"ROW()","v":1296}]
[{"$f":"ROW()","v":1297}]
[{"$f":"ROW()","v":1298}]
[{"$f":"ROW()","v":1299}]
[{"$f":"ROW()","v":1300}]
[{"$f":"ROW()","v":1301}]
[{"$f":"ROW()","v":1302}]
[{"$f":"ROW()","v":1303}]
[{"$f":"ROW()","v":1304}]
[{"$f":"ROW()","v":1305}]
[{"$f":"ROW()","v":1306}]
[{"$f":"ROW()","v":1307}]
[{"$f":"ROW()","v":1308}]
[{"$f":"ROW()","v":1309}]
[{"$f":"ROW()","v":1310}]
[{"$f":"ROW()","v":1311}]
[{"$f":"ROW()","v":1312}]
[{"$f":"ROW()","v":1313}]
[{"$f":"ROW()","v":1314}]
[{"$f":"ROW()","v":1315}]
[{"$f":"ROW()","v":1316}]
[{"$f":"ROW()","v":1317}]
[{"$f":"ROW()","v":1318}]
[{"$f":"ROW()","v":1319}]
[{"$f":"ROW()","v":1320}]
[{"$f":"ROW()","v":1321}]
[{"$f":"ROW()","v":1322}]
[{"$f":"ROW()","v":1323}]
[{"$f":"ROW()","v":1324}]
[{"$f":"ROW()","v":1325}]
[{"$f":"ROW()","v":1326}]
[{"$f":"ROW()","v":1327}]
[{"$f":"ROW()","v":1328}]
[{"$f":"ROW()","v":1329}]
[{"$f":"ROW()","v":1330}]
[{"$f":"ROW()","v":1331}]
[{"$f":"ROW()","v":1332}]
[{"$f":"ROW()","v":1333}]
[{"$f":"ROW()","v":1334}]
[{"$f":"ROW()","v":1335}]
[{"$f":"ROW()","v":1336}]
[{"$f":"ROW()","v":1337}]
[{"$f":"ROW()","v":1338}]
[{"$f":"ROW()","v":1339}]
[{"$f":"ROW()","v":1340}]
[{"$f":"ROW()","v":1341}]
[{"$f":"ROW()","v":1342}]
[{"$f":"ROW()","v":1343}]
[{"$f":"ROW()","v":1344}]
[{"$f":"ROW()","v":1345}]
[{"$f":"ROW()","v":1346}]
[{"$f":"ROW()","v":1347}]
[{"$f":"ROW()","v":1348}]
[{"$f":"ROW()","v":1349}]
[{"$f":"ROW()","v":1350}]
[{"$f":"ROW()","v":1351}]
[{"$f":"ROW()","v":1352}]
[{"$f":"ROW()","v":1353}]
[{"$f":"ROW()","v":1354}]
[{"$f":"ROW()","v":1355}]
[{"$f":"ROW()","v":1356}]
[{"$f":"ROW()","v":1357}]
[{"$f":"ROW()","v":1358}]
[{"$f":"ROW()","v":1359}]
[{"$f":"ROW()","v":1360}]
[{"$f":"ROW()","v":1361}]
[{"$f":"ROW()","v":1362}]
[{"$f":"ROW()","v":1363}]
[{"$f":"ROW()","v":1364}]
[{"$f":"ROW()","v":1365}]
[{"$f":"ROW()","v":1366}]
[{"$f":"ROW()","v":1367}]
[{"$f":"ROW()","v":1368}]
[{"$f":"ROW()","v":1369}]
[{"$f":"ROW()","v":1370}]
[{"$f":"ROW()","v":1371}]
[{"$f":"ROW()","v":1372}]
[{"$f":"ROW()","v":1373}]
[{"$f":"ROW()","v":1374}]
[{"$f":"ROW()","v":1375}]
[{"$f":"ROW()","v":1376}]
[{"$f":"ROW()","v":1377}]
[{"$f":"ROW()","v":1378}]
[{"$f":"ROW()","v":1379}]
[{"$f":"ROW()","v":1380}]
[{"$f":"ROW()","v":1381}]
[{"$f":"ROW()","v":1382}]
[{"$f":"ROW()","v":1383}]
[{"$f":"ROW()","v":1384}]
[{"$f":"ROW()","v":1385}]
[{"$f":"ROW()","v":1386}]
[{"$f":"ROW()","v":1387}]
[{"$f":"ROW()","v":1388}]
[{"$f":"ROW()","v":1389}]
[{"$f":"ROW()","v":1390}]
[{"$f":"ROW()","v":1391}]
[{"$f":"ROW()","v":1392}]
[{"$f":"ROW()","v":1393}]
[{"$f":"ROW()","v":1394}]
[{"$f":"ROW()","v":1395}]
[{"$f":"ROW()","v":1396}]
[{"$f":"ROW()","v":1397}]
[{"$f":"ROW()","v":1398}]
[{"$f":"ROW()","v":1399}]
[{"$f":"ROW()","v":1400}]
[{"$f":"ROW()","v":1401}]
[{"$f":"ROW()","v":1402}]
[{"$f":"ROW()","v":1403}]
[{"$f":"ROW()","v":1404}]
[{"$f":"ROW()","v":1405}]
[{"$f":"ROW()","v":1406}]
[{"$f":"ROW()","v":1407}]
[{"$f":"ROW()","v":1408}]
[{"$f":"ROW()","v":1409}]
[{"$f":"ROW()","v":1410}]
[{"$f":"ROW()","v":1411}]
[{"$f":"ROW()","v":1412}]
[{"$f":"ROW()","v":1413}]
[{"$f":"ROW()","v":1414}]
[{"$f":"ROW()","v":1415}]
[{"$f":"ROW()","v":1416}]
[{"$f":"ROW()","v":1417}]
[{"$f":"ROW()","v":1418}]
[{"$f":"ROW()","v":1419}]
[{"$f":"ROW()","v":1420}]
[{"$f":"ROW()","v":1421}]
[{"$f":"ROW()","v":1422}]
[{"$f":"ROW()","v":1423}]
[{"$f":"ROW()","v":1424}]
[{"$f":"ROW()","v":1425}]
[{"$f":"ROW()","v":1426}]
[{"$f":"ROW()","v":1427}]
[{"$f":"ROW()","v":1428}]
[{"$f":"ROW()","v":1429}]
[{"$f":"ROW()","v":1430}]
[{"$f":"ROW()","v":1431}]
[{"$f":"ROW()","v":1432}]
[{"$f":"ROW()","v":1433}]
[{"$f":"ROW()","v":1434}]
[{"$f":"ROW()","v":1435}]
[{"$f":"ROW()","v":1436}]
[{"$f":"ROW()","v":1437}]
[{"$f":"ROW()","v":1438}]
[{"$f":"ROW()","v":1439}]
[{"$f":"ROW()","v":1440}]
[{"$f":"ROW()","v":1441}]
[{"$f":"ROW()","v":1442}]
[{"$f":"ROW()","v":1443}]
[{"$f":"ROW()","v":1444}]
[{"$f":"ROW()","v":1445}]
[{"$f":"ROW()","v":1446}]
[{"$f":"ROW()","v":1447}]
[{"$f":"ROW()","v":1448}]
[{"$f":"ROW()","v":1449}]
[{"$f":"ROW()","v":1450}]
[{"$f":"ROW()","v":1451}]
[{"$f":"ROW()","v":1452}]
[{"$f":"ROW()","v":1453}]
[{"$f":"ROW()","v":1454}]
[{"$f":"ROW()","v":1455}]
[{"$f":"ROW()","v":1456}]
[{"$f":"ROW()","v":1457}]
[{"$f":"ROW()","v":1458}]
[{"$f":"ROW()","v":1459}]
[{"$f":"ROW()","v":1460}]
[{"$f":"ROW()","v":1461}]
[{"$f":"ROW()","v":1462}]
[{"$f":"ROW()","v":1463}]
[{"$f":"ROW()","v":1464}]
[{"$f":"ROW()","v":1465}]
[{"$f":"ROW()","v":1466}]
[{"$f":"ROW()","v":1467}]
[{"$f":"ROW()","v":1468}]
[{"$f":"ROW()","v":1469}]
[{"$f":"ROW()","v":1470}]
[{"$f":"ROW()","v":1471}]
[{"$f":"ROW()","v":1472}]
[{"$f":"ROW()","v":1473}]
[{"$f":"ROW()","v":1474}]
[{"$f":"ROW()","v":1475}]
[{"$f":"ROW()","v":1476}]
[{"$f":"ROW()","v":1477}]
[{"$f":"ROW()","v":1478}]
[{"$f":"ROW()","v":1479}]
[{"$f":"ROW()","v":1480}]
[{"$f":"ROW()","v":1481}]
[{"$f":"ROW()","v":1482}]
[{"$f":"ROW()","v":1483}]
[{"$f":"ROW()","v":1484}]
[{"$f":"ROW()","v":1485}]
[{"$f":"ROW()","v":1486}]
[{"$f":"ROW()","v":1487}]
[{"$f":"ROW()","v":1488}]
[{"$f":"ROW()","v":1489}]
[{"$f":"ROW()","v":1490}]
[{"$f":"ROW()","v":1491}]
[{"$f":"ROW()","v":1492}]
[{"$f":"ROW()","v":1493}]
[{"$f":"ROW()","v":1494}]
[{"$f":"ROW()","v":1495}]
[{"$f":"ROW()","v":1496}]
[{"$f":"ROW()","v":1497}]
[{"$f":"ROW()","v":1498}]
[{"$f":"ROW()","v":1499}]
[{"$f":"ROW()","v":1500}]
[{"$f":"ROW()","v":1501}]
[{"$f":"ROW()","v":1502}]
[{"$f":"ROW()","v":1503}]
[{"$f":"ROW()","v":1504}]
[{"$f":"ROW()","v":1505}]
[{"$f":"ROW()","v":1506}]
[{"$f":"ROW()","v":1507}]
[{"$f":"ROW()","v":1508}]
[{"$f":"ROW()","v":1509}]
[{"$f":"ROW()","v":1510}]
[{"$f":"ROW()","v":1511}]
[{"$f":"ROW()","v":1512}]
[{"$f":"ROW()","v":1513}]
[{"$f":"ROW()","v":1514}]
[{"$f":"ROW()","v":1515}]
[{"$f":"ROW()","v":1516}]
[{"$f":"ROW()","v":1517}]
[{"$f":"ROW()","v":1518}]
[{"$f":"ROW()","v":1519}]
[{"$f":"ROW()","v":1520}]
[{"$f":"ROW()","v":1521}]
[{"$f":"ROW()","v":1522}]
[{"$f":"ROW()","v":1523}]
[{"$f":"ROW()","v":1524}]
[{"$f":"ROW()","v":1525}]
[{"$f":"ROW()","v":1526}]
[{"$f":"ROW()","v":1527}]
[{"$f":"ROW()","v":1528}]
[{"$f":"ROW()","v":1529}]
[{"$f":"ROW()","v":1530}]
[{"$f":"ROW()","v":1531}]
[{"$f":"ROW()","v":1532}]
[{"$f":"ROW()","v":1533}]
[{"$f":"ROW()","v":1534}]
[{"$f":"ROW()","v":1535}]
[{"$f":"ROW()","v":1536}]
[{"$f":"ROW()","v":1537}]
[{"$f":"ROW()","v":1538}]
[{"$f":"ROW()","v":1539}]
[{"$f":"ROW()","v":1540}]
[{"$f":"ROW()","v":1541}]
[{"$f":"ROW()","v":1542}]
[{"$f":"ROW()","v":1543}]
[{"$f":"ROW()","v":1544}]
[{"$f":"ROW()","v":1545}]
[{"$f":"ROW()","v":1546}]
[{"$f":"ROW()","v":1547}]
[{"$f":"ROW()","v":1548}]
[{"$f":"ROW()","v":1549}]
[{"$f":"ROW()","v":1550}]
[{"$f":"ROW()","v":1551}]
[{"$f":"ROW()","v":1552}]
[{"$f":"ROW()","v":1553}]
[{"$f":"ROW()","v":1554}]
[{"$f":"ROW()","v":1555}]
[{"$f":"ROW()","v":1556}]
[{"$f":"ROW()","v":1557}]
[{"$f":"ROW()","v":1558}]
[{"$f":"ROW()","v":1559}]
[{"$f":"ROW()","v":1560}]
[{"$f":"ROW()","v":1561}]
[{"$f":"ROW()","v":1562}]
[{"$f":"ROW()","v":1563}]
[{"$f":"ROW()","v":1564}]
[{"$f":"ROW()","v":1565}]
[{"$f":"ROW()","v":1566}]
[{"$f":"ROW()","v":1567}]
[{"$f":"ROW()","v":1568}]
[{"$f":"ROW()","v":1569}]
[{"$f":"ROW()","v":1570}]
[{"$f":"ROW()","v":1571}]
[{"$f":"ROW()","v":1572}]
[{"$f":"ROW()","v":1573}]
[{"$f":"ROW()","v":1574}]
[{"$f":"ROW()","v":1575}]
[{"$f":"ROW()","v":1576}]
[{"$f":"ROW()","v":1577}]
[{"$f":"ROW()","v":1578}]
[{"$f":"ROW()","v":1579}]
[{"$f":"ROW()","v":1580}]
[{"$f":"ROW()","v":1581}]
[{"$f":"ROW()","v":1582}]
[{"$f":"ROW()","v":1583}]
[{"$f":"ROW()","v":1584}]
[{"$f":"ROW()","v":1585}]
[{"$f":"ROW()","v":1586}]
[{"$f":"ROW()","v":1587}]
[{"$f":"ROW()","v":1588}]
[{"$f":"ROW()","v":1589}]
[{"$f":"ROW()","v":1590}]
[{"$f":"ROW()","v":1591}]
[{"$f":"ROW()","v":1592}]
[{"$f":"ROW()","v":1593}]
[{"$f":"ROW()","v":1594}]
[{"$f":"ROW()","v":1595}]
[{"$f":"ROW()","v":1596}]
[{"$f":"ROW()","v":1597}]
[{"$f":"ROW()","v":1598}]
[{"$f":"ROW()","v":1599}]
[{"$f":"ROW()","v":1600}]
[{"$f":"ROW()","v":1601}]
[{"$f":"ROW()","v":1602}]
[{"$f":"ROW()","v":1603}]
[{"$f":"ROW()","v":1604}]
[{"$f":"ROW()","v":1605}]
[{"$f":"ROW()","v":1606}]
[{"$f":"ROW()","v":1607}]
[{"$f":"ROW()","v":1608}]
[{"$f":"ROW()","v":1609}]
[{"$f":"ROW()","v":1610}]
[{"$f":"ROW()","v":1611}]
[{"$f":"ROW()","v":1612}]
[{"$f":"ROW()","v":1613}]
[{"$f":"ROW()","v":1614}]
[{"$f":"ROW()","v":1615}]
[{"$f":"ROW()","v":1616}]
[{"$f":"ROW()","v":1617}]
[{"$f":"ROW()","v":1618}]
[{"$f":"ROW()","v":1619}]
[{"$f":"ROW()","v":1620}]
[{"$f":"ROW()","v":1621}]
[{"$f":"ROW()","v":1622}]
[{"$f":"ROW()","v":1623}]
[{"$f":"ROW()","v":1624}]
[{"$f":"ROW()","v":1625}]
[{"$f":"ROW()","v":1626}]
[{"$f":"ROW()","v":1627}]
[{"$f":"ROW()","v":1628}]
[{"$f":"ROW()","v":1629}]
[{"$f":"ROW()","v":1630}]
[{"$f":"ROW()","v":1631}]
[{"$f":"ROW()","v":1632}]
[{"$f":"ROW()","v":1633}]
[{"$f":"ROW()","v":1634}]
[{"$f":"ROW()","v":1635}]
[{"$f":"ROW()","v":1636}]
[{"$f":"ROW()","v":1637}]
[{"$f":"ROW()","v":1638}]
[{"$f":"ROW()","v":1639}]
[{"$f":"ROW()","v":1640}]
[{"$f":"ROW()","v":1641}]
[{"$f":"ROW()","v":1642}]
[{"$f":"ROW()","v":1643}]
[{"$f":"ROW()","v":1644}]
[{"$f":"ROW()","v":1645}]
[{"$f":"ROW()","v":1646}]
[{"$f":"ROW()","v":1647}]
[{"$f":"ROW()","v":1648}]
[{"$f":"ROW()","v":1649}]
[{"$f":"ROW()","v":1650}]
[{"$f":"ROW()","v":1651}]
[{"$f":"ROW()","v":1652}]
[{"$f":"ROW()","v":1653}]
[{"$f":"ROW()","v":1654}]
[{"$f":"ROW()","v":1655}]
[{"$f":"ROW()","v":1656}]
[{"$f":"ROW()","v":1657}]
[{"$f":"ROW()","v":1658}]
[{"$f":"ROW()","v":1659}]
[{"$f":"ROW()","v":1660}]
[{"$f":"ROW()","v":1661}]
[{"$f":"ROW()","v":1662}]
[{"$f":"ROW()","v":1663}]
[{"$f":"ROW()","v":1664}]
[{"$f":"ROW()","v":1665}]
[{"$f":"ROW()","v":1666}]
[{"$f":"ROW()","v":1667}]
[{"$f":"ROW()","v":1668}]
[{"$f":"ROW()","v":1669}]
[{"$f":"ROW()","v":1670}]
[{"$f":"ROW()","v":1671}]
[{"$f":"ROW()","v":1672}]
[{"$f":"ROW()","v":1673}]
[{"$f":"ROW()","v":1674}]
[{"$f":"ROW()","v":1675}]
[{"$f":"ROW()","v":1676}]
[{"$f":"ROW()","v":1677}]
[{"$f":"ROW()","v":1678}]
[{"$f":"ROW()","v":1679}]
[{"$f":"ROW()","v":1680}]
[{"$f":"ROW()","v":1681}]
[{"$f":"ROW()","v":1682}]
[{"$f":"ROW()","v":1683}]
[{"$f":"ROW()","v":1684}]
[{"$f":"ROW()","v":1685}]
[{"$f":"ROW()","v":1686}]
[{"$f":"ROW()","v":1687}]
[{"$f":"ROW()","v":1688}]
[{"$f":"ROW()","v":1689}]
[{"$f":"ROW()","v":1690}]
[{"$f":"ROW()","v":1691}]
[{"$f":"ROW()","v":1692}]
[{"$f":"ROW()","v":1693}]
[{"$f":"ROW()","v":1694}]
[{"$f":"ROW()","v":1695}]
[{"$f":"ROW()","v":1696}]
[{"$f":"ROW()","v":1697}]
[{"$f":"ROW()","v":1698}]
[{"$f":"ROW()","v":1699}]
[{"$f":"ROW()","v":1700}]
[{"$f":"ROW()","v":1701}]
[{"$f":"ROW()","v":1702}]
[{"$f":"ROW()","v":1703}]
[{"$f":"ROW()","v":1704}]
[{"$f":"ROW()","v":1705}]
[{"$f":"ROW()","v":1706}]
[{"$f":"ROW()","v":1707}]
[{"$f":"ROW()","v":1708}]
[{"$f":"ROW()","v":1709}]
[{"$f":"ROW()","v":1710}]
[{"$f":"ROW()","v":1711}]
[{"$f":"ROW()","v":1712}]
[{"$f":"ROW()","v":1713}]
[{"$f":"ROW()","v":1714}]
[{"$f":"ROW()","v":1715}]
[{"$f":"ROW()","v":1716}]
[{"$f":"ROW()","v":1717}]
[{"$f":"ROW()","v":1718}]
[{"$f":"ROW()","v":1719}]
[{"$f":"ROW()","v":1720}]
[{"$f":"ROW()","v":1721}]
[{"$f":"ROW()","v":1722}]
[{"$f":"ROW()","v":1723}]
[{"$f":"ROW()","v":1724}]
[{"$f":"ROW()","v":1725}]
[{"$f":"ROW()","v":1726}]
[{"$f":"ROW()","v":1727}]
[{"$f":"ROW()","v":1728}]
[{"$f":"ROW()","v":1729}]
[{"$f":"ROW()","v":1730}]
[{"$f":"ROW()","v":1731}]
[{"$f":"ROW()","v":1732}]
[{"$f":"ROW()","v":1733}]
[{"$f":"ROW()","v":1734}]
[{"$f":"ROW()","v":1735}]
[{"$f":"ROW()","v":1736}]
[{"$f":"ROW()","v":1737}]
[{"$f":"ROW()","v":1738}]
[{"$f":"ROW()","v":1739}]
[{"$f":"ROW()","v":1740}]
[{"$f":"ROW()","v":1741}]
[{"$f":"ROW()","v":1742}]
[{"$f":"ROW()","v":1743}]
[{"$f":"ROW()","v":1744}]
[{"$f":"ROW()","v":1745}]
[{"$f":"ROW()","v":1746}]
[{"$f":"ROW()","v":1747}]
[{"$f":"ROW()","v":1748}]
[{"$f":"ROW()","v":1749}]
[{"$f":"ROW()","v":1750}]
[{"$f":"ROW()","v":1751}]
[{"$f":"ROW()","v":1752}]
[{"$f":"ROW()","v":1753}]
[{"$f":"ROW()","v":1754}]
[{"$f":"ROW()","v":1755}]
[{"$f":"ROW()","v":1756}]
[{"$f":"ROW()","v":1757}]
[{"$f":"ROW()","v":1758}]
[{"$f":"ROW()","v":1759}]
[{"$f":"ROW()","v":1760}]
[{"$f":"ROW()","v":1761}]
[{"$f":"ROW()","v":1762}]
[{"$f":"ROW()","v":1763}]
[{"$f":"ROW()","v":1764}]
[{"$f":"ROW()","v":1765}]
[{"$f":"ROW()","v":1766}]
[{"$f":"ROW()","v":1767}]
[{"$f":"ROW()","v":1768}]
[{"$f":"ROW()","v":1769}]
[{"$f":"ROW()","v":1770}]
[{"$f":"ROW()","v":1771}]
[{"$f":"ROW()","v":1772}]
[{"$f":"ROW()","v":1773}]
[{"$f":"ROW()","v":1774}]
[{"$f":"ROW()","v":1775}]
[{"$f":"ROW()","v":1776}]
[{"$f":"ROW()","v":1777}]
[{"$f":"ROW()","v":1778}]
[{"$f":"ROW()","v":1779}]
[{"$f":"ROW()","v":1780}]
[{"$f":"ROW()","v":1781}]
[{"$f":"ROW()","v":1782}]
[{"$f":"ROW()","v":1783}]
[{"$f":"ROW()","v":1784}]
[{"$f":"ROW()","v":1785}]
[{"$f":"ROW()","v":1786}]
[{"$f":"ROW()","v":1787}]
[{"$f":"ROW()","v":1788}]
[{"$f":"ROW()","v":1789}]
[{"$f":"ROW()","v":1790}]
[{"$f":"ROW()","v":1791}]
[{"$f":"ROW()","v":1792}]
[{"$f":"ROW()","v":1793}]
[{"$f":"ROW()","v":1794}]
[{"$f":"ROW()","v":1795}]
[{"$f":"ROW()","v":1796}]
[{"$f":"ROW()","v":1797}]
[{"$f":"ROW()","v":1798}]
[{"$f":"ROW()","v":1799}]
[{"$f":"ROW()","v":1800}]
[{"$f":"ROW()","v":1801}]
[{"$f":"ROW()","v":1802}]
[{"$f":"ROW()","v":1803}]
[{"$f":"ROW()","v":1804}]
[{"$f":"ROW()","v":1805}]
[{"$f":"ROW()","v":1806}]
[{"$f":"ROW()","v":1807}]
[{"$f":"ROW()","v":1808}]
[{"$f":"ROW()","v":1809}]
[{"$f":"ROW()","v":1810}]
[{"$f":"ROW()","v":1811}]
[{"$f":"ROW()","v":1812}]
[{"$f":"ROW()","v":1813}]
[{"$f":"ROW()","v":1814}]
[{"$f":"ROW()","v":1815}]
[{"$f":"ROW()","v":1816}]
[{"$f":"ROW()","v":1817}]
[{"$f":"ROW()","v":1818}]
[{"$f":"ROW()","v":1819}]
[{"$f":"ROW()","v":1820}]
[{"$f":"ROW()","v":1821}]
[{"$f":"ROW()","v":1822}]
[{"$f":"ROW()","v":1823}]
[{"$f":"ROW()","v":1824}]
[{"$f":"ROW()","v":1825}]
[{"$f":"ROW()","v":1826}]
[{"$f":"ROW()","v":1827}]
[{"$f":"ROW()","v":1828}]
[{"$f":"ROW()","v":1829}]
[{"$f":"ROW()","v":1830}]
[{"$f":"ROW()","v":1831}]
[{"$f":"ROW()","v":1832}]
[{"$f":"ROW()","v":1833}]
[{"$f":"ROW()","v":1834}]
[{"$f":"ROW()","v":1835}]
[{"$f":"ROW()","v":1836}]
[{"$f":"ROW()","v":1837}]
[{"$f":"ROW()","v":1838}]
[{"$f":"ROW()","v":1839}]
[{"$f":"ROW()","v":1840}]
[{"$f":"ROW()","v":1841}]
[{"$f":"ROW()","v":1842}]
[{"$f":"ROW()","v":1843}]
[{"$f":"ROW()","v":1844}]
[{"$f":"ROW()","v":1845}]
[{"$f":"ROW()","v":1846}]
[{"$f":"ROW()","v":1847}]
[{"$f":"ROW()","v":1848}]
[{"$f":"ROW()","v":1849}]
[{"$f":"ROW()","v":1850}]
[{"$f":"ROW()","v":1851}]
[{"$f":"ROW()","v":1852}]
[{"$f":"ROW()","v":1853}]
[{"$f":"ROW()","v":1854}]
[{"$f":"ROW()","v":1855}]
[{"$f":"ROW()","v":1856}]
[{"$f":"ROW()","v":1857}]
[{"$f":"ROW()","v":1858}]
[{"$f":"ROW()","v":1859}]
[{"$f":"ROW()","v":1860}]
[{"$f":"ROW()","v":1861}]
[{"$f":"ROW()","v":1862}]
[{"$f":"ROW()","v":1863}]
[{"$f":"ROW()","v":1864}]
[{"$f":"ROW()","v":1865}]
[{"$f":"ROW()","v":1866}]
[{"$f":"ROW()","v":1867}]
[{"$f":"ROW()","v":1868}]
[{"$f":"ROW()","v":1869}]
[{"$f":"ROW()","v":1870}]
[{"$f":"ROW()","v":1871}]
[{"$f":"ROW()","v":1872}]
[{"$f":"ROW()","v":1873}]
[{"$f":"ROW()","v":1874}]
[{"$f":"ROW()","v":1875}]
[{"$f":"ROW()","v":1876}]
[{"$f":"ROW()","v":1877}]
[{"$f":"ROW()","v":1878}]
[{"$f":"ROW()","v":1879}]
[{"$f":"ROW()","v":1880}]
[{"$f":"ROW()","v":1881}]
[{"$f":"ROW()","v":1882}]
[{"$f":"ROW()","v":1883}]
[{"$f":"ROW()","v":1884}]
[{"$f":"ROW()","v":1885}]
[{"$f":"ROW()","v":1886}]
[{"$f":"ROW()","v":1887}]
[{"$f":"ROW()","v":1888}]
[{"$f":"ROW()","v":1889}]
[{"$f":"ROW()","v":1890}]
[{"$f":"ROW()","v":1891}]
[{"$f":"ROW()","v":1892}]
[{"$f":"ROW()","v":1893}]
[{"$f":"ROW()","v":1894}]
[{"$f":"ROW()","v":1895}]
[{"$f":"ROW()","v":1896}]
[{"$f":"ROW()","v":1897}]
[{"$f":"ROW()","v":1898}]
[{"$f":"ROW()","v":1899}]
[{"$f":"ROW()","v":1900}]
[{"$f":"ROW()","v":1901}]
[{"$f":"ROW()","v":1902}]
[{"$f":"ROW()","v":1903}]
[{"$f":"ROW()","v":1904}]
[{"$f":"ROW()","v":1905}]
[{"$f":"ROW()","v":1906}]
[{"$f":"ROW()","v":1907}]
[{"$f":"ROW()","v":1908}]
[{"$f":"ROW()","v":1909}]
[{"$f":"ROW()","v":1910}]
[{"$f":"ROW()","v":1911}]
[{"$f":"ROW()","v":1912}]
[{"$f":"ROW()","v":1913}]
[{"$f":"ROW()","v":1914}]
[{"$f":"ROW()","v":1915}]
[{"$f":"ROW()","v":1916}]
[{"$f":"ROW()","v":1917}]
[{"$f":"ROW()","v":1918}]
[{"$f":"ROW()","v":1919}]
[{"$f":"ROW()","v":1920}]
[{"$f":"ROW()","v":1921}]
[{"$f":"ROW()","v":1922}]
[{"$f":"ROW()","v":1923}]
[{"$f":"ROW()","v":1924}]
[{"$f":"ROW()","v":1925}]
[{"$f":"ROW()","v":1926}]
[{"$f":"ROW()","v":1927}]
[{"$f":"ROW()","v":1928}]
[{"$f":"ROW()","v":1929}]
[{"$f":"ROW()","v":1930}]
[{"$f":"ROW()","v":1931}]
[{"$f":"ROW()","v":1932}]
[{"$f":"ROW()","v":1933}]
[{"$f":"ROW()","v":1934}]
[{"$f":"ROW()","v":1935}]
[{"$f":"ROW()","v":1936}]
[{"$f":"ROW()","v":1937}]
[{"$f":"ROW()","v":1938}]
[{"$f":"ROW()","v":1939}]
[{"$f":"ROW()","v":1940}]
[{"$f":"ROW()","v":1941}]
[{"$f":"ROW()","v":1942}]
[{"$f":"ROW()","v":1943}]
[{"$f":"ROW()","v":1944}]
[{"$f":"ROW()","v":1945}]
[{"$f":"ROW()","v":1946}]
[{"$f":"ROW()","v":1947}]
[{"$f":"ROW()","v":1948}]
[{"$f":"ROW()","v":1949}]
[{"$f":"ROW()","v":1950}]
[{"$f":"ROW()","v":1951}]
[{"$f":"ROW()","v":1952}]
[{"$f":"ROW()","v":1953}]
[{"$f":"ROW()","v":1954}]
[{"$f":"ROW()","v":1955}]
[{"$f":"ROW()","v":1956}]
[{"$f":"ROW()","v":1957}]
[{"$f":"ROW()","v":1958}]
[{"$f":"ROW()","v":1959}]
[{"$f":"ROW()","v":1960}]
[{"$f":"ROW()","v":1961}]
[{"$f":"ROW()","v":1962}]
[{"$f":"ROW()","v":1963}]
[{"$f":"ROW()","v":1964}]
[{"$f":"ROW()","v":1965}]
[{"$f":"ROW()","v":1966}]
[{"$f":"ROW()","v":1967}]
[{"$f":"ROW()","v":1968}]
[{"$f":"ROW()","v":1969}]
[{"$f":"ROW()","v":1970}]
[{"$f":"ROW()","v":1971}]
[{"$f":"ROW()","v":1972}]
[{"$f":"ROW()","v":1973}]
[{"$f":"ROW()","v":1974}]
[{"$f":"ROW()","v":1975}]
[{"$f":"ROW()","v":1976}]
[{"$f":"ROW()","v":1977}]
[{"$f":"ROW()","v":1978}]
[{"$f":"ROW()","v":1979}]
[{"$f":"ROW()","v":1980}]
[{"$f":"ROW()","v":1981}]
[{"$f":"ROW()","v":1982}]
[{"$f":"ROW()","v":1983}]
[{"$f":"ROW()","v":1984}]
[{"$f":"ROW()","v":1985}]
[{"$f":"ROW()","v":1986}]
[{"$f":"ROW()","v":1987}]
[{"$f":"ROW()","v":1988}]
[{"$f":"ROW()","v":1989}]
[{"$f":"ROW()","v":1990}]
[{"$f":"ROW()","v":1991}]
[{"$f":"ROW()","v":1992}]
[{"$f":"ROW()","v":1993}]
[{"$f":"ROW()","v":1994}]
[{"$f":"ROW()","v":1995}]
[{"$f":"ROW()","v":1996}]
[{"$f":"ROW()","v":1997}]
[{"$f":"ROW()","v":1998}]
[{"$f":"ROW()","v":1999}]
[{"$f":"ROW()","v":2000}]
[{"$f":"ROW()","v":2001}]
[{"$f":"ROW()","v":2002}]
[{"$f":"ROW()","v":2003}]
[{"$f":"ROW()","v":2004}]
[{"$f":"ROW()","v":2005}]
[{"$f":"ROW()","v":2006}]
[{"$f":"ROW()","v":2007}]
[{"$f":"ROW()","v":2008}]
[{"$f":"ROW()","v":2009}]
[{"$f":"ROW()","v":2010}]
[{"$f":"ROW()","v":2011}]
[{"$f":"ROW()","v":2012}]
[{"$f":"ROW()","v":2013}]
[{"$f":"ROW()","v":2014}]
[{"$f":"ROW()","v":2015}]
[{"$f":"ROW()","v":2016}]
[{"$f":"ROW()","v":2017}]
[{"$f":"ROW()","v":2018}]
[{"$f":"ROW()","v":2019}]
[{"$f":"ROW()","v":2020}]
[{"$f":"ROW()","v":2021}]
[{"$f":"ROW()","v":2022}]
[{"$f":"ROW()","v":2023}]
[{"$f":"ROW()","v":2024}]
[{"$f":"ROW()","v":2025}]
[{"$f":"ROW()","v":2026}]
[{"$f":"ROW()","v":2027}]
[{"$f":"ROW()","v":2028}]
[{"$f":"ROW()","v":2029}]
[{"$f":"ROW()","v":2030}]
[{"$f":"ROW()","v":2031}]
[{"$f":"ROW()","v":2032}]
[{"$f":"ROW()","v":2033}]
[{"$f":"ROW()","v":2034}]
[{"$f":"ROW()","v":2035}]
[{"$f":"ROW()","v":2036}]
[{"$f":"ROW()","v":2037}]
[{"$f":"ROW()","v":2038}]
[{"$f":"ROW()","v":2039}]
[{"$f":"ROW()","v":2040}]
[{"$f":"ROW()","v":2041}]
[{"$f":"ROW()","v":2042}]
[{"$f":"ROW()","v":2043}]
[{"$f":"ROW()","v":2044}]
[{"$f":"ROW()","v":2045}]
[{"$f":"ROW()","v":2046}]
[{"$f":"ROW()","v":2047}]
[{"$f":"ROW()","v":2048}]
[{"$f":"ROW()","v":2049}]
[{"$f":"ROW()","v":2050}]
[{"$f":"ROW()","v":2051}]
[{"$f":"ROW()","v":2052}]
[{"$f":"ROW()","v":2053}]
[{"$f":"ROW()","v":2054}]
[{"$f":"ROW()","v":2055}]
[{"$f":"ROW()","v":2056}]
[{"$f":"ROW()","v":2057}]
[{"$f":"ROW()","v":2058}]
[{"$f":"ROW()","v":2059}]
[{"$f":"ROW()","v":2060}]
[{"$f":"ROW()","v":2061}]
[{"$f":"ROW()","v":2062}]
[{"$f":"ROW()","v":2063}]
[{"$f":"ROW()","v":2064}]
[{"$f":"ROW()","v":2065}]
[{"$f":"ROW()","v":2066}]
[{"$f":"ROW()","v":2067}]
[{"$f":"ROW()","v":2068}]
[{"$f":"ROW()","v":2069}]
[{"$f":"ROW()","v":2070}]
[{"$f":"ROW()","v":2071}]
[{"$f":"ROW()","v":2072}]
[{"$f":"ROW()","v":2073}]
[{"$f":"ROW()","v":2074}]
[{"$f":"ROW()","v":2075}]
[{"$f":"ROW()","v":2076}]
[{"$f":"ROW()","v":2077}]
[{"$f":"ROW()","v":2078}]
[{"$f":"ROW()","v":2079}]
[{"$f":"ROW()","v":2080}]
[{"$f":"ROW()","v":2081}]
[{"$f":"ROW()","v":2082}]
[{"$f":"ROW()","v":2083}]
[{"$f":"ROW()","v":2084}]
[{"$f":"ROW()","v":2085}]
[{"$f":"ROW()","v":2086}]
[{"$f":"ROW()","v":2087}]
[{"$f":"ROW()","v":2088}]
[{"$f":"ROW()","v":2089}]
[{"$f":"ROW()","v":2090}]
[{"$f":"ROW()","v":2091}]
[{"$f":"ROW()","v":2092}]
[{"$f":"ROW()","v":2093}]
[{"$f":"ROW()","v":2094}]
[{"$f":"ROW()","v":2095}]
[{"$f":"ROW()","v":2096}]
[{"$f":"ROW()","v":2097}]
[{"$f":"ROW()","v":2098}]
[{"$f":"ROW()","v":2099}]
[{"$f":"ROW()","v":2100}]
[{"$f":"ROW()","v":2101}]
[{"$f":"ROW()","v":2102}]
[{"$f":"ROW()","v":2103}]
[{"$f":"ROW()","v":2104}]
[{"$f":"ROW()","v":2105}]
[{"$f":"ROW()","v":2106}]
[{"$f":"ROW()","v":2107}]
[{"$f":"ROW()","v":2108}]
[{"$f":"ROW()","v":2109}]
[{"$f":"ROW()","v":2110}]
[{"$f":"ROW()","v":2111}]
[{"$f":"ROW()","v":2112}]
[{"$f":"ROW()","v":2113}]
[{"$f":"ROW()","v":2114}]
[{"$f":"ROW()","v":2115}]
[{"$f":"ROW()","v":2116}]
[{"$f":"ROW()","v":2117}]
[{"$f":"ROW()","v":2118}]
[{"$f":"ROW()","v":2119}]
[{"$f":"ROW()","v":2120}]
[{"$f":"ROW()","v":2121}]
[{"$f":"ROW()","v":2122}]
[{"$f":"ROW()","v":2123}]
[{"$f":"ROW()","v":2124}]
[{"$f":"ROW()","v":2125}]
[{"$f":"ROW()","v":2126}]
[{"$f":"ROW()","v":2127}]
[{"$f":"ROW()","v":2128}]
[{"$f":"ROW()","v":2129}]
[{"$f":"ROW()","v":2130}]
[{"$f":"ROW()","v":2131}]
[{"$f":"ROW()","v":2132}]
[{"$f":"ROW()","v":2133}]
[{"$f":"ROW()","v":2134}]
[{"$f":"ROW()","v":2135}]
[{"$f":"ROW()","v":2136}]
[{"$f":"ROW()","v":2137}]
[{"$f":"ROW()","v":2138}]
[{"$f":"ROW()","v":2139}]
[{"$f":"ROW()","v":2140}]
[{"$f":"ROW()","v":2141}]
[{"$f":"ROW()","v":2142}]
[{"$f":"ROW()","v":2143}]
[{"$f":"ROW()","v":2144}]
[{"$f":"ROW()","v":2145}]
[{"$f":"ROW()","v":2146}]
[{"$f":"ROW()","v":2147}]
[{"$f":"ROW()","v":2148}]
[{"$f":"ROW()","v":2149}]
[{"$f":"ROW()","v":2150}]
[{"$f":"ROW()","v":2151}]
[{"$f":"ROW()","v":2152}]
[{"$f":"ROW()","v":2153}]
[{"$f":"ROW()","v":2154}]
[{"$f":"ROW()","v":2155}]
[{"$f":"ROW()","v":2156}]
[{"$f":"ROW()","v":2157}]
[{"$f":"ROW()","v":2158}]
[{"$f":"ROW()","v":2159}]
[{"$f":"ROW()","v":2160}]
[{"$f":"ROW()","v":2161}]
[{"$f":"ROW()","v":2162}]
[{"$f":"ROW()","v":2163}]
[{"$f":"ROW()","v":2164}]
[{"$f":"ROW()","v":2165}]
[{"$f":"ROW()","v":2166}]
[{"$f":"ROW()","v":2167}]
[{"$f":"ROW()","v":2168}]
[{"$f":"ROW()","v":2169}]
[{"$f":"ROW()","v":2170}]
[{"$f":"ROW()","v":2171}]
[{"$f":"ROW()","v":2172}]
[{"$f":"ROW()","v":2173}]
[{"$f":"ROW()","v":2174}]
[{"$f":"ROW()","v":2175}]
[{"$f":"ROW()","v":2176}]
[{"$f":"ROW()","v":2177}]
[{"$f":"ROW()","v":2178}]
[{"$f":"ROW()","v":2179}]
[{"$f":"ROW()","v":2180}]
[{"$f":"ROW()","v":2181}]
[{"$f":"ROW()","v":2182}]
[{"$f":"ROW()","v":2183}]
[{"$f":"ROW()","v":2184}]
[{"$f":"ROW()","v":2185}]
[{"$f":"ROW()","v":2186}]
[{"$f":"ROW()","v":2187}]
[{"$f":"ROW()","v":2188}]
[{"$f":"ROW()","v":2189}]
[{"$f":"ROW()","v":2190}]
[{"$f":"ROW()","v":2191}]
[{"$f":"ROW()","v":2192}]
[{"$f":"ROW()","v":2193}]
[{"$f":"ROW()","v":2194}]
[{"$f":"ROW()","v":2195}]
[{"$f":"ROW()","v":2196}]
[{"$f":"ROW()","v":2197}]
[{"$f":"ROW()","v":2198}]
[{"$f":"ROW()","v":2199}]
[{"$f":"ROW()","v":2200}]
[{"$f":"ROW()","v":2201}]
[{"$f":"ROW()","v":2202}]
[{"$f":"ROW()","v":2203}]
[{"$f":"ROW()","v":2204}]
[{"$f":"ROW()","v":2205}]
[{"$f":"ROW()","v":2206}]
[{"$f":"ROW()","v":2207}]
[{"$f":"ROW()","v":2208}]
[{"$f":"ROW()","v":2209}]
[{"$f":"ROW()","v":2210}]
[{"$f":"ROW()","v":2211}]
[{"$f":"ROW()","v":2212}]
[{"$f":"ROW()","v":2213}]
[{"$f":"ROW()","v":2214}]
[{"$f":"ROW()","v":2215}]
[{"$f":"ROW()","v":2216}]
[{"$f":"ROW()","v":2217}]
[{"$f":"ROW()","v":2218}]
[{"$f":"ROW()","v":2219}]
[{"$f":"ROW()","v":2220}]
[{"$f":"ROW()","v":2221}]
[{"$f":"ROW()","v":2222}]
[{"$f":"ROW()","v":2223}]
[{"$f":"ROW()","v":2224}]
[{"$f":"ROW()","v":2225}]
[{"$f":"ROW()","v":2226}]
[{"$f":"ROW()","v":2227}]
[{"$f":"ROW()","v":2228}]
[{"$f":"ROW()","v":2229}]
[{"$f":"ROW()","v":2230}]
[{"$f":"ROW()","v":2231}]
[{"$f":"ROW()","v":2232}]
[{"$f":"ROW()","v":2233}]
[{"$f":"ROW()","v":2234}]
[{"$f":"ROW()","v":2235}]
[{"$f":"ROW()","v":2236}]
[{"$f":"ROW()","v":2237}]
[{"$f":"ROW()","v":2238}]
[{"$f":"ROW()","v":2239}]
[{"$f":"ROW()","v":2240}]
[{"$f":"ROW()","v":2241}]
[{"$f":"ROW()","v":2242}]
[{"$f":"ROW()","v":2243}]
[{"$f":"ROW()","v":2244}]
[{"$f":"ROW()","v":2245}]
[{"$f":"ROW()","v":2246}]
[{"$f":"ROW()","v":2247}]
[{"$f":"ROW()","v":2248}]
[{"$f":"ROW()","v":2249}]
[{"$f":"ROW()","v":2250}]
[{"$f":"ROW()","v":2251}]
[{"$f":"ROW()","v":2252}]
[{"$f":"ROW()","v":2253}]
[{"$f":"ROW()","v":2254}]
[{"$f":"ROW()","v":2255}]
[{"$f":"ROW()","v":2256}]
[{"$f":"ROW()","v":2257}]
[{"$f":"ROW()","v":2258}]
[{"$f":"ROW()","v":2259}]
[{"$f":"ROW()","v":2260}]
[{"$f":"ROW()","v":2261}]
[{"$f":"ROW()","v":2262}]
[{"$f":"ROW()","v":2263}]
[{"$f":"ROW()","v":2264}]
[{"$f":"ROW()","v":2265}]
[{"$f":"ROW()","v":2266}]
[{"$f":"ROW()","v":2267}]
[{"$f":"ROW()","v":2268}]
[{"$f":"ROW()","v":2269}]
[{"$f":"ROW()","v":2270}]
[{"$f":"ROW()","v":2271}]
[{"$f":"ROW()","v":2272}]
[{"$f":"ROW()","v":2273}]
[{"$f":"ROW()","v":2274}]
[{"$f":"ROW()","v":2275}]
[{"$f":"ROW()","v":2276}]
[{"$f":"ROW()","v":2277}]
[{"$f":"ROW()","v":2278}]
[{"$f":"ROW()","v":2279}]
[{"$f":"ROW()","v":2280}]
[{"$f":"ROW()","v":2281}]
[{"$f":"ROW()","v":2282}]
[{"$f":"ROW()","v":2283}]
[{"$f":"ROW()","v":2284}]
[{"$f":"ROW()","v":2285}]
[{"$f":"ROW()","v":2286}]
[{"$f":"ROW()","v":2287}]
[{"$f":"ROW()","v":2288}]
[{"$f":"ROW()","v":2289}]
[{"$f":"ROW()","v":2290}]
[{"$f":"ROW()","v":2291}]
[{"$f":"ROW()","v":2292}]
[{"$f":"ROW()","v":2293}]
[{"$f":"ROW()","v":2294}]
[{"$f":"ROW()","v":2295}]
[{"$f":"ROW()","v":2296}]
[{"$f":"ROW()","v":2297}]
[{"$f":"ROW()","v":2298}]
[{"$f":"ROW()","v":2299}]
[{"$f":"ROW()","v":2300}]
[{"$f":"ROW()","v":2301}]
[{"$f":"ROW()","v":2302}]
[{"$f":"ROW()","v":2303}]
[{"$f":"ROW()","v":2304}]
[{"$f":"ROW()","v":2305}]
[{"$f":"ROW()","v":2306}]
[{"$f":"ROW()","v":2307}]
[{"$f":"ROW()","v":2308}]
[{"$f":"ROW()","v":2309}]
[{"$f":"ROW()","v":2310}]
[{"$f":"ROW()","v":2311}]
[{"$f":"ROW()","v":2312}]
[{"$f":"ROW()","v":2313}]
[{"$f":"ROW()","v":2314}]
[{"$f":"ROW()","v":2315}]
[{"$f":"ROW()","v":2316}]
[{"$f":"ROW()","v":2317}]
[{"$f":"ROW()","v":2318}]
[{"$f":"ROW()","v":2319}]
[{"$f":"ROW()","v":2320}]
[{"$f":"ROW()","v":2321}]
[{"$f":"ROW()","v":2322}]
[{"$f":"ROW()","v":2323}]
[{"$f":"ROW()","v":2324}]
[{"$f":"ROW()","v":2325}]
[{"$f":"ROW()","v":2326}]
[{"$f":"ROW()","v":2327}]
[{"$f":"ROW()","v":2328}]
[{"$f":"ROW()","v":2329}]
[{"$f":"ROW()","v":2330}]
[{"$f":"ROW()","v":2331}]
[{"$f":"ROW()","v":2332}]
[{"$f":"ROW()","v":2333}]
[{"$f":"ROW()","v":2334}]
[{"$f":"ROW()","v":2335}]
[{"$f":"ROW()","v":2336}]
[{"$f":"ROW()","v":2337}]
[{"$f":"ROW()","v":2338}]
[{"$f":"ROW()","v":2339}]
[{"$f":"ROW()","v":2340}]
[{"$f":"ROW()","v":2341}]
[{"$f":"ROW()","v":2342}]
[{"$f":"ROW()","v":2343}]
[{"$f":"ROW()","v":2344}]
[{"$f":"ROW()","v":2345}]
[{"$f":"ROW()","v":2346}]
[{"$f":"ROW()","v":2347}]
[{"$f":"ROW()","v":2348}]
[{"$f":"ROW()","v":2349}]
[{"$f":"ROW()","v":2350}]
[{"$f":"ROW()","v":2351}]
[{"$f":"ROW()","v":2352}]
[{"$f":"ROW()","v":2353}]
[{"$f":"ROW()","v":2354}]
[{"$f":"ROW()","v":2355}]
[{"$f":"ROW()","v":2356}]
[{"$f":"ROW()","v":2357}]
[{"$f":"ROW()","v":2358}]
[{"$f":"ROW()","v":2359}]
[{"$f":"ROW()","v":2360}]
[{"$f":"ROW()","v":2361}]
[{"$f":"ROW()","v":2362}]
[{"$f":"ROW()","v":2363}]
[{"$f":"ROW()","v":2364}]
[{"$f":"ROW()","v":2365}]
[{"$f":"ROW()","v":2366}]
[{"$f":"ROW()","v":2367}]
[{"$f":"ROW()","v":2368}]
[{"$f":"ROW()","v":2369}]
[{"$f":"ROW()","v":2370}]
[{"$f":"ROW()","v":2371}]
[{"$f":"ROW()","v":2372}]
[{"$f":"ROW()","v":2373}]
[{"$f":"ROW()","v":2374}]
[{"$f":"ROW()","v":2375}]
[{"$f":"ROW()","v":2376}]
[{"$f":"ROW()","v":2377}]
[{"$f":"ROW()","v":2378}]
[{"$f":"ROW()","v":2379}]
[{"$f":"ROW()","v":2380}]
[{"$f":"ROW()","v":2381}]
[{"$f":"ROW()","v":2382}]
[{"$f":"ROW()","v":2383}]
[{"$f":"ROW()","v":2384}]
[{"$f":"ROW()","v":2385}]
[{"$f":"ROW()","v":2386}]
[{"$f":"ROW()","v":2387}]
[{"$f":"ROW()","v":2388}]
[{"$f":"ROW()","v":2389}]
[{"$f":"ROW()","v":2390}]
[{"$f":"ROW()","v":2391}]
[{"$f":"ROW()","v":2392}]
[{"$f":"ROW()","v":2393}]
[{"$f":"ROW()","v":2394}]
[{"$f":"ROW()","v":2395}]
[{"$f":"ROW()","v":2396}]
[{"$f":"ROW()","v":2397}]
[{"$f":"ROW()","v":2398}]
[{"$f":"ROW()","v":2399}]
[{"$f":"ROW()","v":2400}]
[{"$f":"ROW()","v":2401}]
[{"$f":"ROW()","v":2402}]
[{"$f":"ROW()","v":2403}]
[{"$f":"ROW()","v":2404}]
[{"$f":"ROW()","v":2405}]
[{"$f":"ROW()","v":2406}]
[{"$f":"ROW()","v":2407}]
[{"$f":"ROW()","v":2408}]
[{"$f":"ROW()","v":2409}]
[{"$f":"ROW()","v":2410}]
[{"$f":"ROW()","v":2411}]
[{"$f":"ROW()","v":2412}]
[{"$f":"ROW()","v":2413}]
[{"$f":"ROW()","v":2414}]
[{"$f":"ROW()","v":2415}]
[{"$f":"ROW()","v":2416}]
[{"$f":"ROW()","v":2417}]
[{"$f":"ROW()","v":2418}]
[{"$f":"ROW()","v":2419}]
[{"$f":"ROW()","v":2420}]
[{"$f":"ROW()","v":2421}]
[{"$f":"ROW()","v":2422}]
[{"$f":"ROW()","v":2423}]
[{"$f":"ROW()","v":2424}]
[{"$f":"ROW()","v":2425}]
[{"$f":"ROW()","v":2426}]
[{"$f":"ROW()","v":2427}]
[{"$f":"ROW()","v":2428}]
[{"$f":"ROW()","v":2429}]
[{"$f":"ROW()","v":2430}]
[{"$f":"ROW()","v":2431}]
[{"$f":"ROW()","v":2432}]
[{"$f":"ROW()","v":2433}]
[{"$f":"ROW()","v":2434}]
[{"$f":"ROW()","v":2435}]
[{"$f":"ROW()","v":2436}]
[{"$f":"ROW()","v":2437}]
[{"$f":"ROW()","v":2438}]
[{"$f":"ROW()","v":2439}]
[{"$f":"ROW()","v":2440}]
[{"$f":"ROW()","v":2441}]
[{"$f":"ROW()","v":2442}]
[{"$f":"ROW()","v":2443}]
[{"$f":"ROW()","v":2444}]
[{"$f":"ROW()","v":2445}]
[{"$f":"ROW()","v":2446}]
[{"$f":"ROW()","v":2447}]
[{"$f":"ROW()","v":2448}]
[{"$f":"ROW()","v":2449}]
[{"$f":"ROW()","v":2450}]
[{"$f":"ROW()","v":2451}]
[{"$f":"ROW()","v":2452}]
[{"$f":"ROW()","v":2453}]
[{"$f":"ROW()","v":2454}]
[{"$f":"ROW()","v":2455}]
[{"$f":"ROW()","v":2456}]
[{"$f":"ROW()","v":2457}]
[{"$f":"ROW()","v":2458}]
[{"$f":"ROW()","v":2459}]
[{"$f":"ROW()","v":2460}]
[{"$f":"ROW()","v":2461}]
[{"$f":"ROW()","v":2462}]
[{"$f":"ROW()","v":2463}]
[{"$f":"ROW()","v":2464}]
[{"$f":"ROW()","v":2465}]
[{"$f":"ROW()","v":2466}]
[{"$f":"ROW()","v":2467}]
[{"$f":"ROW()","v":2468}]
[{"$f":"ROW()","v":2469}]
[{"$f":"ROW()","v":2470}]
[{"$f":"ROW()","v":2471}]
[{"$f":"ROW()","v":2472}]
[{"$f":"ROW()","v":2473}]
[{"$f":"ROW()","v":2474}]
[{"$f":"ROW()","v":2475}]
[{"$f":"ROW()","v":2476}]
[{"$f":"ROW()","v":2477}]
[{"$f":"ROW()","v":2478}]
[{"$f":"ROW()","v":2479}]
[{"$f":"ROW()","v":2480}]
[{"$f":"ROW()","v":2481}]
[{"$f":"ROW()","v":2482}]
[{"$f":"ROW()","v":2483}]
[{"$f":"ROW()","v":2484}]
[{"$f":"ROW()","v":2485}]
[{"$f":"ROW()","v":2486}]
[{"$f":"ROW()","v":2487}]
[{"$f":"ROW()","v":2488}]
[{"$f":"ROW()","v":2489}]
[{"$f":"ROW()","v":2490}]
[{"$f":"ROW()","v":2491}]
[{"$f":"ROW()","v":2492}]
[{"$f":"ROW()","v":2493}]
[{"$f":"ROW()","v":2494}]
[{"$f":"ROW()","v":2495}]
[{"$f":"ROW()","v":2496}]
[{"$f":"ROW()","v":2497}]
[{"$f":"ROW()","v":2498}]
[{"$f":"ROW()","v":2499}]
[{"$f":"ROW()","v":2500}]
[{"$f":"ROW()","v":2501}]
[{"$f":"ROW()","v":2502}]
[{"$f":"ROW()","v":2503}]
[{"$f":"ROW()","v":2504}]
[{"$f":"ROW()","v":2505}]
[{"$f":"ROW()","v":2506}]
[{"$f":"ROW()","v":2507}]
[{"$f":"ROW()","v":2508}]
[{"$f":"ROW()","v":2509}]
[{"$f":"ROW()","v":2510}]
[{"$f":"ROW()","v":2511}]
[{"$f":"ROW()","v":2512}]
[{"$f":"ROW()","v":2513}]
[{"$f":"ROW()","v":2514}]
[{"$f":"ROW()","v":2515}]
[{"$f":"ROW()","v":2516}]
[{"$f":"ROW()","v":2517}]
[{"$f":"ROW()","v":2518}]
[{"$f":"ROW()","v":2519}]
[{"$f":"ROW()","v":2520}]
[{"$f":"ROW()","v":2521}]
[{"$f":"ROW()","v":2522}]
[{"$f":"ROW()","v":2523}]
[{"$f":"ROW()","v":2524}]
[{"$f":"ROW()","v":2525}]
[{"$f":"ROW()","v":2526}]
[{"$f":"ROW()","v":2527}]
[{"$f":"ROW()","v":2528}]
[{"$f":"ROW()","v":2529}]
[{"$f":"ROW()","v":2530}]
[{"$f":"ROW()","v":2531}]
[{"$f":"ROW()","v":2532}]
[{"$f":"ROW()","v":2533}]
[{"$f":"ROW()","v":2534}]
[{"$f":"ROW()","v":2535}]
[{"$f":"ROW()","v":2536}]
[{"$f":"ROW()","v":2537}]
[{"$f":"ROW()","v":2538}]
[{"$f":"ROW()","v":2539}]
[{"$f":"ROW()","v":2540}]
[{"$f":"ROW()","v":2541}]
[{"$f":"ROW()","v":2542}]
[{"$f":"ROW()","v":2543}]
[{"$f":"ROW()","v":2544}]
[{"$f":"ROW()","v":2545}]
[{"$f":"ROW()","v":2546}]
[{"$f":"ROW()","v":2547}]
[{"$f":"ROW()","v":2548}]
[{"$f":"ROW()","v":2549}]
[{"$f":"ROW()","v":2550}]
[{"$f":"ROW()","v":2551}]
[{"$f":"ROW()","v":2552}]
[{"$f":"ROW()","v":2553}]
[{"$f":"ROW()","v":2554}]
[{"$f":"ROW()","v":2555}]
[{"$f":"ROW()","v":2556}]
[{"$f":"ROW()","v":2557}]
[{"$f":"ROW()","v":2558}]
[{"$f":"ROW()","v":2559}]
[{"$f":"ROW()","v":2560}]
[{"$f":"ROW()","v":2561}]
[{"$f":"ROW()","v":2562}]
[{"$f":"ROW()","v":2563}]
[{"$f":"ROW()","v":2564}]
[{"$f":"ROW()","v":2565}]
[{"$f":"ROW()","v":2566}]
[{"$f":"ROW()","v":2567}]
[{"$f":"ROW()","v":2568}]
[{"$f":"ROW()","v":2569}]
[{"$f":"ROW()","v":2570}]
[{"$f":"ROW()","v":2571}]
[{"$f":"ROW()","v":2572}]
[{"$f":"ROW()","v":2573}]
[{"$f":"ROW()","v":2574}]
[{"$f":"ROW()","v":2575}]
[{"$f":"ROW()","v":2576}]
[{"$f":"ROW()","v":2577}]
[{"$f":"ROW()","v":2578}]
[{"$f":"ROW()","v":2579}]
[{"$f":"ROW()","v":2580}]
[{"$f":"ROW()","v":2581}]
[{"$f":"ROW()","v":2582}]
[{"$f":"ROW()","v":2583}]
[{"$f":"ROW()","v":2584}]
[{"$f":"ROW()","v":2585}]
[{"$f":"ROW()","v":2586}]
[{"$f":"ROW()","v":2587}]
[{"$f":"ROW()","v":2588}]
[{"$f":"ROW()","v":2589}]
[{"$f":"ROW()","v":2590}]
[{"$f":"ROW()","v":2591}]
[{"$f":"ROW()","v":2592}]
[{"$f":"ROW()","v":2593}]
[{"$f":"ROW()","v":2594}]
[{"$f":"ROW()","v":2595}]
[{"$f":"ROW()","v":2596}]
[{"$f":"ROW()","v":2597}]
[{"$f":"ROW()","v":2598}]
[{"$f":"ROW()","v":2599}]
[{"$f":"ROW()","v":2600}]
[{"$f":"ROW()","v":2601}]
[{"$f":"ROW()","v":2602}]
[{"$f":"ROW()","v":2603}]
[{"$f":"ROW()","v":2604}]
[{"$f":"ROW()","v":2605}]
[{"$f":"ROW()","v":2606}]
[{"$f":"ROW()","v":2607}]
[{"$f":"ROW()","v":2608}]
[{"$f":"ROW()","v":2609}]
[{"$f":"ROW()","v":2610}]
[{"$f":"ROW()","v":2611}]
[{"$f":"ROW()","v":2612}]
[{"$f":"ROW()","v":2613}]
[{"$f":"ROW()","v":2614}]
[{"$f":"ROW()","v":2615}]
[{"$f":"ROW()","v":2616}]
[{"$f":"ROW()","v":2617}]
[{"$f":"ROW()","v":2618}]
[{"$f":"ROW()","v":2619}]
[{"$f":"ROW()","v":2620}]
[{"$f":"ROW()","v":2621}]
[{"$f":"ROW()","v":2622}]
[{"$f":"ROW()","v":2623}]
[{"$f":"ROW()","v":2624}]
[{"$f":"ROW()","v":2625}]
[{"$f":"ROW()","v":2626}]
[{"$f":"ROW()","v":2627}]
[{"$f":"ROW()","v":2628}]
[{"$f":"ROW()","v":2629}]
[{"$f":"ROW()","v":2630}]
[{"$f":"ROW()","v":2631}]
[{"$f":"ROW()","v":2632}]
[{"$f":"ROW()","v":2633}]
[{"$f":"ROW()","v":2634}]
[{"$f":"ROW()","v":2635}]
[{"$f":"ROW()","v":2636}]
[{"$f":"ROW()","v":2637}]
[{"$f":"ROW()","v":2638}]
[{"$f":"ROW()","v":2639}]
[{"$f":"ROW()","v":2640}]
[{"$f":"ROW()","v":2641}]
[{"$f":"ROW()","v":2642}]
[{"$f":"ROW()","v":2643}]
[{"$f":"ROW()","v":2644}]
[{"$f":"ROW()","v":2645}]
[{"$f":"ROW()","v":2646}]
[{"$f":"ROW()","v":2647}]
[{"$f":"ROW()","v":2648}]
[{"$f":"ROW()","v":2649}]
[{"$f":"ROW()","v":2650}]
[{"$f":"ROW()","v":2651}]
[{"$f":"ROW()","v":2652}]
[{"$f":"ROW()","v":2653}]
[{"$f":"ROW()","v":2654}]
[{"$f":"ROW()","v":2655}]
[{"$f":"ROW()","v":2656}]
[{"$f":"ROW()","v":2657}]
[{"$f":"ROW()","v":2658}]
[{"$f":"ROW()","v":2659}]
[{"$f":"ROW()","v":2660}]
[{"$f":"ROW()","v":2661}]
[{"$f":"ROW()","v":2662}]
[{"$f":"ROW()","v":2663}]
[{"$f":"ROW()","v":2664}]
[{"$f":"ROW()","v":2665}]
[{"$f":"ROW()","v":2666}]
[{"$f":"ROW()","v":2667}]
[{"$f":"ROW()","v":2668}]
[{"$f":"ROW()","v":2669}]
[{"$f":"ROW()","v":2670}]
[{"$f":"ROW()","v":2671}]
[{"$f":"ROW()","v":2672}]
[{"$f":"ROW()","v":2673}]
[{"$f":"ROW()","v":2674}]
[{"$f":"ROW()","v":2675}]
[{"$f":"ROW()","v":2676}]
[{"$f":"ROW()","v":2677}]
[{"$f":"ROW()","v":2678}]
[{"$f":"ROW()","v":2679}]
[{"$f":"ROW()","v":2680}]
[{"$f":"ROW()","v":2681}]
[{"$f":"ROW()","v":2682}]
[{"$f":"ROW()","v":2683}]
[{"$f":"ROW()","v":2684}]
[{"$f":"ROW()","v":2685}]
[{"$f":"ROW()","v":2686}]
[{"$f":"ROW()","v":2687}]
[{"$f":"ROW()","v":2688}]
[{"$f":"ROW()","v":2689}]
[{"$f":"ROW()","v":2690}]
[{"$f":"ROW()","v":2691}]
[{"$f":"ROW()","v":2692}]
[{"$f":"ROW()","v":2693}]
[{"$f":"ROW()","v":2694}]
[{"$f":"ROW()","v":2695}]
[{"$f":"ROW()","v":2696}]
[{"$f":"ROW()","v":2697}]
[{"$f":"ROW()","v":2698}]
[{"$f":"ROW()","v":2699}]
[{"$f":"ROW()","v":2700}]
[{"$f":"ROW()","v":2701}]
[{"$f":"ROW()","v":2702}]
[{"$f":"ROW()","v":2703}]
[{"$f":"ROW()","v":2704}]
[{"$f":"ROW()","v":2705}]
[{"$f":"ROW()","v":2706}]
[{"$f":"ROW()","v":2707}]
[{"$f":"ROW()","v":2708}]
[{"$f":"ROW()","v":2709}]
[{"$f":"ROW()","v":2710}]
[{"$f":"ROW()","v":2711}]
[{"$f":"ROW()","v":2712}]
[{"$f":"ROW()","v":2713}]
[{"$f":"ROW()","v":2714}]
[{"$f":"ROW()","v":2715}]
[{"$f":"ROW()","v":2716}]
[{"$f":"ROW()","v":2717}]
[{"$f":"ROW()","v":2718}]
[{"$f":"ROW()","v":2719}]
[{"$f":"ROW()","v":2720}]
[{"$f":"ROW()","v":2721}]
[{"$f":"ROW()","v":2722}]
[{"$f":"ROW()","v":2723}]
[{"$f":"ROW()","v":2724}]
[{"$f":"ROW()","v":2725}]
[{"$f":"ROW()","v":2726}]
[{"$f":"ROW()","v":2727}]
[{"$f":"ROW()","v":2728}]
[{"$f":"ROW()","v":2729}]
[{"$f":"ROW()","v":2730}]
[{"$f":"ROW()","v":2731}]
[{"$f":"ROW()","v":2732}]
[{"$f":"ROW()","v":2733}]
[{"$f":"ROW()","v":2734}]
[{"$f":"ROW()","v":2735}]
[{"$f":"ROW()","v":2736}]
[{"$f":"ROW()","v":2737}]
[{"$f":"ROW()","v":2738}]
[{"$f":"ROW()","v":2739}]
[{"$f":"ROW()","v":2740}]
[{"$f":"ROW()","v":2741}]
[{"$f":"ROW()","v":2742}]
[{"$f":"ROW()","v":2743}]
[{"$f":"ROW()","v":2744}]
[{"$f":"ROW()","v":2745}]
[{"$f":"ROW()","v":2746}]
[{"$f":"ROW()","v":2747}]
[{"$f":"ROW()","v":2748}]
[{"$f":"ROW()","v":2749}]
[{"$f":"ROW()","v":2750}]
[{"$f":"ROW()","v":2751}]
[{"$f":"ROW()","v":2752}]
[{"$f":"ROW()","v":2753}]
[{"$f":"ROW()","v":2754}]
[{"$f":"ROW()","v":2755}]
[{"$f":"ROW()","v":2756}]
[{"$f":"ROW()","v":2757}]
[{"$f":"ROW()","v":2758}]
[{"$f":"ROW()","v":2759}]
[{"$f":"ROW()","v":2760}]
[{"$f":"ROW()","v":2761}]
[{"$f":"ROW()","v":2762}]
[{"$f":"ROW()","v":2763}]
[{"$f":"ROW()","v":2764}]
[{"$f":"ROW()","v":2765}]
[{"$f":"ROW()","v":2766}]
[{"$f":"ROW()","v":2767}]
[{"$f":"ROW()","v":2768}]
[{"$f":"ROW()","v":2769}]
[{"$f":"ROW()","v":2770}]
[{"$f":"ROW()","v":2771}]
[{"$f":"ROW()","v":2772}]
[{"$f":"ROW()","v":2773}]
[{"$f":"ROW()","v":2774}]
[{"$f":"ROW()","v":2775}]
[{"$f":"ROW()","v":2776}]
[{"$f":"ROW()","v":2777}]
[{"$f":"ROW()","v":2778}]
[{"$f":"ROW()","v":2779}]
[{"$f":"ROW()","v":2780}]
[{"$f":"ROW()","v":2781}]
[{"$f":"ROW()","v":2782}]
[{"$f":"ROW()","v":2783}]
[{"$f":"ROW()","v":2784}]
[{"$f":"ROW()","v":2785}]
[{"$f":"ROW()","v":2786}]
[{"$f":"ROW()","v":2787}]
[{"$f":"ROW()","v":2788}]
[{"$f":"ROW()","v":2789}]
[{"$f":"ROW()","v":2790}]
[{"$f":"ROW()","v":2791}]
[{"$f":"ROW()","v":2792}]
[{"$f":"ROW()","v":2793}]
[{"$f":"ROW()","v":2794}]
[{"$f":"ROW()","v":2795}]
[{"$f":"ROW()","v":2796}]
[{"$f":"ROW()","v":2797}]
[{"$f":"ROW()","v":2798}]
[{"$f":"ROW()","v":2799}]
[{"$f":"ROW()","v":2800}]
[{"$f":"ROW()","v":2801}]
[{"$f":"ROW()","v":2802}]
[{"$f":"ROW()","v":2803}]
[{"$f":"ROW()","v":2804}]
[{"$f":"ROW()","v":2805}]
[{"$f":"ROW()","v":2806}]
[{"$f":"ROW()","v":2807}]
[{"$f":"ROW()","v":2808}]
[{"$f":"ROW()","v":2809}]
[{"$f":"ROW()","v":2810}]
[{"$f":"ROW()","v":2811}]
[{"$f":"ROW()","v":2812}]
[{"$f":"ROW()","v":2813}]
[{"$f":"ROW()","v":2814}]
[{"$f":"ROW()","v":2815}]
[{"$f":"ROW()","v":2816}]
[{"$f":"ROW()","v":2817}]
[{"$f":"ROW()","v":2818}]
[{"$f":"ROW()","v":2819}]
[{"$f":"ROW()","v":2820}]
[{"$f":"ROW()","v":2821}]
[{"$f":"ROW()","v":2822}]
[{"$f":"ROW()","v":2823}]
[{"$f":"ROW()","v":2824}]
[{"$f":"ROW()","v":2825}]
[{"$f":"ROW()","v":2826}]
[{"$f":"ROW()","v":2827}]
[{"$f":"ROW()","v":2828}]
[{"$f":"ROW()","v":2829}]
[{"$f":"ROW()","v":2830}]
[{"$f":"ROW()","v":2831}]
[{"$f":"ROW()","v":2832}]
[{"$f":"ROW()","v":2833}]
[{"$f":"ROW()","v":2834}]
[{"$f":"ROW()","v":2835}]
[{"$f":"ROW()","v":2836}]
[{"$f":"ROW()","v":2837}]
[{"$f":"ROW()","v":2838}]
[{"$f":"ROW()","v":2839}]
[{"$f":"ROW()","v":2840}]
[{"$f":"ROW()","v":2841}]
[{"$f":"ROW()","v":2842}]
[{"$f":"ROW()","v":2843}]
[{"$f":"ROW()","v":2844}]
[{"$f":"ROW()","v":2845}]
[{"$f":"ROW()","v":2846}]
[{"$f":"ROW()","v":2847}]
[{"$f":"ROW()","v":2848}]
[{"$f":"ROW()","v":2849}]
[{"$f":"ROW()","v":2850}]
[{"$f":"ROW()","v":2851}]
[{"$f":"ROW()","v":2852}]
[{"$f":"ROW()","v":2853}]
[{"$f":"ROW()","v":2854}]
[{"$f":"ROW()","v":2855}]
[{"$f":"ROW()","v":2856}]
[{"$f":"ROW()","v":2857}]
[{"$f":"ROW()","v":2858}]
[{"$f":"ROW()","v":2859}]
[{"$f":"ROW()","v":2860}]
[{"$f":"ROW()","v":2861}]
[{"$f":"ROW()","v":2862}]
[{"$f":"ROW()","v":2863}]
[{"$f":"ROW()","v":2864}]
[{"$f":"ROW()","v":2865}]
[{"$f":"ROW()","v":2866}]
[{"$f":"ROW()","v":2867}]
[{"$f":"ROW()","v":2868}]
[{"$f":"ROW()","v":2869}]
[{"$f":"ROW()","v":2870}]
[{"$f":"ROW()","v":2871}]
[{"$f":"ROW()","v":2872}]
[{"$f":"ROW()","v":2873}]
[{"$f":"ROW()","v":2874}]
[{"$f":"ROW()","v":2875}]
[{"$f":"ROW()","v":2876}]
[{"$f":"ROW()","v":2877}]
[{"$f":"ROW()","v":2878}]
[{"$f":"ROW()","v":2879}]
[{"$f":"ROW()","v":2880}]
[{"$f":"ROW()","v":2881}]
[{"$f":"ROW()","v":2882}]
[{"$f":"ROW()","v":2883}]
[{"$f":"ROW()","v":2884}]
[{"$f":"ROW()","v":2885}]
[{"$f":"ROW()","v":2886}]
[{"$f":"ROW()","v":2887}]
[{"$f":"ROW()","v":2888}]
[{"$f":"ROW()","v":2889}]
[{"$f":"ROW()","v":2890}]
[{"$f":"ROW()","v":2891}]
[{"$f":"ROW()","v":2892}]
[{"$f":"ROW()","v":2893}]
[{"$f":"ROW()","v":2894}]
[{"$f":"ROW()","v":2895}]
[{"$f":"ROW()","v":2896}]
[{"$f":"ROW()","v":2897}]
[{"$f":"ROW()","v":2898}]
[{"$f":"ROW()","v":2899}]
[{"$f":"ROW()","v":2900}]
[{"$f":"ROW()","v":2901}]
[{"$f":"ROW()","v":2902}]
[{"$f":"ROW()","v":2903}]
[{"$f":"ROW()","v":2904}]
[{"$f":"ROW()","v":2905}]
[{"$f":"ROW()","v":2906}]
[{"$f":"ROW()","v":2907}]
[{"$f":"ROW()","v":2908}]
[{"$f":"ROW()","v":2909}]
[{"$f":"ROW()","v":2910}]
[{"$f":"ROW()","v":2911}]
[{"$f":"ROW()","v":2912}]
[{"$f":"ROW()","v":2913}]
[{"$f":"ROW()","v":2914}]
[{"$f":"ROW()","v":2915}]
[{"$f":"ROW()","v":2916}]
[{"$f":"ROW()","v":2917}]
[{"$f":"ROW()","v":2918}]
[{"$f":"ROW()","v":2919}]
[{"$f":"ROW()","v":2920}]
[{"$f":"ROW()","v":2921}]
[{"$f":"ROW()","v":2922}]
[{"$f":"ROW()","v":2923}]
[{"$f":"ROW()","v":2924}]
[{"$f":"ROW()","v":2925}]
[{"$f":"ROW()","v":2926}]
[{"$f":"ROW()","v":2927}]
[{"$f":"ROW()","v":2928}]
[{"$f":"ROW()","v":2929}]
[{"$f":"ROW()","v":2930}]
[{"$f":"ROW()","v":2931}]
[{"$f":"ROW()","v":2932}]
[{"$f":"ROW()","v":2933}]
[{"$f":"ROW()","v":2934}]
[{"$f":"ROW()","v":2935}]
[{"$f":"ROW()","v":2936}]
[{"$f":"ROW()","v":2937}]
[{"$f":"ROW()","v":2938}]
[{"$f":"ROW()","v":2939}]
[{"$f":"ROW()","v":2940}]
[{"$f":"ROW()","v":2941}]
[{"$f":"ROW()","v":2942}]
[{"$f":"ROW()","v":2943}]
[{"$f":"ROW()","v":2944}]
[{"$f":"ROW()","v":2945}]
[{"$f":"ROW()","v":2946}]
[{"$f":"ROW()","v":2947}]
[{"$f":"ROW()","v":2948}]
[{"$f":"ROW()","v":2949}]
[{"$f":"ROW()","v":2950}]
[{"$f":"ROW()","v":2951}]
[{"$f":"ROW()","v":2952}]
[{"$f":"ROW()","v":2953}]
[{"$f":"ROW()","v":2954}]
[{"$f":"ROW()","v":2955}]
[{"$f":"ROW()","v":2956}]
[{"$f":"ROW()","v":2957}]
[{"$f":"ROW()","v":2958}]
[{"$f":"ROW()","v":2959}]
[{"$f":"ROW()","v":2960}]
[{"$f":"ROW()","v":2961}]
[{"$f":"ROW()","v":2962}]
[{"$f":"ROW()","v":2963}]
[{"$f":"ROW()","v":2964}]
[{"$f":"ROW()","v":2965}]
[{"$f":"ROW()","v":2966}]
[{"$f":"ROW()","v":2967}]
[{"$f":"ROW()","v":2968}]
[{"$f":"ROW()","v":2969}]
[{"$f":"ROW()","v":2970}]
[{"$f":"ROW()","v":2971}]
[{"$f":"ROW()","v":2972}]
[{"$f":"ROW()","v":2973}]
[{"$f":"ROW()","v":2974}]
[{"$f":"ROW()","v":2975}]
[{"$f":"ROW()","v":2976}]
[{"$f":"ROW()","v":2977}]
[{"$f":"ROW()","v":2978}]
[{"$f":"ROW()","v":2979}]
[{"$f":"ROW()","v":2980}]
[{"$f":"ROW()","v":2981}]
[{"$f":"ROW()","v":2982}]
[{"$f":"ROW()","v":2983}]
[{"$f":"ROW()","v":2984}]
[{"$f":"ROW()","v":2985}]
[{"$f":"ROW()","v":2986}]
[{"$f":"ROW()","v":2987}]
[{"$f":"ROW()","v":2988}]
[{"$f":"ROW()","v":2989}]
[{"$f":"ROW()","v":2990}]
[{"$f":"ROW()","v":2991}]
[{"$f":"ROW()","v":2992}]
[{"$f":"ROW()","v":2993}]
[{"$f":"ROW()","v":2994}]
[{"$f":"ROW()","v":2995}]
[{"$f":"ROW()","v":2996}]
[{"$f":"ROW()","v":2997}]
[{"$f":"ROW()","v":2998}]
[{"$f":"ROW()","v":2999}]
[{"$f":"ROW()","v":3000}]
[{"$f":"ROW()","v":3001}]
[{"$f":"ROW()","v":3002}]
[{"$f":"ROW()","v":3003}]
[{"$f":"ROW()","v":3004}]
[{"$f":"ROW()","v":3005}]
[{"$f":"ROW()","v":3006}]
[{"$f":"ROW()","v":3007}]
[{"$f":"ROW()","v":3008}]
[{"$f":"ROW()","v":3009}]
[{"$f":"ROW()","v":3010}]
[{"$f":"ROW()","v":3011}]
[{"$f":"ROW()","v":3012}]
[{"$f":"ROW()","v":3013}]
[{"$f":"ROW()","v":3014}]
[{"$f":"ROW()","v":3015}]
[{"$f":"ROW()","v":3016}]
[{"$f":"ROW()","v":3017}]
[{"$f":"ROW()","v":3018}]
[{"$f":"ROW()","v":3019}]
[{"$f":"ROW()","v":3020}]
[{"$f":"ROW()","v":3021}]
[{"$f":"ROW()","v":3022}]
[{"$f":"ROW()","v":3023}]
[{"$f":"ROW()","v":3024}]
[{"$f":"ROW()","v":3025}]
[{"$f":"ROW()","v":3026}]
[{"$f":"ROW()","v":3027}]
[{"$f":"ROW()","v":3028}]
[{"$f":"ROW()","v":3029}]
[{"$f":"ROW()","v":3030}]
[{"$f":"ROW()","v":3031}]
[{"$f":"ROW()","v":3032}]
[{"$f":"ROW()","v":3033}]
[{"$f":"ROW()","v":3034}]
[{"$f":"ROW()","v":3035}]
[{"$f":"ROW()","v":3036}]
[{"$f":"ROW()","v":3037}]
[{"$f":"ROW()","v":3038}]
[{"$f":"ROW()","v":3039}]
[{"$f":"ROW()","v":3040}]
[{"$f":"ROW()","v":3041}]
[{"$f":"ROW()","v":3042}]
[{"$f":"ROW()","v":3043}]
[{"$f":"ROW()","v":3044}]
[{"$f":"ROW()","v":3045}]
[{"$f":"ROW()","v":3046}]
[{"$f":"ROW()","v":3047}]
[{"$f":"ROW()","v":3048}]
[{"$f":"ROW()","v":3049}]
[{"$f":"ROW()","v":3050}]
[{"$f":"ROW()","v":3051}]
[{"$f":"ROW()","v":3052}]
[{"$f":"ROW()","v":3053}]
[{"$f":"ROW()","v":3054}]
[{"$f":"ROW()","v":3055}]
[{"$f":"ROW()","v":3056}]
[{"$f":"ROW()","v":3057}]
[{"$f":"ROW()","v":3058}]
[{"$f":"ROW()","v":3059}]
[{"$f":"ROW()","v":3060}]
[{"$f":"ROW()","v":3061}]
[{"$f":"ROW()","v":3062}]
[{"$f":"ROW()","v":3063}]
[{"$f":"ROW()","v":3064}]
[{"$f":"ROW()","v":3065}]
[{"$f":"ROW()","v":3066}]
[{"$f":"ROW()","v":3067}]
[{"$f":"ROW()","v":3068}]
[{"$f":"ROW()","v":3069}]
[{"$f":"ROW()","v":3070}]
[{"$f":"ROW()","v":3071}]
[{"$f":"ROW()","v":3072}]
[{"$f":"ROW()","v":3073}]
[{"$f":"ROW()","v":3074}]
[{"$f":"ROW()","v":3075}]
[{"$f":"ROW()","v":3076}]
[{"$f":"ROW()","v":3077}]
[{"$f":"ROW()","v":3078}]
[{"$f":"ROW()","v":3079}]
[{"$f":"ROW()","v":3080}]
[{"$f":"ROW()","v":3081}]
[{"$f":"ROW()","v":3082}]
[{"$f":"ROW()","v":3083}]
[{"$f":"ROW()","v":3084}]
[{"$f":"ROW()","v":3085}]
[{"$f":"ROW()","v":3086}]
[{"$f":"ROW()","v":3087}]
[{"$f":"ROW()","v":3088}]
[{"$f":"ROW()","v":3089}]
[{"$f":"ROW()","v":3090}]
[{"$f":"ROW()","v":3091}]
[{"$f":"ROW()","v":3092}]
[{"$f":"ROW()","v":3093}]
[{"$f":"ROW()","v":3094}]
[{"$f":"ROW()","v":3095}]
[{"$f":"ROW()","v":3096}]
[{"$f":"ROW()","v":3097}]
[{"$f":"ROW()","v":3098}]
[{"$f":"ROW()","v":3099}]
[{"$f":"ROW()","v":3100}]
[{"$f":"ROW()","v":3101}]
[{"$f":"ROW()","v":3102}]
[{"$f":"ROW()","v":3103}]
[{"$f":"ROW()","v":3104}]
[{"$f":"ROW()","v":3105}]
[{"$f":"ROW()","v":3106}]
[{"$f":"ROW()","v":3107}]
[{"$f":"ROW()","v":3108}]
[{"$f":"ROW()","v":3109}]
[{"$f":"ROW()","v":3110}]
[{"$f":"ROW()","v":3111}]
[{"$f":"ROW()","v":3112}]
[{"$f":"ROW()","v":3113}]
[{"$f":"ROW()","v":3114}]
[{"$f":"ROW()","v":3115}]
[{"$f":"ROW()","v":3116}]
[{"$f":"ROW()","v":3117}]
[{"$f":"ROW()","v":3118}]
[{"$f":"ROW()","v":3119}]
[{"$f":"ROW()","v":3120}]
[{"$f":"ROW()","v":3121}]
[{"$f":"ROW()","v":3122}]
[{"$f":"ROW()","v":3123}]
[{"$f":"ROW()","v":3124}]
[{"$f":"ROW()","v":3125}]
[{"$f":"ROW()","v":3126}]
[{"$f":"ROW()","v":3127}]
[{"$f":"ROW()","v":3128}]
[{"$f":"ROW()","v":3129}]
[{"$f":"ROW()","v":3130}]
[{"$f":"ROW()","v":3131}]
[{"$f":"ROW()","v":3132}]
[{"$f":"ROW()","v":3133}]
[{"$f":"ROW()","v":3134}]
[{"$f":"ROW()","v":3135}]
[{"$f":"ROW()","v":3136}]
[{"$f":"ROW()","v":3137}]
[{"$f":"ROW()","v":3138}]
[{"$f":"ROW()","v":3139}]
[{"$f":"ROW()","v":3140}]
[{"$f":"ROW()","v":3141}]
[{"$f":"ROW()","v":3142}]
[{"$f":"ROW()","v":3143}]
[{"$f":"ROW()","v":3144}]
[{"$f":"ROW()","v":3145}]
[{"$f":"ROW()","v":3146}]
[{"$f":"ROW()","v":3147}]
[{"$f":"ROW()","v":3148}]
[{"$f":"ROW()","v":3149}]
[{"$f":"ROW()","v":3150}]
[{"$f":"ROW()","v":3151}]
[{"$f":"ROW()","v":3152}]
[{"$f":"ROW()","v":3153}]
[{"$f":"ROW()","v":3154}]
[{"$f":"ROW()","v":3155}]
[{"$f":"ROW()","v":3156}]
[{"$f":"ROW()","v":3157}]
[{"$f":"ROW()","v":3158}]
[{"$f":"ROW()","v":3159}]
[{"$f":"ROW()","v":3160}]
[{"$f":"ROW()","v":3161}]
[{"$f":"ROW()","v":3162}]
[{"$f":"ROW()","v":3163}]
[{"$f":"ROW()","v":3164}]
[{"$f":"ROW()","v":3165}]
[{"$f":"ROW()","v":3166}]
[{"$f":"ROW()","v":3167}]
[{"$f":"ROW()","v":3168}]
[{"$f":"ROW()","v":3169}]
[{"$f":"ROW()","v":3170}]
[{"$f":"ROW()","v":3171}]
[{"$f":"ROW()","v":3172}]
[{"$f":"ROW()","v":3173}]
[{"$f":"ROW()","v":3174}]
[{"$f":"ROW()","v":3175}]
[{"$f":"ROW()","v":3176}]
[{"$f":"ROW()","v":3177}]
[{"$f":"ROW()","v":3178}]
[{"$f":"ROW()","v":3179}]
[{"$f":"ROW()","v":3180}]
[{"$f":"ROW()","v":3181}]
[{"$f":"ROW()","v":3182}]
[{"$f":"ROW()","v":3183}]
[{"$f":"ROW()","v":3184}]
[{"$f":"ROW()","v":3185}]
[{"$f":"ROW()","v":3186}]
[{"$f":"ROW()","v":3187}]
[{"$f":"ROW()","v":3188}]
[{"$f":"ROW()","v":3189}]
[{"$f":"ROW()","v":3190}]
[{"$f":"ROW()","v":3191}]
[{"$f":"ROW()","v":3192}]
[{"$f":"ROW()","v":3193}]
[{"$f":"ROW()","v":3194}]
[{"$f":"ROW()","v":3195}]
[{"$f":"ROW()","v":3196}]
[{"$f":"ROW()","v":3197}]
[{"$f":"ROW()","v":3198}]
[{"$f":"ROW()","v":3199}]
[{"$f":"ROW()","v":3200}]
[{"$f":"ROW()","v":3201}]
[{"$f":"ROW()","v":3202}]
[{"$f":"ROW()","v":3203}]
[{"$f":"ROW()","v":3204}]
[{"$f":"ROW()","v":3205}]
[{"$f":"ROW()","v":3206}]
[{"$f":"ROW()","v":3207}]
[{"$f":"ROW()","v":3208}]
[{"$f":"ROW()","v":3209}]
[{"$f":"ROW()","v":3210}]
[{"$f":"ROW()","v":3211}]
[{"$f":"ROW()","v":3212}]
[{"$f":"ROW()","v":3213}]
[{"$f":"ROW()","v":3214}]
[{"$f":"ROW()","v":3215}]
[{"$f":"ROW()","v":3216}]
[{"$f":"ROW()","v":3217}]
[{"$f":"ROW()","v":3218}]
[{"$f":"ROW()","v":3219}]
[{"$f":"ROW()","v":3220}]
[{"$f":"ROW()","v":3221}]
[{"$f":"ROW()","v":3222}]
[{"$f":"ROW()","v":3223}]
[{"$f":"ROW()","v":3224}]
[{"$f":"ROW()","v":3225}]
[{"$f":"ROW()","v":3226}]
[{"$f":"ROW()","v":3227}]
[{"$f":"ROW()","v":3228}]
[{"$f":"ROW()","v":3229}]
[{"$f":"ROW()","v":3230}]
[{"$f":"ROW()","v":3231}]
[{"$f":"ROW()","v":3232}]
[{"$f":"ROW()","v":3233}]
[{"$f":"ROW()","v":3234}]
[{"$f":"ROW()","v":3235}]
[{"$f":"ROW()","v":3236}]
[{"$f":"ROW()","v":3237}]
[{"$f":"ROW()","v":3238}]
[{"$f":"ROW()","v":3239}]
[{"$f":"ROW()","v":3240}]
[{"$f":"ROW()","v":3241}]
[{"$f":"ROW()","v":3242}]
[{"$f":"ROW()","v":3243}]
[{"$f":"ROW()","v":3244}]
[{"$f":"ROW()","v":3245}]
[{"$f":"ROW()","v":3246}]
[{"$f":"ROW()","v":3247}]
[{"$f":"ROW()","v":3248}]
[{"$f":"ROW()","v":3249}]
[{"$f":"ROW()","v":3250}]
[{"$f":"ROW()","v":3251}]
[{"$f":"ROW()","v":3252}]
[{"$f":"ROW()","v":3253}]
[{"$f":"ROW()","v":3254}]
[{"$f":"ROW()","v":3255}]
[{"$f":"ROW()","v":3256}]
[{"$f":"ROW()","v":3257}]
[{"$f":"ROW()","v":3258}]
[{"$f":"ROW()","v":3259}]
[{"$f":"ROW()","v":3260}]
[{"$f":"ROW()","v":3261}]
[{"$f":"ROW()","v":3262}]
[{"$f":"ROW()","v":3263}]
[{"$f":"ROW()","v":3264}]
[{"$f":"ROW()","v":3265}]
[{"$f":"ROW()","v":3266}]
[{"$f":"ROW()","v":3267}]
[{"$f":"ROW()","v":3268}]
[{"$f":"ROW()","v":3269}]
[{"$f":"ROW()","v":3270}]
[{"$f":"ROW()","v":3271}]
[{"$f":"ROW()","v":3272}]
[{"$f":"ROW()","v":3273}]
[{"$f":"ROW()","v":3274}]
[{"$f":"ROW()","v":3275}]
[{"$f":"ROW()","v":3276}]
[{"$f":"ROW()","v":3277}]
[{"$f":"ROW()","v":3278}]
[{"$f":"ROW()","v":3279}]
[{"$f":"ROW()","v":3280}]
[{"$f":"ROW()","v":3281}]
[{"$f":"ROW()","v":3282}]
[{"$f":"ROW()","v":3283}]
[{"$f":"ROW()","v":3284}]
[{"$f":"ROW()","v":3285}]
[{"$f":"ROW()","v":3286}]
[{"$f":"ROW()","v":3287}]
[{"$f":"ROW()","v":3288}]
[{"$f":"ROW()","v":3289}]
[{"$f":"ROW()","v":3290}]
[{"$f":"ROW()","v":3291}]
[{"$f":"ROW()","v":3292}]
[{"$f":"ROW()","v":3293}]
[{"$f":"ROW()","v":3294}]
[{"$f":"ROW()","v":3295}]
[{"$f":"ROW()","v":3296}]
[{"$f":"ROW()","v":3297}]
[{"$f":"ROW()","v":3298}]
[{"$f":"ROW()","v":3299}]
[{"$f":"ROW()","v":3300}]
[{"$f":"ROW()","v":3301}]
[{"$f":"ROW()","v":3302}]
[{"$f":"ROW()","v":3303}]
[{"$f":"ROW()","v":3304}]
[{"$f":"ROW()","v":3305}]
[{"$f":"ROW()","v":3306}]
[{"$f":"ROW()","v":3307}]
[{"$f":"ROW()","v":3308}]
[{"$f":"ROW()","v":3309}]
[{"$f":"ROW()","v":3310}]
[{"$f":"ROW()","v":3311}]
[{"$f":"ROW()","v":3312}]
[{"$f":"ROW()","v":3313}]
[{"$f":"ROW()","v":3314}]
[{"$f":"ROW()","v":3315}]
[{"$f":"ROW()","v":3316}]
[{"$f":"ROW()","v":3317}]
[{"$f":"ROW()","v":3318}]
[{"$f":"ROW()","v":3319}]
[{"$f":"ROW()","v":3320}]
[{"$f":"ROW()","v":3321}]
[{"$f":"ROW()","v":3322}]
[{"$f":"ROW()","v":3323}]
[{"$f":"ROW()","v":3324}]
[{"$f":"ROW()","v":3325}]
[{"$f":"ROW()","v":3326}]
[{"$f":"ROW()","v":3327}]
[{"$f":"ROW()","v":3328}]
[{"$f":"ROW()","v":3329}]
[{"$f":"ROW()","v":3330}]
[{"$f":"ROW()","v":3331}]
[{"$f":"ROW()","v":3332}]
[{"$f":"ROW()","v":3333}]
[{"$f":"ROW()","v":3334}]
[{"$f":"ROW()","v":3335}]
[{"$f":"ROW()","v":3336}]
[{"$f":"ROW()","v":3337}]
[{"$f":"ROW()","v":3338}]
[{"$f":"ROW()","v":3339}]
[{"$f":"ROW()","v":3340}]
[{"$f":"ROW()","v":3341}]
[{"$f":"ROW()","v":3342}]
[{"$f":"ROW()","v":3343}]
[{"$f":"ROW()","v":3344}]
[{"$f":"ROW()","v":3345}]
[{"$f":"ROW()","v":3346}]
[{"$f":"ROW()","v":3347}]
[{"$f":"ROW()","v":3348}]
[{"$f":"ROW()","v":3349}]
[{"$f":"ROW()","v":3350}]
[{"$f":"ROW()","v":3351}]
[{"$f":"ROW()","v":3352}]
[{"$f":"ROW()","v":3353}]
[{"$f":"ROW()","v":3354}]
[{"$f":"ROW()","v":3355}]
[{"$f":"ROW()","v":3356}]
[{"$f":"ROW()","v":3357}]
[{"$f":"ROW()","v":3358}]
[{"$f":"ROW()","v":3359}]
[{"$f":"ROW()","v":3360}]
[{"$f":"ROW()","v":3361}]
[{"$f":"ROW()","v":3362}]
[{"$f":"ROW()","v":3363}]
[{"$f":"ROW()","v":3364}]
[{"$f":"ROW()","v":3365}]
[{"$f":"ROW()","v":3366}]
[{"$f":"ROW()","v":3367}]
[{"$f":"ROW()","v":3368}]
[{"$f":"ROW()","v":3369}]
[{"$f":"ROW()","v":3370}]
[{"$f":"ROW()","v":3371}]
[{"$f":"ROW()","v":3372}]
[{"$f":"ROW()","v":3373}]
[{"$f":"ROW()","v":3374}]
[{"$f":"ROW()","v":3375}]
[{"$f":"ROW()","v":3376}]
[{"$f":"ROW()","v":3377}]
[{"$f":"ROW()","v":3378}]
[{"$f":"ROW()","v":3379}]
[{"$f":"ROW()","v":3380}]
[{"$f":"ROW()","v":3381}]
[{"$f":"ROW()","v":3382}]
[{"$f":"ROW()","v":3383}]
[{"$f":"ROW()","v":3384}]
[{"$f":"ROW()","v":3385}]
[{"$f":"ROW()","v":3386}]
[{"$f":"ROW()","v":3387}]
[{"$f":"ROW()","v":3388}]
[{"$f":"ROW()","v":3389}]
[{"$f":"ROW()","v":3390}]
[{"$f":"ROW()","v":3391}]
[{"$f":"ROW()","v":3392}]
[{"$f":"ROW()","v":3393}]
[{"$f":"ROW()","v":3394}]
[{"$f":"ROW()","v":3395}]
[{"$f":"ROW()","v":3396}]
[{"$f":"ROW()","v":3397}]
[{"$f":"ROW()","v":3398}]
[{"$f":"ROW()","v":3399}]
[{"$f":"ROW()","v":3400}]
[{"$f":"ROW()","v":3401}]
[{"$f":"ROW()","v":3402}]
[{"$f":"ROW()","v":3403}]
[{"$f":"ROW()","v":3404}]
[{"$f":"ROW()","v":3405}]
[{"$f":"ROW()","v":3406}]
[{"$f":"ROW()","v":3407}]
[{"$f":"ROW()","v":3408}]
[{"$f":"ROW()","v":3409}]
[{"$f":"ROW()","v":3410}]
[{"$f":"ROW()","v":3411}]
[{"$f":"ROW()","v":3412}]
[{"$f":"ROW()","v":3413}]
[{"$f":"ROW()","v":3414}]
[{"$f":"ROW()","v":3415}]
[{"$f":"ROW()","v":3416}]
[{"$f":"ROW()","v":3417}]
[{"$f":"ROW()","v":3418}]
[{"$f":"ROW()","v":3419}]
[{"$f":"ROW()","v":3420}]
[{"$f":"ROW()","v":3421}]
[{"$f":"ROW()","v":3422}]
[{"$f":"ROW()","v":3423}]
[{"$f":"ROW()","v":3424}]
[{"$f":"ROW()","v":3425}]
[{"$f":"ROW()","v":3426}]
[{"$f":"ROW()","v":3427}]
[{"$f":"ROW()","v":3428}]
[{"$f":"ROW()","v":3429}]
[{"$f":"ROW()","v":3430}]
[{"$f":"ROW()","v":3431}]
[{"$f":"ROW()","v":3432}]
[{"$f":"ROW()","v":3433}]
[{"$f":"ROW()","v":3434}]
[{"$f":"ROW()","v":3435}]
[{"$f":"ROW()","v":3436}]
[{"$f":"ROW()","v":3437}]
[{"$f":"ROW()","v":3438}]
[{"$f":"ROW()","v":3439}]
[{"$f":"ROW()","v":3440}]
[{"$f":"ROW()","v":3441}]
[{"$f":"ROW()","v":3442}]
[{"$f":"ROW()","v":3443}]
[{"$f":"ROW()","v":3444}]
[{"$f":"ROW()","v":3445}]
[{"$f":"ROW()","v":3446}]
[{"$f":"ROW()","v":3447}]
[{"$f":"ROW()","v":3448}]
[{"$f":"ROW()","v":3449}]
[{"$f":"ROW()","v":3450}]
[{"$f":"ROW()","v":3451}]
[{"$f":"ROW()","v":3452}]
[{"$f":"ROW()","v":3453}]
[{"$f":"ROW()","v":3454}]
[{"$f":"ROW()","v":3455}]
[{"$f":"ROW()","v":3456}]
[{"$f":"ROW()","v":3457}]
[{"$f":"ROW()","v":3458}]
[{"$f":"ROW()","v":3459}]
[{"$f":"ROW()","v":3460}]
[{"$f":"ROW()","v":3461}]
[{"$f":"ROW()","v":3462}]
[{"$f":"ROW()","v":3463}]
[{"$f":"ROW()","v":3464}]
[{"$f":"ROW()","v":3465}]
[{"$f":"ROW()","v":3466}]
[{"$f":"ROW()","v":3467}]
[{"$f":"ROW()","v":3468}]
[{"$f":"ROW()","v":3469}]
[{"$f":"ROW()","v":3470}]
[{"$f":"ROW()","v":3471}]
[{"$f":"ROW()","v":3472}]
[{"$f":"ROW()","v":3473}]
[{"$f":"ROW()","v":3474}]
[{"$f":"ROW()","v":3475}]
[{"$f":"ROW()","v":3476}]
[{"$f":"ROW()","v":3477}]
[{"$f":"ROW()","v":3478}]
[{"$f":"ROW()","v":3479}]
[{"$f":"ROW()","v":3480}]
[{"$f":"ROW()","v":3481}]
[{"$f":"ROW()","v":3482}]
[{"$f":"ROW()","v":3483}]
[{"$f":"ROW()","v":3484}]
[{"$f":"ROW()","v":3485}]
[{"$f":"ROW()","v":3486}]
[{"$f":"ROW()","v":3487}]
[{"$f":"ROW()","v":3488}]
[{"$f":"ROW()","v":3489}]
[{"$f":"ROW()","v":3490}]
[{"$f":"ROW()","v":3491}]
[{"$f":"ROW()","v":3492}]
[{"$f":"ROW()","v":3493}]
[{"$f":"ROW()","v":3494}]
[{"$f":"ROW()","v":3495}]
[{"$f":"ROW()","v":3496}]
[{"$f":"ROW()","v":3497}]
[{"$f":"ROW()","v":3498}]
[{"$f":"ROW()","v":3499}]
[{"$f":"ROW()","v":3500}]
[{"$f":"ROW()","v":3501}]
[{"$f":"ROW()","v":3502}]
[{"$f":"ROW()","v":3503}]
[{"$f":"ROW()","v":3504}]
[{"$f":"ROW()","v":3505}]
[{"$f":"ROW()","v":3506}]
[{"$f":"ROW()","v":3507}]
[{"$f":"ROW()","v":3508}]
[{"$f":"ROW()","v":3509}]
[{"$f":"ROW()","v":3510}]
[{"$f":"ROW()","v":3511}]
[{"$f":"ROW()","v":3512}]
[{"$f":"ROW()","v":3513}]
[{"$f":"ROW()","v":3514}]
[{"$f":"ROW()","v":3515}]
[{"$f":"ROW()","v":3516}]
[{"$f":"ROW()","v":3517}]
[{"$f":"ROW()","v":3518}]
[{"$f":"ROW()","v":3519}]
[{"$f":"ROW()","v":3520}]
[{"$f":"ROW()","v":3521}]
[{"$f":"ROW()","v":3522}]
[{"$f":"ROW()","v":3523}]
[{"$f":"ROW()","v":3524}]
[{"$f":"ROW()","v":3525}]
[{"$f":"ROW()","v":3526}]
[{"$f":"ROW()","v":3527}]
[{"$f":"ROW()","v":3528}]
[{"$f":"ROW()","v":3529}]
[{"$f":"ROW()","v":3530}]
[{"$f":"ROW()","v":3531}]
[{"$f":"ROW()","v":3532}]
[{"$f":"ROW()","v":3533}]
[{"$f":"ROW()","v":3534}]
[{"$f":"ROW()","v":3535}]
[{"$f":"ROW()","v":3536}]
[{"$f":"ROW()","v":3537}]
[{"$f":"ROW()","v":3538}]
[{"$f":"ROW()","v":3539}]
[{"$f":"ROW()","v":3540}]
[{"$f":"ROW()","v":3541}]
[{"$f":"ROW()","v":3542}]
[{"$f":"ROW()","v":3543}]
[{"$f":"ROW()","v":3544}]
[{"$f":"ROW()","v":3545}]
[{"$f":"ROW()","v":3546}]
[{"$f":"ROW()","v":3547}]
[{"$f":"ROW()","v":3548}]
[{"$f":"ROW()","v":3549}]
[{"$f":"ROW()","v":3550}]
[{"$f":"ROW()","v":3551}]
[{"$f":"ROW()","v":3552}]
[{"$f":"ROW()","v":3553}]
[{"$f":"ROW()","v":3554}]
[{"$f":"ROW()","v":3555}]
[{"$f":"ROW()","v":3556}]
[{"$f":"ROW()","v":3557}]
[{"$f":"ROW()","v":3558}]
[{"$f":"ROW()","v":3559}]
[{"$f":"ROW()","v":3560}]
[{"$f":"ROW()","v":3561}]
[{"$f":"ROW()","v":3562}]
[{"$f":"ROW()","v":3563}]
[{"$f":"ROW()","v":3564}]
[{"$f":"ROW()","v":3565}]
[{"$f":"ROW()","v":3566}]
[{"$f":"ROW()","v":3567}]
[{"$f":"ROW()","v":3568}]
[{"$f":"ROW()","v":3569}]
[{"$f":"ROW()","v":3570}]
[{"$f":"ROW()","v":3571}]
[{"$f":"ROW()","v":3572}]
[{"$f":"ROW()","v":3573}]
[{"$f":"ROW()","v":3574}]
[{"$f":"ROW()","v":3575}]
[{"$f":"ROW()","v":3576}]
[{"$f":"ROW()","v":3577}]
[{"$f":"ROW()","v":3578}]
[{"$f":"ROW()","v":3579}]
[{"$f":"ROW()","v":3580}]
[{"$f":"ROW()","v":3581}]
[{"$f":"ROW()","v":3582}]
[{"$f":"ROW()","v":3583}]
[{"$f":"ROW()","v":3584}]
[{"$f":"ROW()","v":3585}]
[{"$f":"ROW()","v":3586}]
[{"$f":"ROW()","v":3587}]
[{"$f":"ROW()","v":3588}]
[{"$f":"ROW()","v":3589}]
[{"$f":"ROW()","v":3590}]
[{"$f":"ROW()","v":3591}]
[{"$f":"ROW()","v":3592}]
[{"$f":"ROW()","v":3593}]
[{"$f":"ROW()","v":3594}]
[{"$f":"ROW()","v":3595}]
[{"$f":"ROW()","v":3596}]
[{"$f":"ROW()","v":3597}]
[{"$f":"ROW()","v":3598}]
[{"$f":"ROW()","v":3599}]
[{"$f":"ROW()","v":3600}]
[{"$f":"ROW()","v":3601}]
[{"$f":"ROW()","v":3602}]
[{"$f":"ROW()","v":3603}]
[{"$f":"ROW()","v":3604}]
[{"$f":"ROW()","v":3605}]
[{"$f":"ROW()","v":3606}]
[{"$f":"ROW()","v":3607}]
[{"$f":"ROW()","v":3608}]
[{"$f":"ROW()","v":3609}]
[{"$f":"ROW()","v":3610}]
[{"$f":"ROW()","v":3611}]
[{"$f":"ROW()","v":3612}]
[{"$f":"ROW()","v":3613}]
[{"$f":"ROW()","v":3614}]
[{"$f":"ROW()","v":3615}]
[{"$f":"ROW()","v":3616}]
[{"$f":"ROW()","v":3617}]
[{"$f":"ROW()","v":3618}]
[{"$f":"ROW()","v":3619}]
[{"$f":"ROW()","v":3620}]
[{"$f":"ROW()","v":3621}]
[{"$f":"ROW()","v":3622}]
[{"$f":"ROW()","v":3623}]
[{"$f":"ROW()","v":3624}]
[{"$f":"ROW()","v":3625}]
[{"$f":"ROW()","v":3626}]
[{"$f":"ROW()","v":3627}]
[{"$f":"ROW()","v":3628}]
[{"$f":"ROW()","v":3629}]
[{"$f":"ROW()","v":3630}]
[{"$f":"ROW()","v":3631}]
[{"$f":"ROW()","v":3632}]
[{"$f":"ROW()","v":3633}]
[{"$f":"ROW()","v":3634}]
[{"$f":"ROW()","v":3635}]
[{"$f":"ROW()","v":3636}]
[{"$f":"ROW()","v":3637}]
[{"$f":"ROW()","v":3638}]
[{"$f":"ROW()","v":3639}]
[{"$f":"ROW()","v":3640}]
[{"$f":"ROW()","v":3641}]
[{"$f":"ROW()","v":3642}]
[{"$f":"ROW()","v":3643}]
[{"$f":"ROW()","v":3644}]
[{"$f":"ROW()","v":3645}]
[{"$f":"ROW()","v":3646}]
[{"$f":"ROW()","v":3647}]
[{"$f":"ROW()","v":3648}]
[{"$f":"ROW()","v":3649}]
[{"$f":"ROW()","v":3650}]
[{"$f":"ROW()","v":3651}]
[{"$f":"ROW()","v":3652}]
[{"$f":"ROW()","v":3653}]
[{"$f":"ROW()","v":3654}]
[{"$f":"ROW()","v":3655}]
[{"$f":"ROW()","v":3656}]
[{"$f":"ROW()","v":3657}]
[{"$f":"ROW()","v":3658}]
[{"$f":"ROW()","v":3659}]
[{"$f":"ROW()","v":3660}]
[{"$f":"ROW()","v":3661}]
[{"$f":"ROW()","v":3662}]
[{"$f":"ROW()","v":3663}]
[{"$f":"ROW()","v":3664}]
[{"$f":"ROW()","v":3665}]
[{"$f":"ROW()","v":3666}]
[{"$f":"ROW()","v":3667}]
[{"$f":"ROW()","v":3668}]
[{"$f":"ROW()","v":3669}]
[{"$f":"ROW()","v":3670}]
[{"$f":"ROW()","v":3671}]
[{"$f":"ROW()","v":3672}]
[{"$f":"ROW()","v":3673}]
[{"$f":"ROW()","v":3674}]
[{"$f":"ROW()","v":3675}]
[{"$f":"ROW()","v":3676}]
[{"$f":"ROW()","v":3677}]
[{"$f":"ROW()","v":3678}]
[{"$f":"ROW()","v":3679}]
[{"$f":"ROW()","v":3680}]
[{"$f":"ROW()","v":3681}]
[{"$f":"ROW()","v":3682}]
[{"$f":"ROW()","v":3683}]
[{"$f":"ROW()","v":3684}]
[{"$f":"ROW()","v":3685}]
[{"$f":"ROW()","v":3686}]
[{"$f":"ROW()","v":3687}]
[{"$f":"ROW()","v":3688}]
[{"$f":"ROW()","v":3689}]
[{"$f":"ROW()","v":3690}]
[{"$f":"ROW()","v":3691}]
[{"$f":"ROW()","v":3692}]
[{"$f":"ROW()","v":3693}]
[{"$f":"ROW()","v":3694}]
[{"$f":"ROW()","v":3695}]
[{"$f":"ROW()","v":3696}]
[{"$f":"ROW()","v":3697}]
[{"$f":"ROW()","v":3698}]
[{"$f":"ROW()","v":3699}]
[{"$f":"ROW()","v":3700}]
[{"$f":"ROW()","v":3701}]
[{"$f":"ROW()","v":3702}]
[{"$f":"ROW()","v":3703}]
[{"$f":"ROW()","v":3704}]
[{"$f":"ROW()","v":3705}]
[{"$f":"ROW()","v":3706}]
[{"$f":"ROW()","v":3707}]
[{"$f":"ROW()","v":3708}]
[{"$f":"ROW()","v":3709}]
[{"$f":"ROW()","v":3710}]
[{"$f":"ROW()","v":3711}]
[{"$f":"ROW()","v":3712}]
[{"$f":"ROW()","v":3713}]
[{"$f":"ROW()","v":3714}]
[{"$f":"ROW()","v":3715}]
[{"$f":"ROW()","v":3716}]
[{"$f":"ROW()","v":3717}]
[{"$f":"ROW()","v":3718}]
[{"$f":"ROW()","v":3719}]
[{"$f":"ROW()","v":3720}]
[{"$f":"ROW()","v":3721}]
[{"$f":"ROW()","v":3722}]
[{"$f":"ROW()","v":3723}]
[{"$f":"ROW()","v":3724}]
[{"$f":"ROW()","v":3725}]
[{"$f":"ROW()","v":3726}]
[{"$f":"ROW()","v":3727}]
[{"$f":"ROW()","v":3728}]
[{"$f":"ROW()","v":3729}]
[{"$f":"ROW()","v":3730}]
[{"$f":"ROW()","v":3731}]
[{"$f":"ROW()","v":3732}]
[{"$f":"ROW()","v":3733}]
[{"$f":"ROW()","v":3734}]
[{"$f":"ROW()","v":3735}]
[{"$f":"ROW()","v":3736}]
[{"$f":"ROW()","v":3737}]
[{"$f":"ROW()","v":3738}]
[{"$f":"ROW()","v":3739}]
[{"$f":"ROW()","v":3740}]
[{"$f":"ROW()","v":3741}]
[{"$f":"ROW()","v":3742}]
[{"$f":"ROW()","v":3743}]
[{"$f":"ROW()","v":3744}]
[{"$f":"ROW()","v":3745}]
[{"$f":"ROW()","v":3746}]
[{"$f":"ROW()","v":3747}]
[{"$f":"ROW()","v":3748}]
[{"$f":"ROW()","v":3749}]
[{"$f":"ROW()","v":3750}]
[{"$f":"ROW()","v":3751}]
[{"$f":"ROW()","v":3752}]
[{"$f":"ROW()","v":3753}]
[{"$f":"ROW()","v":3754}]
[{"$f":"ROW()","v":3755}]
[{"$f":"ROW()","v":3756}]
[{"$f":"ROW()","v":3757}]
[{"$f":"ROW()","v":3758}]
[{"$f":"ROW()","v":3759}]
[{"$f":"ROW()","v":3760}]
[{"$f":"ROW()","v":3761}]
[{"$f":"ROW()","v":3762}]
[{"$f":"ROW()","v":3763}]
[{"$f":"ROW()","v":3764}]
[{"$f":"ROW()","v":3765}]
[{"$f":"ROW()","v":3766}]
[{"$f":"ROW()","v":3767}]
[{"$f":"ROW()","v":3768}]
[{"$f":"ROW()","v":3769}]
[{"$f":"ROW()","v":3770}]
[{"$f":"ROW()","v":3771}]
[{"$f":"ROW()","v":3772}]
[{"$f":"ROW()","v":3773}]
[{"$f":"ROW()","v":3774}]
[{"$f":"ROW()","v":3775}]
[{"$f":"ROW()","v":3776}]
[{"$f":"ROW()","v":3777}]
[{"$f":"ROW()","v":3778}]
[{"$f":"ROW()","v":3779}]
[{"$f":"ROW()","v":3780}]
[{"$f":"ROW()","v":3781}]
[{"$f":"ROW()","v":3782}]
[{"$f":"ROW()","v":3783}]
[{"$f":"ROW()","v":3784}]
[{"$f":"ROW()","v":3785}]
[{"$f":"ROW()","v":3786}]
[{"$f":"ROW()","v":3787}]
[{"$f":"ROW()","v":3788}]
[{"$f":"ROW()","v":3789}]
[{"$f":"ROW()","v":3790}]
[{"$f":"ROW()","v":3791}]
[{"$f":"ROW()","v":3792}]
[{"$f":"ROW()","v":3793}]
[{"$f":"ROW()","v":3794}]
[{"$f":"ROW()","v":3795}]
[{"$f":"ROW()","v":3796}]
[{"$f":"ROW()","v":3797}]
[{"$f":"ROW()","v":3798}]
[{"$f":"ROW()","v":3799}]
[{"$f":"ROW()","v":3800}]
[{"$f":"ROW()","v":3801}]
[{"$f":"ROW()","v":3802}]
[{"$f":"ROW()","v":3803}]
[{"$f":"ROW()","v":3804}]
[{"$f":"ROW()","v":3805}]
[{"$f":"ROW()","v":3806}]
[{"$f":"ROW()","v":3807}]
[{"$f":"ROW()","v":3808}]
[{"$f":"ROW()","v":3809}]
[{"$f":"ROW()","v":3810}]
[{"$f":"ROW()","v":3811}]
[{"$f":"ROW()","v":3812}]
[{"$f":"ROW()","v":3813}]
[{"$f":"ROW()","v":3814}]
[{"$f":"ROW()","v":3815}]
[{"$f":"ROW()","v":3816}]
[{"$f":"ROW()","v":3817}]
[{"$f":"ROW()","v":3818}]
[{"$f":"ROW()","v":3819}]
[{"$f":"ROW()","v":3820}]
[{"$f":"ROW()","v":3821}]
[{"$f":"ROW()","v":3822}]
[{"$f":"ROW()","v":3823}]
[{"$f":"ROW()","v":3824}]
[{"$f":"ROW()","v":3825}]
[{"$f":"ROW()","v":3826}]
[{"$f":"ROW()","v":3827}]
[{"$f":"ROW()","v":3828}]
[{"$f":"ROW()","v":3829}]
[{"$f":"ROW()","v":3830}]
[{"$f":"ROW()","v":3831}]
[{"$f":"ROW()","v":3832}]
[{"$f":"ROW()","v":3833}]
[{"$f":"ROW()","v":3834}]
[{"$f":"ROW()","v":3835}]
[{"$f":"ROW()","v":3836}]
[{"$f":"ROW()","v":3837}]
[{"$f":"ROW()","v":3838}]
[{"$f":"ROW()","v":3839}]
[{"$f":"ROW()","v":3840}]
[{"$f":"ROW()","v":3841}]
[{"$f":"ROW()","v":3842}]
[{"$f":"ROW()","v":3843}]
[{"$f":"ROW()","v":3844}]
[{"$f":"ROW()","v":3845}]
[{"$f":"ROW()","v":3846}]
[{"$f":"ROW()","v":3847}]
[{"$f":"ROW()","v":3848}]
[{"$f":"ROW()","v":3849}]
[{"$f":"ROW()","v":3850}]
[{"$f":"ROW()","v":3851}]
[{"$f":"ROW()","v":3852}]
[{"$f":"ROW()","v":3853}]
[{"$f":"ROW()","v":3854}]
[{"$f":"ROW()","v":3855}]
[{"$f":"ROW()","v":3856}]
[{"$f":"ROW()","v":3857}]
[{"$f":"ROW()","v":3858}]
[{"$f":"ROW()","v":3859}]
[{"$f":"ROW()","v":3860}]
[{"$f":"ROW()","v":3861}]
[{"$f":"ROW()","v":3862}]
[{"$f":"ROW()","v":3863}]
[{"$f":"ROW()","v":3864}]
[{"$f":"ROW()","v":3865}]
[{"$f":"ROW()","v":3866}]
[{"$f":"ROW()","v":3867}]
[{"$f":"ROW()","v":3868}]
[{"$f":"ROW()","v":3869}]
[{"$f":"ROW()","v":3870}]
[{"$f":"ROW()","v":3871}]
[{"$f":"ROW()","v":3872}]
[{"$f":"ROW()","v":3873}]
[{"$f":"ROW()","v":3874}]
[{"$f":"ROW()","v":3875}]
[{"$f":"ROW()","v":3876}]
[{"$f":"ROW()","v":3877}]
[{"$f":"ROW()","v":3878}]
[{"$f":"ROW()","v":3879}]
[{"$f":"ROW()","v":3880}]
[{"$f":"ROW()","v":3881}]
[{"$f":"ROW()","v":3882}]
[{"$f":"ROW()","v":3883}]
[{"$f":"ROW()","v":3884}]
[{"$f":"ROW()","v":3885}]
[{"$f":"ROW()","v":3886}]
[{"$f":"ROW()","v":3887}]
[{"$f":"ROW()","v":3888}]
[{"$f":"ROW()","v":3889}]
[{"$f":"ROW()","v":3890}]
[{"$f":"ROW()","v":3891}]
[{"$f":"ROW()","v":3892}]
[{"$f":"ROW()","v":3893}]
[{"$f":"ROW()","v":3894}]
[{"$f":"ROW()","v":3895}]
[{"$f":"ROW()","v":3896}]
[{"$f":"ROW()","v":3897}]
[{"$f":"ROW()","v":3898}]
[{"$f":"ROW()","v":3899}]
[{"$f":"ROW()","v":3900}]
[{"$f":"ROW()","v":3901}]
[{"$f":"ROW()","v":3902}]
[{"$f":"ROW()","v":3903}]
[{"$f":"ROW()","v":3904}]
[{"$f":"ROW()","v":3905}]
[{"$f":"ROW()","v":3906}]
[{"$f":"ROW()","v":3907}]
[{"$f":"ROW()","v":3908}]
[{"$f":"ROW()","v":3909}]
[{"$f":"ROW()","v":3910}]
[{"$f":"ROW()","v":3911}]
[{"$f":"ROW()","v":3912}]
[{"$f":"ROW()","v":3913}]
[{"$f":"ROW()","v":3914}]
[{"$f":"ROW()","v":3915}]
[{"$f":"ROW()","v":3916}]
[{"$f":"ROW()","v":3917}]
[{"$f":"ROW()","v":3918}]
[{"$f":"ROW()","v":3919}]
[{"$f":"ROW()","v":3920}]
[{"$f":"ROW()","v":3921}]
[{"$f":"ROW()","v":3922}]
[{"$f":"ROW()","v":3923}]
[{"$f":"ROW()","v":3924}]
[{"$f":"ROW()","v":3925}]
[{"$f":"ROW()","v":3926}]
[{"$f":"ROW()","v":3927}]
[{"$f":"ROW()","v":3928}]
[{"$f":"ROW()","v":3929}]
[{"$f":"ROW()","v":3930}]
[{"$f":"ROW()","v":3931}]
[{"$f":"ROW()","v":3932}]
[{"$f":"ROW()","v":3933}]
[{"$f":"ROW()","v":3934}]
[{"$f":"ROW()","v":3935}]
[{"$f":"ROW()","v":3936}]
[{"$f":"ROW()","v":3937}]
[{"$f":"ROW()","v":3938}]
[{"$f":"ROW()","v":3939}]
[{"$f":"ROW()","v":3940}]
[{"$f":"ROW()","v":3941}]
[{"$f":"ROW()","v":3942}]
[{"$f":"ROW()","v":3943}]
[{"$f":"ROW()","v":3944}]
[{"$f":"ROW()","v":3945}]
[{"$f":"ROW()","v":3946}]
[{"$f":"ROW()","v":3947}]
[{"$f":"ROW()","v":3948}]
[{"$f":"ROW()","v":3949}]
[{"$f":"ROW()","v":3950}]
[{"$f":"ROW()","v":3951}]
[{"$f":"ROW()","v":3952}]
[{"$f":"ROW()","v":3953}]
[{"$f":"ROW()","v":3954}]
[{"$f":"ROW()","v":3955}]
[{"$f":"ROW()","v":3956}]
[{"$f":"ROW()","v":3957}]
[{"$f":"ROW()","v":3958}]
[{"$f":"ROW()","v":3959}]
[{"$f":"ROW()","v":3960}]
[{"$f":"ROW()","v":3961}]
[{"$f":"ROW()","v":3962}]
[{"$f":"ROW()","v":3963}]
[{"$f":"ROW()","v":3964}]
[{"$f":"ROW()","v":3965}]
[{"$f":"ROW()","v":3966}]
[{"$f":"ROW()","v":3967}]
[{"$f":"ROW()","v":3968}]
[{"$f":"ROW()","v":3969}]
[{"$f":"ROW()","v":3970}]
[{"$f":"ROW()","v":3971}]
[{"$f":"ROW()","v":3972}]
[{"$f":"ROW()","v":3973}]
[{"$f":"ROW()","v":3974}]
[{"$f":"ROW()","v":3975}]
[{"$f":"ROW()","v":3976}]
[{"$f":"ROW()","v":3977}]
[{"$f":"ROW()","v":3978}]
[{"$f":"ROW()","v":3979}]
[{"$f":"ROW()","v":3980}]
[{"$f":"ROW()","v":3981}]
[{"$f":"ROW()","v":3982}]
[{"$f":"ROW()","v":3983}]
[{"$f":"ROW()","v":3984}]
[{"$f":"ROW()","v":3985}]
[{"$f":"ROW()","v":3986}]
[{"$f":"ROW()","v":3987}]
[{"$f":"ROW()","v":3988}]
[{"$f":"ROW()","v":3989}]
[{"$f":"ROW()","v":3990}]
[{"$f":"ROW()","v":3991}]
[{"$f":"ROW()","v":3992}]
[{"$f":"ROW()","v":3993}]

{"sheet":" Annexe E-employé","index":6,"n_rows":43,"n_cols":42,"rows_kept":43,"cut":false,"hidden":false,"merged":[[0,1,0,4],[7,17,7,22],[35,2,35,3],[41,0,41,1],[36,0,36,1],[39,0,39,1],[37,0,37,1],[40,2,40,3],[41,2,41,3],[38,2,38,3],[36,2,36,3],[37,2,37,3],[32,0,32,1],[33,0,33,1],[34,0,34,1],[40,0,40,1],[38,0,38,1],[35,0,35,1],[31,2,31,3],[26,2,26,3],[27,2,27,3],[31,0,31,1],[29,0,29,1],[30,0,30,1],[23,2,23,3],[26,0,26,1],[27,0,27,1],[24,2,24,3],[28,0,28,1],[24,0,24,1],[25,0,25,1],[23,0,23,1],[28,2,28,3],[1,0,1,4],[2,0,2,4],[17,0,17,1],[12,0,12,1],[17,2,17,3],[8,0,8,2],[5,0,5,4],[3,0,3,4],[4,0,4,4],[7,0,7,2],[14,0,14,4],[19,2,19,3],[18,0,18,1],[13,2,13,4],[19,0,19,1],[15,1,15,2],[42,0,42,4],[12,2,12,4],[20,2,20,3],[25,2,25,3],[21,2,21,3],[22,2,22,3],[29,2,29,3],[30,2,30,3],[39,2,39,3],[32,2,32,3],[20,0,20,1],[21,0,21,1],[33,2,33,3],[34,2,34,3],[22,0,22,1],[18,2,18,3]]}
[null,{"$f":"Directives!N1","v":"Soutien à la presse d'information écrite\n(version 2023-09)"}]
["Annexe E- Demande d'attestation d'employé"]
["Description de poste"]
["(L'Annexe E fait partie intégrante de la demande d'attestation d'employé)\n\nRemplissez la présente annexe pour tous les employés pour lesquels vous réclamez le crédit d'impôt. "]
["Vous devez fournir une description de poste pour chaque type de poste visé par votre demande d'attestation aux fins du crédit d'impôt. Ne donnez qu'une seule description de poste pour tous les employés occupant exactement le même poste. Chaque poste doit être suffisamment décrit et doit présenter toutes les tâches qui le composent. Veuillez accorder un pourcentage représentatif du temps consacré à chaque tâche d'un poste donné   (ex. : ne pas inscrire une tâche représentant 100 % du temps de l'employé)."]
["Dans le cadre du traitement de la demande, Investissement Québec pourra exiger que des feuilles de temps, rapport de projets ou tout autre document appuyant les descriptions de postes lui soient présentés afin de justifier les postes réclamés. Pour plus de détails, consultez nos « Directives relatives aux descriptions de tâches dans les demandes d'attestations d'admissibilité » sur notre site Internet à l'adresse suivante : http://www.investquebec.com/documents/fr/publications/NouvellesLignesDirectrices_MesuresFiscales.pdf"]
[]
["Nom de la société ou de la société de personnes",null,null,null,"Numéro de dossier IQ "]
[{"$f":"IF('Demande-média'!A6:AI6=\"\",\"\",'Demande-média'!A6:AI6)","v":""},null,null,null,{"$f":"IF('Demande-média'!U8=\"\",\"\",'Demande-média'!U8)","v":""}]
[]
["Exercice financier visé",null,{"$f":"IF('Demande-média'!I44=\"\",\"\",'Demande-média'!I44)","v":""},"au",{"$f":"IF('Demande-média'!Q44=\"\",\"\",'Demande-média'!Q44)","v":""}]
[null,null,"(aaaa-mm-jj)",null,"(aaaa-mm-jj)"]
["Titre du poste ",null,"Supérieur immédiat "]
[]
["Titulaire(s)"]
[]
[]
["Description détaillée des tâches",null,"Temps consacré à\nces activités (%)",null,"Réservé à IQ"]
[null,null,null,null,null,null,null,null,null,null,null,null,null,null,null,null,null,null,null,null,null,null,null,null,null,null,null,null,null,null,null,null,null,null,null,null,null,null,null,null,null,{"$f":"A19","v":0}]
[null,null,null,null,null,null,null,null,null,null,null,null,null,null,null,null,null,null,null,null,null,null,null,null,null,null,null,null,null,null,null,null,null,null,null,null,null,null,null,null,null,0]
[null,null,null,null,null,null,null,null,null,null,null,null,null,null,null,null,null,null,null,null,null,null,null,null,null,null,null,null,null,null,null,null,null,null,null,null,null,null,null,null,null,0]
[null,null,null,null,null,null,null,null,null,null,null,null,null,null,null,null,null,null,null,null,null,null,null,null,null,null,null,null,null,null,null,null,null,null,null,null,null,null,null,null,null,0]
[null,null,null,null,null,null,null,null,null,null,null,null,null,null,null,null,null,null,null,null,null,null,null,null,null,null,null,null,null,null,null,null,null,null,null,null,null,null,null,null,null,0]
[null,null,null,null,null,null,null,null,null,null,null,null,null,null,null,null,null,null,null,null,null,null,null,null,null,null,null,null,null,null,null,null,null,null,null,null,null,null,null,null,null,0]
[null,null,null,null,null,null,null,null,null,null,null,null,null,null,null,null,null,null,null,null,null,null,null,null,null,null,null,null,null,null,null,null,null,null,null,null,null,null,null,null,null,0]
[null,null,null,null,null,null,null,null,null,null,null,null,null,null,null,null,null,null,null,null,null,null,null,null,null,null,null,null,null,null,null,null,null,null,null,null,null,null,null,null,null,0]
[null,null,null,null,null,null,null,null,null,null,null,null,null,null,null,null,null,null,null,null,null,null,null,null,null,null,null,null,null,null,null,null,null,null,null,null,null,null,null,null,null,0]
[null,null,null,null,null,null,null,null,null,null,null,null,null,null,null,null,null,null,null,null,null,null,null,null,null,null,null,null,null,null,null,null,null,null,null,null,null,null,null,null,null,0]
[null,null,null,null,null,null,null,null,null,null,null,null,null,null,null,null,null,null,null,null,null,null,null,null,null,null,null,null,null,null,null,null,null,null,null,null,null,null,null,null,null,0]
[null,null,null,null,null,null,null,null,null,null,null,null,null,null,null,null,null,null,null,null,null,null,null,null,null,null,null,null,null,null,null,null,null,null,null,null,null,null,null,null,null,0]
[null,null,null,null,null,null,null,null,null,null,null,null,null,null,null,null,null,null,null,null,null,null,null,null,null,null,null,null,null,null,null,null,null,null,null,null,null,null,null,null,null,0]
[null,null,null,null,null,null,null,null,null,null,null,null,null,null,null,null,null,null,null,null,null,null,null,null,null,null,null,null,null,null,null,null,null,null,null,null,null,null,null,null,null,0]
[null,null,null,null,null,null,null,null,null,null,null,null,null,null,null,null,null,null,null,null,null,null,null,null,null,null,null,null,null,null,null,null,null,null,null,null,null,null,null,null,null,0]
[null,null,null,null,null,null,null,null,null,null,null,null,null,null,null,null,null,null,null,null,null,null,null,null,null,null,null,null,null,null,null,null,null,null,null,null,null,null,null,null,null,0]
[null,null,null,null,null,null,null,null,null,null,null,null,null,null,null,null,null,null,null,null,null,null,null,null,null,null,null,null,null,null,null,null,null,null,null,null,null,null,null,null,null,0]
[null,null,null,null,null,null,null,null,null,null,null,null,null,null,null,null,null,null,null,null,null,null,null,null,null,null,null,null,null,null,null,null,null,null,null,null,null,null,null,null,null,0]
[null,null,null,null,null,null,null,null,null,null,null,null,null,null,null,null,null,null,null,null,null,null,null,null,null,null,null,null,null,null,null,null,null,null,null,null,null,null,null,null,null,{"$f":"A37","v":0}]
[null,null,null,null,null,null,null,null,null,null,null,null,null,null,null,null,null,null,null,null,null,null,null,null,null,null,null,null,null,null,null,null,null,null,null,null,null,null,null,null,null,{"$f":"A38","v":0}]
[null,null,null,null,null,null,null,null,null,null,null,null,null,null,null,null,null,null,null,null,null,null,null,null,null,null,null,null,null,null,null,null,null,null,null,null,null,null,null,null,null,{"$f":"A39","v":0}]
[null,null,null,null,null,null,null,null,null,null,null,null,null,null,null,null,null,null,null,null,null,null,null,null,null,null,null,null,null,null,null,null,null,null,null,null,null,null,null,null,null,{"$f":"A40","v":0}]
[null,null,null,null,null,null,null,null,null,null,null,null,null,null,null,null,null,null,null,null,null,null,null,null,null,null,null,null,null,null,null,null,null,null,null,null,null,null,null,null,null,0]
["Total (doit correspondre à 100 %) :",null,{"$f":"SUM(C19:E41)","v":0},null,null,null,null,null,null,null,null,null,null,null,null,null,null,null,null,null,null,null,null,null,null,null,null,null,null,null,null,null,null,null,null,null,null,null,null,null,null,"Total (doit correspondre à 100 %) :"]
["La description des tâches est conforme à la réalité et ne comporte ni ajout ni retrait aux responsabilités et aux tâches qui ont été réalisées par le ou les titulaires pendant l'exercice financier visé."]

{"sheet":" Annexe E1-employé","index":7,"n_rows":43,"n_cols":42,"rows_kept":43,"cut":false,"hidden":false,"merged":[[5,0,5,4],[0,1,0,4],[1,0,1,4],[2,0,2,4],[3,0,3,4],[4,0,4,4],[19,0,19,1],[19,2,19,3],[7,0,7,2],[7,17,7,22],[8,0,8,2],[12,0,12,1],[12,2,12,4],[13,2,13,4],[14,0,14,4],[17,0,17,1],[17,2,17,3],[18,0,18,1],[18,2,18,3],[15,1,15,2],[20,0,20,1],[20,2,20,3],[21,0,21,1],[21,2,21,3],[22,0,22,1],[22,2,22,3],[23,0,23,1],[23,2,23,3],[24,0,24,1],[24,2,24,3],[25,0,25,1],[25,2,25,3],[26,0,26,1],[26,2,26,3],[27,0,27,1],[27,2,27,3],[28,0,28,1],[28,2,28,3],[29,0,29,1],[29,2,29,3],[30,0,30,1],[30,2,30,3],[31,0,31,1],[31,2,31,3],[32,0,32,1],[32,2,32,3],[33,0,33,1],[33,2,33,3],[34,0,34,1],[34,2,34,3],[35,0,35,1],[35,2,35,3],[36,0,36,1],[36,2,36,3],[37,0,37,1],[37,2,37,3],[41,0,41,1],[41,2,41,3],[42,0,42,4],[38,0,38,1],[38,2,38,3],[39,0,39,1],[39,2,39,3],[40,0,40,1],[40,2,40,3]]}
[null,{"$f":"Directives!N1","v":"Soutien à la presse d'information écrite\n(version 2023-09)"}]
["Annexe E- Demande d'attestation d'employé"]
["Description de poste"]
["(L'Annexe E fait partie intégrante de la demande d'attestation d'employé)\n\nRemplissez la présente annexe pour tous les employés pour lesquels vous réclamez le crédit d'impôt."]
["Vous devez fournir une description de poste pour chaque type de poste visé par votre demande d'attestation aux fins du crédit d'impôt. Ne donnez qu'une seule description de poste pour tous les employés occupant exactement le même poste. Chaque poste doit être suffisamment décrit et doit présenter toutes les tâches qui le composent. Veuillez accorder un pourcentage représentatif du temps consacré à chaque tâche d'un poste donné   (ex. : ne pas inscrire une tâche représentant 100 % du temps de l'employé)."]
["Dans le cadre du traitement de la demande, Investissement Québec pourra exiger que des feuilles de temps, rapport de projets ou tout autre document appuyant les descriptions de postes lui soient présentés afin de justifier les postes réclamés. Pour plus de détails, consultez nos « Directives relatives aux descriptions de tâches dans les demandes d'attestations d'admissibilité » sur notre site Internet à l'adresse suivante : http://www.investquebec.com/documents/fr/publications/NouvellesLignesDirectrices_MesuresFiscales.pdf"]
[]
["Nom de la société ou de la société de personnes",null,null,null,"Numéro de dossier IQ "]
[{"$f":"IF('Demande-média'!A6:AI6=\"\",\"\",'Demande-média'!A6:AI6)","v":""},null,null,null,{"$f":"IF('Demande-média'!U8=\"\",\"\",'Demande-média'!U8)","v":""}]
[]
["Exercice financier visé",null,{"$f":"IF('Demande-média'!I44=\"\",\"\",'Demande-média'!I44)","v":""},"au",{"$f":"IF('Demande-média'!Q44=\"\",\"\",'Demande-média'!Q44)","v":""}]
[null,null,"(aaaa-mm-jj)",null,"(aaaa-mm-jj)"]
["Titre du poste ",null,"Supérieur immédiat "]
[]
["Titulaire(s)"]
[{"$f":"IF(' Annexe E-employé'!A16=\"\",\"\",' Annexe E-employé'!A16)","v":""}]
[]
["Description détaillée des tâches",null,"Temps consacré à\nces activités (%)",null,"Réservé à IQ"]
[null,null,null,null,null,null,null,null,null,null,null,null,null,null,null,null,null,null,null,null,null,null,null,null,null,null,null,null,null,null,null,null,null,null,null,null,null,null,null,null,null,{"$f":"A19","v":0}]
[null,null,null,null,null,null,null,null,null,null,null,null,null,null,null,null,null,null,null,null,null,null,null,null,null,null,null,null,null,null,null,null,null,null,null,null,null,null,null,null,null,0]
[null,null,null,null,null,null,null,null,null,null,null,null,null,null,null,null,null,null,null,null,null,null,null,null,null,null,null,null,null,null,null,null,null,null,null,null,null,null,null,null,null,0]
[null,null,null,null,null,null,null,null,null,null,null,null,null,null,null,null,null,null,null,null,null,null,null,null,null,null,null,null,null,null,null,null,null,null,null,null,null,null,null,null,null,0]
[null,null,null,null,null,null,null,null,null,null,null,null,null,null,null,null,null,null,null,null,null,null,null,null,null,null,null,null,null,null,null,null,null,null,null,null,null,null,null,null,null,0]
[null,null,null,null,null,null,null,null,null,null,null,null,null,null,null,null,null,null,null,null,null,null,null,null,null,null,null,null,null,null,null,null,null,null,null,null,null,null,null,null,null,0]
[null,null,null,null,null,null,null,null,null,null,null,null,null,null,null,null,null,null,null,null,null,null,null,null,null,null,null,null,null,null,null,null,null,null,null,null,null,null,null,null,null,0]
[null,null,null,null,null,null,null,null,null,null,null,null,null,null,null,null,null,null,null,null,null,null,null,null,null,null,null,null,null,null,null,null,null,null,null,null,null,null,null,null,null,0]
[null,null,null,null,null,null,null,null,null,null,null,null,null,null,null,null,null,null,null,null,null,null,null,null,null,null,null,null,null,null,null,null,null,null,null,null,null,null,null,null,null,0]
[null,null,null,null,null,null,null,null,null,null,null,null,null,null,null,null,null,null,null,null,null,null,null,null,null,null,null,null,null,null,null,null,null,null,null,null,null,null,null,null,null,0]
[null,null,null,null,null,null,null,null,null,null,null,null,null,null,null,null,null,null,null,null,null,null,null,null,null,null,null,null,null,null,null,null,null,null,null,null,null,null,null,null,null,0]
[null,null,null,null,null,null,null,null,null,null,null,null,null,null,null,null,null,null,null,null,null,null,null,null,null,null,null,null,null,null,null,null,null,null,null,null,null,null,null,null,null,0]
[null,null,null,null,null,null,null,null,null,null,null,null,null,null,null,null,null,null,null,null,null,null,null,null,null,null,null,null,null,null,null,null,null,null,null,null,null,null,null,null,null,0]
[null,null,null,null,null,null,null,null,null,null,null,null,null,null,null,null,null,null,null,null,null,null,null,null,null,null,null,null,null,null,null,null,null,null,null,null,null,null,null,null,null,0]
[null,null,null,null,null,null,null,null,null,null,null,null,null,null,null,null,null,null,null,null,null,null,null,null,null,null,null,null,null,null,null,null,null,null,null,null,null,null,null,null,null,0]
[null,null,null,null,null,null,null,null,null,null,null,null,null,null,null,null,null,null,null,null,null,null,null,null,null,null,null,null,null,null,null,null,null,null,null,null,null,null,null,null,null,0]
[null,null,null,null,null,null,null,null,null,null,null,null,null,null,null,null,null,null,null,null,null,null,null,null,null,null,null,null,null,null,null,null,null,null,null,null,null,null,null,null,null,0]
[null,null,null,null,null,null,null,null,null,null,null,null,null,null,null,null,null,null,null,null,null,null,null,null,null,null,null,null,null,null,null,null,null,null,null,null,null,null,null,null,null,0]
[null,null,null,null,null,null,null,null,null,null,null,null,null,null,null,null,null,null,null,null,null,null,null,null,null,null,null,null,null,null,null,null,null,null,null,null,null,null,null,null,null,{"$f":"A37","v":0}]
[null,null,null,null,null,null,null,null,null,null,null,null,null,null,null,null,null,null,null,null,null,null,null,null,null,null,null,null,null,null,null,null,null,null,null,null,null,null,null,null,null,{"$f":"A38","v":0}]
[null,null,null,null,null,null,null,null,null,null,null,null,null,null,null,null,null,null,null,null,null,null,null,null,null,null,null,null,null,null,null,null,null,null,null,null,null,null,null,null,null,{"$f":"A39","v":0}]
[null,null,null,null,null,null,null,null,null,null,null,null,null,null,null,null,null,null,null,null,null,null,null,null,null,null,null,null,null,null,null,null,null,null,null,null,null,null,null,null,null,{"$f":"A40","v":0}]
[null,null,null,null,null,null,null,null,null,null,null,null,null,null,null,null,null,null,null,null,null,null,null,null,null,null,null,null,null,null,null,null,null,null,null,null,null,null,null,null,null,0]
["Total (doit correspondre à 100 %) :",null,{"$f":"SUM(C19:E41)","v":0},null,null,null,null,null,null,null,null,null,null,null,null,null,null,null,null,null,null,null,null,null,null,null,null,null,null,null,null,null,null,null,null,null,null,null,null,null,null,"Total (doit correspondre à 100 %) :"]
["La description des tâches est conforme à la réalité et ne comporte ni ajout ni retrait aux responsabilités et aux tâches qui ont été réalisées par le ou les titulaires pendant l'exercice financier visé."]

{"sheet":" Annexe E2-employé","index":8,"n_rows":43,"n_cols":42,"rows_kept":43,"cut":false,"hidden":false,"merged":[[5,0,5,4],[0,1,0,4],[1,0,1,4],[2,0,2,4],[3,0,3,4],[4,0,4,4],[19,0,19,1],[19,2,19,3],[7,0,7,2],[7,17,7,22],[8,0,8,2],[12,0,12,1],[12,2,12,4],[13,2,13,4],[14,0,14,4],[17,0,17,1],[17,2,17,3],[18,0,18,1],[18,2,18,3],[15,1,15,2],[20,0,20,1],[20,2,20,3],[21,0,21,1],[21,2,21,3],[22,0,22,1],[22,2,22,3],[23,0,23,1],[23,2,23,3],[24,0,24,1],[24,2,24,3],[25,0,25,1],[25,2,25,3],[26,0,26,1],[26,2,26,3],[27,0,27,1],[27,2,27,3],[28,0,28,1],[28,2,28,3],[29,0,29,1],[29,2,29,3],[30,0,30,1],[30,2,30,3],[31,0,31,1],[31,2,31,3],[32,0,32,1],[32,2,32,3],[33,0,33,1],[33,2,33,3],[34,0,34,1],[34,2,34,3],[35,0,35,1],[35,2,35,3],[36,0,36,1],[36,2,36,3],[37,0,37,1],[37,2,37,3],[41,0,41,1],[41,2,41,3],[42,0,42,4],[38,0,38,1],[38,2,38,3],[39,0,39,1],[39,2,39,3],[40,0,40,1],[40,2,40,3]]}
[null,{"$f":"Directives!N1","v":"Soutien à la presse d'information écrite\n(version 2023-09)"}]
["Annexe E- Demande d'attestation d'employé"]
["Description de poste"]
["(L'Annexe E fait partie intégrante de la demande d'attestation d'employé)\n\nRemplissez la présente annexe pour tous les employés pour lesquels vous réclamez le crédit d'impôt."]
["Vous devez fournir une description de poste pour chaque type de poste visé par votre demande d'attestation aux fins du crédit d'impôt. Ne donnez qu'une seule description de poste pour tous les employés occupant exactement le même poste. Chaque poste doit être suffisamment décrit et doit présenter toutes les tâches qui le composent. Veuillez accorder un pourcentage représentatif du temps consacré à chaque tâche d'un poste donné   (ex. : ne pas inscrire une tâche représentant 100 % du temps de l'employé)."]
["Dans le cadre du traitement de la demande, Investissement Québec pourra exiger que des feuilles de temps, rapport de projets ou tout autre document appuyant les descriptions de postes lui soient présentés afin de justifier les postes réclamés. Pour plus de détails, consultez nos « Directives relatives aux descriptions de tâches dans les demandes d'attestations d'admissibilité » sur notre site Internet à l'adresse suivante : http://www.investquebec.com/documents/fr/publications/NouvellesLignesDirectrices_MesuresFiscales.pdf"]
[]
["Nom de la société ou de la société de personnes",null,null,null,"Numéro de dossier IQ "]
[{"$f":"IF('Demande-média'!A6:AI6=\"\",\"\",'Demande-média'!A6:AI6)","v":""},null,null,null,{"$f":"IF('Demande-média'!U8=\"\",\"\",'Demande-média'!U8)","v":""}]
[]
["Exercice financier visé",null,{"$f":"IF('Demande-média'!I44=\"\",\"\",'Demande-média'!I44)","v":""},"au",{"$f":"IF('Demande-média'!Q44=\"\",\"\",'Demande-média'!Q44)","v":""}]
[null,null,"(aaaa-mm-jj)",null,"(aaaa-mm-jj)"]
["Titre du poste ",null,"Supérieur immédiat "]
[]
["Titulaire(s)"]
[{"$f":"IF(' Annexe E-employé'!A16=\"\",\"\",' Annexe E-employé'!A16)","v":""}]
[]
["Description détaillée des tâches",null,"Temps consacré à\nces activités (%)",null,"Réservé à IQ"]
[null,null,null,null,null,null,null,null,null,null,null,null,null,null,null,null,null,null,null,null,null,null,null,null,null,null,null,null,null,null,null,null,null,null,null,null,null,null,null,null,null,{"$f":"A19","v":0}]
[null,null,null,null,null,null,null,null,null,null,null,null,null,null,null,null,null,null,null,null,null,null,null,null,null,null,null,null,null,null,null,null,null,null,null,null,null,null,null,null,null,0]
[null,null,null,null,null,null,null,null,null,null,null,null,null,null,null,null,null,null,null,null,null,null,null,null,null,null,null,null,null,null,null,null,null,null,null,null,null,null,null,null,null,0]
[null,null,null,null,null,null,null,null,null,null,null,null,null,null,null,null,null,null,null,null,null,null,null,null,null,null,null,null,null,null,null,null,null,null,null,null,null,null,null,null,null,0]
[null,null,null,null,null,null,null,null,null,null,null,null,null,null,null,null,null,null,null,null,null,null,null,null,null,null,null,null,null,null,null,null,null,null,null,null,null,null,null,null,null,0]
[null,null,null,null,null,null,null,null,null,null,null,null,null,null,null,null,null,null,null,null,null,null,null,null,null,null,null,null,null,null,null,null,null,null,null,null,null,null,null,null,null,0]
[null,null,null,null,null,null,null,null,null,null,null,null,null,null,null,null,null,null,null,null,null,null,null,null,null,null,null,null,null,null,null,null,null,null,null,null,null,null,null,null,null,0]
[null,null,null,null,null,null,null,null,null,null,null,null,null,null,null,null,null,null,null,null,null,null,null,null,null,null,null,null,null,null,null,null,null,null,null,null,null,null,null,null,null,0]
[null,null,null,null,null,null,null,null,null,null,null,null,null,null,null,null,null,null,null,null,null,null,null,null,null,null,null,null,null,null,null,null,null,null,null,null,null,null,null,null,null,0]
[null,null,null,null,null,null,null,null,null,null,null,null,null,null,null,null,null,null,null,null,null,null,null,null,null,null,null,null,null,null,null,null,null,null,null,null,null,null,null,null,null,0]
[null,null,null,null,null,null,null,null,null,null,null,null,null,null,null,null,null,null,null,null,null,null,null,null,null,null,null,null,null,null,null,null,null,null,null,null,null,null,null,null,null,0]
[null,null,null,null,null,null,null,null,null,null,null,null,null,null,null,null,null,null,null,null,null,null,null,null,null,null,null,null,null,null,null,null,null,null,null,null,null,null,null,null,null,0]
[null,null,null,null,null,null,null,null,null,null,null,null,null,null,null,null,null,null,null,null,null,null,null,null,null,null,null,null,null,null,null,null,null,null,null,null,null,null,null,null,null,0]
[null,null,null,null,null,null,null,null,null,null,null,null,null,null,null,null,null,null,null,null,null,null,null,null,null,null,null,null,null,null,null,null,null,null,null,null,null,null,null,null,null,0]
[null,null,null,null,null,null,null,null,null,null,null,null,null,null,null,null,null,null,null,null,null,null,null,null,null,null,null,null,null,null,null,null,null,null,null,null,null,null,null,null,null,0]
[null,null,null,null,null,null,null,null,null,null,null,null,null,null,null,null,null,null,null,null,null,null,null,null,null,null,null,null,null,null,null,null,null,null,null,null,null,null,null,null,null,0]
[null,null,null,null,null,null,null,null,null,null,null,null,null,null,null,null,null,null,null,null,null,null,null,null,null,null,null,null,null,null,null,null,null,null,null,null,null,null,null,null,null,0]
[null,null,null,null,null,null,null,null,null,null,null,null,null,null,null,null,null,null,null,null,null,null,null,null,null,null,null,null,null,null,null,null,null,null,null,null,null,null,null,null,null,0]
[null,null,null,null,null,null,null,null,null,null,null,null,null,null,null,null,null,null,null,null,null,null,null,null,null,null,null,null,null,null,null,null,null,null,null,null,null,null,null,null,null,{"$f":"A37","v":0}]
[null,null,null,null,null,null,null,null,null,null,null,null,null,null,null,null,null,null,null,null,null,null,null,null,null,null,null,null,null,null,null,null,null,null,null,null,null,null,null,null,null,{"$f":"A38","v":0}]
[null,null,null,null,null,null,null,null,null,null,null,null,null,null,null,null,null,null,null,null,null,null,null,null,null,null,null,null,null,null,null,null,null,null,null,null,null,null,null,null,null,{"$f":"A39","v":0}]
[null,null,null,null,null,null,null,null,null,null,null,null,null,null,null,null,null,null,null,null,null,null,null,null,null,null,null,null,null,null,null,null,null,null,null,null,null,null,null,null,null,{"$f":"A40","v":0}]
[null,null,null,null,null,null,null,null,null,null,null,null,null,null,null,null,null,null,null,null,null,null,null,null,null,null,null,null,null,null,null,null,null,null,null,null,null,null,null,null,null,0]
["Total (doit correspondre à 100 %) :",null,{"$f":"SUM(C19:E41)","v":0},null,null,null,null,null,null,null,null,null,null,null,null,null,null,null,null,null,null,null,null,null,null,null,null,null,null,null,null,null,null,null,null,null,null,null,null,null,null,"Total (doit correspondre à 100 %) :"]
["La description des tâches est conforme à la réalité et ne comporte ni ajout ni retrait aux responsabilités et aux tâches qui ont été réalisées par le ou les titulaires pendant l'exercice financier visé."]

{"sheet":" Annexe E3-employé","index":9,"n_rows":43,"n_cols":42,"rows_kept":43,"cut":false,"hidden":false,"merged":[[5,0,5,4],[0,1,0,4],[1,0,1,4],[2,0,2,4],[3,0,3,4],[4,0,4,4],[19,0,19,1],[19,2,19,3],[7,0,7,2],[7,17,7,22],[8,0,8,2],[12,0,12,1],[12,2,12,4],[13,2,13,4],[14,0,14,4],[17,0,17,1],[17,2,17,3],[18,0,18,1],[18,2,18,3],[15,1,15,2],[20,0,20,1],[20,2,20,3],[21,0,21,1],[21,2,21,3],[22,0,22,1],[22,2,22,3],[23,0,23,1],[23,2,23,3],[24,0,24,1],[24,2,24,3],[25,0,25,1],[25,2,25,3],[26,0,26,1],[26,2,26,3],[27,0,27,1],[27,2,27,3],[28,0,28,1],[28,2,28,3],[29,0,29,1],[29,2,29,3],[30,0,30,1],[30,2,30,3],[31,0,31,1],[31,2,31,3],[32,0,32,1],[32,2,32,3],[33,0,33,1],[33,2,33,3],[34,0,34,1],[34,2,34,3],[35,0,35,1],[35,2,35,3],[36,0,36,1],[36,2,36,3],[37,0,37,1],[37,2,37,3],[41,0,41,1],[41,2,41,3],[42,0,42,4],[38,0,38,1],[38,2,38,3],[39,0,39,1],[39,2,39,3],[40,0,40,1],[40,2,40,3]]}
[null,{"$f":"Directives!N1","v":"Soutien à la presse d'information écrite\n(version 2023-09)"}]
["Annexe E- Demande d'attestation d'employé"]
["Description de poste"]
["(L'Annexe E fait partie intégrante de la demande d'attestation d'employé)\n\nRemplissez la présente annexe pour tous les employés pour lesquels vous réclamez le crédit d'impôt."]
["Vous devez fournir une description de poste pour chaque type de poste visé par votre demande d'attestation aux fins du crédit d'impôt. Ne donnez qu'une seule description de poste pour tous les employés occupant exactement le même poste. Chaque poste doit être suffisamment décrit et doit présenter toutes les tâches qui le composent. Veuillez accorder un pourcentage représentatif du temps consacré à chaque tâche d'un poste donné   (ex. : ne pas inscrire une tâche représentant 100 % du temps de l'employé)."]
["Dans le cadre du traitement de la demande, Investissement Québec pourra exiger que des feuilles de temps, rapport de projets ou tout autre document appuyant les descriptions de postes lui soient présentés afin de justifier les postes réclamés. Pour plus de détails, consultez nos « Directives relatives aux descriptions de tâches dans les demandes d'attestations d'admissibilité » sur notre site Internet à l'adresse suivante : http://www.investquebec.com/documents/fr/publications/NouvellesLignesDirectrices_MesuresFiscales.pdf"]
[]
["Nom de la société ou de la société de personnes",null,null,null,"Numéro de dossier IQ "]
[{"$f":"IF('Demande-média'!A6:AI6=\"\",\"\",'Demande-média'!A6:AI6)","v":""},null,null,null,{"$f":"IF('Demande-média'!U8=\"\",\"\",'Demande-média'!U8)","v":""}]
[]
["Exercice financier visé",null,{"$f":"IF('Demande-média'!I44=\"\",\"\",'Demande-média'!I44)","v":""},"au",{"$f":"IF('Demande-média'!Q44=\"\",\"\",'Demande-média'!Q44)","v":""}]
[null,null,"(aaaa-mm-jj)",null,"(aaaa-mm-jj)"]
["Titre du poste ",null,"Supérieur immédiat "]
[]
["Titulaire(s)"]
[{"$f":"IF(' Annexe E-employé'!A16=\"\",\"\",' Annexe E-employé'!A16)","v":""}]
[]
["Description détaillée des tâches",null,"Temps consacré à\nces activités (%)",null,"Réservé à IQ"]
[null,null,null,null,null,null,null,null,null,null,null,null,null,null,null,null,null,null,null,null,null,null,null,null,null,null,null,null,null,null,null,null,null,null,null,null,null,null,null,null,null,{"$f":"A19","v":0}]
[null,null,null,null,null,null,null,null,null,null,null,null,null,null,null,null,null,null,null,null,null,null,null,null,null,null,null,null,null,null,null,null,null,null,null,null,null,null,null,null,null,0]
[null,null,null,null,null,null,null,null,null,null,null,null,null,null,null,null,null,null,null,null,null,null,null,null,null,null,null,null,null,null,null,null,null,null,null,null,null,null,null,null,null,0]
[null,null,null,null,null,null,null,null,null,null,null,null,null,null,null,null,null,null,null,null,null,null,null,null,null,null,null,null,null,null,null,null,null,null,null,null,null,null,null,null,null,0]
[null,null,null,null,null,null,null,null,null,null,null,null,null,null,null,null,null,null,null,null,null,null,null,null,null,null,null,null,null,null,null,null,null,null,null,null,null,null,null,null,null,0]
[null,null,null,null,null,null,null,null,null,null,null,null,null,null,null,null,null,null,null,null,null,null,null,null,null,null,null,null,null,null,null,null,null,null,null,null,null,null,null,null,null,0]
[null,null,null,null,null,null,null,null,null,null,null,null,null,null,null,null,null,null,null,null,null,null,null,null,null,null,null,null,null,null,null,null,null,null,null,null,null,null,null,null,null,0]
[null,null,null,null,null,null,null,null,null,null,null,null,null,null,null,null,null,null,null,null,null,null,null,null,null,null,null,null,null,null,null,null,null,null,null,null,null,null,null,null,null,0]
[null,null,null,null,null,null,null,null,null,null,null,null,null,null,null,null,null,null,null,null,null,null,null,null,null,null,null,null,null,null,null,null,null,null,null,null,null,null,null,null,null,0]
[null,null,null,null,null,null,null,null,null,null,null,null,null,null,null,null,null,null,null,null,null,null,null,null,null,null,null,null,null,null,null,null,null,null,null,null,null,null,null,null,null,0]
[null,null,null,null,null,null,null,null,null,null,null,null,null,null,null,null,null,null,null,null,null,null,null,null,null,null,null,null,null,null,null,null,null,null,null,null,null,null,null,null,null,0]
[null,null,null,null,null,null,null,null,null,null,null,null,null,null,null,null,null,null,null,null,null,null,null,null,null,null,null,null,null,null,null,null,null,null,null,null,null,null,null,null,null,0]
[null,null,null,null,null,null,null,null,null,null,null,null,null,null,null,null,null,null,null,null,null,null,null,null,null,null,null,null,null,null,null,null,null,null,null,null,null,null,null,null,null,0]
[null,null,null,null,null,null,null,null,null,null,null,null,null,null,null,null,null,null,null,null,null,null,null,null,null,null,null,null,null,null,null,null,null,null,null,null,null,null,null,null,null,0]
[null,null,null,null,null,null,null,null,null,null,null,null,null,null,null,null,null,null,null,null,null,null,null,null,null,null,null,null,null,null,null,null,null,null,null,null,null,null,null,null,null,0]
[null,null,null,null,null,null,null,null,null,null,null,null,null,null,null,null,null,null,null,null,null,null,null,null,null,null,null,null,null,null,null,null,null,null,null,null,null,null,null,null,null,0]
[null,null,null,null,null,null,null,null,null,null,null,null,null,null,null,null,null,null,null,null,null,null,null,null,null,null,null,null,null,null,null,null,null,null,null,null,null,null,null,null,null,0]
[null,null,null,null,null,null,null,null,null,null,null,null,null,null,null,null,null,null,null,null,null,null,null,null,null,null,null,null,null,null,null,null,null,null,null,null,null,null,null,null,null,0]
[null,null,null,null,null,null,null,null,null,null,null,null,null,null,null,null,null,null,null,null,null,null,null,null,null,null,null,null,null,null,null,null,null,null,null,null,null,null,null,null,null,{"$f":"A37","v":0}]
[null,null,null,null,null,null,null,null,null,null,null,null,null,null,null,null,null,null,null,null,null,null,null,null,null,null,null,null,null,null,null,null,null,null,null,null,null,null,null,null,null,{"$f":"A38","v":0}]
[null,null,null,null,null,null,null,null,null,null,null,null,null,null,null,null,null,null,null,null,null,null,null,null,null,null,null,null,null,null,null,null,null,null,null,null,null,null,null,null,null,{"$f":"A39","v":0}]
[null,null,null,null,null,null,null,null,null,null,null,null,null,null,null,null,null,null,null,null,null,null,null,null,null,null,null,null,null,null,null,null,null,null,null,null,null,null,null,null,null,{"$f":"A40","v":0}]
[null,null,null,null,null,null,null,null,null,null,null,null,null,null,null,null,null,null,null,null,null,null,null,null,null,null,null,null,null,null,null,null,null,null,null,null,null,null,null,null,null,0]
["Total (doit correspondre à 100 %) :",null,{"$f":"SUM(C19:E41)","v":0},null,null,null,null,null,null,null,null,null,null,null,null,null,null,null,null,null,null,null,null,null,null,null,null,null,null,null,null,null,null,null,null,null,null,null,null,null,null,"Total (doit correspondre à 100 %) :"]
["La description des tâches est conforme à la réalité et ne comporte ni ajout ni retrait aux responsabilités et aux tâches qui ont été réalisées par le ou les titulaires pendant l'exercice financier visé."]

{"sheet":"Annexe E (Exemple)","index":10,"n_rows":37,"n_cols":42,"rows_kept":37,"cut":false,"hidden":false,"merged":[[5,0,5,4],[2,0,2,4],[18,0,18,1],[33,2,33,3],[8,0,8,2],[12,0,12,1],[15,1,15,2],[34,2,34,3],[31,2,31,3],[16,0,16,4],[24,0,24,1],[29,2,29,3],[30,2,30,3],[20,2,20,3],[21,2,21,3],[22,2,22,3],[23,0,23,1],[0,1,0,4],[33,0,33,1],[34,0,34,1],[29,0,29,1],[30,0,30,1],[31,0,31,1],[28,0,28,1],[32,0,32,1],[1,0,1,4],[25,0,25,1],[26,0,26,1],[27,0,27,1],[3,0,3,4],[4,0,4,4],[7,0,7,2],[24,2,24,3],[36,0,36,4],[12,2,12,4],[25,2,25,3],[27,2,27,3],[28,2,28,3],[20,0,20,1],[21,0,21,1],[22,0,22,1],[19,2,19,3],[19,0,19,1],[14,0,14,4],[18,2,18,3],[13,2,13,4],[35,0,35,1],[32,2,32,3],[35,2,35,3]]}
[null,{"$f":"Directives!N1","v":"Soutien à la presse d'information écrite\n(version 2023-09)"}]
["Annexe E - Demande d'attestation d'employé"]
["Description de poste"]
["(L'Annexe E fait partie intégrante de la demande d'attestation d'employé)\n\nRemplissez la présente annexe pour tous les employés pour lesquels vous réclamez le crédit d'impôt. "]
["Vous devez fournir une description de poste pour chaque type de poste visé par votre demande d'attestation aux fins du crédit d'impôt. Ne donnez qu'une seule description de poste pour tous les employés occupant exactement le même poste. Un poste est considéré identique lorsque les fonctions sont les mêmes et ce, pour des pourcentages identiques. Chaque poste doit être suffisamment décrit et présenter toutes les fonctions qui le composent. Veuillez accorder un pourcentage représentatif du temps consacré à chaque tâche d'un poste donné   (ex. : ne pas inscrire une tâche représentant 100 % du temps de l'employé)."]
["Dans le cadre du traitement de la demande, Investissement Québec pourra exiger que des feuilles de temps, rapport de facturation ou tout autre document appuyant les descriptions de postes lui soient présentés afin de justifier les postes réclamés. Pour plus de détails, consultez nos « Directives relatives aux descriptions de tâches dans les demandes d'attestations d'admissibilité » sur notre site Internet à l'adresse suivante : http://www.investquebec.com/documents/fr/publications/NouvellesLignesDirectrices_MesuresFiscales.pdf"]
[]
["Nom de la société ou de la société de personne",null,null,null,"Numéro de dossier IQ "]
["ABC inc.",null,null,null,"D888888"]
[]
["Exercice financier visé",null,"2019-01-01","au","2019-12-31"]
[null,null,"(aaaa-mm-jj)",null,"(aaaa-mm-jj)"]
["Titre du poste ",null,"Supérieur immédiat "]
["Journaliste ",null,"Madame A"]
["Titulaire(s)"]
["Monsieur X, madame Y et monsieur Z"]
[]
[]
["Description détaillée des tâches",null,"Temps consacré à\nces activités (%)",null,"Réservé à IQ"]
["Recherche",null,0.25,null,null,null,null,null,null,null,null,null,null,null,null,null,null,null,null,null,null,null,null,null,null,null,null,null,null,null,null,null,null,null,null,null,null,null,null,null,null,{"$f":"A20","v":"Recherche"}]
[]
["Collectes de renseignements",null,0.2,null,null,null,null,null,null,null,null,null,null,null,null,null,null,null,null,null,null,null,null,null,null,null,null,null,null,null,null,null,null,null,null,null,null,null,null,null,null,"Collectes de renseignements"]
[null,null,null,null,null,null,null,null,null,null,null,null,null,null,null,null,null,null,null,null,null,null,null,null,null,null,null,null,null,null,null,null,null,null,null,null,null,null,null,null,null,0]
[null,null,null,null,null,null,null,null,null,null,null,null,null,null,null,null,null,null,null,null,null,null,null,null,null,null,null,null,null,null,null,null,null,null,null,null,null,null,null,null,null,0]
["Vérification des faits",null,0.2,null,null,null,null,null,null,null,null,null,null,null,null,null,null,null,null,null,null,null,null,null,null,null,null,null,null,null,null,null,null,null,null,null,null,null,null,null,null,"Vérification des faits"]
[null,null,null,null,null,null,null,null,null,null,null,null,null,null,null,null,null,null,null,null,null,null,null,null,null,null,null,null,null,null,null,null,null,null,null,null,null,null,null,null,null,0]
[null,null,null,null,null,null,null,null,null,null,null,null,null,null,null,null,null,null,null,null,null,null,null,null,null,null,null,null,null,null,null,null,null,null,null,null,null,null,null,null,null,0]
["Rédaction",null,0.25,null,null,null,null,null,null,null,null,null,null,null,null,null,null,null,null,null,null,null,null,null,null,null,null,null,null,null,null,null,null,null,null,null,null,null,null,null,null,"Rédaction"]
[null,null,null,null,null,null,null,null,null,null,null,null,null,null,null,null,null,null,null,null,null,null,null,null,null,null,null,null,null,null,null,null,null,null,null,null,null,null,null,null,null,0]
["Formation reçue (à l'interne et à l'externe)",null,0.05,null,null,null,null,null,null,null,null,null,null,null,null,null,null,null,null,null,null,null,null,null,null,null,null,null,null,null,null,null,null,null,null,null,null,null,null,null,null,"Formation reçue (à l'interne et à l'externe)"]
[null,null,null,null,null,null,null,null,null,null,null,null,null,null,null,null,null,null,null,null,null,null,null,null,null,null,null,null,null,null,null,null,null,null,null,null,null,null,null,null,null,0]
["Travaux de conversion numérique sur des médias non admissibles",null,0.05,null,null,null,null,null,null,null,null,null,null,null,null,null,null,null,null,null,null,null,null,null,null,null,null,null,null,null,null,null,null,null,null,null,null,null,null,null,null,"Travaux de conversion numérique sur des médias non admissibles"]
[null,null,null,null,null,null,null,null,null,null,null,null,null,null,null,null,null,null,null,null,null,null,null,null,null,null,null,null,null,null,null,null,null,null,null,null,null,null,null,null,null,0]
[null,null,null,null,null,null,null,null,null,null,null,null,null,null,null,null,null,null,null,null,null,null,null,null,null,null,null,null,null,null,null,null,null,null,null,null,null,null,null,null,null,0]
[null,null,null,null,null,null,null,null,null,null,null,null,null,null,null,null,null,null,null,null,null,null,null,null,null,null,null,null,null,null,null,null,null,null,null,null,null,null,null,null,null,{"$f":"A35","v":0}]
["Total (doit correspondre à 100 %) :",null,1,null,null,null,null,null,null,null,null,null,null,null,null,null,null,null,null,null,null,null,null,null,null,null,null,null,null,null,null,null,null,null,null,null,null,null,null,null,null,{"$f":"#REF!","v":{"$error":"#REF!"}}]
["La description des tâches est conforme à la réalité et ne comporte ni ajout ni retrait aux responsabilités et aux tâches qui ont été réalisées par le ou les titulaires pendant l'exercice financier visé."]

{"sheet":"Liste des établissements","index":11,"n_rows":9,"n_cols":5,"rows_kept":9,"cut":false,"hidden":false,"merged":[[0,2,0,4],[12,0,12,4],[16,0,16,4],[20,0,20,4],[1,0,1,4],[8,0,8,4],[9,0,9,4],[13,0,13,4],[15,0,15,4],[17,0,17,4],[14,0,14,4],[10,0,10,4],[11,0,11,4],[3,0,3,2],[4,0,4,2],[25,0,25,4],[18,0,18,4],[21,0,21,4],[22,0,22,4],[24,0,24,4],[19,0,19,4],[23,0,23,4],[29,0,29,4],[38,0,38,4],[30,0,30,4],[41,0,41,4],[26,0,26,4],[27,0,27,4],[32,0,32,4],[28,0,28,4],[31,0,31,4],[52,0,52,4],[33,0,33,4],[46,0,46,4],[37,0,37,4],[39,0,39,4],[44,0,44,4],[34,0,34,4],[54,0,54,4],[55,0,55,4],[2,0,2,4],[5,0,5,4],[47,0,47,4],[50,0,50,4],[51,0,51,4],[49,0,49,4],[42,0,42,4],[43,0,43,4],[36,0,36,4],[40,0,40,4],[45,0,45,4],[53,0,53,4],[35,0,35,4],[48,0,48,4]]}
[null,null,{"$f":"Directives!N1","v":"Soutien à la presse d'information écrite\n(version 2023-09)"}]
["Liste des établissements"]
["Dans le cas où la société ou la société de personnes a plus d'un établissement"]
["Nom de la société ou de la société de personnes",null,null,null,"Numéro de dossier IQ"]
[{"$f":"IF('Demande-média'!A6:AI6=\"\",\"\",'Demande-média'!A6:AI6)","v":""},null,null,null,{"$f":"IF('Demande-média'!U8=\"\",\"\",'Demande-média'!U8)","v":""}]
[]
[null,"Exercice financier visé",{"$f":"IF('Demande-média'!I44=\"\",\"\",'Demande-média'!I44)","v":""},"au",{"$f":"IF('Demande-média'!Q44=\"\",\"\",'Demande-média'!Q44)","v":""}]
[null,null,"(aaaa-mm-jj)",null,"(aaaa-mm-jj)"]
["Adresse de tous les établissements"]