{"text_format":"1","workbook":"xlsx","n_sheets":10,"sheets":["Instructions","Demande","Annexe A","Annexe B","Annexe C","Annexe D","Annexe E","Annexe F","Annexe G","Annexe H"],"not_rendered":{"charts":0,"images":7,"macros":0,"external_links":2,"defined_names":23,"comments":2,"pivot_tables":0},"unopened":[],"bounds":{"document_bytes":16777216,"sheet_cells":100000,"rows_first":2000,"rows_last":500,"rows_between":2000,"halvings":0,"cell_chars":16384,"cell_head_chars":4096},"cells_cut":0,"cells_raw":0,"read":"whole","date_system":"1900"}

{"sheet":"Instructions","index":0,"n_rows":37,"n_cols":14,"rows_kept":37,"cut":false,"hidden":false,"merged":[[6,0,6,33],[0,0,0,12],[0,13,0,33],[1,0,1,33],[2,0,2,33],[4,0,4,33],[3,0,3,33],[5,0,5,33],[9,0,9,37],[11,0,11,37],[7,0,7,33],[8,0,8,33],[37,0,37,33],[31,1,31,33],[28,0,28,33],[33,0,33,37],[35,0,35,37],[36,1,36,29],[30,0,30,33],[27,0,27,33],[25,0,25,33],[26,0,26,33],[10,0,10,33],[12,0,12,33],[24,0,24,33],[21,0,21,33],[13,0,13,33],[14,0,14,37],[23,0,23,33],[19,0,19,33],[20,0,20,33],[15,0,15,33],[22,0,22,33],[18,0,18,33],[16,0,16,33],[17,0,17,33]]}
[null,null,null,null,null,null,null,null,null,null,null,null,null,"Production de titres multimédias\n(volet sociétés spécialisées)\nVersion : 2023-09-22"]
["Demande d'attestation de société spécialisée et de travaux de production"]
["Mise en garde\n\nAvant de remplir ce formulaire, vous devez, au préalable, remplir l'annexe F pour déterminer si la société peut se qualifier au volet des sociétés spécialisées."]
["Ce document indique la procédure à suivre pour obtenir une attestation de société spécialisée et de travaux de production requises pour réclamer le crédit d'impôt pour une société spécialisée dans la production de titres multimédias. La société doit par la suite réclamer ce crédit d'impôt à Revenu Québec en produisant sa déclaration de revenus CO-17 et l’annexe CO-1029.8.36.PM dans le délai prévu."]
["Afin de pouvoir demander ce crédit d'impôt, une société doit obtenir une attestation de société spécialisée certifiant qu'au moins 75 % de ses activités qu'elle exerce au Québec, pour une année d’imposition donnée, ont consisté à produire des titres multimédias admissibles pour elle-même ou pour le compte d’autres personnes et, le cas échéant, à effectuer des recherches scientifiques et du développement expérimental s’y rapportant. "]
["Nous vous conseillons fortement de consulter la fiche détaillée disponible sur notre site Internet avant de remplir ce formulaire. Assurez-vous d’utiliser la dernière version à jour du formulaire.  Par ailleurs, vous pouvez consulter le chapitre VI, de l'annexe A de la Loi concernant les paramètres sectoriels de certaines mesures fiscales qui inclut tous les paramètres sectoriels applicables à cette mesure."]
[]
["Dépôt d'une demande d'attestation annuelle à Investissement Québec"]
["La société doit présenter sa demande d’attestation annuelle à Investissement Québec avant la fin du 15e mois suivant la fin de l’exercice financier de la société. Si la demande d’attestation annuelle est présentée après cette date, mais avant l’expiration du délai de 18 mois suivant la fin de l’exercice financier de la société, Investissement Québec peut, de manière discrétionnaire, accepter la demande d’attestation si elle est d’avis que les motifs de retard sont raisonnables et justifient une telle demande « tardive ». Par conséquent, si vous êtes dans cette situation, veuillez joindre un document faisant état de vos motifs de retard."]
[]
["Toutefois, une demande d'attestation déposée à Investissement Québec après l'expiration du délai de 18 mois sera refusée."]
[]
["Production des documents à Revenu Québec"]
["La société doit présenter sa demande de crédit d’impôt et les attestations à Revenu Québec à la plus tardive des dates suivantes :\n   - Le dernier jour du 18e mois suivant la fin de l’exercice financier visé de la société;\n   - Le dernier jour de la période de 3 mois suivant la date de délivrance des attestations d’Investissement Québec."]
[]
["De plus, seules les demandes complètes seront traitées. Toute demande reçue avant la fin de l'exercice financier visé sera retournée à l'expéditeur.\n\nUne demande complète inclut :\n   - Demande d'attestation de société spécialisée et de travaux de production dûment complétée et signée;\n   - Annexes A, B, C, D, E, F, G et H (le cas échéant);\n   - Factures ou contrats si des travaux de production sont réclamés à l'annexe B ou C."]
["Notez qu’Investissement Québec indique la date de réception de demande complète sur les attestations. Par conséquent il est de votre responsabilité de vous assurer de respecter les délais prescrits par Revenu Québec puisque la société pourrait perdre  le droit de recevoir son crédit d’impôt pour une année donnée, le cas échéant."]
["* Veuillez noter que les documents exigés aux fins d’une demande complète ne dispense pas la société de l’obligation de fournir les documents mentionnés à la section 6 de la demande d’attestation de société spécialisée et de travaux de production. "]
[]
["ENTENTE D'ÉCHANGE DE RENSEIGNEMENTS"]
["Investissement Québec et Revenu Québec ont conclu, le 7 octobre 2009, une entente intitulée « Entente portant sur l'échange de renseignements nécessaires à l'administration de mesures fiscales ou à l'application d'une loi fiscale ». Cette entente permet à chaque organisme d'échanger des renseignements essentiels à l'exercice de leurs mandats respectifs, et ce, sans qu'il soit nécessaire de demander le consentement de la personne en cause. La communication de renseignements à Revenu Québec se fait exclusivement dans le cadre de cette entente. La Commission d'accès à l'information du Québec a d'ailleurs approuvé cette entente après avoir analysé la nature des renseignements et les fins pour lesquelles ils seraient communiqués, ainsi que les moyens mis en oeuvre pour assurer la confidentialité et les mesures de sécurité prévues."]
[]
["HONORAIRES EXIGÉS"]
["Investissement Québec exige des honoraires pour les attestations qu'elle délivre. Si vous souhaitez obtenir plus d'information à ce sujet, veuillez consulter la section suivante de notre site Internet : http://www.investquebec.com/iq/tarification/"]
[]
["ADRESSES ET MODE DE TRANSMISSION DU FORMULAIRE DE DEMANDE D’ATTESTATION DE SOCIÉTÉ SPÉCIALISÉE ET DE TRAVAUX DE PRODUCTION"]
["Vous devez transmettre la demande signée par courrier électronique afin d’accélérer le traitement de votre demande. À cet effet, veuillez joindre la page dûment signée de la demande d'attestation de société spécialisée et de travaux de production en format PDF. \n\nSi vos fichiers sont volumineux, vous pouvez demander un lien sécurisé à l'une des adresses courriel indiquées ci-dessous en indiquant le nom de la société pour laquelle ce lien est requis. (Ne pas transmettre de fichiers par d'autres types de lien comme Google).\n\nDans tous les cas, assurez-vous d’envoyer le fichier électronique de la demande d’attestation (incluant les annexes) et les pièces jointes.\n"]
[]
["Pour les sociétés dont le siège social est situé dans l'une des régions suivantes :\nBas-Saint-Laurent;\nCapitale-Nationale;\nChaudière-Appalaches;\nCentre-du-Québec;\nCôte-Nord;\nEstrie;\nGaspésie–Îles-de-la-Madeleine;\nLanaudière;\nMauricie;\nMontérégie;\nNord-du-Québec;\nSaguenay–Lac-Saint-Jean."]
[]
["Investissement Québec\nDirection des mesures fiscales (Québec)\nÉdifice Iberville 1\n1195, avenue Lavigerie, bureau 060\nQuébec (Québec)  G1V 4N3\n"]
[" -","par courriel à l’adresse suivante : mfquebec@invest-quebec.com"]
[]
["Pour les sociétés dont le siège social est situé dans l’une des régions suivantes :\n\nAbitibi-Témiscamingue;\nLaval;\nLaurentides;\nMontréal;\nOutaouais."]
[]
["Investissement Québec\nDirection des mesures fiscales (Montréal)\n1001, boulevard Robert-Bourassa, bureau 1000\nMontréal (Québec) H3B 4L4\n"]
[" -","par courriel à l’adresse suivante : mfmontreal@invest-quebec.com"]

{"sheet":"Demande","index":1,"n_rows":116,"n_cols":34,"rows_kept":116,"cut":false,"hidden":false,"merged":[[0,0,0,12],[4,0,4,33],[1,0,1,33],[3,0,3,33],[2,0,2,33],[0,13,0,33],[24,0,24,25],[22,0,22,33],[23,0,23,33],[5,0,5,33],[6,0,6,33],[14,0,14,33],[15,0,15,33],[8,0,8,7],[8,10,8,17],[8,20,8,27],[8,29,8,33],[9,0,9,7],[9,10,9,17],[9,20,9,27],[9,29,9,33],[13,0,13,25],[7,0,7,33],[10,0,10,33],[49,1,49,33],[24,26,24,33],[33,27,33,32],[30,0,30,25],[30,27,30,32],[31,0,31,25],[31,27,31,32],[27,0,27,33],[28,0,28,33],[29,0,29,25],[29,26,29,33],[25,0,25,25],[25,26,25,33],[26,0,26,25],[26,26,26,33],[36,26,36,33],[43,16,43,21],[39,0,39,25],[39,27,39,33],[40,0,40,25],[40,27,40,32],[42,0,42,33],[43,0,43,7],[43,8,43,13],[94,1,94,30],[75,0,75,33],[81,1,81,30],[82,0,82,33],[63,1,63,25],[62,27,62,28],[62,30,62,31],[62,1,62,26],[65,1,65,25],[72,1,72,25],[84,0,84,33],[66,0,66,33],[67,1,67,25],[68,0,68,33],[91,1,91,31],[92,0,92,33],[93,1,93,31],[116,0,116,33],[100,0,100,33],[101,0,101,33],[115,0,115,20],[114,0,114,20],[114,23,114,33],[102,0,103,0],[102,1,103,33],[104,0,104,33],[105,0,105,33],[106,0,106,33],[115,23,115,33],[107,0,107,33],[109,1,109,33],[110,0,110,33],[111,1,111,33],[112,0,112,33],[113,0,113,33],[108,0,108,33],[11,0,11,33],[12,0,12,33],[13,26,13,33],[34,0,34,33],[41,0,41,33],[37,0,37,25],[37,27,37,32],[38,0,38,25],[38,27,38,32],[35,0,35,33],[36,0,36,25],[32,0,32,25],[32,27,32,33],[33,0,33,25],[16,1,16,25],[17,1,17,25],[17,26,17,33],[18,1,18,25],[18,26,18,33],[19,1,19,25],[19,26,19,33],[20,1,20,25],[21,1,21,25],[21,26,21,33],[59,0,59,33],[96,1,98,30],[99,0,99,33],[90,0,90,33],[61,1,61,33],[64,0,64,33],[89,1,89,30],[85,1,85,30],[86,1,86,30],[88,1,88,30],[87,0,87,33],[83,1,83,30],[80,0,80,33],[76,0,76,33],[77,1,77,33],[78,1,78,33],[79,0,79,33],[95,0,95,33],[74,0,74,33],[69,1,69,25],[70,0,70,33],[71,1,71,25],[60,0,60,33],[73,0,73,33],[16,26,16,33],[20,26,20,33],[58,0,58,14],[56,0,56,22],[56,23,56,33],[55,0,55,33],[58,15,58,22],[57,0,57,33],[44,16,44,21],[44,22,44,33],[45,0,45,33],[46,0,46,33],[50,1,50,33],[51,1,51,33],[52,1,52,33],[53,1,53,33],[54,1,54,33],[48,0,48,33],[44,14,44,15],[44,0,44,7],[44,8,44,13],[43,14,43,15],[43,22,43,33],[47,0,47,33]]}
[null,null,null,null,null,null,null,null,null,null,null,null,null,"Production de titres multimédias\n(volet sociétés spécialisées)\nVersion : 2023-09-22"]
["Demande d'attestation de société spécialisée et de travaux de production"]
["Avant de remplir le formulaire, veuillez lire l'onglet Directives"]
[]
["1. IDENTIFICATION DE LA SOCIÉTÉ"]
["Nom de la société"]
[]
[]
["NEQ (numéro d'entreprise du Qc)",null,null,null,null,null,null,null,null,null,"Numéro d'entreprise IQ*",null,null,null,null,null,null,null,null,null,"Numéro de dossier IQ*",null,null,null,null,null,null,null,null,"Date d'incorporation"]
[]
["*Il s'agit du numéro d'entreprise ou de dossier attribué par Investissement Québec pour le crédit d'impôt pour un société spécialisée dans la production de titres multimédias. Non requis lors de la première demande. Dans le cas d'une deuxième demande, vous retracerez ce numéro sur la correspondance reçue de la part d'IQ."]
[]
["Adresse du site Internet de la société"]
[]
[]
["Adresse de tous les établissements"]
[1]
[2]
[3]
[4]
[5]
[6]
[]
["Adresse de correspondance"]
[]
[]
[]
[]
["Représentant autorisé de la société"]
[]
["Titre du représentant",null,null,null,null,null,null,null,null,null,null,null,null,null,null,null,null,null,null,null,null,null,null,null,null,null,null,"Téléphone",null,null,null,null,null,"Poste"]
[]
["Adresse de courriel du représentant",null,null,null,null,null,null,null,null,null,null,null,null,null,null,null,null,null,null,null,null,null,null,null,null,null,null,"Cellulaire"]
[]
[]
["Mandataire autorisé de la société"]
[]
["Titre du mandataire",null,null,null,null,null,null,null,null,null,null,null,null,null,null,null,null,null,null,null,null,null,null,null,null,null,null,"Téléphone",null,null,null,null,null,"Poste"]
[]
["Adresse de courriel du mandataire",null,null,null,null,null,null,null,null,null,null,null,null,null,null,null,null,null,null,null,null,null,null,null,null,null,null,"Cellulaire"]
[]
[]
["2. EXERCICE FINANCIER VISÉ PAR LA DEMANDE D'ATTESTATION"]
["Exercice financier du :"]
[null,null,null,null,null,null,null,null,"(aaaa-mm-jj)",null,null,null,null,null,null,null,"(aaaa-mm-jj)"]
[]
["3. ACTIVITÉS DE LA SOCIÉTÉ (agrandir les lignes au besoin ou joindre un document séparé si nécessaire)"]
["Pour chacun des établissements de la société au Québec, veuillez décrire les activités réalisées par la société au cours de l'exercice financier visé."]
["Description des activités de la société au Québec (pour chacun des établissements énumérés à la section 1)"]
[1]
[2]
[3]
[4]
[5]
[6]
[]
["Veuillez indiquer le nombre d'employés de la société qui travaillent au Québec :"]
[]
["Veuillez indiquer le nombre d'employés total :"]
[]
["4. ACTIVITÉS DES EMPLOYÉS"]
[null,"Veuillez indiquer si, parmi les employés inscrits à l'annexe A, des employés ont consacré du temps à une des activités énumérées ci-dessous :"]
[null,null,null,null,null,null,null,null,null,null,null,null,null,null,null,null,null,null,null,null,null,null,null,null,null,null,null,"Oui",null,null,"Non"]
[null,"Formation (donnée ou reçue)"]
[]
[null,"Participation à des événements (colloques, sommets du jeu, etc.)"]
[]
[null,"Activités promotionnelles"]
[]
[null,"Négociations de contrats, soumissions, etc."]
[]
[null,"Activité de nature administrative (suivi budgétaire et financier, rapport à la direction,"]
[null,"gestion des ressources humaines, etc.)"]
[]
["Si vous répondez oui à un ou plusieurs de ces éléments, veuillez fournir la liste des employés concernés en fournissant le nombre d'heures consacré à ces activités. Joindre une annexe à ce fichier Exel."]
[]
["5. MÉTHODOLOGIE"]
[null,"Veuillez décrire la démarche utilisée afin d'établir le pourcentage d'admissibilité réclamé à l'égard des employés mentionnés aux annexes A et B."]
[]
[]
["6. DOCUMENTS OBLIGATOIRES À JOINDRE À LA PRÉSENTE DEMANDE (cocher si les documents sont joints)"]
["—  ","États financiers non consolidés de l'exercice financier visé1;"]
[]
["—  ","Balance de vérification de l'exercice financier visé;"]
[]
["—  ","Organigramme corporatif identifiant les actionnaires et les sociétés liées ou associées (le pourcentage "]
[null,"de détention d'actions doit être inscrit);"]
[]
["—  ","Organigramme détaillé de la société présentant les liens hiérarchiques et identifiant tous les employés "]
[null,"de la société;"]
[]
["—  ","Copie de toutes les factures et de tous les contrats en lien avec les travaux indiqués dans les annexes B et C;"]
[]
["—  ","Copie du ou des titres multimédias (version préliminaire ou finale). Veuillez également fournir le code d'accès"]
[null,"permettant de télécharger le titre, le cas échéant (par ex. : jeu sur plate-forme mobile);"]
[]
["—  ","Procuration, dûment signée, désignant un mandataire pour représenter la société auprès d'Investis-\nsement Québec.  Vous pouvez vous inspirer du modèle publié sur le site Internet d’Investissement Québec, à l’adresse suivante : http://www.investquebec.com/documents/fr/formulaires/Procuration_fr.doc"]
["     "]
[]
[]
["Dans l'éventualité où les documents ne sont pas joints, veuillez indiquer la raison."]
[]
[1,"Les états financiers et la balance de vérification peuvent être à l’état de projet. Toutefois, vous devez nous faire parvenir une version finale des états financiers dès qu’ils seront disponibles."]
[]
[]
["7. DÉCLARATION DU REPRÉSENTANT OU DU MANDATAIRE AUTORISÉ DE LA SOCIÉTÉ"]
["Je, soussigné(e), représentant(e) ou mandataire dûment autorisé(e) de la société, déclare que les renseignements fournis dans la présente demande et les documents afférents sont complets et véridiques en tous points."]
["De plus, sauf indication contraire expresse à cet effet, j’autorise Investissement Québec à utiliser les renseignements obtenus dans le cadre de cette demande et pouvant s’avérer nécessaires à l’analyse de toute demande de financement, d’investissement ou à l’égard de tout autre service offert par Investissement Québec."]
["Enfin, je soussigné(e), représentant(e) ou mandataire dûment autorisé(e) de la société, représente et garantis à Investissement Québec que la société a obtenu, conformément à la loi, tous les consentements requis des personnes concernées par les renseignements personnels divulgués en lien avec cette demande et qui sont nécessaires afin qu’Investissement Québec puisse les utiliser, les communiquer à Revenu Québec ou aux prestataires de services ou partenaires d'Investissement Québec si nécessaire, les transférer hors Québec si applicable, le tout, aux fins de traiter la demande de la société."]
[null," J'autorise le partage des renseignements"]
[]
[null," Je n'autorise pas le partage des renseignements"]
[]
["Enfin, je certifie que la société n'a pas modifié le contenu de la présente demande."]
[]
["Signature du représentant ou du mandataire autorisé de la société",null,null,null,null,null,null,null,null,null,null,null,null,null,null,null,null,null,null,null,null,null,null,"Date"]

{"sheet":"Annexe A","index":2,"n_rows":3987,"n_cols":10,"rows_kept":3987,"cut":false,"hidden":false,"merged":[[0,1,0,2],[0,3,0,9],[1,1,1,9],[2,1,2,9],[4,2,4,7],[3,1,3,9],[11,1,11,9],[14,9,17,9],[14,4,16,4],[14,5,16,5],[12,3,12,9],[13,1,13,9],[14,1,16,1],[14,6,16,6],[14,8,16,8],[14,2,17,2],[14,3,16,3],[14,7,16,7],[5,1,5,9],[7,3,7,9],[9,3,9,9],[10,3,10,9],[6,3,6,9],[8,1,8,9],[34,1,34,9],[35,1,35,9],[30,1,30,9],[31,1,31,9],[32,1,32,9],[33,1,33,9]]}
[null,null,null,"Production de titres multimédias\n(volet sociétés spécialisées)\nVersion : 2023-09-22"]
[null,"Annexe A - Demande d'attestation de travaux de production\nTravaux de production admissibles réalisés par les employés de la société"]
[null,"(L'Annexe A fait partie intégrante de la présente demande.)"]
[]
[null,"Nom de la société :",{"$f":"IF(Demande!A7=\"\",\"\",Demande!A7)","v":""}]
[]
[null,"Exercice financier du :",{"$f":"IF(Demande!I44=\"\",\"\",Demande!I44)","v":""}]
[null,null,"(aaaa-mm-jj)"]
[]
[null,"au :",{"$f":"IF(Demande!Q44=\"\",\"\",Demande!Q44)","v":""}]
[null,null,"(aaaa-mm-jj)"]
[]
[null,"Numéro de dossier IQ :",{"$f":"IF(Demande!U10=\"\",\"\",Demande!U10)","v":""}]
[]
[null,"Nom de l'employé\nComme suit : Nom(1 espace) Prénom","N.A.S.\n999 999 999","Titre du poste1 en français\n(pour chacun de ces postes, remplissez l'annexe E.)","Nombre d'heures consacrées aux travaux de production2","Nombre d'heures totales travaillées pour le compte de la société au cours de l'exercice financier3","Pourcentage d'admissibilité réclamé4","Salaire brut versé durant l'exercice financier5","Pourcentage du temps travaillé hors Québec6","Commentaires"]
[]
[]
[]
[{"$f":"ROW()","v":19}]
[]
[]
[{"$f":"ROW()","v":22}]
[{"$f":"ROW()","v":23}]
[{"$f":"ROW()","v":24}]
[{"$f":"ROW()","v":25}]
[{"$f":"ROW()","v":26}]
[{"$f":"ROW()","v":27}]
[{"$f":"ROW()","v":28}]
[{"$f":"ROW()","v":29}]
[{"$f":"ROW()","v":30}]
[{"$f":"ROW()","v":31},"1. Titre du poste : Le titre du poste de l'employé doit correspondre au titre inscrit dans la description de poste (Annexe E) et dans l'organigramme."]
[null,"2. Nombre d'heures consacrées aux travaux de production : Indiquez le nombre d'heures réelles consacrées aux travaux de production, excluant les périodes de vacances, les congés, les journées de maladie, etc."]
[null,"3. Nombre d'heures totales travaillées pour le compte de la société au cours de l'exercice financier visé : Indiquez la totalité des heures que l'employé a consacrées à travailler pour la société dans l'exercice financier\n     visé, excluant les périodes de vacances, congés, etc.)"]
[{"$f":"ROW()","v":34},"4. Pourcentage d'admissibilité réclamé : Ce pourcentage doit correspondre au pourcentage de temps que l'employé a consacré à réaliser des travaux de production admissibles à l'égard d'un titre multimédia admissible."]
[{"$f":"ROW()","v":35},"5. Salaire brut versé durant l'exercice financier : Consiste au salaire brut versé à l'employé excluant les avantages sociaux et charges sociales."]
[{"$f":"ROW()","v":36},"6. Pourcentage du temps travaillé hors Québec : Doit correspondre au pourcentage du temps que l'employé a travaillé, pour la société, à l'extérieur du Québec durant l'exercice financier."]
[{"$f":"ROW()","v":37}]
[{"$f":"ROW()","v":38}]
[{"$f":"ROW()","v":39}]
[{"$f":"ROW()","v":40}]
[{"$f":"ROW()","v":41}]
[{"$f":"ROW()","v":42}]
[{"$f":"ROW()","v":43}]
[{"$f":"ROW()","v":44}]
[{"$f":"ROW()","v":45}]
[{"$f":"ROW()","v":46}]
[{"$f":"ROW()","v":47}]
[{"$f":"ROW()","v":48}]
[{"$f":"ROW()","v":49}]
[{"$f":"ROW()","v":50}]
[{"$f":"ROW()","v":51}]
[{"$f":"ROW()","v":52}]
[{"$f":"ROW()","v":53}]
[{"$f":"ROW()","v":54}]
[{"$f":"ROW()","v":55}]
[{"$f":"ROW()","v":56}]
[{"$f":"ROW()","v":57}]
[{"$f":"ROW()","v":58}]
[{"$f":"ROW()","v":59}]
[{"$f":"ROW()","v":60}]
[{"$f":"ROW()","v":61}]
[{"$f":"ROW()","v":62}]
[{"$f":"ROW()","v":63}]
[{"$f":"ROW()","v":64}]
[{"$f":"ROW()","v":65}]
[{"$f":"ROW()","v":66}]
[{"$f":"ROW()","v":67}]
[{"$f":"ROW()","v":68}]
[{"$f":"ROW()","v":69}]
[{"$f":"ROW()","v":70}]
[{"$f":"ROW()","v":71}]
[{"$f":"ROW()","v":72}]
[{"$f":"ROW()","v":73}]
[{"$f":"ROW()","v":74}]
[{"$f":"ROW()","v":75}]
[{"$f":"ROW()","v":76}]
[{"$f":"ROW()","v":77}]
[{"$f":"ROW()","v":78}]
[{"$f":"ROW()","v":79}]
[{"$f":"ROW()","v":80}]
[{"$f":"ROW()","v":81}]
[{"$f":"ROW()","v":82}]
[{"$f":"ROW()","v":83}]
[{"$f":"ROW()","v":84}]
[{"$f":"ROW()","v":85}]
[{"$f":"ROW()","v":86}]
[{"$f":"ROW()","v":87}]
[{"$f":"ROW()","v":88}]
[{"$f":"ROW()","v":89}]
[{"$f":"ROW()","v":90}]
[{"$f":"ROW()","v":91}]
[{"$f":"ROW()","v":92}]
[{"$f":"ROW()","v":93}]
[{"$f":"ROW()","v":94}]
[{"$f":"ROW()","v":95}]
[{"$f":"ROW()","v":96}]
[{"$f":"ROW()","v":97}]
[{"$f":"ROW()","v":98}]
[{"$f":"ROW()","v":99}]
[{"$f":"ROW()","v":100}]
[{"$f":"ROW()","v":101}]
[{"$f":"ROW()","v":102}]
[{"$f":"ROW()","v":103}]
[{"$f":"ROW()","v":104}]
[{"$f":"ROW()","v":105}]
[{"$f":"ROW()","v":106}]
[{"$f":"ROW()","v":107}]
[{"$f":"ROW()","v":108}]
[{"$f":"ROW()","v":109}]
[{"$f":"ROW()","v":110}]
[{"$f":"ROW()","v":111}]
[{"$f":"ROW()","v":112}]
[{"$f":"ROW()","v":113}]
[{"$f":"ROW()","v":114}]
[{"$f":"ROW()","v":115}]
[{"$f":"ROW()","v":116}]
[{"$f":"ROW()","v":117}]
[{"$f":"ROW()","v":118}]
[{"$f":"ROW()","v":119}]
[{"$f":"ROW()","v":120}]
[{"$f":"ROW()","v":121}]
[{"$f":"ROW()","v":122}]
[{"$f":"ROW()","v":123}]
[{"$f":"ROW()","v":124}]
[{"$f":"ROW()","v":125}]
[{"$f":"ROW()","v":126}]
[{"$f":"ROW()","v":127}]
[{"$f":"ROW()","v":128}]
[{"$f":"ROW()","v":129}]
[{"$f":"ROW()","v":130}]
[{"$f":"ROW()","v":131}]
[{"$f":"ROW()","v":132}]
[{"$f":"ROW()","v":133}]
[{"$f":"ROW()","v":134}]
[{"$f":"ROW()","v":135}]
[{"$f":"ROW()","v":136}]
[{"$f":"ROW()","v":137}]
[{"$f":"ROW()","v":138}]
[{"$f":"ROW()","v":139}]
[{"$f":"ROW()","v":140}]
[{"$f":"ROW()","v":141}]
[{"$f":"ROW()","v":142}]
[{"$f":"ROW()","v":143}]
[{"$f":"ROW()","v":144}]
[{"$f":"ROW()","v":145}]
[{"$f":"ROW()","v":146}]
[{"$f":"ROW()","v":147}]
[{"$f":"ROW()","v":148}]
[{"$f":"ROW()","v":149}]
[{"$f":"ROW()","v":150}]
[{"$f":"ROW()","v":151}]
[{"$f":"ROW()","v":152}]
[{"$f":"ROW()","v":153}]
[{"$f":"ROW()","v":154}]
[{"$f":"ROW()","v":155}]
[{"$f":"ROW()","v":156}]
[{"$f":"ROW()","v":157}]
[{"$f":"ROW()","v":158}]
[{"$f":"ROW()","v":159}]
[{"$f":"ROW()","v":160}]
[{"$f":"ROW()","v":161}]
[{"$f":"ROW()","v":162}]
[{"$f":"ROW()","v":163}]
[{"$f":"ROW()","v":164}]
[{"$f":"ROW()","v":165}]
[{"$f":"ROW()","v":166}]
[{"$f":"ROW()","v":167}]
[{"$f":"ROW()","v":168}]
[{"$f":"ROW()","v":169}]
[{"$f":"ROW()","v":170}]
[{"$f":"ROW()","v":171}]
[{"$f":"ROW()","v":172}]
[{"$f":"ROW()","v":173}]
[{"$f":"ROW()","v":174}]
[{"$f":"ROW()","v":175}]
[{"$f":"ROW()","v":176}]
[{"$f":"ROW()","v":177}]
[{"$f":"ROW()","v":178}]
[{"$f":"ROW()","v":179}]
[{"$f":"ROW()","v":180}]
[{"$f":"ROW()","v":181}]
[{"$f":"ROW()","v":182}]
[{"$f":"ROW()","v":183}]
[{"$f":"ROW()","v":184}]
[{"$f":"ROW()","v":185}]
[{"$f":"ROW()","v":186}]
[{"$f":"ROW()","v":187}]
[{"$f":"ROW()","v":188}]
[{"$f":"ROW()","v":189}]
[{"$f":"ROW()","v":190}]
[{"$f":"ROW()","v":191}]
[{"$f":"ROW()","v":192}]
[{"$f":"ROW()","v":193}]
[{"$f":"ROW()","v":194}]
[{"$f":"ROW()","v":195}]
[{"$f":"ROW()","v":196}]
[{"$f":"ROW()","v":197}]
[{"$f":"ROW()","v":198}]
[{"$f":"ROW()","v":199}]
[{"$f":"ROW()","v":200}]
[{"$f":"ROW()","v":201}]
[{"$f":"ROW()","v":202}]
[{"$f":"ROW()","v":203}]
[{"$f":"ROW()","v":204}]
[{"$f":"ROW()","v":205}]
[{"$f":"ROW()","v":206}]
[{"$f":"ROW()","v":207}]
[{"$f":"ROW()","v":208}]
[{"$f":"ROW()","v":209}]
[{"$f":"ROW()","v":210}]
[{"$f":"ROW()","v":211}]
[{"$f":"ROW()","v":212}]
[{"$f":"ROW()","v":213}]
[{"$f":"ROW()","v":214}]
[{"$f":"ROW()","v":215}]
[{"$f":"ROW()","v":216}]
[{"$f":"ROW()","v":217}]
[{"$f":"ROW()","v":218}]
[{"$f":"ROW()","v":219}]
[{"$f":"ROW()","v":220}]
[{"$f":"ROW()","v":221}]
[{"$f":"ROW()","v":222}]
[{"$f":"ROW()","v":223}]
[{"$f":"ROW()","v":224}]
[{"$f":"ROW()","v":225}]
[{"$f":"ROW()","v":226}]
[{"$f":"ROW()","v":227}]
[{"$f":"ROW()","v":228}]
[{"$f":"ROW()","v":229}]
[{"$f":"ROW()","v":230}]
[{"$f":"ROW()","v":231}]
[{"$f":"ROW()","v":232}]
[{"$f":"ROW()","v":233}]
[{"$f":"ROW()","v":234}]
[{"$f":"ROW()","v":235}]
[{"$f":"ROW()","v":236}]
[{"$f":"ROW()","v":237}]
[{"$f":"ROW()","v":238}]
[{"$f":"ROW()","v":239}]
[{"$f":"ROW()","v":240}]
[{"$f":"ROW()","v":241}]
[{"$f":"ROW()","v":242}]
[{"$f":"ROW()","v":243}]
[{"$f":"ROW()","v":244}]
[{"$f":"ROW()","v":245}]
[{"$f":"ROW()","v":246}]
[{"$f":"ROW()","v":247}]
[{"$f":"ROW()","v":248}]
[{"$f":"ROW()","v":249}]
[{"$f":"ROW()","v":250}]
[{"$f":"ROW()","v":251}]
[{"$f":"ROW()","v":252}]
[{"$f":"ROW()","v":253}]
[{"$f":"ROW()","v":254}]
[{"$f":"ROW()","v":255}]
[{"$f":"ROW()","v":256}]
[{"$f":"ROW()","v":257}]
[{"$f":"ROW()","v":258}]
[{"$f":"ROW()","v":259}]
[{"$f":"ROW()","v":260}]
[{"$f":"ROW()","v":261}]
[{"$f":"ROW()","v":262}]
[{"$f":"ROW()","v":263}]
[{"$f":"ROW()","v":264}]
[{"$f":"ROW()","v":265}]
[{"$f":"ROW()","v":266}]
[{"$f":"ROW()","v":267}]
[{"$f":"ROW()","v":268}]
[{"$f":"ROW()","v":269}]
[{"$f":"ROW()","v":270}]
[{"$f":"ROW()","v":271}]
[{"$f":"ROW()","v":272}]
[{"$f":"ROW()","v":273}]
[{"$f":"ROW()","v":274}]
[{"$f":"ROW()","v":275}]
[{"$f":"ROW()","v":276}]
[{"$f":"ROW()","v":277}]
[{"$f":"ROW()","v":278}]
[{"$f":"ROW()","v":279}]
[{"$f":"ROW()","v":280}]
[{"$f":"ROW()","v":281}]
[{"$f":"ROW()","v":282}]
[{"$f":"ROW()","v":283}]
[{"$f":"ROW()","v":284}]
[{"$f":"ROW()","v":285}]
[{"$f":"ROW()","v":286}]
[{"$f":"ROW()","v":287}]
[{"$f":"ROW()","v":288}]
[{"$f":"ROW()","v":289}]
[{"$f":"ROW()","v":290}]
[{"$f":"ROW()","v":291}]
[{"$f":"ROW()","v":292}]
[{"$f":"ROW()","v":293}]
[{"$f":"ROW()","v":294}]
[{"$f":"ROW()","v":295}]
[{"$f":"ROW()","v":296}]
[{"$f":"ROW()","v":297}]
[{"$f":"ROW()","v":298}]
[{"$f":"ROW()","v":299}]
[{"$f":"ROW()","v":300}]
[{"$f":"ROW()","v":301}]
[{"$f":"ROW()","v":302}]
[{"$f":"ROW()","v":303}]
[{"$f":"ROW()","v":304}]
[{"$f":"ROW()","v":305}]
[{"$f":"ROW()","v":306}]
[{"$f":"ROW()","v":307}]
[{"$f":"ROW()","v":308}]
[{"$f":"ROW()","v":309}]
[{"$f":"ROW()","v":310}]
[{"$f":"ROW()","v":311}]
[{"$f":"ROW()","v":312}]
[{"$f":"ROW()","v":313}]
[{"$f":"ROW()","v":314}]
[{"$f":"ROW()","v":315}]
[{"$f":"ROW()","v":316}]
[{"$f":"ROW()","v":317}]
[{"$f":"ROW()","v":318}]
[{"$f":"ROW()","v":319}]
[{"$f":"ROW()","v":320}]
[{"$f":"ROW()","v":321}]
[{"$f":"ROW()","v":322}]
[{"$f":"ROW()","v":323}]
[{"$f":"ROW()","v":324}]
[{"$f":"ROW()","v":325}]
[{"$f":"ROW()","v":326}]
[{"$f":"ROW()","v":327}]
[{"$f":"ROW()","v":328}]
[{"$f":"ROW()","v":329}]
[{"$f":"ROW()","v":330}]
[{"$f":"ROW()","v":331}]
[{"$f":"ROW()","v":332}]
[{"$f":"ROW()","v":333}]
[{"$f":"ROW()","v":334}]
[{"$f":"ROW()","v":335}]
[{"$f":"ROW()","v":336}]
[{"$f":"ROW()","v":337}]
[{"$f":"ROW()","v":338}]
[{"$f":"ROW()","v":339}]
[{"$f":"ROW()","v":340}]
[{"$f":"ROW()","v":341}]
[{"$f":"ROW()","v":342}]
[{"$f":"ROW()","v":343}]
[{"$f":"ROW()","v":344}]
[{"$f":"ROW()","v":345}]
[{"$f":"ROW()","v":346}]
[{"$f":"ROW()","v":347}]
[{"$f":"ROW()","v":348}]
[{"$f":"ROW()","v":349}]
[{"$f":"ROW()","v":350}]
[{"$f":"ROW()","v":351}]
[{"$f":"ROW()","v":352}]
[{"$f":"ROW()","v":353}]
[{"$f":"ROW()","v":354}]
[{"$f":"ROW()","v":355}]
[{"$f":"ROW()","v":356}]
[{"$f":"ROW()","v":357}]
[{"$f":"ROW()","v":358}]
[{"$f":"ROW()","v":359}]
[{"$f":"ROW()","v":360}]
[{"$f":"ROW()","v":361}]
[{"$f":"ROW()","v":362}]
[{"$f":"ROW()","v":363}]
[{"$f":"ROW()","v":364}]
[{"$f":"ROW()","v":365}]
[{"$f":"ROW()","v":366}]
[{"$f":"ROW()","v":367}]
[{"$f":"ROW()","v":368}]
[{"$f":"ROW()","v":369}]
[{"$f":"ROW()","v":370}]
[{"$f":"ROW()","v":371}]
[{"$f":"ROW()","v":372}]
[{"$f":"ROW()","v":373}]
[{"$f":"ROW()","v":374}]
[{"$f":"ROW()","v":375}]
[{"$f":"ROW()","v":376}]
[{"$f":"ROW()","v":377}]
[{"$f":"ROW()","v":378}]
[{"$f":"ROW()","v":379}]
[{"$f":"ROW()","v":380}]
[{"$f":"ROW()","v":381}]
[{"$f":"ROW()","v":382}]
[{"$f":"ROW()","v":383}]
[{"$f":"ROW()","v":384}]
[{"$f":"ROW()","v":385}]
[{"$f":"ROW()","v":386}]
[{"$f":"ROW()","v":387}]
[{"$f":"ROW()","v":388}]
[{"$f":"ROW()","v":389}]
[{"$f":"ROW()","v":390}]
[{"$f":"ROW()","v":391}]
[{"$f":"ROW()","v":392}]
[{"$f":"ROW()","v":393}]
[{"$f":"ROW()","v":394}]
[{"$f":"ROW()","v":395}]
[{"$f":"ROW()","v":396}]
[{"$f":"ROW()","v":397}]
[{"$f":"ROW()","v":398}]
[{"$f":"ROW()","v":399}]
[{"$f":"ROW()","v":400}]
[{"$f":"ROW()","v":401}]
[{"$f":"ROW()","v":402}]
[{"$f":"ROW()","v":403}]
[{"$f":"ROW()","v":404}]
[{"$f":"ROW()","v":405}]
[{"$f":"ROW()","v":406}]
[{"$f":"ROW()","v":407}]
[{"$f":"ROW()","v":408}]
[{"$f":"ROW()","v":409}]
[{"$f":"ROW()","v":410}]
[{"$f":"ROW()","v":411}]
[{"$f":"ROW()","v":412}]
[{"$f":"ROW()","v":413}]
[{"$f":"ROW()","v":414}]
[{"$f":"ROW()","v":415}]
[{"$f":"ROW()","v":416}]
[{"$f":"ROW()","v":417}]
[{"$f":"ROW()","v":418}]
[{"$f":"ROW()","v":419}]
[{"$f":"ROW()","v":420}]
[{"$f":"ROW()","v":421}]
[{"$f":"ROW()","v":422}]
[{"$f":"ROW()","v":423}]
[{"$f":"ROW()","v":424}]
[{"$f":"ROW()","v":425}]
[{"$f":"ROW()","v":426}]
[{"$f":"ROW()","v":427}]
[{"$f":"ROW()","v":428}]
[{"$f":"ROW()","v":429}]
[{"$f":"ROW()","v":430}]
[{"$f":"ROW()","v":431}]
[{"$f":"ROW()","v":432}]
[{"$f":"ROW()","v":433}]
[{"$f":"ROW()","v":434}]
[{"$f":"ROW()","v":435}]
[{"$f":"ROW()","v":436}]
[{"$f":"ROW()","v":437}]
[{"$f":"ROW()","v":438}]
[{"$f":"ROW()","v":439}]
[{"$f":"ROW()","v":440}]
[{"$f":"ROW()","v":441}]
[{"$f":"ROW()","v":442}]
[{"$f":"ROW()","v":443}]
[{"$f":"ROW()","v":444}]
[{"$f":"ROW()","v":445}]
[{"$f":"ROW()","v":446}]
[{"$f":"ROW()","v":447}]
[{"$f":"ROW()","v":448}]
[{"$f":"ROW()","v":449}]
[{"$f":"ROW()","v":450}]
[{"$f":"ROW()","v":451}]
[{"$f":"ROW()","v":452}]
[{"$f":"ROW()","v":453}]
[{"$f":"ROW()","v":454}]
[{"$f":"ROW()","v":455}]
[{"$f":"ROW()","v":456}]
[{"$f":"ROW()","v":457}]
[{"$f":"ROW()","v":458}]
[{"$f":"ROW()","v":459}]
[{"$f":"ROW()","v":460}]
[{"$f":"ROW()","v":461}]
[{"$f":"ROW()","v":462}]
[{"$f":"ROW()","v":463}]
[{"$f":"ROW()","v":464}]
[{"$f":"ROW()","v":465}]
[{"$f":"ROW()","v":466}]
[{"$f":"ROW()","v":467}]
[{"$f":"ROW()","v":468}]
[{"$f":"ROW()","v":469}]
[{"$f":"ROW()","v":470}]
[{"$f":"ROW()","v":471}]
[{"$f":"ROW()","v":472}]
[{"$f":"ROW()","v":473}]
[{"$f":"ROW()","v":474}]
[{"$f":"ROW()","v":475}]
[{"$f":"ROW()","v":476}]
[{"$f":"ROW()","v":477}]
[{"$f":"ROW()","v":478}]
[{"$f":"ROW()","v":479}]
[{"$f":"ROW()","v":480}]
[{"$f":"ROW()","v":481}]
[{"$f":"ROW()","v":482}]
[{"$f":"ROW()","v":483}]
[{"$f":"ROW()","v":484}]
[{"$f":"ROW()","v":485}]
[{"$f":"ROW()","v":486}]
[{"$f":"ROW()","v":487}]
[{"$f":"ROW()","v":488}]
[{"$f":"ROW()","v":489}]
[{"$f":"ROW()","v":490}]
[{"$f":"ROW()","v":491}]
[{"$f":"ROW()","v":492}]
[{"$f":"ROW()","v":493}]
[{"$f":"ROW()","v":494}]
[{"$f":"ROW()","v":495}]
[{"$f":"ROW()","v":496}]
[{"$f":"ROW()","v":497}]
[{"$f":"ROW()","v":498}]
[{"$f":"ROW()","v":499}]
[{"$f":"ROW()","v":500}]
[{"$f":"ROW()","v":501}]
[{"$f":"ROW()","v":502}]
[{"$f":"ROW()","v":503}]
[{"$f":"ROW()","v":504}]
[{"$f":"ROW()","v":505}]
[{"$f":"ROW()","v":506}]
[{"$f":"ROW()","v":507}]
[{"$f":"ROW()","v":508}]
[{"$f":"ROW()","v":509}]
[{"$f":"ROW()","v":510}]
[{"$f":"ROW()","v":511}]
[{"$f":"ROW()","v":512}]
[{"$f":"ROW()","v":513}]
[{"$f":"ROW()","v":514}]
[{"$f":"ROW()","v":515}]
[{"$f":"ROW()","v":516}]
[{"$f":"ROW()","v":517}]
[{"$f":"ROW()","v":518}]
[{"$f":"ROW()","v":519}]
[{"$f":"ROW()","v":520}]
[{"$f":"ROW()","v":521}]
[{"$f":"ROW()","v":522}]
[{"$f":"ROW()","v":523}]
[{"$f":"ROW()","v":524}]
[{"$f":"ROW()","v":525}]
[{"$f":"ROW()","v":526}]
[{"$f":"ROW()","v":527}]
[{"$f":"ROW()","v":528}]
[{"$f":"ROW()","v":529}]
[{"$f":"ROW()","v":530}]
[{"$f":"ROW()","v":531}]
[{"$f":"ROW()","v":532}]
[{"$f":"ROW()","v":533}]
[{"$f":"ROW()","v":534}]
[{"$f":"ROW()","v":535}]
[{"$f":"ROW()","v":536}]
[{"$f":"ROW()","v":537}]
[{"$f":"ROW()","v":538}]
[{"$f":"ROW()","v":539}]
[{"$f":"ROW()","v":540}]
[{"$f":"ROW()","v":541}]
[{"$f":"ROW()","v":542}]
[{"$f":"ROW()","v":543}]
[{"$f":"ROW()","v":544}]
[{"$f":"ROW()","v":545}]
[{"$f":"ROW()","v":546}]
[{"$f":"ROW()","v":547}]
[{"$f":"ROW()","v":548}]
[{"$f":"ROW()","v":549}]
[{"$f":"ROW()","v":550}]
[{"$f":"ROW()","v":551}]
[{"$f":"ROW()","v":552}]
[{"$f":"ROW()","v":553}]
[{"$f":"ROW()","v":554}]
[{"$f":"ROW()","v":555}]
[{"$f":"ROW()","v":556}]
[{"$f":"ROW()","v":557}]
[{"$f":"ROW()","v":558}]
[{"$f":"ROW()","v":559}]
[{"$f":"ROW()","v":560}]
[{"$f":"ROW()","v":561}]
[{"$f":"ROW()","v":562}]
[{"$f":"ROW()","v":563}]
[{"$f":"ROW()","v":564}]
[{"$f":"ROW()","v":565}]
[{"$f":"ROW()","v":566}]
[{"$f":"ROW()","v":567}]
[{"$f":"ROW()","v":568}]
[{"$f":"ROW()","v":569}]
[{"$f":"ROW()","v":570}]
[{"$f":"ROW()","v":571}]
[{"$f":"ROW()","v":572}]
[{"$f":"ROW()","v":573}]
[{"$f":"ROW()","v":574}]
[{"$f":"ROW()","v":575}]
[{"$f":"ROW()","v":576}]
[{"$f":"ROW()","v":577}]
[{"$f":"ROW()","v":578}]
[{"$f":"ROW()","v":579}]
[{"$f":"ROW()","v":580}]
[{"$f":"ROW()","v":581}]
[{"$f":"ROW()","v":582}]
[{"$f":"ROW()","v":583}]
[{"$f":"ROW()","v":584}]
[{"$f":"ROW()","v":585}]
[{"$f":"ROW()","v":586}]
[{"$f":"ROW()","v":587}]
[{"$f":"ROW()","v":588}]
[{"$f":"ROW()","v":589}]
[{"$f":"ROW()","v":590}]
[{"$f":"ROW()","v":591}]
[{"$f":"ROW()","v":592}]
[{"$f":"ROW()","v":593}]
[{"$f":"ROW()","v":594}]
[{"$f":"ROW()","v":595}]
[{"$f":"ROW()","v":596}]
[{"$f":"ROW()","v":597}]
[{"$f":"ROW()","v":598}]
[{"$f":"ROW()","v":599}]
[{"$f":"ROW()","v":600}]
[{"$f":"ROW()","v":601}]
[{"$f":"ROW()","v":602}]
[{"$f":"ROW()","v":603}]
[{"$f":"ROW()","v":604}]
[{"$f":"ROW()","v":605}]
[{"$f":"ROW()","v":606}]
[{"$f":"ROW()","v":607}]
[{"$f":"ROW()","v":608}]
[{"$f":"ROW()","v":609}]
[{"$f":"ROW()","v":610}]
[{"$f":"ROW()","v":611}]
[{"$f":"ROW()","v":612}]
[{"$f":"ROW()","v":613}]
[{"$f":"ROW()","v":614}]
[{"$f":"ROW()","v":615}]
[{"$f":"ROW()","v":616}]
[{"$f":"ROW()","v":617}]
[{"$f":"ROW()","v":618}]
[{"$f":"ROW()","v":619}]
[{"$f":"ROW()","v":620}]
[{"$f":"ROW()","v":621}]
[{"$f":"ROW()","v":622}]
[{"$f":"ROW()","v":623}]
[{"$f":"ROW()","v":624}]
[{"$f":"ROW()","v":625}]
[{"$f":"ROW()","v":626}]
[{"$f":"ROW()","v":627}]
[{"$f":"ROW()","v":628}]
[{"$f":"ROW()","v":629}]
[{"$f":"ROW()","v":630}]
[{"$f":"ROW()","v":631}]
[{"$f":"ROW()","v":632}]
[{"$f":"ROW()","v":633}]
[{"$f":"ROW()","v":634}]
[{"$f":"ROW()","v":635}]
[{"$f":"ROW()","v":636}]
[{"$f":"ROW()","v":637}]
[{"$f":"ROW()","v":638}]
[{"$f":"ROW()","v":639}]
[{"$f":"ROW()","v":640}]
[{"$f":"ROW()","v":641}]
[{"$f":"ROW()","v":642}]
[{"$f":"ROW()","v":643}]
[{"$f":"ROW()","v":644}]
[{"$f":"ROW()","v":645}]
[{"$f":"ROW()","v":646}]
[{"$f":"ROW()","v":647}]
[{"$f":"ROW()","v":648}]
[{"$f":"ROW()","v":649}]
[{"$f":"ROW()","v":650}]
[{"$f":"ROW()","v":651}]
[{"$f":"ROW()","v":652}]
[{"$f":"ROW()","v":653}]
[{"$f":"ROW()","v":654}]
[{"$f":"ROW()","v":655}]
[{"$f":"ROW()","v":656}]
[{"$f":"ROW()","v":657}]
[{"$f":"ROW()","v":658}]
[{"$f":"ROW()","v":659}]
[{"$f":"ROW()","v":660}]
[{"$f":"ROW()","v":661}]
[{"$f":"ROW()","v":662}]
[{"$f":"ROW()","v":663}]
[{"$f":"ROW()","v":664}]
[{"$f":"ROW()","v":665}]
[{"$f":"ROW()","v":666}]
[{"$f":"ROW()","v":667}]
[{"$f":"ROW()","v":668}]
[{"$f":"ROW()","v":669}]
[{"$f":"ROW()","v":670}]
[{"$f":"ROW()","v":671}]
[{"$f":"ROW()","v":672}]
[{"$f":"ROW()","v":673}]
[{"$f":"ROW()","v":674}]
[{"$f":"ROW()","v":675}]
[{"$f":"ROW()","v":676}]
[{"$f":"ROW()","v":677}]
[{"$f":"ROW()","v":678}]
[{"$f":"ROW()","v":679}]
[{"$f":"ROW()","v":680}]
[{"$f":"ROW()","v":681}]
[{"$f":"ROW()","v":682}]
[{"$f":"ROW()","v":683}]
[{"$f":"ROW()","v":684}]
[{"$f":"ROW()","v":685}]
[{"$f":"ROW()","v":686}]
[{"$f":"ROW()","v":687}]
[{"$f":"ROW()","v":688}]
[{"$f":"ROW()","v":689}]
[{"$f":"ROW()","v":690}]
[{"$f":"ROW()","v":691}]
[{"$f":"ROW()","v":692}]
[{"$f":"ROW()","v":693}]
[{"$f":"ROW()","v":694}]
[{"$f":"ROW()","v":695}]
[{"$f":"ROW()","v":696}]
[{"$f":"ROW()","v":697}]
[{"$f":"ROW()","v":698}]
[{"$f":"ROW()","v":699}]
[{"$f":"ROW()","v":700}]
[{"$f":"ROW()","v":701}]
[{"$f":"ROW()","v":702}]
[{"$f":"ROW()","v":703}]
[{"$f":"ROW()","v":704}]
[{"$f":"ROW()","v":705}]
[{"$f":"ROW()","v":706}]
[{"$f":"ROW()","v":707}]
[{"$f":"ROW()","v":708}]
[{"$f":"ROW()","v":709}]
[{"$f":"ROW()","v":710}]
[{"$f":"ROW()","v":711}]
[{"$f":"ROW()","v":712}]
[{"$f":"ROW()","v":713}]
[{"$f":"ROW()","v":714}]
[{"$f":"ROW()","v":715}]
[{"$f":"ROW()","v":716}]
[{"$f":"ROW()","v":717}]
[{"$f":"ROW()","v":718}]
[{"$f":"ROW()","v":719}]
[{"$f":"ROW()","v":720}]
[{"$f":"ROW()","v":721}]
[{"$f":"ROW()","v":722}]
[{"$f":"ROW()","v":723}]
[{"$f":"ROW()","v":724}]
[{"$f":"ROW()","v":725}]
[{"$f":"ROW()","v":726}]
[{"$f":"ROW()","v":727}]
[{"$f":"ROW()","v":728}]
[{"$f":"ROW()","v":729}]
[{"$f":"ROW()","v":730}]
[{"$f":"ROW()","v":731}]
[{"$f":"ROW()","v":732}]
[{"$f":"ROW()","v":733}]
[{"$f":"ROW()","v":734}]
[{"$f":"ROW()","v":735}]
[{"$f":"ROW()","v":736}]
[{"$f":"ROW()","v":737}]
[{"$f":"ROW()","v":738}]
[{"$f":"ROW()","v":739}]
[{"$f":"ROW()","v":740}]
[{"$f":"ROW()","v":741}]
[{"$f":"ROW()","v":742}]
[{"$f":"ROW()","v":743}]
[{"$f":"ROW()","v":744}]
[{"$f":"ROW()","v":745}]
[{"$f":"ROW()","v":746}]
[{"$f":"ROW()","v":747}]
[{"$f":"ROW()","v":748}]
[{"$f":"ROW()","v":749}]
[{"$f":"ROW()","v":750}]
[{"$f":"ROW()","v":751}]
[{"$f":"ROW()","v":752}]
[{"$f":"ROW()","v":753}]
[{"$f":"ROW()","v":754}]
[{"$f":"ROW()","v":755}]
[{"$f":"ROW()","v":756}]
[{"$f":"ROW()","v":757}]
[{"$f":"ROW()","v":758}]
[{"$f":"ROW()","v":759}]
[{"$f":"ROW()","v":760}]
[{"$f":"ROW()","v":761}]
[{"$f":"ROW()","v":762}]
[{"$f":"ROW()","v":763}]
[{"$f":"ROW()","v":764}]
[{"$f":"ROW()","v":765}]
[{"$f":"ROW()","v":766}]
[{"$f":"ROW()","v":767}]
[{"$f":"ROW()","v":768}]
[{"$f":"ROW()","v":769}]
[{"$f":"ROW()","v":770}]
[{"$f":"ROW()","v":771}]
[{"$f":"ROW()","v":772}]
[{"$f":"ROW()","v":773}]
[{"$f":"ROW()","v":774}]
[{"$f":"ROW()","v":775}]
[{"$f":"ROW()","v":776}]
[{"$f":"ROW()","v":777}]
[{"$f":"ROW()","v":778}]
[{"$f":"ROW()","v":779}]
[{"$f":"ROW()","v":780}]
[{"$f":"ROW()","v":781}]
[{"$f":"ROW()","v":782}]
[{"$f":"ROW()","v":783}]
[{"$f":"ROW()","v":784}]
[{"$f":"ROW()","v":785}]
[{"$f":"ROW()","v":786}]
[{"$f":"ROW()","v":787}]
[{"$f":"ROW()","v":788}]
[{"$f":"ROW()","v":789}]
[{"$f":"ROW()","v":790}]
[{"$f":"ROW()","v":791}]
[{"$f":"ROW()","v":792}]
[{"$f":"ROW()","v":793}]
[{"$f":"ROW()","v":794}]
[{"$f":"ROW()","v":795}]
[{"$f":"ROW()","v":796}]
[{"$f":"ROW()","v":797}]
[{"$f":"ROW()","v":798}]
[{"$f":"ROW()","v":799}]
[{"$f":"ROW()","v":800}]
[{"$f":"ROW()","v":801}]
[{"$f":"ROW()","v":802}]
[{"$f":"ROW()","v":803}]
[{"$f":"ROW()","v":804}]
[{"$f":"ROW()","v":805}]
[{"$f":"ROW()","v":806}]
[{"$f":"ROW()","v":807}]
[{"$f":"ROW()","v":808}]
[{"$f":"ROW()","v":809}]
[{"$f":"ROW()","v":810}]
[{"$f":"ROW()","v":811}]
[{"$f":"ROW()","v":812}]
[{"$f":"ROW()","v":813}]
[{"$f":"ROW()","v":814}]
[{"$f":"ROW()","v":815}]
[{"$f":"ROW()","v":816}]
[{"$f":"ROW()","v":817}]
[{"$f":"ROW()","v":818}]
[{"$f":"ROW()","v":819}]
[{"$f":"ROW()","v":820}]
[{"$f":"ROW()","v":821}]
[{"$f":"ROW()","v":822}]
[{"$f":"ROW()","v":823}]
[{"$f":"ROW()","v":824}]
[{"$f":"ROW()","v":825}]
[{"$f":"ROW()","v":826}]
[{"$f":"ROW()","v":827}]
[{"$f":"ROW()","v":828}]
[{"$f":"ROW()","v":829}]
[{"$f":"ROW()","v":830}]
[{"$f":"ROW()","v":831}]
[{"$f":"ROW()","v":832}]
[{"$f":"ROW()","v":833}]
[{"$f":"ROW()","v":834}]
[{"$f":"ROW()","v":835}]
[{"$f":"ROW()","v":836}]
[{"$f":"ROW()","v":837}]
[{"$f":"ROW()","v":838}]
[{"$f":"ROW()","v":839}]
[{"$f":"ROW()","v":840}]
[{"$f":"ROW()","v":841}]
[{"$f":"ROW()","v":842}]
[{"$f":"ROW()","v":843}]
[{"$f":"ROW()","v":844}]
[{"$f":"ROW()","v":845}]
[{"$f":"ROW()","v":846}]
[{"$f":"ROW()","v":847}]
[{"$f":"ROW()","v":848}]
[{"$f":"ROW()","v":849}]
[{"$f":"ROW()","v":850}]
[{"$f":"ROW()","v":851}]
[{"$f":"ROW()","v":852}]
[{"$f":"ROW()","v":853}]
[{"$f":"ROW()","v":854}]
[{"$f":"ROW()","v":855}]
[{"$f":"ROW()","v":856}]
[{"$f":"ROW()","v":857}]
[{"$f":"ROW()","v":858}]
[{"$f":"ROW()","v":859}]
[{"$f":"ROW()","v":860}]
[{"$f":"ROW()","v":861}]
[{"$f":"ROW()","v":862}]
[{"$f":"ROW()","v":863}]
[{"$f":"ROW()","v":864}]
[{"$f":"ROW()","v":865}]
[{"$f":"ROW()","v":866}]
[{"$f":"ROW()","v":867}]
[{"$f":"ROW()","v":868}]
[{"$f":"ROW()","v":869}]
[{"$f":"ROW()","v":870}]
[{"$f":"ROW()","v":871}]
[{"$f":"ROW()","v":872}]
[{"$f":"ROW()","v":873}]
[{"$f":"ROW()","v":874}]
[{"$f":"ROW()","v":875}]
[{"$f":"ROW()","v":876}]
[{"$f":"ROW()","v":877}]
[{"$f":"ROW()","v":878}]
[{"$f":"ROW()","v":879}]
[{"$f":"ROW()","v":880}]
[{"$f":"ROW()","v":881}]
[{"$f":"ROW()","v":882}]
[{"$f":"ROW()","v":883}]
[{"$f":"ROW()","v":884}]
[{"$f":"ROW()","v":885}]
[{"$f":"ROW()","v":886}]
[{"$f":"ROW()","v":887}]
[{"$f":"ROW()","v":888}]
[{"$f":"ROW()","v":889}]
[{"$f":"ROW()","v":890}]
[{"$f":"ROW()","v":891}]
[{"$f":"ROW()","v":892}]
[{"$f":"ROW()","v":893}]
[{"$f":"ROW()","v":894}]
[{"$f":"ROW()","v":895}]
[{"$f":"ROW()","v":896}]
[{"$f":"ROW()","v":897}]
[{"$f":"ROW()","v":898}]
[{"$f":"ROW()","v":899}]
[{"$f":"ROW()","v":900}]
[{"$f":"ROW()","v":901}]
[{"$f":"ROW()","v":902}]
[{"$f":"ROW()","v":903}]
[{"$f":"ROW()","v":904}]
[{"$f":"ROW()","v":905}]
[{"$f":"ROW()","v":906}]
[{"$f":"ROW()","v":907}]
[{"$f":"ROW()","v":908}]
[{"$f":"ROW()","v":909}]
[{"$f":"ROW()","v":910}]
[{"$f":"ROW()","v":911}]
[{"$f":"ROW()","v":912}]
[{"$f":"ROW()","v":913}]
[{"$f":"ROW()","v":914}]
[{"$f":"ROW()","v":915}]
[{"$f":"ROW()","v":916}]
[{"$f":"ROW()","v":917}]
[{"$f":"ROW()","v":918}]
[{"$f":"ROW()","v":919}]
[{"$f":"ROW()","v":920}]
[{"$f":"ROW()","v":921}]
[{"$f":"ROW()","v":922}]
[{"$f":"ROW()","v":923}]
[{"$f":"ROW()","v":924}]
[{"$f":"ROW()","v":925}]
[{"$f":"ROW()","v":926}]
[{"$f":"ROW()","v":927}]
[{"$f":"ROW()","v":928}]
[{"$f":"ROW()","v":929}]
[{"$f":"ROW()","v":930}]
[{"$f":"ROW()","v":931}]
[{"$f":"ROW()","v":932}]
[{"$f":"ROW()","v":933}]
[{"$f":"ROW()","v":934}]
[{"$f":"ROW()","v":935}]
[{"$f":"ROW()","v":936}]
[{"$f":"ROW()","v":937}]
[{"$f":"ROW()","v":938}]
[{"$f":"ROW()","v":939}]
[{"$f":"ROW()","v":940}]
[{"$f":"ROW()","v":941}]
[{"$f":"ROW()","v":942}]
[{"$f":"ROW()","v":943}]
[{"$f":"ROW()","v":944}]
[{"$f":"ROW()","v":945}]
[{"$f":"ROW()","v":946}]
[{"$f":"ROW()","v":947}]
[{"$f":"ROW()","v":948}]
[{"$f":"ROW()","v":949}]
[{"$f":"ROW()","v":950}]
[{"$f":"ROW()","v":951}]
[{"$f":"ROW()","v":952}]
[{"$f":"ROW()","v":953}]
[{"$f":"ROW()","v":954}]
[{"$f":"ROW()","v":955}]
[{"$f":"ROW()","v":956}]
[{"$f":"ROW()","v":957}]
[{"$f":"ROW()","v":958}]
[{"$f":"ROW()","v":959}]
[{"$f":"ROW()","v":960}]
[{"$f":"ROW()","v":961}]
[{"$f":"ROW()","v":962}]
[{"$f":"ROW()","v":963}]
[{"$f":"ROW()","v":964}]
[{"$f":"ROW()","v":965}]
[{"$f":"ROW()","v":966}]
[{"$f":"ROW()","v":967}]
[{"$f":"ROW()","v":968}]
[{"$f":"ROW()","v":969}]
[{"$f":"ROW()","v":970}]
[{"$f":"ROW()","v":971}]
[{"$f":"ROW()","v":972}]
[{"$f":"ROW()","v":973}]
[{"$f":"ROW()","v":974}]
[{"$f":"ROW()","v":975}]
[{"$f":"ROW()","v":976}]
[{"$f":"ROW()","v":977}]
[{"$f":"ROW()","v":978}]
[{"$f":"ROW()","v":979}]
[{"$f":"ROW()","v":980}]
[{"$f":"ROW()","v":981}]
[{"$f":"ROW()","v":982}]
[{"$f":"ROW()","v":983}]
[{"$f":"ROW()","v":984}]
[{"$f":"ROW()","v":985}]
[{"$f":"ROW()","v":986}]
[{"$f":"ROW()","v":987}]
[{"$f":"ROW()","v":988}]
[{"$f":"ROW()","v":989}]
[{"$f":"ROW()","v":990}]
[{"$f":"ROW()","v":991}]
[{"$f":"ROW()","v":992}]
[{"$f":"ROW()","v":993}]
[{"$f":"ROW()","v":994}]
[{"$f":"ROW()","v":995}]
[{"$f":"ROW()","v":996}]
[{"$f":"ROW()","v":997}]
[{"$f":"ROW()","v":998}]
[{"$f":"ROW()","v":999}]
[{"$f":"ROW()","v":1000}]
[{"$f":"ROW()","v":1001}]
[{"$f":"ROW()","v":1002}]
[{"$f":"ROW()","v":1003}]
[{"$f":"ROW()","v":1004}]
[{"$f":"ROW()","v":1005}]
[{"$f":"ROW()","v":1006}]
[{"$f":"ROW()","v":1007}]
[{"$f":"ROW()","v":1008}]
[{"$f":"ROW()","v":1009}]
[{"$f":"ROW()","v":1010}]
[{"$f":"ROW()","v":1011}]
[{"$f":"ROW()","v":1012}]
[{"$f":"ROW()","v":1013}]
[{"$f":"ROW()","v":1014}]
[{"$f":"ROW()","v":1015}]
[{"$f":"ROW()","v":1016}]
[{"$f":"ROW()","v":1017}]
[{"$f":"ROW()","v":1018}]
[{"$f":"ROW()","v":1019}]
[{"$f":"ROW()","v":1020}]
[{"$f":"ROW()","v":1021}]
[{"$f":"ROW()","v":1022}]
[{"$f":"ROW()","v":1023}]
[{"$f":"ROW()","v":1024}]
[{"$f":"ROW()","v":1025}]
[{"$f":"ROW()","v":1026}]
[{"$f":"ROW()","v":1027}]
[{"$f":"ROW()","v":1028}]
[{"$f":"ROW()","v":1029}]
[{"$f":"ROW()","v":1030}]
[{"$f":"ROW()","v":1031}]
[{"$f":"ROW()","v":1032}]
[{"$f":"ROW()","v":1033}]
[{"$f":"ROW()","v":1034}]
[{"$f":"ROW()","v":1035}]
[{"$f":"ROW()","v":1036}]
[{"$f":"ROW()","v":1037}]
[{"$f":"ROW()","v":1038}]
[{"$f":"ROW()","v":1039}]
[{"$f":"ROW()","v":1040}]
[{"$f":"ROW()","v":1041}]
[{"$f":"ROW()","v":1042}]
[{"$f":"ROW()","v":1043}]
[{"$f":"ROW()","v":1044}]
[{"$f":"ROW()","v":1045}]
[{"$f":"ROW()","v":1046}]
[{"$f":"ROW()","v":1047}]
[{"$f":"ROW()","v":1048}]
[{"$f":"ROW()","v":1049}]
[{"$f":"ROW()","v":1050}]
[{"$f":"ROW()","v":1051}]
[{"$f":"ROW()","v":1052}]
[{"$f":"ROW()","v":1053}]
[{"$f":"ROW()","v":1054}]
[{"$f":"ROW()","v":1055}]
[{"$f":"ROW()","v":1056}]
[{"$f":"ROW()","v":1057}]
[{"$f":"ROW()","v":1058}]
[{"$f":"ROW()","v":1059}]
[{"$f":"ROW()","v":1060}]
[{"$f":"ROW()","v":1061}]
[{"$f":"ROW()","v":1062}]
[{"$f":"ROW()","v":1063}]
[{"$f":"ROW()","v":1064}]
[{"$f":"ROW()","v":1065}]
[{"$f":"ROW()","v":1066}]
[{"$f":"ROW()","v":1067}]
[{"$f":"ROW()","v":1068}]
[{"$f":"ROW()","v":1069}]
[{"$f":"ROW()","v":1070}]
[{"$f":"ROW()","v":1071}]
[{"$f":"ROW()","v":1072}]
[{"$f":"ROW()","v":1073}]
[{"$f":"ROW()","v":1074}]
[{"$f":"ROW()","v":1075}]
[{"$f":"ROW()","v":1076}]
[{"$f":"ROW()","v":1077}]
[{"$f":"ROW()","v":1078}]
[{"$f":"ROW()","v":1079}]
[{"$f":"ROW()","v":1080}]
[{"$f":"ROW()","v":1081}]
[{"$f":"ROW()","v":1082}]
[{"$f":"ROW()","v":1083}]
[{"$f":"ROW()","v":1084}]
[{"$f":"ROW()","v":1085}]
[{"$f":"ROW()","v":1086}]
[{"$f":"ROW()","v":1087}]
[{"$f":"ROW()","v":1088}]
[{"$f":"ROW()","v":1089}]
[{"$f":"ROW()","v":1090}]
[{"$f":"ROW()","v":1091}]
[{"$f":"ROW()","v":1092}]
[{"$f":"ROW()","v":1093}]
[{"$f":"ROW()","v":1094}]
[{"$f":"ROW()","v":1095}]
[{"$f":"ROW()","v":1096}]
[{"$f":"ROW()","v":1097}]
[{"$f":"ROW()","v":1098}]
[{"$f":"ROW()","v":1099}]
[{"$f":"ROW()","v":1100}]
[{"$f":"ROW()","v":1101}]
[{"$f":"ROW()","v":1102}]
[{"$f":"ROW()","v":1103}]
[{"$f":"ROW()","v":1104}]
[{"$f":"ROW()","v":1105}]
[{"$f":"ROW()","v":1106}]
[{"$f":"ROW()","v":1107}]
[{"$f":"ROW()","v":1108}]
[{"$f":"ROW()","v":1109}]
[{"$f":"ROW()","v":1110}]
[{"$f":"ROW()","v":1111}]
[{"$f":"ROW()","v":1112}]
[{"$f":"ROW()","v":1113}]
[{"$f":"ROW()","v":1114}]
[{"$f":"ROW()","v":1115}]
[{"$f":"ROW()","v":1116}]
[{"$f":"ROW()","v":1117}]
[{"$f":"ROW()","v":1118}]
[{"$f":"ROW()","v":1119}]
[{"$f":"ROW()","v":1120}]
[{"$f":"ROW()","v":1121}]
[{"$f":"ROW()","v":1122}]
[{"$f":"ROW()","v":1123}]
[{"$f":"ROW()","v":1124}]
[{"$f":"ROW()","v":1125}]
[{"$f":"ROW()","v":1126}]
[{"$f":"ROW()","v":1127}]
[{"$f":"ROW()","v":1128}]
[{"$f":"ROW()","v":1129}]
[{"$f":"ROW()","v":1130}]
[{"$f":"ROW()","v":1131}]
[{"$f":"ROW()","v":1132}]
[{"$f":"ROW()","v":1133}]
[{"$f":"ROW()","v":1134}]
[{"$f":"ROW()","v":1135}]
[{"$f":"ROW()","v":1136}]
[{"$f":"ROW()","v":1137}]
[{"$f":"ROW()","v":1138}]
[{"$f":"ROW()","v":1139}]
[{"$f":"ROW()","v":1140}]
[{"$f":"ROW()","v":1141}]
[{"$f":"ROW()","v":1142}]
[{"$f":"ROW()","v":1143}]
[{"$f":"ROW()","v":1144}]
[{"$f":"ROW()","v":1145}]
[{"$f":"ROW()","v":1146}]
[{"$f":"ROW()","v":1147}]
[{"$f":"ROW()","v":1148}]
[{"$f":"ROW()","v":1149}]
[{"$f":"ROW()","v":1150}]
[{"$f":"ROW()","v":1151}]
[{"$f":"ROW()","v":1152}]
[{"$f":"ROW()","v":1153}]
[{"$f":"ROW()","v":1154}]
[{"$f":"ROW()","v":1155}]
[{"$f":"ROW()","v":1156}]
[{"$f":"ROW()","v":1157}]
[{"$f":"ROW()","v":1158}]
[{"$f":"ROW()","v":1159}]
[{"$f":"ROW()","v":1160}]
[{"$f":"ROW()","v":1161}]
[{"$f":"ROW()","v":1162}]
[{"$f":"ROW()","v":1163}]
[{"$f":"ROW()","v":1164}]
[{"$f":"ROW()","v":1165}]
[{"$f":"ROW()","v":1166}]
[{"$f":"ROW()","v":1167}]
[{"$f":"ROW()","v":1168}]
[{"$f":"ROW()","v":1169}]
[{"$f":"ROW()","v":1170}]
[{"$f":"ROW()","v":1171}]
[{"$f":"ROW()","v":1172}]
[{"$f":"ROW()","v":1173}]
[{"$f":"ROW()","v":1174}]
[{"$f":"ROW()","v":1175}]
[{"$f":"ROW()","v":1176}]
[{"$f":"ROW()","v":1177}]
[{"$f":"ROW()","v":1178}]
[{"$f":"ROW()","v":1179}]
[{"$f":"ROW()","v":1180}]
[{"$f":"ROW()","v":1181}]
[{"$f":"ROW()","v":1182}]
[{"$f":"ROW()","v":1183}]
[{"$f":"ROW()","v":1184}]
[{"$f":"ROW()","v":1185}]
[{"$f":"ROW()","v":1186}]
[{"$f":"ROW()","v":1187}]
[{"$f":"ROW()","v":1188}]
[{"$f":"ROW()","v":1189}]
[{"$f":"ROW()","v":1190}]
[{"$f":"ROW()","v":1191}]
[{"$f":"ROW()","v":1192}]
[{"$f":"ROW()","v":1193}]
[{"$f":"ROW()","v":1194}]
[{"$f":"ROW()","v":1195}]
[{"$f":"ROW()","v":1196}]
[{"$f":"ROW()","v":1197}]
[{"$f":"ROW()","v":1198}]
[{"$f":"ROW()","v":1199}]
[{"$f":"ROW()","v":1200}]
[{"$f":"ROW()","v":1201}]
[{"$f":"ROW()","v":1202}]
[{"$f":"ROW()","v":1203}]
[{"$f":"ROW()","v":1204}]
[{"$f":"ROW()","v":1205}]
[{"$f":"ROW()","v":1206}]
[{"$f":"ROW()","v":1207}]
[{"$f":"ROW()","v":1208}]
[{"$f":"ROW()","v":1209}]
[{"$f":"ROW()","v":1210}]
[{"$f":"ROW()","v":1211}]
[{"$f":"ROW()","v":1212}]
[{"$f":"ROW()","v":1213}]
[{"$f":"ROW()","v":1214}]
[{"$f":"ROW()","v":1215}]
[{"$f":"ROW()","v":1216}]
[{"$f":"ROW()","v":1217}]
[{"$f":"ROW()","v":1218}]
[{"$f":"ROW()","v":1219}]
[{"$f":"ROW()","v":1220}]
[{"$f":"ROW()","v":1221}]
[{"$f":"ROW()","v":1222}]
[{"$f":"ROW()","v":1223}]
[{"$f":"ROW()","v":1224}]
[{"$f":"ROW()","v":1225}]
[{"$f":"ROW()","v":1226}]
[{"$f":"ROW()","v":1227}]
[{"$f":"ROW()","v":1228}]
[{"$f":"ROW()","v":1229}]
[{"$f":"ROW()","v":1230}]
[{"$f":"ROW()","v":1231}]
[{"$f":"ROW()","v":1232}]
[{"$f":"ROW()","v":1233}]
[{"$f":"ROW()","v":1234}]
[{"$f":"ROW()","v":1235}]
[{"$f":"ROW()","v":1236}]
[{"$f":"ROW()","v":1237}]
[{"$f":"ROW()","v":1238}]
[{"$f":"ROW()","v":1239}]
[{"$f":"ROW()","v":1240}]
[{"$f":"ROW()","v":1241}]
[{"$f":"ROW()","v":1242}]
[{"$f":"ROW()","v":1243}]
[{"$f":"ROW()","v":1244}]
[{"$f":"ROW()","v":1245}]
[{"$f":"ROW()","v":1246}]
[{"$f":"ROW()","v":1247}]
[{"$f":"ROW()","v":1248}]
[{"$f":"ROW()","v":1249}]
[{"$f":"ROW()","v":1250}]
[{"$f":"ROW()","v":1251}]
[{"$f":"ROW()","v":1252}]
[{"$f":"ROW()","v":1253}]
[{"$f":"ROW()","v":1254}]
[{"$f":"ROW()","v":1255}]
[{"$f":"ROW()","v":1256}]
[{"$f":"ROW()","v":1257}]
[{"$f":"ROW()","v":1258}]
[{"$f":"ROW()","v":1259}]
[{"$f":"ROW()","v":1260}]
[{"$f":"ROW()","v":1261}]
[{"$f":"ROW()","v":1262}]
[{"$f":"ROW()","v":1263}]
[{"$f":"ROW()","v":1264}]
[{"$f":"ROW()","v":1265}]
[{"$f":"ROW()","v":1266}]
[{"$f":"ROW()","v":1267}]
[{"$f":"ROW()","v":1268}]
[{"$f":"ROW()","v":1269}]
[{"$f":"ROW()","v":1270}]
[{"$f":"ROW()","v":1271}]
[{"$f":"ROW()","v":1272}]
[{"$f":"ROW()","v":1273}]
[{"$f":"ROW()","v":1274}]
[{"$f":"ROW()","v":1275}]
[{"$f":"ROW()","v":1276}]
[{"$f":"ROW()","v":1277}]
[{"$f":"ROW()","v":1278}]
[{"$f":"ROW()","v":1279}]
[{"$f":"ROW()","v":1280}]
[{"$f":"ROW()","v":1281}]
[{"$f":"ROW()","v":1282}]
[{"$f":"ROW()","v":1283}]
[{"$f":"ROW()","v":1284}]
[{"$f":"ROW()","v":1285}]
[{"$f":"ROW()","v":1286}]
[{"$f":"ROW()","v":1287}]
[{"$f":"ROW()","v":1288}]
[{"$f":"ROW()","v":1289}]
[{"$f":"ROW()","v":1290}]
[{"$f":"ROW()","v":1291}]
[{"$f":"ROW()","v":1292}]
[{"$f":"ROW()","v":1293}]
[{"$f":"ROW()","v":1294}]
[{"$f":"ROW()","v":1295}]
[{"$f":"ROW()","v":1296}]
[{"$f":"ROW()","v":1297}]
[{"$f":"ROW()","v":1298}]
[{"$f":"ROW()","v":1299}]
[{"$f":"ROW()","v":1300}]
[{"$f":"ROW()","v":1301}]
[{"$f":"ROW()","v":1302}]
[{"$f":"ROW()","v":1303}]
[{"$f":"ROW()","v":1304}]
[{"$f":"ROW()","v":1305}]
[{"$f":"ROW()","v":1306}]
[{"$f":"ROW()","v":1307}]
[{"$f":"ROW()","v":1308}]
[{"$f":"ROW()","v":1309}]
[{"$f":"ROW()","v":1310}]
[{"$f":"ROW()","v":1311}]
[{"$f":"ROW()","v":1312}]
[{"$f":"ROW()","v":1313}]
[{"$f":"ROW()","v":1314}]
[{"$f":"ROW()","v":1315}]
[{"$f":"ROW()","v":1316}]
[{"$f":"ROW()","v":1317}]
[{"$f":"ROW()","v":1318}]
[{"$f":"ROW()","v":1319}]
[{"$f":"ROW()","v":1320}]
[{"$f":"ROW()","v":1321}]
[{"$f":"ROW()","v":1322}]
[{"$f":"ROW()","v":1323}]
[{"$f":"ROW()","v":1324}]
[{"$f":"ROW()","v":1325}]
[{"$f":"ROW()","v":1326}]
[{"$f":"ROW()","v":1327}]
[{"$f":"ROW()","v":1328}]
[{"$f":"ROW()","v":1329}]
[{"$f":"ROW()","v":1330}]
[{"$f":"ROW()","v":1331}]
[{"$f":"ROW()","v":1332}]
[{"$f":"ROW()","v":1333}]
[{"$f":"ROW()","v":1334}]
[{"$f":"ROW()","v":1335}]
[{"$f":"ROW()","v":1336}]
[{"$f":"ROW()","v":1337}]
[{"$f":"ROW()","v":1338}]
[{"$f":"ROW()","v":1339}]
[{"$f":"ROW()","v":1340}]
[{"$f":"ROW()","v":1341}]
[{"$f":"ROW()","v":1342}]
[{"$f":"ROW()","v":1343}]
[{"$f":"ROW()","v":1344}]
[{"$f":"ROW()","v":1345}]
[{"$f":"ROW()","v":1346}]
[{"$f":"ROW()","v":1347}]
[{"$f":"ROW()","v":1348}]
[{"$f":"ROW()","v":1349}]
[{"$f":"ROW()","v":1350}]
[{"$f":"ROW()","v":1351}]
[{"$f":"ROW()","v":1352}]
[{"$f":"ROW()","v":1353}]
[{"$f":"ROW()","v":1354}]
[{"$f":"ROW()","v":1355}]
[{"$f":"ROW()","v":1356}]
[{"$f":"ROW()","v":1357}]
[{"$f":"ROW()","v":1358}]
[{"$f":"ROW()","v":1359}]
[{"$f":"ROW()","v":1360}]
[{"$f":"ROW()","v":1361}]
[{"$f":"ROW()","v":1362}]
[{"$f":"ROW()","v":1363}]
[{"$f":"ROW()","v":1364}]
[{"$f":"ROW()","v":1365}]
[{"$f":"ROW()","v":1366}]
[{"$f":"ROW()","v":1367}]
[{"$f":"ROW()","v":1368}]
[{"$f":"ROW()","v":1369}]
[{"$f":"ROW()","v":1370}]
[{"$f":"ROW()","v":1371}]
[{"$f":"ROW()","v":1372}]
[{"$f":"ROW()","v":1373}]
[{"$f":"ROW()","v":1374}]
[{"$f":"ROW()","v":1375}]
[{"$f":"ROW()","v":1376}]
[{"$f":"ROW()","v":1377}]
[{"$f":"ROW()","v":1378}]
[{"$f":"ROW()","v":1379}]
[{"$f":"ROW()","v":1380}]
[{"$f":"ROW()","v":1381}]
[{"$f":"ROW()","v":1382}]
[{"$f":"ROW()","v":1383}]
[{"$f":"ROW()","v":1384}]
[{"$f":"ROW()","v":1385}]
[{"$f":"ROW()","v":1386}]
[{"$f":"ROW()","v":1387}]
[{"$f":"ROW()","v":1388}]
[{"$f":"ROW()","v":1389}]
[{"$f":"ROW()","v":1390}]
[{"$f":"ROW()","v":1391}]
[{"$f":"ROW()","v":1392}]
[{"$f":"ROW()","v":1393}]
[{"$f":"ROW()","v":1394}]
[{"$f":"ROW()","v":1395}]
[{"$f":"ROW()","v":1396}]
[{"$f":"ROW()","v":1397}]
[{"$f":"ROW()","v":1398}]
[{"$f":"ROW()","v":1399}]
[{"$f":"ROW()","v":1400}]
[{"$f":"ROW()","v":1401}]
[{"$f":"ROW()","v":1402}]
[{"$f":"ROW()","v":1403}]
[{"$f":"ROW()","v":1404}]
[{"$f":"ROW()","v":1405}]
[{"$f":"ROW()","v":1406}]
[{"$f":"ROW()","v":1407}]
[{"$f":"ROW()","v":1408}]
[{"$f":"ROW()","v":1409}]
[{"$f":"ROW()","v":1410}]
[{"$f":"ROW()","v":1411}]
[{"$f":"ROW()","v":1412}]
[{"$f":"ROW()","v":1413}]
[{"$f":"ROW()","v":1414}]
[{"$f":"ROW()","v":1415}]
[{"$f":"ROW()","v":1416}]
[{"$f":"ROW()","v":1417}]
[{"$f":"ROW()","v":1418}]
[{"$f":"ROW()","v":1419}]
[{"$f":"ROW()","v":1420}]
[{"$f":"ROW()","v":1421}]
[{"$f":"ROW()","v":1422}]
[{"$f":"ROW()","v":1423}]
[{"$f":"ROW()","v":1424}]
[{"$f":"ROW()","v":1425}]
[{"$f":"ROW()","v":1426}]
[{"$f":"ROW()","v":1427}]
[{"$f":"ROW()","v":1428}]
[{"$f":"ROW()","v":1429}]
[{"$f":"ROW()","v":1430}]
[{"$f":"ROW()","v":1431}]
[{"$f":"ROW()","v":1432}]
[{"$f":"ROW()","v":1433}]
[{"$f":"ROW()","v":1434}]
[{"$f":"ROW()","v":1435}]
[{"$f":"ROW()","v":1436}]
[{"$f":"ROW()","v":1437}]
[{"$f":"ROW()","v":1438}]
[{"$f":"ROW()","v":1439}]
[{"$f":"ROW()","v":1440}]
[{"$f":"ROW()","v":1441}]
[{"$f":"ROW()","v":1442}]
[{"$f":"ROW()","v":1443}]
[{"$f":"ROW()","v":1444}]
[{"$f":"ROW()","v":1445}]
[{"$f":"ROW()","v":1446}]
[{"$f":"ROW()","v":1447}]
[{"$f":"ROW()","v":1448}]
[{"$f":"ROW()","v":1449}]
[{"$f":"ROW()","v":1450}]
[{"$f":"ROW()","v":1451}]
[{"$f":"ROW()","v":1452}]
[{"$f":"ROW()","v":1453}]
[{"$f":"ROW()","v":1454}]
[{"$f":"ROW()","v":1455}]
[{"$f":"ROW()","v":1456}]
[{"$f":"ROW()","v":1457}]
[{"$f":"ROW()","v":1458}]
[{"$f":"ROW()","v":1459}]
[{"$f":"ROW()","v":1460}]
[{"$f":"ROW()","v":1461}]
[{"$f":"ROW()","v":1462}]
[{"$f":"ROW()","v":1463}]
[{"$f":"ROW()","v":1464}]
[{"$f":"ROW()","v":1465}]
[{"$f":"ROW()","v":1466}]
[{"$f":"ROW()","v":1467}]
[{"$f":"ROW()","v":1468}]
[{"$f":"ROW()","v":1469}]
[{"$f":"ROW()","v":1470}]
[{"$f":"ROW()","v":1471}]
[{"$f":"ROW()","v":1472}]
[{"$f":"ROW()","v":1473}]
[{"$f":"ROW()","v":1474}]
[{"$f":"ROW()","v":1475}]
[{"$f":"ROW()","v":1476}]
[{"$f":"ROW()","v":1477}]
[{"$f":"ROW()","v":1478}]
[{"$f":"ROW()","v":1479}]
[{"$f":"ROW()","v":1480}]
[{"$f":"ROW()","v":1481}]
[{"$f":"ROW()","v":1482}]
[{"$f":"ROW()","v":1483}]
[{"$f":"ROW()","v":1484}]
[{"$f":"ROW()","v":1485}]
[{"$f":"ROW()","v":1486}]
[{"$f":"ROW()","v":1487}]
[{"$f":"ROW()","v":1488}]
[{"$f":"ROW()","v":1489}]
[{"$f":"ROW()","v":1490}]
[{"$f":"ROW()","v":1491}]
[{"$f":"ROW()","v":1492}]
[{"$f":"ROW()","v":1493}]
[{"$f":"ROW()","v":1494}]
[{"$f":"ROW()","v":1495}]
[{"$f":"ROW()","v":1496}]
[{"$f":"ROW()","v":1497}]
[{"$f":"ROW()","v":1498}]
[{"$f":"ROW()","v":1499}]
[{"$f":"ROW()","v":1500}]
[{"$f":"ROW()","v":1501}]
[{"$f":"ROW()","v":1502}]
[{"$f":"ROW()","v":1503}]
[{"$f":"ROW()","v":1504}]
[{"$f":"ROW()","v":1505}]
[{"$f":"ROW()","v":1506}]
[{"$f":"ROW()","v":1507}]
[{"$f":"ROW()","v":1508}]
[{"$f":"ROW()","v":1509}]
[{"$f":"ROW()","v":1510}]
[{"$f":"ROW()","v":1511}]
[{"$f":"ROW()","v":1512}]
[{"$f":"ROW()","v":1513}]
[{"$f":"ROW()","v":1514}]
[{"$f":"ROW()","v":1515}]
[{"$f":"ROW()","v":1516}]
[{"$f":"ROW()","v":1517}]
[{"$f":"ROW()","v":1518}]
[{"$f":"ROW()","v":1519}]
[{"$f":"ROW()","v":1520}]
[{"$f":"ROW()","v":1521}]
[{"$f":"ROW()","v":1522}]
[{"$f":"ROW()","v":1523}]
[{"$f":"ROW()","v":1524}]
[{"$f":"ROW()","v":1525}]
[{"$f":"ROW()","v":1526}]
[{"$f":"ROW()","v":1527}]
[{"$f":"ROW()","v":1528}]
[{"$f":"ROW()","v":1529}]
[{"$f":"ROW()","v":1530}]
[{"$f":"ROW()","v":1531}]
[{"$f":"ROW()","v":1532}]
[{"$f":"ROW()","v":1533}]
[{"$f":"ROW()","v":1534}]
[{"$f":"ROW()","v":1535}]
[{"$f":"ROW()","v":1536}]
[{"$f":"ROW()","v":1537}]
[{"$f":"ROW()","v":1538}]
[{"$f":"ROW()","v":1539}]
[{"$f":"ROW()","v":1540}]
[{"$f":"ROW()","v":1541}]
[{"$f":"ROW()","v":1542}]
[{"$f":"ROW()","v":1543}]
[{"$f":"ROW()","v":1544}]
[{"$f":"ROW()","v":1545}]
[{"$f":"ROW()","v":1546}]
[{"$f":"ROW()","v":1547}]
[{"$f":"ROW()","v":1548}]
[{"$f":"ROW()","v":1549}]
[{"$f":"ROW()","v":1550}]
[{"$f":"ROW()","v":1551}]
[{"$f":"ROW()","v":1552}]
[{"$f":"ROW()","v":1553}]
[{"$f":"ROW()","v":1554}]
[{"$f":"ROW()","v":1555}]
[{"$f":"ROW()","v":1556}]
[{"$f":"ROW()","v":1557}]
[{"$f":"ROW()","v":1558}]
[{"$f":"ROW()","v":1559}]
[{"$f":"ROW()","v":1560}]
[{"$f":"ROW()","v":1561}]
[{"$f":"ROW()","v":1562}]
[{"$f":"ROW()","v":1563}]
[{"$f":"ROW()","v":1564}]
[{"$f":"ROW()","v":1565}]
[{"$f":"ROW()","v":1566}]
[{"$f":"ROW()","v":1567}]
[{"$f":"ROW()","v":1568}]
[{"$f":"ROW()","v":1569}]
[{"$f":"ROW()","v":1570}]
[{"$f":"ROW()","v":1571}]
[{"$f":"ROW()","v":1572}]
[{"$f":"ROW()","v":1573}]
[{"$f":"ROW()","v":1574}]
[{"$f":"ROW()","v":1575}]
[{"$f":"ROW()","v":1576}]
[{"$f":"ROW()","v":1577}]
[{"$f":"ROW()","v":1578}]
[{"$f":"ROW()","v":1579}]
[{"$f":"ROW()","v":1580}]
[{"$f":"ROW()","v":1581}]
[{"$f":"ROW()","v":1582}]
[{"$f":"ROW()","v":1583}]
[{"$f":"ROW()","v":1584}]
[{"$f":"ROW()","v":1585}]
[{"$f":"ROW()","v":1586}]
[{"$f":"ROW()","v":1587}]
[{"$f":"ROW()","v":1588}]
[{"$f":"ROW()","v":1589}]
[{"$f":"ROW()","v":1590}]
[{"$f":"ROW()","v":1591}]
[{"$f":"ROW()","v":1592}]
[{"$f":"ROW()","v":1593}]
[{"$f":"ROW()","v":1594}]
[{"$f":"ROW()","v":1595}]
[{"$f":"ROW()","v":1596}]
[{"$f":"ROW()","v":1597}]
[{"$f":"ROW()","v":1598}]
[{"$f":"ROW()","v":1599}]
[{"$f":"ROW()","v":1600}]
[{"$f":"ROW()","v":1601}]
[{"$f":"ROW()","v":1602}]
[{"$f":"ROW()","v":1603}]
[{"$f":"ROW()","v":1604}]
[{"$f":"ROW()","v":1605}]
[{"$f":"ROW()","v":1606}]
[{"$f":"ROW()","v":1607}]
[{"$f":"ROW()","v":1608}]
[{"$f":"ROW()","v":1609}]
[{"$f":"ROW()","v":1610}]
[{"$f":"ROW()","v":1611}]
[{"$f":"ROW()","v":1612}]
[{"$f":"ROW()","v":1613}]
[{"$f":"ROW()","v":1614}]
[{"$f":"ROW()","v":1615}]
[{"$f":"ROW()","v":1616}]
[{"$f":"ROW()","v":1617}]
[{"$f":"ROW()","v":1618}]
[{"$f":"ROW()","v":1619}]
[{"$f":"ROW()","v":1620}]
[{"$f":"ROW()","v":1621}]
[{"$f":"ROW()","v":1622}]
[{"$f":"ROW()","v":1623}]
[{"$f":"ROW()","v":1624}]
[{"$f":"ROW()","v":1625}]
[{"$f":"ROW()","v":1626}]
[{"$f":"ROW()","v":1627}]
[{"$f":"ROW()","v":1628}]
[{"$f":"ROW()","v":1629}]
[{"$f":"ROW()","v":1630}]
[{"$f":"ROW()","v":1631}]
[{"$f":"ROW()","v":1632}]
[{"$f":"ROW()","v":1633}]
[{"$f":"ROW()","v":1634}]
[{"$f":"ROW()","v":1635}]
[{"$f":"ROW()","v":1636}]
[{"$f":"ROW()","v":1637}]
[{"$f":"ROW()","v":1638}]
[{"$f":"ROW()","v":1639}]
[{"$f":"ROW()","v":1640}]
[{"$f":"ROW()","v":1641}]
[{"$f":"ROW()","v":1642}]
[{"$f":"ROW()","v":1643}]
[{"$f":"ROW()","v":1644}]
[{"$f":"ROW()","v":1645}]
[{"$f":"ROW()","v":1646}]
[{"$f":"ROW()","v":1647}]
[{"$f":"ROW()","v":1648}]
[{"$f":"ROW()","v":1649}]
[{"$f":"ROW()","v":1650}]
[{"$f":"ROW()","v":1651}]
[{"$f":"ROW()","v":1652}]
[{"$f":"ROW()","v":1653}]
[{"$f":"ROW()","v":1654}]
[{"$f":"ROW()","v":1655}]
[{"$f":"ROW()","v":1656}]
[{"$f":"ROW()","v":1657}]
[{"$f":"ROW()","v":1658}]
[{"$f":"ROW()","v":1659}]
[{"$f":"ROW()","v":1660}]
[{"$f":"ROW()","v":1661}]
[{"$f":"ROW()","v":1662}]
[{"$f":"ROW()","v":1663}]
[{"$f":"ROW()","v":1664}]
[{"$f":"ROW()","v":1665}]
[{"$f":"ROW()","v":1666}]
[{"$f":"ROW()","v":1667}]
[{"$f":"ROW()","v":1668}]
[{"$f":"ROW()","v":1669}]
[{"$f":"ROW()","v":1670}]
[{"$f":"ROW()","v":1671}]
[{"$f":"ROW()","v":1672}]
[{"$f":"ROW()","v":1673}]
[{"$f":"ROW()","v":1674}]
[{"$f":"ROW()","v":1675}]
[{"$f":"ROW()","v":1676}]
[{"$f":"ROW()","v":1677}]
[{"$f":"ROW()","v":1678}]
[{"$f":"ROW()","v":1679}]
[{"$f":"ROW()","v":1680}]
[{"$f":"ROW()","v":1681}]
[{"$f":"ROW()","v":1682}]
[{"$f":"ROW()","v":1683}]
[{"$f":"ROW()","v":1684}]
[{"$f":"ROW()","v":1685}]
[{"$f":"ROW()","v":1686}]
[{"$f":"ROW()","v":1687}]
[{"$f":"ROW()","v":1688}]
[{"$f":"ROW()","v":1689}]
[{"$f":"ROW()","v":1690}]
[{"$f":"ROW()","v":1691}]
[{"$f":"ROW()","v":1692}]
[{"$f":"ROW()","v":1693}]
[{"$f":"ROW()","v":1694}]
[{"$f":"ROW()","v":1695}]
[{"$f":"ROW()","v":1696}]
[{"$f":"ROW()","v":1697}]
[{"$f":"ROW()","v":1698}]
[{"$f":"ROW()","v":1699}]
[{"$f":"ROW()","v":1700}]
[{"$f":"ROW()","v":1701}]
[{"$f":"ROW()","v":1702}]
[{"$f":"ROW()","v":1703}]
[{"$f":"ROW()","v":1704}]
[{"$f":"ROW()","v":1705}]
[{"$f":"ROW()","v":1706}]
[{"$f":"ROW()","v":1707}]
[{"$f":"ROW()","v":1708}]
[{"$f":"ROW()","v":1709}]
[{"$f":"ROW()","v":1710}]
[{"$f":"ROW()","v":1711}]
[{"$f":"ROW()","v":1712}]
[{"$f":"ROW()","v":1713}]
[{"$f":"ROW()","v":1714}]
[{"$f":"ROW()","v":1715}]
[{"$f":"ROW()","v":1716}]
[{"$f":"ROW()","v":1717}]
[{"$f":"ROW()","v":1718}]
[{"$f":"ROW()","v":1719}]
[{"$f":"ROW()","v":1720}]
[{"$f":"ROW()","v":1721}]
[{"$f":"ROW()","v":1722}]
[{"$f":"ROW()","v":1723}]
[{"$f":"ROW()","v":1724}]
[{"$f":"ROW()","v":1725}]
[{"$f":"ROW()","v":1726}]
[{"$f":"ROW()","v":1727}]
[{"$f":"ROW()","v":1728}]
[{"$f":"ROW()","v":1729}]
[{"$f":"ROW()","v":1730}]
[{"$f":"ROW()","v":1731}]
[{"$f":"ROW()","v":1732}]
[{"$f":"ROW()","v":1733}]
[{"$f":"ROW()","v":1734}]
[{"$f":"ROW()","v":1735}]
[{"$f":"ROW()","v":1736}]
[{"$f":"ROW()","v":1737}]
[{"$f":"ROW()","v":1738}]
[{"$f":"ROW()","v":1739}]
[{"$f":"ROW()","v":1740}]
[{"$f":"ROW()","v":1741}]
[{"$f":"ROW()","v":1742}]
[{"$f":"ROW()","v":1743}]
[{"$f":"ROW()","v":1744}]
[{"$f":"ROW()","v":1745}]
[{"$f":"ROW()","v":1746}]
[{"$f":"ROW()","v":1747}]
[{"$f":"ROW()","v":1748}]
[{"$f":"ROW()","v":1749}]
[{"$f":"ROW()","v":1750}]
[{"$f":"ROW()","v":1751}]
[{"$f":"ROW()","v":1752}]
[{"$f":"ROW()","v":1753}]
[{"$f":"ROW()","v":1754}]
[{"$f":"ROW()","v":1755}]
[{"$f":"ROW()","v":1756}]
[{"$f":"ROW()","v":1757}]
[{"$f":"ROW()","v":1758}]
[{"$f":"ROW()","v":1759}]
[{"$f":"ROW()","v":1760}]
[{"$f":"ROW()","v":1761}]
[{"$f":"ROW()","v":1762}]
[{"$f":"ROW()","v":1763}]
[{"$f":"ROW()","v":1764}]
[{"$f":"ROW()","v":1765}]
[{"$f":"ROW()","v":1766}]
[{"$f":"ROW()","v":1767}]
[{"$f":"ROW()","v":1768}]
[{"$f":"ROW()","v":1769}]
[{"$f":"ROW()","v":1770}]
[{"$f":"ROW()","v":1771}]
[{"$f":"ROW()","v":1772}]
[{"$f":"ROW()","v":1773}]
[{"$f":"ROW()","v":1774}]
[{"$f":"ROW()","v":1775}]
[{"$f":"ROW()","v":1776}]
[{"$f":"ROW()","v":1777}]
[{"$f":"ROW()","v":1778}]
[{"$f":"ROW()","v":1779}]
[{"$f":"ROW()","v":1780}]
[{"$f":"ROW()","v":1781}]
[{"$f":"ROW()","v":1782}]
[{"$f":"ROW()","v":1783}]
[{"$f":"ROW()","v":1784}]
[{"$f":"ROW()","v":1785}]
[{"$f":"ROW()","v":1786}]
[{"$f":"ROW()","v":1787}]
[{"$f":"ROW()","v":1788}]
[{"$f":"ROW()","v":1789}]
[{"$f":"ROW()","v":1790}]
[{"$f":"ROW()","v":1791}]
[{"$f":"ROW()","v":1792}]
[{"$f":"ROW()","v":1793}]
[{"$f":"ROW()","v":1794}]
[{"$f":"ROW()","v":1795}]
[{"$f":"ROW()","v":1796}]
[{"$f":"ROW()","v":1797}]
[{"$f":"ROW()","v":1798}]
[{"$f":"ROW()","v":1799}]
[{"$f":"ROW()","v":1800}]
[{"$f":"ROW()","v":1801}]
[{"$f":"ROW()","v":1802}]
[{"$f":"ROW()","v":1803}]
[{"$f":"ROW()","v":1804}]
[{"$f":"ROW()","v":1805}]
[{"$f":"ROW()","v":1806}]
[{"$f":"ROW()","v":1807}]
[{"$f":"ROW()","v":1808}]
[{"$f":"ROW()","v":1809}]
[{"$f":"ROW()","v":1810}]
[{"$f":"ROW()","v":1811}]
[{"$f":"ROW()","v":1812}]
[{"$f":"ROW()","v":1813}]
[{"$f":"ROW()","v":1814}]
[{"$f":"ROW()","v":1815}]
[{"$f":"ROW()","v":1816}]
[{"$f":"ROW()","v":1817}]
[{"$f":"ROW()","v":1818}]
[{"$f":"ROW()","v":1819}]
[{"$f":"ROW()","v":1820}]
[{"$f":"ROW()","v":1821}]
[{"$f":"ROW()","v":1822}]
[{"$f":"ROW()","v":1823}]
[{"$f":"ROW()","v":1824}]
[{"$f":"ROW()","v":1825}]
[{"$f":"ROW()","v":1826}]
[{"$f":"ROW()","v":1827}]
[{"$f":"ROW()","v":1828}]
[{"$f":"ROW()","v":1829}]
[{"$f":"ROW()","v":1830}]
[{"$f":"ROW()","v":1831}]
[{"$f":"ROW()","v":1832}]
[{"$f":"ROW()","v":1833}]
[{"$f":"ROW()","v":1834}]
[{"$f":"ROW()","v":1835}]
[{"$f":"ROW()","v":1836}]
[{"$f":"ROW()","v":1837}]
[{"$f":"ROW()","v":1838}]
[{"$f":"ROW()","v":1839}]
[{"$f":"ROW()","v":1840}]
[{"$f":"ROW()","v":1841}]
[{"$f":"ROW()","v":1842}]
[{"$f":"ROW()","v":1843}]
[{"$f":"ROW()","v":1844}]
[{"$f":"ROW()","v":1845}]
[{"$f":"ROW()","v":1846}]
[{"$f":"ROW()","v":1847}]
[{"$f":"ROW()","v":1848}]
[{"$f":"ROW()","v":1849}]
[{"$f":"ROW()","v":1850}]
[{"$f":"ROW()","v":1851}]
[{"$f":"ROW()","v":1852}]
[{"$f":"ROW()","v":1853}]
[{"$f":"ROW()","v":1854}]
[{"$f":"ROW()","v":1855}]
[{"$f":"ROW()","v":1856}]
[{"$f":"ROW()","v":1857}]
[{"$f":"ROW()","v":1858}]
[{"$f":"ROW()","v":1859}]
[{"$f":"ROW()","v":1860}]
[{"$f":"ROW()","v":1861}]
[{"$f":"ROW()","v":1862}]
[{"$f":"ROW()","v":1863}]
[{"$f":"ROW()","v":1864}]
[{"$f":"ROW()","v":1865}]
[{"$f":"ROW()","v":1866}]
[{"$f":"ROW()","v":1867}]
[{"$f":"ROW()","v":1868}]
[{"$f":"ROW()","v":1869}]
[{"$f":"ROW()","v":1870}]
[{"$f":"ROW()","v":1871}]
[{"$f":"ROW()","v":1872}]
[{"$f":"ROW()","v":1873}]
[{"$f":"ROW()","v":1874}]
[{"$f":"ROW()","v":1875}]
[{"$f":"ROW()","v":1876}]
[{"$f":"ROW()","v":1877}]
[{"$f":"ROW()","v":1878}]
[{"$f":"ROW()","v":1879}]
[{"$f":"ROW()","v":1880}]
[{"$f":"ROW()","v":1881}]
[{"$f":"ROW()","v":1882}]
[{"$f":"ROW()","v":1883}]
[{"$f":"ROW()","v":1884}]
[{"$f":"ROW()","v":1885}]
[{"$f":"ROW()","v":1886}]
[{"$f":"ROW()","v":1887}]
[{"$f":"ROW()","v":1888}]
[{"$f":"ROW()","v":1889}]
[{"$f":"ROW()","v":1890}]
[{"$f":"ROW()","v":1891}]
[{"$f":"ROW()","v":1892}]
[{"$f":"ROW()","v":1893}]
[{"$f":"ROW()","v":1894}]
[{"$f":"ROW()","v":1895}]
[{"$f":"ROW()","v":1896}]
[{"$f":"ROW()","v":1897}]
[{"$f":"ROW()","v":1898}]
[{"$f":"ROW()","v":1899}]
[{"$f":"ROW()","v":1900}]
[{"$f":"ROW()","v":1901}]
[{"$f":"ROW()","v":1902}]
[{"$f":"ROW()","v":1903}]
[{"$f":"ROW()","v":1904}]
[{"$f":"ROW()","v":1905}]
[{"$f":"ROW()","v":1906}]
[{"$f":"ROW()","v":1907}]
[{"$f":"ROW()","v":1908}]
[{"$f":"ROW()","v":1909}]
[{"$f":"ROW()","v":1910}]
[{"$f":"ROW()","v":1911}]
[{"$f":"ROW()","v":1912}]
[{"$f":"ROW()","v":1913}]
[{"$f":"ROW()","v":1914}]
[{"$f":"ROW()","v":1915}]
[{"$f":"ROW()","v":1916}]
[{"$f":"ROW()","v":1917}]
[{"$f":"ROW()","v":1918}]
[{"$f":"ROW()","v":1919}]
[{"$f":"ROW()","v":1920}]
[{"$f":"ROW()","v":1921}]
[{"$f":"ROW()","v":1922}]
[{"$f":"ROW()","v":1923}]
[{"$f":"ROW()","v":1924}]
[{"$f":"ROW()","v":1925}]
[{"$f":"ROW()","v":1926}]
[{"$f":"ROW()","v":1927}]
[{"$f":"ROW()","v":1928}]
[{"$f":"ROW()","v":1929}]
[{"$f":"ROW()","v":1930}]
[{"$f":"ROW()","v":1931}]
[{"$f":"ROW()","v":1932}]
[{"$f":"ROW()","v":1933}]
[{"$f":"ROW()","v":1934}]
[{"$f":"ROW()","v":1935}]
[{"$f":"ROW()","v":1936}]
[{"$f":"ROW()","v":1937}]
[{"$f":"ROW()","v":1938}]
[{"$f":"ROW()","v":1939}]
[{"$f":"ROW()","v":1940}]
[{"$f":"ROW()","v":1941}]
[{"$f":"ROW()","v":1942}]
[{"$f":"ROW()","v":1943}]
[{"$f":"ROW()","v":1944}]
[{"$f":"ROW()","v":1945}]
[{"$f":"ROW()","v":1946}]
[{"$f":"ROW()","v":1947}]
[{"$f":"ROW()","v":1948}]
[{"$f":"ROW()","v":1949}]
[{"$f":"ROW()","v":1950}]
[{"$f":"ROW()","v":1951}]
[{"$f":"ROW()","v":1952}]
[{"$f":"ROW()","v":1953}]
[{"$f":"ROW()","v":1954}]
[{"$f":"ROW()","v":1955}]
[{"$f":"ROW()","v":1956}]
[{"$f":"ROW()","v":1957}]
[{"$f":"ROW()","v":1958}]
[{"$f":"ROW()","v":1959}]
[{"$f":"ROW()","v":1960}]
[{"$f":"ROW()","v":1961}]
[{"$f":"ROW()","v":1962}]
[{"$f":"ROW()","v":1963}]
[{"$f":"ROW()","v":1964}]
[{"$f":"ROW()","v":1965}]
[{"$f":"ROW()","v":1966}]
[{"$f":"ROW()","v":1967}]
[{"$f":"ROW()","v":1968}]
[{"$f":"ROW()","v":1969}]
[{"$f":"ROW()","v":1970}]
[{"$f":"ROW()","v":1971}]
[{"$f":"ROW()","v":1972}]
[{"$f":"ROW()","v":1973}]
[{"$f":"ROW()","v":1974}]
[{"$f":"ROW()","v":1975}]
[{"$f":"ROW()","v":1976}]
[{"$f":"ROW()","v":1977}]
[{"$f":"ROW()","v":1978}]
[{"$f":"ROW()","v":1979}]
[{"$f":"ROW()","v":1980}]
[{"$f":"ROW()","v":1981}]
[{"$f":"ROW()","v":1982}]
[{"$f":"ROW()","v":1983}]
[{"$f":"ROW()","v":1984}]
[{"$f":"ROW()","v":1985}]
[{"$f":"ROW()","v":1986}]
[{"$f":"ROW()","v":1987}]
[{"$f":"ROW()","v":1988}]
[{"$f":"ROW()","v":1989}]
[{"$f":"ROW()","v":1990}]
[{"$f":"ROW()","v":1991}]
[{"$f":"ROW()","v":1992}]
[{"$f":"ROW()","v":1993}]
[{"$f":"ROW()","v":1994}]
[{"$f":"ROW()","v":1995}]
[{"$f":"ROW()","v":1996}]
[{"$f":"ROW()","v":1997}]
[{"$f":"ROW()","v":1998}]
[{"$f":"ROW()","v":1999}]
[{"$f":"ROW()","v":2000}]
[{"$f":"ROW()","v":2001}]
[{"$f":"ROW()","v":2002}]
[{"$f":"ROW()","v":2003}]
[{"$f":"ROW()","v":2004}]
[{"$f":"ROW()","v":2005}]
[{"$f":"ROW()","v":2006}]
[{"$f":"ROW()","v":2007}]
[{"$f":"ROW()","v":2008}]
[{"$f":"ROW()","v":2009}]
[{"$f":"ROW()","v":2010}]
[{"$f":"ROW()","v":2011}]
[{"$f":"ROW()","v":2012}]
[{"$f":"ROW()","v":2013}]
[{"$f":"ROW()","v":2014}]
[{"$f":"ROW()","v":2015}]
[{"$f":"ROW()","v":2016}]
[{"$f":"ROW()","v":2017}]
[{"$f":"ROW()","v":2018}]
[{"$f":"ROW()","v":2019}]
[{"$f":"ROW()","v":2020}]
[{"$f":"ROW()","v":2021}]
[{"$f":"ROW()","v":2022}]
[{"$f":"ROW()","v":2023}]
[{"$f":"ROW()","v":2024}]
[{"$f":"ROW()","v":2025}]
[{"$f":"ROW()","v":2026}]
[{"$f":"ROW()","v":2027}]
[{"$f":"ROW()","v":2028}]
[{"$f":"ROW()","v":2029}]
[{"$f":"ROW()","v":2030}]
[{"$f":"ROW()","v":2031}]
[{"$f":"ROW()","v":2032}]
[{"$f":"ROW()","v":2033}]
[{"$f":"ROW()","v":2034}]
[{"$f":"ROW()","v":2035}]
[{"$f":"ROW()","v":2036}]
[{"$f":"ROW()","v":2037}]
[{"$f":"ROW()","v":2038}]
[{"$f":"ROW()","v":2039}]
[{"$f":"ROW()","v":2040}]
[{"$f":"ROW()","v":2041}]
[{"$f":"ROW()","v":2042}]
[{"$f":"ROW()","v":2043}]
[{"$f":"ROW()","v":2044}]
[{"$f":"ROW()","v":2045}]
[{"$f":"ROW()","v":2046}]
[{"$f":"ROW()","v":2047}]
[{"$f":"ROW()","v":2048}]
[{"$f":"ROW()","v":2049}]
[{"$f":"ROW()","v":2050}]
[{"$f":"ROW()","v":2051}]
[{"$f":"ROW()","v":2052}]
[{"$f":"ROW()","v":2053}]
[{"$f":"ROW()","v":2054}]
[{"$f":"ROW()","v":2055}]
[{"$f":"ROW()","v":2056}]
[{"$f":"ROW()","v":2057}]
[{"$f":"ROW()","v":2058}]
[{"$f":"ROW()","v":2059}]
[{"$f":"ROW()","v":2060}]
[{"$f":"ROW()","v":2061}]
[{"$f":"ROW()","v":2062}]
[{"$f":"ROW()","v":2063}]
[{"$f":"ROW()","v":2064}]
[{"$f":"ROW()","v":2065}]
[{"$f":"ROW()","v":2066}]
[{"$f":"ROW()","v":2067}]
[{"$f":"ROW()","v":2068}]
[{"$f":"ROW()","v":2069}]
[{"$f":"ROW()","v":2070}]
[{"$f":"ROW()","v":2071}]
[{"$f":"ROW()","v":2072}]
[{"$f":"ROW()","v":2073}]
[{"$f":"ROW()","v":2074}]
[{"$f":"ROW()","v":2075}]
[{"$f":"ROW()","v":2076}]
[{"$f":"ROW()","v":2077}]
[{"$f":"ROW()","v":2078}]
[{"$f":"ROW()","v":2079}]
[{"$f":"ROW()","v":2080}]
[{"$f":"ROW()","v":2081}]
[{"$f":"ROW()","v":2082}]
[{"$f":"ROW()","v":2083}]
[{"$f":"ROW()","v":2084}]
[{"$f":"ROW()","v":2085}]
[{"$f":"ROW()","v":2086}]
[{"$f":"ROW()","v":2087}]
[{"$f":"ROW()","v":2088}]
[{"$f":"ROW()","v":2089}]
[{"$f":"ROW()","v":2090}]
[{"$f":"ROW()","v":2091}]
[{"$f":"ROW()","v":2092}]
[{"$f":"ROW()","v":2093}]
[{"$f":"ROW()","v":2094}]
[{"$f":"ROW()","v":2095}]
[{"$f":"ROW()","v":2096}]
[{"$f":"ROW()","v":2097}]
[{"$f":"ROW()","v":2098}]
[{"$f":"ROW()","v":2099}]
[{"$f":"ROW()","v":2100}]
[{"$f":"ROW()","v":2101}]
[{"$f":"ROW()","v":2102}]
[{"$f":"ROW()","v":2103}]
[{"$f":"ROW()","v":2104}]
[{"$f":"ROW()","v":2105}]
[{"$f":"ROW()","v":2106}]
[{"$f":"ROW()","v":2107}]
[{"$f":"ROW()","v":2108}]
[{"$f":"ROW()","v":2109}]
[{"$f":"ROW()","v":2110}]
[{"$f":"ROW()","v":2111}]
[{"$f":"ROW()","v":2112}]
[{"$f":"ROW()","v":2113}]
[{"$f":"ROW()","v":2114}]
[{"$f":"ROW()","v":2115}]
[{"$f":"ROW()","v":2116}]
[{"$f":"ROW()","v":2117}]
[{"$f":"ROW()","v":2118}]
[{"$f":"ROW()","v":2119}]
[{"$f":"ROW()","v":2120}]
[{"$f":"ROW()","v":2121}]
[{"$f":"ROW()","v":2122}]
[{"$f":"ROW()","v":2123}]
[{"$f":"ROW()","v":2124}]
[{"$f":"ROW()","v":2125}]
[{"$f":"ROW()","v":2126}]
[{"$f":"ROW()","v":2127}]
[{"$f":"ROW()","v":2128}]
[{"$f":"ROW()","v":2129}]
[{"$f":"ROW()","v":2130}]
[{"$f":"ROW()","v":2131}]
[{"$f":"ROW()","v":2132}]
[{"$f":"ROW()","v":2133}]
[{"$f":"ROW()","v":2134}]
[{"$f":"ROW()","v":2135}]
[{"$f":"ROW()","v":2136}]
[{"$f":"ROW()","v":2137}]
[{"$f":"ROW()","v":2138}]
[{"$f":"ROW()","v":2139}]
[{"$f":"ROW()","v":2140}]
[{"$f":"ROW()","v":2141}]
[{"$f":"ROW()","v":2142}]
[{"$f":"ROW()","v":2143}]
[{"$f":"ROW()","v":2144}]
[{"$f":"ROW()","v":2145}]
[{"$f":"ROW()","v":2146}]
[{"$f":"ROW()","v":2147}]
[{"$f":"ROW()","v":2148}]
[{"$f":"ROW()","v":2149}]
[{"$f":"ROW()","v":2150}]
[{"$f":"ROW()","v":2151}]
[{"$f":"ROW()","v":2152}]
[{"$f":"ROW()","v":2153}]
[{"$f":"ROW()","v":2154}]
[{"$f":"ROW()","v":2155}]
[{"$f":"ROW()","v":2156}]
[{"$f":"ROW()","v":2157}]
[{"$f":"ROW()","v":2158}]
[{"$f":"ROW()","v":2159}]
[{"$f":"ROW()","v":2160}]
[{"$f":"ROW()","v":2161}]
[{"$f":"ROW()","v":2162}]
[{"$f":"ROW()","v":2163}]
[{"$f":"ROW()","v":2164}]
[{"$f":"ROW()","v":2165}]
[{"$f":"ROW()","v":2166}]
[{"$f":"ROW()","v":2167}]
[{"$f":"ROW()","v":2168}]
[{"$f":"ROW()","v":2169}]
[{"$f":"ROW()","v":2170}]
[{"$f":"ROW()","v":2171}]
[{"$f":"ROW()","v":2172}]
[{"$f":"ROW()","v":2173}]
[{"$f":"ROW()","v":2174}]
[{"$f":"ROW()","v":2175}]
[{"$f":"ROW()","v":2176}]
[{"$f":"ROW()","v":2177}]
[{"$f":"ROW()","v":2178}]
[{"$f":"ROW()","v":2179}]
[{"$f":"ROW()","v":2180}]
[{"$f":"ROW()","v":2181}]
[{"$f":"ROW()","v":2182}]
[{"$f":"ROW()","v":2183}]
[{"$f":"ROW()","v":2184}]
[{"$f":"ROW()","v":2185}]
[{"$f":"ROW()","v":2186}]
[{"$f":"ROW()","v":2187}]
[{"$f":"ROW()","v":2188}]
[{"$f":"ROW()","v":2189}]
[{"$f":"ROW()","v":2190}]
[{"$f":"ROW()","v":2191}]
[{"$f":"ROW()","v":2192}]
[{"$f":"ROW()","v":2193}]
[{"$f":"ROW()","v":2194}]
[{"$f":"ROW()","v":2195}]
[{"$f":"ROW()","v":2196}]
[{"$f":"ROW()","v":2197}]
[{"$f":"ROW()","v":2198}]
[{"$f":"ROW()","v":2199}]
[{"$f":"ROW()","v":2200}]
[{"$f":"ROW()","v":2201}]
[{"$f":"ROW()","v":2202}]
[{"$f":"ROW()","v":2203}]
[{"$f":"ROW()","v":2204}]
[{"$f":"ROW()","v":2205}]
[{"$f":"ROW()","v":2206}]
[{"$f":"ROW()","v":2207}]
[{"$f":"ROW()","v":2208}]
[{"$f":"ROW()","v":2209}]
[{"$f":"ROW()","v":2210}]
[{"$f":"ROW()","v":2211}]
[{"$f":"ROW()","v":2212}]
[{"$f":"ROW()","v":2213}]
[{"$f":"ROW()","v":2214}]
[{"$f":"ROW()","v":2215}]
[{"$f":"ROW()","v":2216}]
[{"$f":"ROW()","v":2217}]
[{"$f":"ROW()","v":2218}]
[{"$f":"ROW()","v":2219}]
[{"$f":"ROW()","v":2220}]
[{"$f":"ROW()","v":2221}]
[{"$f":"ROW()","v":2222}]
[{"$f":"ROW()","v":2223}]
[{"$f":"ROW()","v":2224}]
[{"$f":"ROW()","v":2225}]
[{"$f":"ROW()","v":2226}]
[{"$f":"ROW()","v":2227}]
[{"$f":"ROW()","v":2228}]
[{"$f":"ROW()","v":2229}]
[{"$f":"ROW()","v":2230}]
[{"$f":"ROW()","v":2231}]
[{"$f":"ROW()","v":2232}]
[{"$f":"ROW()","v":2233}]
[{"$f":"ROW()","v":2234}]
[{"$f":"ROW()","v":2235}]
[{"$f":"ROW()","v":2236}]
[{"$f":"ROW()","v":2237}]
[{"$f":"ROW()","v":2238}]
[{"$f":"ROW()","v":2239}]
[{"$f":"ROW()","v":2240}]
[{"$f":"ROW()","v":2241}]
[{"$f":"ROW()","v":2242}]
[{"$f":"ROW()","v":2243}]
[{"$f":"ROW()","v":2244}]
[{"$f":"ROW()","v":2245}]
[{"$f":"ROW()","v":2246}]
[{"$f":"ROW()","v":2247}]
[{"$f":"ROW()","v":2248}]
[{"$f":"ROW()","v":2249}]
[{"$f":"ROW()","v":2250}]
[{"$f":"ROW()","v":2251}]
[{"$f":"ROW()","v":2252}]
[{"$f":"ROW()","v":2253}]
[{"$f":"ROW()","v":2254}]
[{"$f":"ROW()","v":2255}]
[{"$f":"ROW()","v":2256}]
[{"$f":"ROW()","v":2257}]
[{"$f":"ROW()","v":2258}]
[{"$f":"ROW()","v":2259}]
[{"$f":"ROW()","v":2260}]
[{"$f":"ROW()","v":2261}]
[{"$f":"ROW()","v":2262}]
[{"$f":"ROW()","v":2263}]
[{"$f":"ROW()","v":2264}]
[{"$f":"ROW()","v":2265}]
[{"$f":"ROW()","v":2266}]
[{"$f":"ROW()","v":2267}]
[{"$f":"ROW()","v":2268}]
[{"$f":"ROW()","v":2269}]
[{"$f":"ROW()","v":2270}]
[{"$f":"ROW()","v":2271}]
[{"$f":"ROW()","v":2272}]
[{"$f":"ROW()","v":2273}]
[{"$f":"ROW()","v":2274}]
[{"$f":"ROW()","v":2275}]
[{"$f":"ROW()","v":2276}]
[{"$f":"ROW()","v":2277}]
[{"$f":"ROW()","v":2278}]
[{"$f":"ROW()","v":2279}]
[{"$f":"ROW()","v":2280}]
[{"$f":"ROW()","v":2281}]
[{"$f":"ROW()","v":2282}]
[{"$f":"ROW()","v":2283}]
[{"$f":"ROW()","v":2284}]
[{"$f":"ROW()","v":2285}]
[{"$f":"ROW()","v":2286}]
[{"$f":"ROW()","v":2287}]
[{"$f":"ROW()","v":2288}]
[{"$f":"ROW()","v":2289}]
[{"$f":"ROW()","v":2290}]
[{"$f":"ROW()","v":2291}]
[{"$f":"ROW()","v":2292}]
[{"$f":"ROW()","v":2293}]
[{"$f":"ROW()","v":2294}]
[{"$f":"ROW()","v":2295}]
[{"$f":"ROW()","v":2296}]
[{"$f":"ROW()","v":2297}]
[{"$f":"ROW()","v":2298}]
[{"$f":"ROW()","v":2299}]
[{"$f":"ROW()","v":2300}]
[{"$f":"ROW()","v":2301}]
[{"$f":"ROW()","v":2302}]
[{"$f":"ROW()","v":2303}]
[{"$f":"ROW()","v":2304}]
[{"$f":"ROW()","v":2305}]
[{"$f":"ROW()","v":2306}]
[{"$f":"ROW()","v":2307}]
[{"$f":"ROW()","v":2308}]
[{"$f":"ROW()","v":2309}]
[{"$f":"ROW()","v":2310}]
[{"$f":"ROW()","v":2311}]
[{"$f":"ROW()","v":2312}]
[{"$f":"ROW()","v":2313}]
[{"$f":"ROW()","v":2314}]
[{"$f":"ROW()","v":2315}]
[{"$f":"ROW()","v":2316}]
[{"$f":"ROW()","v":2317}]
[{"$f":"ROW()","v":2318}]
[{"$f":"ROW()","v":2319}]
[{"$f":"ROW()","v":2320}]
[{"$f":"ROW()","v":2321}]
[{"$f":"ROW()","v":2322}]
[{"$f":"ROW()","v":2323}]
[{"$f":"ROW()","v":2324}]
[{"$f":"ROW()","v":2325}]
[{"$f":"ROW()","v":2326}]
[{"$f":"ROW()","v":2327}]
[{"$f":"ROW()","v":2328}]
[{"$f":"ROW()","v":2329}]
[{"$f":"ROW()","v":2330}]
[{"$f":"ROW()","v":2331}]
[{"$f":"ROW()","v":2332}]
[{"$f":"ROW()","v":2333}]
[{"$f":"ROW()","v":2334}]
[{"$f":"ROW()","v":2335}]
[{"$f":"ROW()","v":2336}]
[{"$f":"ROW()","v":2337}]
[{"$f":"ROW()","v":2338}]
[{"$f":"ROW()","v":2339}]
[{"$f":"ROW()","v":2340}]
[{"$f":"ROW()","v":2341}]
[{"$f":"ROW()","v":2342}]
[{"$f":"ROW()","v":2343}]
[{"$f":"ROW()","v":2344}]
[{"$f":"ROW()","v":2345}]
[{"$f":"ROW()","v":2346}]
[{"$f":"ROW()","v":2347}]
[{"$f":"ROW()","v":2348}]
[{"$f":"ROW()","v":2349}]
[{"$f":"ROW()","v":2350}]
[{"$f":"ROW()","v":2351}]
[{"$f":"ROW()","v":2352}]
[{"$f":"ROW()","v":2353}]
[{"$f":"ROW()","v":2354}]
[{"$f":"ROW()","v":2355}]
[{"$f":"ROW()","v":2356}]
[{"$f":"ROW()","v":2357}]
[{"$f":"ROW()","v":2358}]
[{"$f":"ROW()","v":2359}]
[{"$f":"ROW()","v":2360}]
[{"$f":"ROW()","v":2361}]
[{"$f":"ROW()","v":2362}]
[{"$f":"ROW()","v":2363}]
[{"$f":"ROW()","v":2364}]
[{"$f":"ROW()","v":2365}]
[{"$f":"ROW()","v":2366}]
[{"$f":"ROW()","v":2367}]
[{"$f":"ROW()","v":2368}]
[{"$f":"ROW()","v":2369}]
[{"$f":"ROW()","v":2370}]
[{"$f":"ROW()","v":2371}]
[{"$f":"ROW()","v":2372}]
[{"$f":"ROW()","v":2373}]
[{"$f":"ROW()","v":2374}]
[{"$f":"ROW()","v":2375}]
[{"$f":"ROW()","v":2376}]
[{"$f":"ROW()","v":2377}]
[{"$f":"ROW()","v":2378}]
[{"$f":"ROW()","v":2379}]
[{"$f":"ROW()","v":2380}]
[{"$f":"ROW()","v":2381}]
[{"$f":"ROW()","v":2382}]
[{"$f":"ROW()","v":2383}]
[{"$f":"ROW()","v":2384}]
[{"$f":"ROW()","v":2385}]
[{"$f":"ROW()","v":2386}]
[{"$f":"ROW()","v":2387}]
[{"$f":"ROW()","v":2388}]
[{"$f":"ROW()","v":2389}]
[{"$f":"ROW()","v":2390}]
[{"$f":"ROW()","v":2391}]
[{"$f":"ROW()","v":2392}]
[{"$f":"ROW()","v":2393}]
[{"$f":"ROW()","v":2394}]
[{"$f":"ROW()","v":2395}]
[{"$f":"ROW()","v":2396}]
[{"$f":"ROW()","v":2397}]
[{"$f":"ROW()","v":2398}]
[{"$f":"ROW()","v":2399}]
[{"$f":"ROW()","v":2400}]
[{"$f":"ROW()","v":2401}]
[{"$f":"ROW()","v":2402}]
[{"$f":"ROW()","v":2403}]
[{"$f":"ROW()","v":2404}]
[{"$f":"ROW()","v":2405}]
[{"$f":"ROW()","v":2406}]
[{"$f":"ROW()","v":2407}]
[{"$f":"ROW()","v":2408}]
[{"$f":"ROW()","v":2409}]
[{"$f":"ROW()","v":2410}]
[{"$f":"ROW()","v":2411}]
[{"$f":"ROW()","v":2412}]
[{"$f":"ROW()","v":2413}]
[{"$f":"ROW()","v":2414}]
[{"$f":"ROW()","v":2415}]
[{"$f":"ROW()","v":2416}]
[{"$f":"ROW()","v":2417}]
[{"$f":"ROW()","v":2418}]
[{"$f":"ROW()","v":2419}]
[{"$f":"ROW()","v":2420}]
[{"$f":"ROW()","v":2421}]
[{"$f":"ROW()","v":2422}]
[{"$f":"ROW()","v":2423}]
[{"$f":"ROW()","v":2424}]
[{"$f":"ROW()","v":2425}]
[{"$f":"ROW()","v":2426}]
[{"$f":"ROW()","v":2427}]
[{"$f":"ROW()","v":2428}]
[{"$f":"ROW()","v":2429}]
[{"$f":"ROW()","v":2430}]
[{"$f":"ROW()","v":2431}]
[{"$f":"ROW()","v":2432}]
[{"$f":"ROW()","v":2433}]
[{"$f":"ROW()","v":2434}]
[{"$f":"ROW()","v":2435}]
[{"$f":"ROW()","v":2436}]
[{"$f":"ROW()","v":2437}]
[{"$f":"ROW()","v":2438}]
[{"$f":"ROW()","v":2439}]
[{"$f":"ROW()","v":2440}]
[{"$f":"ROW()","v":2441}]
[{"$f":"ROW()","v":2442}]
[{"$f":"ROW()","v":2443}]
[{"$f":"ROW()","v":2444}]
[{"$f":"ROW()","v":2445}]
[{"$f":"ROW()","v":2446}]
[{"$f":"ROW()","v":2447}]
[{"$f":"ROW()","v":2448}]
[{"$f":"ROW()","v":2449}]
[{"$f":"ROW()","v":2450}]
[{"$f":"ROW()","v":2451}]
[{"$f":"ROW()","v":2452}]
[{"$f":"ROW()","v":2453}]
[{"$f":"ROW()","v":2454}]
[{"$f":"ROW()","v":2455}]
[{"$f":"ROW()","v":2456}]
[{"$f":"ROW()","v":2457}]
[{"$f":"ROW()","v":2458}]
[{"$f":"ROW()","v":2459}]
[{"$f":"ROW()","v":2460}]
[{"$f":"ROW()","v":2461}]
[{"$f":"ROW()","v":2462}]
[{"$f":"ROW()","v":2463}]
[{"$f":"ROW()","v":2464}]
[{"$f":"ROW()","v":2465}]
[{"$f":"ROW()","v":2466}]
[{"$f":"ROW()","v":2467}]
[{"$f":"ROW()","v":2468}]
[{"$f":"ROW()","v":2469}]
[{"$f":"ROW()","v":2470}]
[{"$f":"ROW()","v":2471}]
[{"$f":"ROW()","v":2472}]
[{"$f":"ROW()","v":2473}]
[{"$f":"ROW()","v":2474}]
[{"$f":"ROW()","v":2475}]
[{"$f":"ROW()","v":2476}]
[{"$f":"ROW()","v":2477}]
[{"$f":"ROW()","v":2478}]
[{"$f":"ROW()","v":2479}]
[{"$f":"ROW()","v":2480}]
[{"$f":"ROW()","v":2481}]
[{"$f":"ROW()","v":2482}]
[{"$f":"ROW()","v":2483}]
[{"$f":"ROW()","v":2484}]
[{"$f":"ROW()","v":2485}]
[{"$f":"ROW()","v":2486}]
[{"$f":"ROW()","v":2487}]
[{"$f":"ROW()","v":2488}]
[{"$f":"ROW()","v":2489}]
[{"$f":"ROW()","v":2490}]
[{"$f":"ROW()","v":2491}]
[{"$f":"ROW()","v":2492}]
[{"$f":"ROW()","v":2493}]
[{"$f":"ROW()","v":2494}]
[{"$f":"ROW()","v":2495}]
[{"$f":"ROW()","v":2496}]
[{"$f":"ROW()","v":2497}]
[{"$f":"ROW()","v":2498}]
[{"$f":"ROW()","v":2499}]
[{"$f":"ROW()","v":2500}]
[{"$f":"ROW()","v":2501}]
[{"$f":"ROW()","v":2502}]
[{"$f":"ROW()","v":2503}]
[{"$f":"ROW()","v":2504}]
[{"$f":"ROW()","v":2505}]
[{"$f":"ROW()","v":2506}]
[{"$f":"ROW()","v":2507}]
[{"$f":"ROW()","v":2508}]
[{"$f":"ROW()","v":2509}]
[{"$f":"ROW()","v":2510}]
[{"$f":"ROW()","v":2511}]
[{"$f":"ROW()","v":2512}]
[{"$f":"ROW()","v":2513}]
[{"$f":"ROW()","v":2514}]
[{"$f":"ROW()","v":2515}]
[{"$f":"ROW()","v":2516}]
[{"$f":"ROW()","v":2517}]
[{"$f":"ROW()","v":2518}]
[{"$f":"ROW()","v":2519}]
[{"$f":"ROW()","v":2520}]
[{"$f":"ROW()","v":2521}]
[{"$f":"ROW()","v":2522}]
[{"$f":"ROW()","v":2523}]
[{"$f":"ROW()","v":2524}]
[{"$f":"ROW()","v":2525}]
[{"$f":"ROW()","v":2526}]
[{"$f":"ROW()","v":2527}]
[{"$f":"ROW()","v":2528}]
[{"$f":"ROW()","v":2529}]
[{"$f":"ROW()","v":2530}]
[{"$f":"ROW()","v":2531}]
[{"$f":"ROW()","v":2532}]
[{"$f":"ROW()","v":2533}]
[{"$f":"ROW()","v":2534}]
[{"$f":"ROW()","v":2535}]
[{"$f":"ROW()","v":2536}]
[{"$f":"ROW()","v":2537}]
[{"$f":"ROW()","v":2538}]
[{"$f":"ROW()","v":2539}]
[{"$f":"ROW()","v":2540}]
[{"$f":"ROW()","v":2541}]
[{"$f":"ROW()","v":2542}]
[{"$f":"ROW()","v":2543}]
[{"$f":"ROW()","v":2544}]
[{"$f":"ROW()","v":2545}]
[{"$f":"ROW()","v":2546}]
[{"$f":"ROW()","v":2547}]
[{"$f":"ROW()","v":2548}]
[{"$f":"ROW()","v":2549}]
[{"$f":"ROW()","v":2550}]
[{"$f":"ROW()","v":2551}]
[{"$f":"ROW()","v":2552}]
[{"$f":"ROW()","v":2553}]
[{"$f":"ROW()","v":2554}]
[{"$f":"ROW()","v":2555}]
[{"$f":"ROW()","v":2556}]
[{"$f":"ROW()","v":2557}]
[{"$f":"ROW()","v":2558}]
[{"$f":"ROW()","v":2559}]
[{"$f":"ROW()","v":2560}]
[{"$f":"ROW()","v":2561}]
[{"$f":"ROW()","v":2562}]
[{"$f":"ROW()","v":2563}]
[{"$f":"ROW()","v":2564}]
[{"$f":"ROW()","v":2565}]
[{"$f":"ROW()","v":2566}]
[{"$f":"ROW()","v":2567}]
[{"$f":"ROW()","v":2568}]
[{"$f":"ROW()","v":2569}]
[{"$f":"ROW()","v":2570}]
[{"$f":"ROW()","v":2571}]
[{"$f":"ROW()","v":2572}]
[{"$f":"ROW()","v":2573}]
[{"$f":"ROW()","v":2574}]
[{"$f":"ROW()","v":2575}]
[{"$f":"ROW()","v":2576}]
[{"$f":"ROW()","v":2577}]
[{"$f":"ROW()","v":2578}]
[{"$f":"ROW()","v":2579}]
[{"$f":"ROW()","v":2580}]
[{"$f":"ROW()","v":2581}]
[{"$f":"ROW()","v":2582}]
[{"$f":"ROW()","v":2583}]
[{"$f":"ROW()","v":2584}]
[{"$f":"ROW()","v":2585}]
[{"$f":"ROW()","v":2586}]
[{"$f":"ROW()","v":2587}]
[{"$f":"ROW()","v":2588}]
[{"$f":"ROW()","v":2589}]
[{"$f":"ROW()","v":2590}]
[{"$f":"ROW()","v":2591}]
[{"$f":"ROW()","v":2592}]
[{"$f":"ROW()","v":2593}]
[{"$f":"ROW()","v":2594}]
[{"$f":"ROW()","v":2595}]
[{"$f":"ROW()","v":2596}]
[{"$f":"ROW()","v":2597}]
[{"$f":"ROW()","v":2598}]
[{"$f":"ROW()","v":2599}]
[{"$f":"ROW()","v":2600}]
[{"$f":"ROW()","v":2601}]
[{"$f":"ROW()","v":2602}]
[{"$f":"ROW()","v":2603}]
[{"$f":"ROW()","v":2604}]
[{"$f":"ROW()","v":2605}]
[{"$f":"ROW()","v":2606}]
[{"$f":"ROW()","v":2607}]
[{"$f":"ROW()","v":2608}]
[{"$f":"ROW()","v":2609}]
[{"$f":"ROW()","v":2610}]
[{"$f":"ROW()","v":2611}]
[{"$f":"ROW()","v":2612}]
[{"$f":"ROW()","v":2613}]
[{"$f":"ROW()","v":2614}]
[{"$f":"ROW()","v":2615}]
[{"$f":"ROW()","v":2616}]
[{"$f":"ROW()","v":2617}]
[{"$f":"ROW()","v":2618}]
[{"$f":"ROW()","v":2619}]
[{"$f":"ROW()","v":2620}]
[{"$f":"ROW()","v":2621}]
[{"$f":"ROW()","v":2622}]
[{"$f":"ROW()","v":2623}]
[{"$f":"ROW()","v":2624}]
[{"$f":"ROW()","v":2625}]
[{"$f":"ROW()","v":2626}]
[{"$f":"ROW()","v":2627}]
[{"$f":"ROW()","v":2628}]
[{"$f":"ROW()","v":2629}]
[{"$f":"ROW()","v":2630}]
[{"$f":"ROW()","v":2631}]
[{"$f":"ROW()","v":2632}]
[{"$f":"ROW()","v":2633}]
[{"$f":"ROW()","v":2634}]
[{"$f":"ROW()","v":2635}]
[{"$f":"ROW()","v":2636}]
[{"$f":"ROW()","v":2637}]
[{"$f":"ROW()","v":2638}]
[{"$f":"ROW()","v":2639}]
[{"$f":"ROW()","v":2640}]
[{"$f":"ROW()","v":2641}]
[{"$f":"ROW()","v":2642}]
[{"$f":"ROW()","v":2643}]
[{"$f":"ROW()","v":2644}]
[{"$f":"ROW()","v":2645}]
[{"$f":"ROW()","v":2646}]
[{"$f":"ROW()","v":2647}]
[{"$f":"ROW()","v":2648}]
[{"$f":"ROW()","v":2649}]
[{"$f":"ROW()","v":2650}]
[{"$f":"ROW()","v":2651}]
[{"$f":"ROW()","v":2652}]
[{"$f":"ROW()","v":2653}]
[{"$f":"ROW()","v":2654}]
[{"$f":"ROW()","v":2655}]
[{"$f":"ROW()","v":2656}]
[{"$f":"ROW()","v":2657}]
[{"$f":"ROW()","v":2658}]
[{"$f":"ROW()","v":2659}]
[{"$f":"ROW()","v":2660}]
[{"$f":"ROW()","v":2661}]
[{"$f":"ROW()","v":2662}]
[{"$f":"ROW()","v":2663}]
[{"$f":"ROW()","v":2664}]
[{"$f":"ROW()","v":2665}]
[{"$f":"ROW()","v":2666}]
[{"$f":"ROW()","v":2667}]
[{"$f":"ROW()","v":2668}]
[{"$f":"ROW()","v":2669}]
[{"$f":"ROW()","v":2670}]
[{"$f":"ROW()","v":2671}]
[{"$f":"ROW()","v":2672}]
[{"$f":"ROW()","v":2673}]
[{"$f":"ROW()","v":2674}]
[{"$f":"ROW()","v":2675}]
[{"$f":"ROW()","v":2676}]
[{"$f":"ROW()","v":2677}]
[{"$f":"ROW()","v":2678}]
[{"$f":"ROW()","v":2679}]
[{"$f":"ROW()","v":2680}]
[{"$f":"ROW()","v":2681}]
[{"$f":"ROW()","v":2682}]
[{"$f":"ROW()","v":2683}]
[{"$f":"ROW()","v":2684}]
[{"$f":"ROW()","v":2685}]
[{"$f":"ROW()","v":2686}]
[{"$f":"ROW()","v":2687}]
[{"$f":"ROW()","v":2688}]
[{"$f":"ROW()","v":2689}]
[{"$f":"ROW()","v":2690}]
[{"$f":"ROW()","v":2691}]
[{"$f":"ROW()","v":2692}]
[{"$f":"ROW()","v":2693}]
[{"$f":"ROW()","v":2694}]
[{"$f":"ROW()","v":2695}]
[{"$f":"ROW()","v":2696}]
[{"$f":"ROW()","v":2697}]
[{"$f":"ROW()","v":2698}]
[{"$f":"ROW()","v":2699}]
[{"$f":"ROW()","v":2700}]
[{"$f":"ROW()","v":2701}]
[{"$f":"ROW()","v":2702}]
[{"$f":"ROW()","v":2703}]
[{"$f":"ROW()","v":2704}]
[{"$f":"ROW()","v":2705}]
[{"$f":"ROW()","v":2706}]
[{"$f":"ROW()","v":2707}]
[{"$f":"ROW()","v":2708}]
[{"$f":"ROW()","v":2709}]
[{"$f":"ROW()","v":2710}]
[{"$f":"ROW()","v":2711}]
[{"$f":"ROW()","v":2712}]
[{"$f":"ROW()","v":2713}]
[{"$f":"ROW()","v":2714}]
[{"$f":"ROW()","v":2715}]
[{"$f":"ROW()","v":2716}]
[{"$f":"ROW()","v":2717}]
[{"$f":"ROW()","v":2718}]
[{"$f":"ROW()","v":2719}]
[{"$f":"ROW()","v":2720}]
[{"$f":"ROW()","v":2721}]
[{"$f":"ROW()","v":2722}]
[{"$f":"ROW()","v":2723}]
[{"$f":"ROW()","v":2724}]
[{"$f":"ROW()","v":2725}]
[{"$f":"ROW()","v":2726}]
[{"$f":"ROW()","v":2727}]
[{"$f":"ROW()","v":2728}]
[{"$f":"ROW()","v":2729}]
[{"$f":"ROW()","v":2730}]
[{"$f":"ROW()","v":2731}]
[{"$f":"ROW()","v":2732}]
[{"$f":"ROW()","v":2733}]
[{"$f":"ROW()","v":2734}]
[{"$f":"ROW()","v":2735}]
[{"$f":"ROW()","v":2736}]
[{"$f":"ROW()","v":2737}]
[{"$f":"ROW()","v":2738}]
[{"$f":"ROW()","v":2739}]
[{"$f":"ROW()","v":2740}]
[{"$f":"ROW()","v":2741}]
[{"$f":"ROW()","v":2742}]
[{"$f":"ROW()","v":2743}]
[{"$f":"ROW()","v":2744}]
[{"$f":"ROW()","v":2745}]
[{"$f":"ROW()","v":2746}]
[{"$f":"ROW()","v":2747}]
[{"$f":"ROW()","v":2748}]
[{"$f":"ROW()","v":2749}]
[{"$f":"ROW()","v":2750}]
[{"$f":"ROW()","v":2751}]
[{"$f":"ROW()","v":2752}]
[{"$f":"ROW()","v":2753}]
[{"$f":"ROW()","v":2754}]
[{"$f":"ROW()","v":2755}]
[{"$f":"ROW()","v":2756}]
[{"$f":"ROW()","v":2757}]
[{"$f":"ROW()","v":2758}]
[{"$f":"ROW()","v":2759}]
[{"$f":"ROW()","v":2760}]
[{"$f":"ROW()","v":2761}]
[{"$f":"ROW()","v":2762}]
[{"$f":"ROW()","v":2763}]
[{"$f":"ROW()","v":2764}]
[{"$f":"ROW()","v":2765}]
[{"$f":"ROW()","v":2766}]
[{"$f":"ROW()","v":2767}]
[{"$f":"ROW()","v":2768}]
[{"$f":"ROW()","v":2769}]
[{"$f":"ROW()","v":2770}]
[{"$f":"ROW()","v":2771}]
[{"$f":"ROW()","v":2772}]
[{"$f":"ROW()","v":2773}]
[{"$f":"ROW()","v":2774}]
[{"$f":"ROW()","v":2775}]
[{"$f":"ROW()","v":2776}]
[{"$f":"ROW()","v":2777}]
[{"$f":"ROW()","v":2778}]
[{"$f":"ROW()","v":2779}]
[{"$f":"ROW()","v":2780}]
[{"$f":"ROW()","v":2781}]
[{"$f":"ROW()","v":2782}]
[{"$f":"ROW()","v":2783}]
[{"$f":"ROW()","v":2784}]
[{"$f":"ROW()","v":2785}]
[{"$f":"ROW()","v":2786}]
[{"$f":"ROW()","v":2787}]
[{"$f":"ROW()","v":2788}]
[{"$f":"ROW()","v":2789}]
[{"$f":"ROW()","v":2790}]
[{"$f":"ROW()","v":2791}]
[{"$f":"ROW()","v":2792}]
[{"$f":"ROW()","v":2793}]
[{"$f":"ROW()","v":2794}]
[{"$f":"ROW()","v":2795}]
[{"$f":"ROW()","v":2796}]
[{"$f":"ROW()","v":2797}]
[{"$f":"ROW()","v":2798}]
[{"$f":"ROW()","v":2799}]
[{"$f":"ROW()","v":2800}]
[{"$f":"ROW()","v":2801}]
[{"$f":"ROW()","v":2802}]
[{"$f":"ROW()","v":2803}]
[{"$f":"ROW()","v":2804}]
[{"$f":"ROW()","v":2805}]
[{"$f":"ROW()","v":2806}]
[{"$f":"ROW()","v":2807}]
[{"$f":"ROW()","v":2808}]
[{"$f":"ROW()","v":2809}]
[{"$f":"ROW()","v":2810}]
[{"$f":"ROW()","v":2811}]
[{"$f":"ROW()","v":2812}]
[{"$f":"ROW()","v":2813}]
[{"$f":"ROW()","v":2814}]
[{"$f":"ROW()","v":2815}]
[{"$f":"ROW()","v":2816}]
[{"$f":"ROW()","v":2817}]
[{"$f":"ROW()","v":2818}]
[{"$f":"ROW()","v":2819}]
[{"$f":"ROW()","v":2820}]
[{"$f":"ROW()","v":2821}]
[{"$f":"ROW()","v":2822}]
[{"$f":"ROW()","v":2823}]
[{"$f":"ROW()","v":2824}]
[{"$f":"ROW()","v":2825}]
[{"$f":"ROW()","v":2826}]
[{"$f":"ROW()","v":2827}]
[{"$f":"ROW()","v":2828}]
[{"$f":"ROW()","v":2829}]
[{"$f":"ROW()","v":2830}]
[{"$f":"ROW()","v":2831}]
[{"$f":"ROW()","v":2832}]
[{"$f":"ROW()","v":2833}]
[{"$f":"ROW()","v":2834}]
[{"$f":"ROW()","v":2835}]
[{"$f":"ROW()","v":2836}]
[{"$f":"ROW()","v":2837}]
[{"$f":"ROW()","v":2838}]
[{"$f":"ROW()","v":2839}]
[{"$f":"ROW()","v":2840}]
[{"$f":"ROW()","v":2841}]
[{"$f":"ROW()","v":2842}]
[{"$f":"ROW()","v":2843}]
[{"$f":"ROW()","v":2844}]
[{"$f":"ROW()","v":2845}]
[{"$f":"ROW()","v":2846}]
[{"$f":"ROW()","v":2847}]
[{"$f":"ROW()","v":2848}]
[{"$f":"ROW()","v":2849}]
[{"$f":"ROW()","v":2850}]
[{"$f":"ROW()","v":2851}]
[{"$f":"ROW()","v":2852}]
[{"$f":"ROW()","v":2853}]
[{"$f":"ROW()","v":2854}]
[{"$f":"ROW()","v":2855}]
[{"$f":"ROW()","v":2856}]
[{"$f":"ROW()","v":2857}]
[{"$f":"ROW()","v":2858}]
[{"$f":"ROW()","v":2859}]
[{"$f":"ROW()","v":2860}]
[{"$f":"ROW()","v":2861}]
[{"$f":"ROW()","v":2862}]
[{"$f":"ROW()","v":2863}]
[{"$f":"ROW()","v":2864}]
[{"$f":"ROW()","v":2865}]
[{"$f":"ROW()","v":2866}]
[{"$f":"ROW()","v":2867}]
[{"$f":"ROW()","v":2868}]
[{"$f":"ROW()","v":2869}]
[{"$f":"ROW()","v":2870}]
[{"$f":"ROW()","v":2871}]
[{"$f":"ROW()","v":2872}]
[{"$f":"ROW()","v":2873}]
[{"$f":"ROW()","v":2874}]
[{"$f":"ROW()","v":2875}]
[{"$f":"ROW()","v":2876}]
[{"$f":"ROW()","v":2877}]
[{"$f":"ROW()","v":2878}]
[{"$f":"ROW()","v":2879}]
[{"$f":"ROW()","v":2880}]
[{"$f":"ROW()","v":2881}]
[{"$f":"ROW()","v":2882}]
[{"$f":"ROW()","v":2883}]
[{"$f":"ROW()","v":2884}]
[{"$f":"ROW()","v":2885}]
[{"$f":"ROW()","v":2886}]
[{"$f":"ROW()","v":2887}]
[{"$f":"ROW()","v":2888}]
[{"$f":"ROW()","v":2889}]
[{"$f":"ROW()","v":2890}]
[{"$f":"ROW()","v":2891}]
[{"$f":"ROW()","v":2892}]
[{"$f":"ROW()","v":2893}]
[{"$f":"ROW()","v":2894}]
[{"$f":"ROW()","v":2895}]
[{"$f":"ROW()","v":2896}]
[{"$f":"ROW()","v":2897}]
[{"$f":"ROW()","v":2898}]
[{"$f":"ROW()","v":2899}]
[{"$f":"ROW()","v":2900}]
[{"$f":"ROW()","v":2901}]
[{"$f":"ROW()","v":2902}]
[{"$f":"ROW()","v":2903}]
[{"$f":"ROW()","v":2904}]
[{"$f":"ROW()","v":2905}]
[{"$f":"ROW()","v":2906}]
[{"$f":"ROW()","v":2907}]
[{"$f":"ROW()","v":2908}]
[{"$f":"ROW()","v":2909}]
[{"$f":"ROW()","v":2910}]
[{"$f":"ROW()","v":2911}]
[{"$f":"ROW()","v":2912}]
[{"$f":"ROW()","v":2913}]
[{"$f":"ROW()","v":2914}]
[{"$f":"ROW()","v":2915}]
[{"$f":"ROW()","v":2916}]
[{"$f":"ROW()","v":2917}]
[{"$f":"ROW()","v":2918}]
[{"$f":"ROW()","v":2919}]
[{"$f":"ROW()","v":2920}]
[{"$f":"ROW()","v":2921}]
[{"$f":"ROW()","v":2922}]
[{"$f":"ROW()","v":2923}]
[{"$f":"ROW()","v":2924}]
[{"$f":"ROW()","v":2925}]
[{"$f":"ROW()","v":2926}]
[{"$f":"ROW()","v":2927}]
[{"$f":"ROW()","v":2928}]
[{"$f":"ROW()","v":2929}]
[{"$f":"ROW()","v":2930}]
[{"$f":"ROW()","v":2931}]
[{"$f":"ROW()","v":2932}]
[{"$f":"ROW()","v":2933}]
[{"$f":"ROW()","v":2934}]
[{"$f":"ROW()","v":2935}]
[{"$f":"ROW()","v":2936}]
[{"$f":"ROW()","v":2937}]
[{"$f":"ROW()","v":2938}]
[{"$f":"ROW()","v":2939}]
[{"$f":"ROW()","v":2940}]
[{"$f":"ROW()","v":2941}]
[{"$f":"ROW()","v":2942}]
[{"$f":"ROW()","v":2943}]
[{"$f":"ROW()","v":2944}]
[{"$f":"ROW()","v":2945}]
[{"$f":"ROW()","v":2946}]
[{"$f":"ROW()","v":2947}]
[{"$f":"ROW()","v":2948}]
[{"$f":"ROW()","v":2949}]
[{"$f":"ROW()","v":2950}]
[{"$f":"ROW()","v":2951}]
[{"$f":"ROW()","v":2952}]
[{"$f":"ROW()","v":2953}]
[{"$f":"ROW()","v":2954}]
[{"$f":"ROW()","v":2955}]
[{"$f":"ROW()","v":2956}]
[{"$f":"ROW()","v":2957}]
[{"$f":"ROW()","v":2958}]
[{"$f":"ROW()","v":2959}]
[{"$f":"ROW()","v":2960}]
[{"$f":"ROW()","v":2961}]
[{"$f":"ROW()","v":2962}]
[{"$f":"ROW()","v":2963}]
[{"$f":"ROW()","v":2964}]
[{"$f":"ROW()","v":2965}]
[{"$f":"ROW()","v":2966}]
[{"$f":"ROW()","v":2967}]
[{"$f":"ROW()","v":2968}]
[{"$f":"ROW()","v":2969}]
[{"$f":"ROW()","v":2970}]
[{"$f":"ROW()","v":2971}]
[{"$f":"ROW()","v":2972}]
[{"$f":"ROW()","v":2973}]
[{"$f":"ROW()","v":2974}]
[{"$f":"ROW()","v":2975}]
[{"$f":"ROW()","v":2976}]
[{"$f":"ROW()","v":2977}]
[{"$f":"ROW()","v":2978}]
[{"$f":"ROW()","v":2979}]
[{"$f":"ROW()","v":2980}]
[{"$f":"ROW()","v":2981}]
[{"$f":"ROW()","v":2982}]
[{"$f":"ROW()","v":2983}]
[{"$f":"ROW()","v":2984}]
[{"$f":"ROW()","v":2985}]
[{"$f":"ROW()","v":2986}]
[{"$f":"ROW()","v":2987}]
[{"$f":"ROW()","v":2988}]
[{"$f":"ROW()","v":2989}]
[{"$f":"ROW()","v":2990}]
[{"$f":"ROW()","v":2991}]
[{"$f":"ROW()","v":2992}]
[{"$f":"ROW()","v":2993}]
[{"$f":"ROW()","v":2994}]
[{"$f":"ROW()","v":2995}]
[{"$f":"ROW()","v":2996}]
[{"$f":"ROW()","v":2997}]
[{"$f":"ROW()","v":2998}]
[{"$f":"ROW()","v":2999}]
[{"$f":"ROW()","v":3000}]
[{"$f":"ROW()","v":3001}]
[{"$f":"ROW()","v":3002}]
[{"$f":"ROW()","v":3003}]
[{"$f":"ROW()","v":3004}]
[{"$f":"ROW()","v":3005}]
[{"$f":"ROW()","v":3006}]
[{"$f":"ROW()","v":3007}]
[{"$f":"ROW()","v":3008}]
[{"$f":"ROW()","v":3009}]
[{"$f":"ROW()","v":3010}]
[{"$f":"ROW()","v":3011}]
[{"$f":"ROW()","v":3012}]
[{"$f":"ROW()","v":3013}]
[{"$f":"ROW()","v":3014}]
[{"$f":"ROW()","v":3015}]
[{"$f":"ROW()","v":3016}]
[{"$f":"ROW()","v":3017}]
[{"$f":"ROW()","v":3018}]
[{"$f":"ROW()","v":3019}]
[{"$f":"ROW()","v":3020}]
[{"$f":"ROW()","v":3021}]
[{"$f":"ROW()","v":3022}]
[{"$f":"ROW()","v":3023}]
[{"$f":"ROW()","v":3024}]
[{"$f":"ROW()","v":3025}]
[{"$f":"ROW()","v":3026}]
[{"$f":"ROW()","v":3027}]
[{"$f":"ROW()","v":3028}]
[{"$f":"ROW()","v":3029}]
[{"$f":"ROW()","v":3030}]
[{"$f":"ROW()","v":3031}]
[{"$f":"ROW()","v":3032}]
[{"$f":"ROW()","v":3033}]
[{"$f":"ROW()","v":3034}]
[{"$f":"ROW()","v":3035}]
[{"$f":"ROW()","v":3036}]
[{"$f":"ROW()","v":3037}]
[{"$f":"ROW()","v":3038}]
[{"$f":"ROW()","v":3039}]
[{"$f":"ROW()","v":3040}]
[{"$f":"ROW()","v":3041}]
[{"$f":"ROW()","v":3042}]
[{"$f":"ROW()","v":3043}]
[{"$f":"ROW()","v":3044}]
[{"$f":"ROW()","v":3045}]
[{"$f":"ROW()","v":3046}]
[{"$f":"ROW()","v":3047}]
[{"$f":"ROW()","v":3048}]
[{"$f":"ROW()","v":3049}]
[{"$f":"ROW()","v":3050}]
[{"$f":"ROW()","v":3051}]
[{"$f":"ROW()","v":3052}]
[{"$f":"ROW()","v":3053}]
[{"$f":"ROW()","v":3054}]
[{"$f":"ROW()","v":3055}]
[{"$f":"ROW()","v":3056}]
[{"$f":"ROW()","v":3057}]
[{"$f":"ROW()","v":3058}]
[{"$f":"ROW()","v":3059}]
[{"$f":"ROW()","v":3060}]
[{"$f":"ROW()","v":3061}]
[{"$f":"ROW()","v":3062}]
[{"$f":"ROW()","v":3063}]
[{"$f":"ROW()","v":3064}]
[{"$f":"ROW()","v":3065}]
[{"$f":"ROW()","v":3066}]
[{"$f":"ROW()","v":3067}]
[{"$f":"ROW()","v":3068}]
[{"$f":"ROW()","v":3069}]
[{"$f":"ROW()","v":3070}]
[{"$f":"ROW()","v":3071}]
[{"$f":"ROW()","v":3072}]
[{"$f":"ROW()","v":3073}]
[{"$f":"ROW()","v":3074}]
[{"$f":"ROW()","v":3075}]
[{"$f":"ROW()","v":3076}]
[{"$f":"ROW()","v":3077}]
[{"$f":"ROW()","v":3078}]
[{"$f":"ROW()","v":3079}]
[{"$f":"ROW()","v":3080}]
[{"$f":"ROW()","v":3081}]
[{"$f":"ROW()","v":3082}]
[{"$f":"ROW()","v":3083}]
[{"$f":"ROW()","v":3084}]
[{"$f":"ROW()","v":3085}]
[{"$f":"ROW()","v":3086}]
[{"$f":"ROW()","v":3087}]
[{"$f":"ROW()","v":3088}]
[{"$f":"ROW()","v":3089}]
[{"$f":"ROW()","v":3090}]
[{"$f":"ROW()","v":3091}]
[{"$f":"ROW()","v":3092}]
[{"$f":"ROW()","v":3093}]
[{"$f":"ROW()","v":3094}]
[{"$f":"ROW()","v":3095}]
[{"$f":"ROW()","v":3096}]
[{"$f":"ROW()","v":3097}]
[{"$f":"ROW()","v":3098}]
[{"$f":"ROW()","v":3099}]
[{"$f":"ROW()","v":3100}]
[{"$f":"ROW()","v":3101}]
[{"$f":"ROW()","v":3102}]
[{"$f":"ROW()","v":3103}]
[{"$f":"ROW()","v":3104}]
[{"$f":"ROW()","v":3105}]
[{"$f":"ROW()","v":3106}]
[{"$f":"ROW()","v":3107}]
[{"$f":"ROW()","v":3108}]
[{"$f":"ROW()","v":3109}]
[{"$f":"ROW()","v":3110}]
[{"$f":"ROW()","v":3111}]
[{"$f":"ROW()","v":3112}]
[{"$f":"ROW()","v":3113}]
[{"$f":"ROW()","v":3114}]
[{"$f":"ROW()","v":3115}]
[{"$f":"ROW()","v":3116}]
[{"$f":"ROW()","v":3117}]
[{"$f":"ROW()","v":3118}]
[{"$f":"ROW()","v":3119}]
[{"$f":"ROW()","v":3120}]
[{"$f":"ROW()","v":3121}]
[{"$f":"ROW()","v":3122}]
[{"$f":"ROW()","v":3123}]
[{"$f":"ROW()","v":3124}]
[{"$f":"ROW()","v":3125}]
[{"$f":"ROW()","v":3126}]
[{"$f":"ROW()","v":3127}]
[{"$f":"ROW()","v":3128}]
[{"$f":"ROW()","v":3129}]
[{"$f":"ROW()","v":3130}]
[{"$f":"ROW()","v":3131}]
[{"$f":"ROW()","v":3132}]
[{"$f":"ROW()","v":3133}]
[{"$f":"ROW()","v":3134}]
[{"$f":"ROW()","v":3135}]
[{"$f":"ROW()","v":3136}]
[{"$f":"ROW()","v":3137}]
[{"$f":"ROW()","v":3138}]
[{"$f":"ROW()","v":3139}]
[{"$f":"ROW()","v":3140}]
[{"$f":"ROW()","v":3141}]
[{"$f":"ROW()","v":3142}]
[{"$f":"ROW()","v":3143}]
[{"$f":"ROW()","v":3144}]
[{"$f":"ROW()","v":3145}]
[{"$f":"ROW()","v":3146}]
[{"$f":"ROW()","v":3147}]
[{"$f":"ROW()","v":3148}]
[{"$f":"ROW()","v":3149}]
[{"$f":"ROW()","v":3150}]
[{"$f":"ROW()","v":3151}]
[{"$f":"ROW()","v":3152}]
[{"$f":"ROW()","v":3153}]
[{"$f":"ROW()","v":3154}]
[{"$f":"ROW()","v":3155}]
[{"$f":"ROW()","v":3156}]
[{"$f":"ROW()","v":3157}]
[{"$f":"ROW()","v":3158}]
[{"$f":"ROW()","v":3159}]
[{"$f":"ROW()","v":3160}]
[{"$f":"ROW()","v":3161}]
[{"$f":"ROW()","v":3162}]
[{"$f":"ROW()","v":3163}]
[{"$f":"ROW()","v":3164}]
[{"$f":"ROW()","v":3165}]
[{"$f":"ROW()","v":3166}]
[{"$f":"ROW()","v":3167}]
[{"$f":"ROW()","v":3168}]
[{"$f":"ROW()","v":3169}]
[{"$f":"ROW()","v":3170}]
[{"$f":"ROW()","v":3171}]
[{"$f":"ROW()","v":3172}]
[{"$f":"ROW()","v":3173}]
[{"$f":"ROW()","v":3174}]
[{"$f":"ROW()","v":3175}]
[{"$f":"ROW()","v":3176}]
[{"$f":"ROW()","v":3177}]
[{"$f":"ROW()","v":3178}]
[{"$f":"ROW()","v":3179}]
[{"$f":"ROW()","v":3180}]
[{"$f":"ROW()","v":3181}]
[{"$f":"ROW()","v":3182}]
[{"$f":"ROW()","v":3183}]
[{"$f":"ROW()","v":3184}]
[{"$f":"ROW()","v":3185}]
[{"$f":"ROW()","v":3186}]
[{"$f":"ROW()","v":3187}]
[{"$f":"ROW()","v":3188}]
[{"$f":"ROW()","v":3189}]
[{"$f":"ROW()","v":3190}]
[{"$f":"ROW()","v":3191}]
[{"$f":"ROW()","v":3192}]
[{"$f":"ROW()","v":3193}]
[{"$f":"ROW()","v":3194}]
[{"$f":"ROW()","v":3195}]
[{"$f":"ROW()","v":3196}]
[{"$f":"ROW()","v":3197}]
[{"$f":"ROW()","v":3198}]
[{"$f":"ROW()","v":3199}]
[{"$f":"ROW()","v":3200}]
[{"$f":"ROW()","v":3201}]
[{"$f":"ROW()","v":3202}]
[{"$f":"ROW()","v":3203}]
[{"$f":"ROW()","v":3204}]
[{"$f":"ROW()","v":3205}]
[{"$f":"ROW()","v":3206}]
[{"$f":"ROW()","v":3207}]
[{"$f":"ROW()","v":3208}]
[{"$f":"ROW()","v":3209}]
[{"$f":"ROW()","v":3210}]
[{"$f":"ROW()","v":3211}]
[{"$f":"ROW()","v":3212}]
[{"$f":"ROW()","v":3213}]
[{"$f":"ROW()","v":3214}]
[{"$f":"ROW()","v":3215}]
[{"$f":"ROW()","v":3216}]
[{"$f":"ROW()","v":3217}]
[{"$f":"ROW()","v":3218}]
[{"$f":"ROW()","v":3219}]
[{"$f":"ROW()","v":3220}]
[{"$f":"ROW()","v":3221}]
[{"$f":"ROW()","v":3222}]
[{"$f":"ROW()","v":3223}]
[{"$f":"ROW()","v":3224}]
[{"$f":"ROW()","v":3225}]
[{"$f":"ROW()","v":3226}]
[{"$f":"ROW()","v":3227}]
[{"$f":"ROW()","v":3228}]
[{"$f":"ROW()","v":3229}]
[{"$f":"ROW()","v":3230}]
[{"$f":"ROW()","v":3231}]
[{"$f":"ROW()","v":3232}]
[{"$f":"ROW()","v":3233}]
[{"$f":"ROW()","v":3234}]
[{"$f":"ROW()","v":3235}]
[{"$f":"ROW()","v":3236}]
[{"$f":"ROW()","v":3237}]
[{"$f":"ROW()","v":3238}]
[{"$f":"ROW()","v":3239}]
[{"$f":"ROW()","v":3240}]
[{"$f":"ROW()","v":3241}]
[{"$f":"ROW()","v":3242}]
[{"$f":"ROW()","v":3243}]
[{"$f":"ROW()","v":3244}]
[{"$f":"ROW()","v":3245}]
[{"$f":"ROW()","v":3246}]
[{"$f":"ROW()","v":3247}]
[{"$f":"ROW()","v":3248}]
[{"$f":"ROW()","v":3249}]
[{"$f":"ROW()","v":3250}]
[{"$f":"ROW()","v":3251}]
[{"$f":"ROW()","v":3252}]
[{"$f":"ROW()","v":3253}]
[{"$f":"ROW()","v":3254}]
[{"$f":"ROW()","v":3255}]
[{"$f":"ROW()","v":3256}]
[{"$f":"ROW()","v":3257}]
[{"$f":"ROW()","v":3258}]
[{"$f":"ROW()","v":3259}]
[{"$f":"ROW()","v":3260}]
[{"$f":"ROW()","v":3261}]
[{"$f":"ROW()","v":3262}]
[{"$f":"ROW()","v":3263}]
[{"$f":"ROW()","v":3264}]
[{"$f":"ROW()","v":3265}]
[{"$f":"ROW()","v":3266}]
[{"$f":"ROW()","v":3267}]
[{"$f":"ROW()","v":3268}]
[{"$f":"ROW()","v":3269}]
[{"$f":"ROW()","v":3270}]
[{"$f":"ROW()","v":3271}]
[{"$f":"ROW()","v":3272}]
[{"$f":"ROW()","v":3273}]
[{"$f":"ROW()","v":3274}]
[{"$f":"ROW()","v":3275}]
[{"$f":"ROW()","v":3276}]
[{"$f":"ROW()","v":3277}]
[{"$f":"ROW()","v":3278}]
[{"$f":"ROW()","v":3279}]
[{"$f":"ROW()","v":3280}]
[{"$f":"ROW()","v":3281}]
[{"$f":"ROW()","v":3282}]
[{"$f":"ROW()","v":3283}]
[{"$f":"ROW()","v":3284}]
[{"$f":"ROW()","v":3285}]
[{"$f":"ROW()","v":3286}]
[{"$f":"ROW()","v":3287}]
[{"$f":"ROW()","v":3288}]
[{"$f":"ROW()","v":3289}]
[{"$f":"ROW()","v":3290}]
[{"$f":"ROW()","v":3291}]
[{"$f":"ROW()","v":3292}]
[{"$f":"ROW()","v":3293}]
[{"$f":"ROW()","v":3294}]
[{"$f":"ROW()","v":3295}]
[{"$f":"ROW()","v":3296}]
[{"$f":"ROW()","v":3297}]
[{"$f":"ROW()","v":3298}]
[{"$f":"ROW()","v":3299}]
[{"$f":"ROW()","v":3300}]
[{"$f":"ROW()","v":3301}]
[{"$f":"ROW()","v":3302}]
[{"$f":"ROW()","v":3303}]
[{"$f":"ROW()","v":3304}]
[{"$f":"ROW()","v":3305}]
[{"$f":"ROW()","v":3306}]
[{"$f":"ROW()","v":3307}]
[{"$f":"ROW()","v":3308}]
[{"$f":"ROW()","v":3309}]
[{"$f":"ROW()","v":3310}]
[{"$f":"ROW()","v":3311}]
[{"$f":"ROW()","v":3312}]
[{"$f":"ROW()","v":3313}]
[{"$f":"ROW()","v":3314}]
[{"$f":"ROW()","v":3315}]
[{"$f":"ROW()","v":3316}]
[{"$f":"ROW()","v":3317}]
[{"$f":"ROW()","v":3318}]
[{"$f":"ROW()","v":3319}]
[{"$f":"ROW()","v":3320}]
[{"$f":"ROW()","v":3321}]
[{"$f":"ROW()","v":3322}]
[{"$f":"ROW()","v":3323}]
[{"$f":"ROW()","v":3324}]
[{"$f":"ROW()","v":3325}]
[{"$f":"ROW()","v":3326}]
[{"$f":"ROW()","v":3327}]
[{"$f":"ROW()","v":3328}]
[{"$f":"ROW()","v":3329}]
[{"$f":"ROW()","v":3330}]
[{"$f":"ROW()","v":3331}]
[{"$f":"ROW()","v":3332}]
[{"$f":"ROW()","v":3333}]
[{"$f":"ROW()","v":3334}]
[{"$f":"ROW()","v":3335}]
[{"$f":"ROW()","v":3336}]
[{"$f":"ROW()","v":3337}]
[{"$f":"ROW()","v":3338}]
[{"$f":"ROW()","v":3339}]
[{"$f":"ROW()","v":3340}]
[{"$f":"ROW()","v":3341}]
[{"$f":"ROW()","v":3342}]
[{"$f":"ROW()","v":3343}]
[{"$f":"ROW()","v":3344}]
[{"$f":"ROW()","v":3345}]
[{"$f":"ROW()","v":3346}]
[{"$f":"ROW()","v":3347}]
[{"$f":"ROW()","v":3348}]
[{"$f":"ROW()","v":3349}]
[{"$f":"ROW()","v":3350}]
[{"$f":"ROW()","v":3351}]
[{"$f":"ROW()","v":3352}]
[{"$f":"ROW()","v":3353}]
[{"$f":"ROW()","v":3354}]
[{"$f":"ROW()","v":3355}]
[{"$f":"ROW()","v":3356}]
[{"$f":"ROW()","v":3357}]
[{"$f":"ROW()","v":3358}]
[{"$f":"ROW()","v":3359}]
[{"$f":"ROW()","v":3360}]
[{"$f":"ROW()","v":3361}]
[{"$f":"ROW()","v":3362}]
[{"$f":"ROW()","v":3363}]
[{"$f":"ROW()","v":3364}]
[{"$f":"ROW()","v":3365}]
[{"$f":"ROW()","v":3366}]
[{"$f":"ROW()","v":3367}]
[{"$f":"ROW()","v":3368}]
[{"$f":"ROW()","v":3369}]
[{"$f":"ROW()","v":3370}]
[{"$f":"ROW()","v":3371}]
[{"$f":"ROW()","v":3372}]
[{"$f":"ROW()","v":3373}]
[{"$f":"ROW()","v":3374}]
[{"$f":"ROW()","v":3375}]
[{"$f":"ROW()","v":3376}]
[{"$f":"ROW()","v":3377}]
[{"$f":"ROW()","v":3378}]
[{"$f":"ROW()","v":3379}]
[{"$f":"ROW()","v":3380}]
[{"$f":"ROW()","v":3381}]
[{"$f":"ROW()","v":3382}]
[{"$f":"ROW()","v":3383}]
[{"$f":"ROW()","v":3384}]
[{"$f":"ROW()","v":3385}]
[{"$f":"ROW()","v":3386}]
[{"$f":"ROW()","v":3387}]
[{"$f":"ROW()","v":3388}]
[{"$f":"ROW()","v":3389}]
[{"$f":"ROW()","v":3390}]
[{"$f":"ROW()","v":3391}]
[{"$f":"ROW()","v":3392}]
[{"$f":"ROW()","v":3393}]
[{"$f":"ROW()","v":3394}]
[{"$f":"ROW()","v":3395}]
[{"$f":"ROW()","v":3396}]
[{"$f":"ROW()","v":3397}]
[{"$f":"ROW()","v":3398}]
[{"$f":"ROW()","v":3399}]
[{"$f":"ROW()","v":3400}]
[{"$f":"ROW()","v":3401}]
[{"$f":"ROW()","v":3402}]
[{"$f":"ROW()","v":3403}]
[{"$f":"ROW()","v":3404}]
[{"$f":"ROW()","v":3405}]
[{"$f":"ROW()","v":3406}]
[{"$f":"ROW()","v":3407}]
[{"$f":"ROW()","v":3408}]
[{"$f":"ROW()","v":3409}]
[{"$f":"ROW()","v":3410}]
[{"$f":"ROW()","v":3411}]
[{"$f":"ROW()","v":3412}]
[{"$f":"ROW()","v":3413}]
[{"$f":"ROW()","v":3414}]
[{"$f":"ROW()","v":3415}]
[{"$f":"ROW()","v":3416}]
[{"$f":"ROW()","v":3417}]
[{"$f":"ROW()","v":3418}]
[{"$f":"ROW()","v":3419}]
[{"$f":"ROW()","v":3420}]
[{"$f":"ROW()","v":3421}]
[{"$f":"ROW()","v":3422}]
[{"$f":"ROW()","v":3423}]
[{"$f":"ROW()","v":3424}]
[{"$f":"ROW()","v":3425}]
[{"$f":"ROW()","v":3426}]
[{"$f":"ROW()","v":3427}]
[{"$f":"ROW()","v":3428}]
[{"$f":"ROW()","v":3429}]
[{"$f":"ROW()","v":3430}]
[{"$f":"ROW()","v":3431}]
[{"$f":"ROW()","v":3432}]
[{"$f":"ROW()","v":3433}]
[{"$f":"ROW()","v":3434}]
[{"$f":"ROW()","v":3435}]
[{"$f":"ROW()","v":3436}]
[{"$f":"ROW()","v":3437}]
[{"$f":"ROW()","v":3438}]
[{"$f":"ROW()","v":3439}]
[{"$f":"ROW()","v":3440}]
[{"$f":"ROW()","v":3441}]
[{"$f":"ROW()","v":3442}]
[{"$f":"ROW()","v":3443}]
[{"$f":"ROW()","v":3444}]
[{"$f":"ROW()","v":3445}]
[{"$f":"ROW()","v":3446}]
[{"$f":"ROW()","v":3447}]
[{"$f":"ROW()","v":3448}]
[{"$f":"ROW()","v":3449}]
[{"$f":"ROW()","v":3450}]
[{"$f":"ROW()","v":3451}]
[{"$f":"ROW()","v":3452}]
[{"$f":"ROW()","v":3453}]
[{"$f":"ROW()","v":3454}]
[{"$f":"ROW()","v":3455}]
[{"$f":"ROW()","v":3456}]
[{"$f":"ROW()","v":3457}]
[{"$f":"ROW()","v":3458}]
[{"$f":"ROW()","v":3459}]
[{"$f":"ROW()","v":3460}]
[{"$f":"ROW()","v":3461}]
[{"$f":"ROW()","v":3462}]
[{"$f":"ROW()","v":3463}]
[{"$f":"ROW()","v":3464}]
[{"$f":"ROW()","v":3465}]
[{"$f":"ROW()","v":3466}]
[{"$f":"ROW()","v":3467}]
[{"$f":"ROW()","v":3468}]
[{"$f":"ROW()","v":3469}]
[{"$f":"ROW()","v":3470}]
[{"$f":"ROW()","v":3471}]
[{"$f":"ROW()","v":3472}]
[{"$f":"ROW()","v":3473}]
[{"$f":"ROW()","v":3474}]
[{"$f":"ROW()","v":3475}]
[{"$f":"ROW()","v":3476}]
[{"$f":"ROW()","v":3477}]
[{"$f":"ROW()","v":3478}]
[{"$f":"ROW()","v":3479}]
[{"$f":"ROW()","v":3480}]
[{"$f":"ROW()","v":3481}]
[{"$f":"ROW()","v":3482}]
[{"$f":"ROW()","v":3483}]
[{"$f":"ROW()","v":3484}]
[{"$f":"ROW()","v":3485}]
[{"$f":"ROW()","v":3486}]
[{"$f":"ROW()","v":3487}]
[{"$f":"ROW()","v":3488}]
[{"$f":"ROW()","v":3489}]
[{"$f":"ROW()","v":3490}]
[{"$f":"ROW()","v":3491}]
[{"$f":"ROW()","v":3492}]
[{"$f":"ROW()","v":3493}]
[{"$f":"ROW()","v":3494}]
[{"$f":"ROW()","v":3495}]
[{"$f":"ROW()","v":3496}]
[{"$f":"ROW()","v":3497}]
[{"$f":"ROW()","v":3498}]
[{"$f":"ROW()","v":3499}]
[{"$f":"ROW()","v":3500}]
[{"$f":"ROW()","v":3501}]
[{"$f":"ROW()","v":3502}]
[{"$f":"ROW()","v":3503}]
[{"$f":"ROW()","v":3504}]
[{"$f":"ROW()","v":3505}]
[{"$f":"ROW()","v":3506}]
[{"$f":"ROW()","v":3507}]
[{"$f":"ROW()","v":3508}]
[{"$f":"ROW()","v":3509}]
[{"$f":"ROW()","v":3510}]
[{"$f":"ROW()","v":3511}]
[{"$f":"ROW()","v":3512}]
[{"$f":"ROW()","v":3513}]
[{"$f":"ROW()","v":3514}]
[{"$f":"ROW()","v":3515}]
[{"$f":"ROW()","v":3516}]
[{"$f":"ROW()","v":3517}]
[{"$f":"ROW()","v":3518}]
[{"$f":"ROW()","v":3519}]
[{"$f":"ROW()","v":3520}]
[{"$f":"ROW()","v":3521}]
[{"$f":"ROW()","v":3522}]
[{"$f":"ROW()","v":3523}]
[{"$f":"ROW()","v":3524}]
[{"$f":"ROW()","v":3525}]
[{"$f":"ROW()","v":3526}]
[{"$f":"ROW()","v":3527}]
[{"$f":"ROW()","v":3528}]
[{"$f":"ROW()","v":3529}]
[{"$f":"ROW()","v":3530}]
[{"$f":"ROW()","v":3531}]
[{"$f":"ROW()","v":3532}]
[{"$f":"ROW()","v":3533}]
[{"$f":"ROW()","v":3534}]
[{"$f":"ROW()","v":3535}]
[{"$f":"ROW()","v":3536}]
[{"$f":"ROW()","v":3537}]
[{"$f":"ROW()","v":3538}]
[{"$f":"ROW()","v":3539}]
[{"$f":"ROW()","v":3540}]
[{"$f":"ROW()","v":3541}]
[{"$f":"ROW()","v":3542}]
[{"$f":"ROW()","v":3543}]
[{"$f":"ROW()","v":3544}]
[{"$f":"ROW()","v":3545}]
[{"$f":"ROW()","v":3546}]
[{"$f":"ROW()","v":3547}]
[{"$f":"ROW()","v":3548}]
[{"$f":"ROW()","v":3549}]
[{"$f":"ROW()","v":3550}]
[{"$f":"ROW()","v":3551}]
[{"$f":"ROW()","v":3552}]
[{"$f":"ROW()","v":3553}]
[{"$f":"ROW()","v":3554}]
[{"$f":"ROW()","v":3555}]
[{"$f":"ROW()","v":3556}]
[{"$f":"ROW()","v":3557}]
[{"$f":"ROW()","v":3558}]
[{"$f":"ROW()","v":3559}]
[{"$f":"ROW()","v":3560}]
[{"$f":"ROW()","v":3561}]
[{"$f":"ROW()","v":3562}]
[{"$f":"ROW()","v":3563}]
[{"$f":"ROW()","v":3564}]
[{"$f":"ROW()","v":3565}]
[{"$f":"ROW()","v":3566}]
[{"$f":"ROW()","v":3567}]
[{"$f":"ROW()","v":3568}]
[{"$f":"ROW()","v":3569}]
[{"$f":"ROW()","v":3570}]
[{"$f":"ROW()","v":3571}]
[{"$f":"ROW()","v":3572}]
[{"$f":"ROW()","v":3573}]
[{"$f":"ROW()","v":3574}]
[{"$f":"ROW()","v":3575}]
[{"$f":"ROW()","v":3576}]
[{"$f":"ROW()","v":3577}]
[{"$f":"ROW()","v":3578}]
[{"$f":"ROW()","v":3579}]
[{"$f":"ROW()","v":3580}]
[{"$f":"ROW()","v":3581}]
[{"$f":"ROW()","v":3582}]
[{"$f":"ROW()","v":3583}]
[{"$f":"ROW()","v":3584}]
[{"$f":"ROW()","v":3585}]
[{"$f":"ROW()","v":3586}]
[{"$f":"ROW()","v":3587}]
[{"$f":"ROW()","v":3588}]
[{"$f":"ROW()","v":3589}]
[{"$f":"ROW()","v":3590}]
[{"$f":"ROW()","v":3591}]
[{"$f":"ROW()","v":3592}]
[{"$f":"ROW()","v":3593}]
[{"$f":"ROW()","v":3594}]
[{"$f":"ROW()","v":3595}]
[{"$f":"ROW()","v":3596}]
[{"$f":"ROW()","v":3597}]
[{"$f":"ROW()","v":3598}]
[{"$f":"ROW()","v":3599}]
[{"$f":"ROW()","v":3600}]
[{"$f":"ROW()","v":3601}]
[{"$f":"ROW()","v":3602}]
[{"$f":"ROW()","v":3603}]
[{"$f":"ROW()","v":3604}]
[{"$f":"ROW()","v":3605}]
[{"$f":"ROW()","v":3606}]
[{"$f":"ROW()","v":3607}]
[{"$f":"ROW()","v":3608}]
[{"$f":"ROW()","v":3609}]
[{"$f":"ROW()","v":3610}]
[{"$f":"ROW()","v":3611}]
[{"$f":"ROW()","v":3612}]
[{"$f":"ROW()","v":3613}]
[{"$f":"ROW()","v":3614}]
[{"$f":"ROW()","v":3615}]
[{"$f":"ROW()","v":3616}]
[{"$f":"ROW()","v":3617}]
[{"$f":"ROW()","v":3618}]
[{"$f":"ROW()","v":3619}]
[{"$f":"ROW()","v":3620}]
[{"$f":"ROW()","v":3621}]
[{"$f":"ROW()","v":3622}]
[{"$f":"ROW()","v":3623}]
[{"$f":"ROW()","v":3624}]
[{"$f":"ROW()","v":3625}]
[{"$f":"ROW()","v":3626}]
[{"$f":"ROW()","v":3627}]
[{"$f":"ROW()","v":3628}]
[{"$f":"ROW()","v":3629}]
[{"$f":"ROW()","v":3630}]
[{"$f":"ROW()","v":3631}]
[{"$f":"ROW()","v":3632}]
[{"$f":"ROW()","v":3633}]
[{"$f":"ROW()","v":3634}]
[{"$f":"ROW()","v":3635}]
[{"$f":"ROW()","v":3636}]
[{"$f":"ROW()","v":3637}]
[{"$f":"ROW()","v":3638}]
[{"$f":"ROW()","v":3639}]
[{"$f":"ROW()","v":3640}]
[{"$f":"ROW()","v":3641}]
[{"$f":"ROW()","v":3642}]
[{"$f":"ROW()","v":3643}]
[{"$f":"ROW()","v":3644}]
[{"$f":"ROW()","v":3645}]
[{"$f":"ROW()","v":3646}]
[{"$f":"ROW()","v":3647}]
[{"$f":"ROW()","v":3648}]
[{"$f":"ROW()","v":3649}]
[{"$f":"ROW()","v":3650}]
[{"$f":"ROW()","v":3651}]
[{"$f":"ROW()","v":3652}]
[{"$f":"ROW()","v":3653}]
[{"$f":"ROW()","v":3654}]
[{"$f":"ROW()","v":3655}]
[{"$f":"ROW()","v":3656}]
[{"$f":"ROW()","v":3657}]
[{"$f":"ROW()","v":3658}]
[{"$f":"ROW()","v":3659}]
[{"$f":"ROW()","v":3660}]
[{"$f":"ROW()","v":3661}]
[{"$f":"ROW()","v":3662}]
[{"$f":"ROW()","v":3663}]
[{"$f":"ROW()","v":3664}]
[{"$f":"ROW()","v":3665}]
[{"$f":"ROW()","v":3666}]
[{"$f":"ROW()","v":3667}]
[{"$f":"ROW()","v":3668}]
[{"$f":"ROW()","v":3669}]
[{"$f":"ROW()","v":3670}]
[{"$f":"ROW()","v":3671}]
[{"$f":"ROW()","v":3672}]
[{"$f":"ROW()","v":3673}]
[{"$f":"ROW()","v":3674}]
[{"$f":"ROW()","v":3675}]
[{"$f":"ROW()","v":3676}]
[{"$f":"ROW()","v":3677}]
[{"$f":"ROW()","v":3678}]
[{"$f":"ROW()","v":3679}]
[{"$f":"ROW()","v":3680}]
[{"$f":"ROW()","v":3681}]
[{"$f":"ROW()","v":3682}]
[{"$f":"ROW()","v":3683}]
[{"$f":"ROW()","v":3684}]
[{"$f":"ROW()","v":3685}]
[{"$f":"ROW()","v":3686}]
[{"$f":"ROW()","v":3687}]
[{"$f":"ROW()","v":3688}]
[{"$f":"ROW()","v":3689}]
[{"$f":"ROW()","v":3690}]
[{"$f":"ROW()","v":3691}]
[{"$f":"ROW()","v":3692}]
[{"$f":"ROW()","v":3693}]
[{"$f":"ROW()","v":3694}]
[{"$f":"ROW()","v":3695}]
[{"$f":"ROW()","v":3696}]
[{"$f":"ROW()","v":3697}]
[{"$f":"ROW()","v":3698}]
[{"$f":"ROW()","v":3699}]
[{"$f":"ROW()","v":3700}]
[{"$f":"ROW()","v":3701}]
[{"$f":"ROW()","v":3702}]
[{"$f":"ROW()","v":3703}]
[{"$f":"ROW()","v":3704}]
[{"$f":"ROW()","v":3705}]
[{"$f":"ROW()","v":3706}]
[{"$f":"ROW()","v":3707}]
[{"$f":"ROW()","v":3708}]
[{"$f":"ROW()","v":3709}]
[{"$f":"ROW()","v":3710}]
[{"$f":"ROW()","v":3711}]
[{"$f":"ROW()","v":3712}]
[{"$f":"ROW()","v":3713}]
[{"$f":"ROW()","v":3714}]
[{"$f":"ROW()","v":3715}]
[{"$f":"ROW()","v":3716}]
[{"$f":"ROW()","v":3717}]
[{"$f":"ROW()","v":3718}]
[{"$f":"ROW()","v":3719}]
[{"$f":"ROW()","v":3720}]
[{"$f":"ROW()","v":3721}]
[{"$f":"ROW()","v":3722}]
[{"$f":"ROW()","v":3723}]
[{"$f":"ROW()","v":3724}]
[{"$f":"ROW()","v":3725}]
[{"$f":"ROW()","v":3726}]
[{"$f":"ROW()","v":3727}]
[{"$f":"ROW()","v":3728}]
[{"$f":"ROW()","v":3729}]
[{"$f":"ROW()","v":3730}]
[{"$f":"ROW()","v":3731}]
[{"$f":"ROW()","v":3732}]
[{"$f":"ROW()","v":3733}]
[{"$f":"ROW()","v":3734}]
[{"$f":"ROW()","v":3735}]
[{"$f":"ROW()","v":3736}]
[{"$f":"ROW()","v":3737}]
[{"$f":"ROW()","v":3738}]
[{"$f":"ROW()","v":3739}]
[{"$f":"ROW()","v":3740}]
[{"$f":"ROW()","v":3741}]
[{"$f":"ROW()","v":3742}]
[{"$f":"ROW()","v":3743}]
[{"$f":"ROW()","v":3744}]
[{"$f":"ROW()","v":3745}]
[{"$f":"ROW()","v":3746}]
[{"$f":"ROW()","v":3747}]
[{"$f":"ROW()","v":3748}]
[{"$f":"ROW()","v":3749}]
[{"$f":"ROW()","v":3750}]
[{"$f":"ROW()","v":3751}]
[{"$f":"ROW()","v":3752}]
[{"$f":"ROW()","v":3753}]
[{"$f":"ROW()","v":3754}]
[{"$f":"ROW()","v":3755}]
[{"$f":"ROW()","v":3756}]
[{"$f":"ROW()","v":3757}]
[{"$f":"ROW()","v":3758}]
[{"$f":"ROW()","v":3759}]
[{"$f":"ROW()","v":3760}]
[{"$f":"ROW()","v":3761}]
[{"$f":"ROW()","v":3762}]
[{"$f":"ROW()","v":3763}]
[{"$f":"ROW()","v":3764}]
[{"$f":"ROW()","v":3765}]
[{"$f":"ROW()","v":3766}]
[{"$f":"ROW()","v":3767}]
[{"$f":"ROW()","v":3768}]
[{"$f":"ROW()","v":3769}]
[{"$f":"ROW()","v":3770}]
[{"$f":"ROW()","v":3771}]
[{"$f":"ROW()","v":3772}]
[{"$f":"ROW()","v":3773}]
[{"$f":"ROW()","v":3774}]
[{"$f":"ROW()","v":3775}]
[{"$f":"ROW()","v":3776}]
[{"$f":"ROW()","v":3777}]
[{"$f":"ROW()","v":3778}]
[{"$f":"ROW()","v":3779}]
[{"$f":"ROW()","v":3780}]
[{"$f":"ROW()","v":3781}]
[{"$f":"ROW()","v":3782}]
[{"$f":"ROW()","v":3783}]
[{"$f":"ROW()","v":3784}]
[{"$f":"ROW()","v":3785}]
[{"$f":"ROW()","v":3786}]
[{"$f":"ROW()","v":3787}]
[{"$f":"ROW()","v":3788}]
[{"$f":"ROW()","v":3789}]
[{"$f":"ROW()","v":3790}]
[{"$f":"ROW()","v":3791}]
[{"$f":"ROW()","v":3792}]
[{"$f":"ROW()","v":3793}]
[{"$f":"ROW()","v":3794}]
[{"$f":"ROW()","v":3795}]
[{"$f":"ROW()","v":3796}]
[{"$f":"ROW()","v":3797}]
[{"$f":"ROW()","v":3798}]
[{"$f":"ROW()","v":3799}]
[{"$f":"ROW()","v":3800}]
[{"$f":"ROW()","v":3801}]
[{"$f":"ROW()","v":3802}]
[{"$f":"ROW()","v":3803}]
[{"$f":"ROW()","v":3804}]
[{"$f":"ROW()","v":3805}]
[{"$f":"ROW()","v":3806}]
[{"$f":"ROW()","v":3807}]
[{"$f":"ROW()","v":3808}]
[{"$f":"ROW()","v":3809}]
[{"$f":"ROW()","v":3810}]
[{"$f":"ROW()","v":3811}]
[{"$f":"ROW()","v":3812}]
[{"$f":"ROW()","v":3813}]
[{"$f":"ROW()","v":3814}]
[{"$f":"ROW()","v":3815}]
[{"$f":"ROW()","v":3816}]
[{"$f":"ROW()","v":3817}]
[{"$f":"ROW()","v":3818}]
[{"$f":"ROW()","v":3819}]
[{"$f":"ROW()","v":3820}]
[{"$f":"ROW()","v":3821}]
[{"$f":"ROW()","v":3822}]
[{"$f":"ROW()","v":3823}]
[{"$f":"ROW()","v":3824}]
[{"$f":"ROW()","v":3825}]
[{"$f":"ROW()","v":3826}]
[{"$f":"ROW()","v":3827}]
[{"$f":"ROW()","v":3828}]
[{"$f":"ROW()","v":3829}]
[{"$f":"ROW()","v":3830}]
[{"$f":"ROW()","v":3831}]
[{"$f":"ROW()","v":3832}]
[{"$f":"ROW()","v":3833}]
[{"$f":"ROW()","v":3834}]
[{"$f":"ROW()","v":3835}]
[{"$f":"ROW()","v":3836}]
[{"$f":"ROW()","v":3837}]
[{"$f":"ROW()","v":3838}]
[{"$f":"ROW()","v":3839}]
[{"$f":"ROW()","v":3840}]
[{"$f":"ROW()","v":3841}]
[{"$f":"ROW()","v":3842}]
[{"$f":"ROW()","v":3843}]
[{"$f":"ROW()","v":3844}]
[{"$f":"ROW()","v":3845}]
[{"$f":"ROW()","v":3846}]
[{"$f":"ROW()","v":3847}]
[{"$f":"ROW()","v":3848}]
[{"$f":"ROW()","v":3849}]
[{"$f":"ROW()","v":3850}]
[{"$f":"ROW()","v":3851}]
[{"$f":"ROW()","v":3852}]
[{"$f":"ROW()","v":3853}]
[{"$f":"ROW()","v":3854}]
[{"$f":"ROW()","v":3855}]
[{"$f":"ROW()","v":3856}]
[{"$f":"ROW()","v":3857}]
[{"$f":"ROW()","v":3858}]
[{"$f":"ROW()","v":3859}]
[{"$f":"ROW()","v":3860}]
[{"$f":"ROW()","v":3861}]
[{"$f":"ROW()","v":3862}]
[{"$f":"ROW()","v":3863}]
[{"$f":"ROW()","v":3864}]
[{"$f":"ROW()","v":3865}]
[{"$f":"ROW()","v":3866}]
[{"$f":"ROW()","v":3867}]
[{"$f":"ROW()","v":3868}]
[{"$f":"ROW()","v":3869}]
[{"$f":"ROW()","v":3870}]
[{"$f":"ROW()","v":3871}]
[{"$f":"ROW()","v":3872}]
[{"$f":"ROW()","v":3873}]
[{"$f":"ROW()","v":3874}]
[{"$f":"ROW()","v":3875}]
[{"$f":"ROW()","v":3876}]
[{"$f":"ROW()","v":3877}]
[{"$f":"ROW()","v":3878}]
[{"$f":"ROW()","v":3879}]
[{"$f":"ROW()","v":3880}]
[{"$f":"ROW()","v":3881}]
[{"$f":"ROW()","v":3882}]
[{"$f":"ROW()","v":3883}]
[{"$f":"ROW()","v":3884}]
[{"$f":"ROW()","v":3885}]
[{"$f":"ROW()","v":3886}]
[{"$f":"ROW()","v":3887}]
[{"$f":"ROW()","v":3888}]
[{"$f":"ROW()","v":3889}]
[{"$f":"ROW()","v":3890}]
[{"$f":"ROW()","v":3891}]
[{"$f":"ROW()","v":3892}]
[{"$f":"ROW()","v":3893}]
[{"$f":"ROW()","v":3894}]
[{"$f":"ROW()","v":3895}]
[{"$f":"ROW()","v":3896}]
[{"$f":"ROW()","v":3897}]
[{"$f":"ROW()","v":3898}]
[{"$f":"ROW()","v":3899}]
[{"$f":"ROW()","v":3900}]
[{"$f":"ROW()","v":3901}]
[{"$f":"ROW()","v":3902}]
[{"$f":"ROW()","v":3903}]
[{"$f":"ROW()","v":3904}]
[{"$f":"ROW()","v":3905}]
[{"$f":"ROW()","v":3906}]
[{"$f":"ROW()","v":3907}]
[{"$f":"ROW()","v":3908}]
[{"$f":"ROW()","v":3909}]
[{"$f":"ROW()","v":3910}]
[{"$f":"ROW()","v":3911}]
[{"$f":"ROW()","v":3912}]
[{"$f":"ROW()","v":3913}]
[{"$f":"ROW()","v":3914}]
[{"$f":"ROW()","v":3915}]
[{"$f":"ROW()","v":3916}]
[{"$f":"ROW()","v":3917}]
[{"$f":"ROW()","v":3918}]
[{"$f":"ROW()","v":3919}]
[{"$f":"ROW()","v":3920}]
[{"$f":"ROW()","v":3921}]
[{"$f":"ROW()","v":3922}]
[{"$f":"ROW()","v":3923}]
[{"$f":"ROW()","v":3924}]
[{"$f":"ROW()","v":3925}]
[{"$f":"ROW()","v":3926}]
[{"$f":"ROW()","v":3927}]
[{"$f":"ROW()","v":3928}]
[{"$f":"ROW()","v":3929}]
[{"$f":"ROW()","v":3930}]
[{"$f":"ROW()","v":3931}]
[{"$f":"ROW()","v":3932}]
[{"$f":"ROW()","v":3933}]
[{"$f":"ROW()","v":3934}]
[{"$f":"ROW()","v":3935}]
[{"$f":"ROW()","v":3936}]
[{"$f":"ROW()","v":3937}]
[{"$f":"ROW()","v":3938}]
[{"$f":"ROW()","v":3939}]
[{"$f":"ROW()","v":3940}]
[{"$f":"ROW()","v":3941}]
[{"$f":"ROW()","v":3942}]
[{"$f":"ROW()","v":3943}]
[{"$f":"ROW()","v":3944}]
[{"$f":"ROW()","v":3945}]
[{"$f":"ROW()","v":3946}]
[{"$f":"ROW()","v":3947}]
[{"$f":"ROW()","v":3948}]
[{"$f":"ROW()","v":3949}]
[{"$f":"ROW()","v":3950}]
[{"$f":"ROW()","v":3951}]
[{"$f":"ROW()","v":3952}]
[{"$f":"ROW()","v":3953}]
[{"$f":"ROW()","v":3954}]
[{"$f":"ROW()","v":3955}]
[{"$f":"ROW()","v":3956}]
[{"$f":"ROW()","v":3957}]
[{"$f":"ROW()","v":3958}]
[{"$f":"ROW()","v":3959}]
[{"$f":"ROW()","v":3960}]
[{"$f":"ROW()","v":3961}]
[{"$f":"ROW()","v":3962}]
[{"$f":"ROW()","v":3963}]
[{"$f":"ROW()","v":3964}]
[{"$f":"ROW()","v":3965}]
[{"$f":"ROW()","v":3966}]
[{"$f":"ROW()","v":3967}]
[{"$f":"ROW()","v":3968}]
[{"$f":"ROW()","v":3969}]
[{"$f":"ROW()","v":3970}]
[{"$f":"ROW()","v":3971}]
[{"$f":"ROW()","v":3972}]
[{"$f":"ROW()","v":3973}]
[{"$f":"ROW()","v":3974}]
[{"$f":"ROW()","v":3975}]
[{"$f":"ROW()","v":3976}]
[{"$f":"ROW()","v":3977}]
[{"$f":"ROW()","v":3978}]
[{"$f":"ROW()","v":3979}]
[{"$f":"ROW()","v":3980}]
[{"$f":"ROW()","v":3981}]
[{"$f":"ROW()","v":3982}]
[{"$f":"ROW()","v":3983}]
[{"$f":"ROW()","v":3984}]
[{"$f":"ROW()","v":3985}]
[{"$f":"ROW()","v":3986}]
[{"$f":"ROW()","v":3987}]

{"sheet":"Annexe B","index":3,"n_rows":3993,"n_cols":10,"rows_kept":3993,"cut":false,"hidden":false,"merged":[[22,8,24,8],[22,9,24,9],[22,1,24,1],[21,1,21,3],[22,3,24,3],[22,2,24,2],[22,5,24,5],[0,1,0,2],[8,1,8,3],[3,1,3,3],[0,3,0,9],[1,1,1,9],[2,1,2,9],[4,1,4,9],[5,1,5,9],[33,1,33,9],[34,1,34,9],[35,1,35,9],[36,1,36,9],[6,1,6,3],[7,2,7,5],[17,7,17,9],[11,1,11,3],[22,6,24,6],[19,1,19,8],[16,1,16,3],[14,1,14,3],[18,7,18,9],[22,4,24,4],[22,7,24,7],[20,1,20,9]]}
[null,null,null,"Production de titres multimédias\n(volet sociétés spécialisées)\nVersion : 2023-09-22"]
[null,"Annexe B - Demande d'attestation de travaux de production\nTravaux de production admissibles réalisés par des personnes ou sociétés de personnes ayant un lien de dépendance au moment de la conclusion du contrat"]
[null,"(L'Annexe B fait partie intégrante de la présente demande.)"]
[]
[null,"Veuillez utiliser une annexe par personne ou société de personnes sous-traitante ayant un lien de dépendance."]
[null,"Lorsqu'un sous-traitant a présenté plusieurs factures, vous devez détailler chaque facture dans la présente demande (une facture par ligne)."]
[]
[null,"Nom de la société :",{"$f":"IF(Demande!A7=\"\",\"\",Demande!A7)","v":""}]
[]
[null,"Exercice financier du :",{"$f":"IF(Demande!I44=\"\",\"\",Demande!I44)","v":""}]
[null,null,"(aaaa-mm-jj)"]
[]
[null,"au :",{"$f":"IF(Demande!Q44=\"\",\"\",Demande!Q44)","v":""}]
[null,null,"(aaaa-mm-jj)"]
[]
[null,"Numéro de dossier IQ :",{"$f":"IF(Demande!U10=\"\",\"\",Demande!U10)","v":""}]
[]
[null,"Nom du titre","Nom et coordonnées de la personne ou de la société de personnes sous-traitante ayant un lien de dépendance","Services rendus à l'égard du titre admissible (en français)","Montant total de la facture","Date de la facture","Numéro de la facture"]
[]
[]
[null,"Remplissez le tableau ci-dessous uniquement si des employés de la personne ou de la société de personnes sous-traitante avec lien de dépendance ont réalisé des travaux de production indiqués à la facture."]
[]
[null,"Identifiez tous les employés qui ont réalisé des travaux de production admissibles\nComme suit : Nom(1 espace) Prénom","N.A.S.\n999 999 999","Poste1 en français\n(pour chacun de ces postes, remplissez l'annexe E)","Nombre d'heures consacrées aux travaux de production","Nombre d'heures totales travaillées pour le compte du sous-traitant lié","Pourcentage d'admissibilité réclamé2","Salaire brut versé durant l'exercice financier3","Pourcentage du temps travaillé hors Québec4","Commentaires"]
[]
[{"$f":"ROW()","v":25}]
[{"$f":"ROW()","v":26}]
[{"$f":"ROW()","v":27}]
[{"$f":"ROW()","v":28}]
[{"$f":"ROW()","v":29}]
[{"$f":"ROW()","v":30}]
[{"$f":"ROW()","v":31}]
[{"$f":"ROW()","v":32}]
[{"$f":"ROW()","v":33}]
[{"$f":"ROW()","v":34},"1. Titre du poste : Le titre du poste de l'employé doit correspondre au titre inscrit dans la description de poste (Annexe E) et dans l'organigramme."]
[{"$f":"ROW()","v":35},"2. Pourcentage d'admissibilité réclamé : Ce pourcentage doit correspondre au pourcentage de temps que l'employé a consacré à réaliser des travaux de production admissibles à l'égard d'un titre multimédia admissible."]
[{"$f":"ROW()","v":36},"3. Salaire brut versé durant l'exercice financier : Consiste au salaire brut versé à l'employé excluant les avantages sociaux et charges sociales."]
[{"$f":"ROW()","v":37},"4. Pourcentage du temps travaillé hors Québec : Doit correspondre au pourcentage du temps que l'employé a travaillé, pour le sous-traitant, à l'extérieur du Québec "]
[{"$f":"ROW()","v":38}]
[{"$f":"ROW()","v":39}]
[{"$f":"ROW()","v":40}]
[{"$f":"ROW()","v":41}]
[{"$f":"ROW()","v":42}]
[{"$f":"ROW()","v":43}]
[{"$f":"ROW()","v":44}]
[{"$f":"ROW()","v":45}]
[{"$f":"ROW()","v":46}]
[{"$f":"ROW()","v":47}]
[{"$f":"ROW()","v":48}]
[{"$f":"ROW()","v":49}]
[{"$f":"ROW()","v":50}]
[{"$f":"ROW()","v":51}]
[{"$f":"ROW()","v":52}]
[{"$f":"ROW()","v":53}]
[{"$f":"ROW()","v":54}]
[{"$f":"ROW()","v":55}]
[{"$f":"ROW()","v":56}]
[{"$f":"ROW()","v":57}]
[{"$f":"ROW()","v":58}]
[{"$f":"ROW()","v":59}]
[{"$f":"ROW()","v":60}]
[{"$f":"ROW()","v":61}]
[{"$f":"ROW()","v":62}]
[{"$f":"ROW()","v":63}]
[{"$f":"ROW()","v":64}]
[{"$f":"ROW()","v":65}]
[{"$f":"ROW()","v":66}]
[{"$f":"ROW()","v":67}]
[{"$f":"ROW()","v":68}]
[{"$f":"ROW()","v":69}]
[{"$f":"ROW()","v":70}]
[{"$f":"ROW()","v":71}]
[{"$f":"ROW()","v":72}]
[{"$f":"ROW()","v":73}]
[{"$f":"ROW()","v":74}]
[{"$f":"ROW()","v":75}]
[{"$f":"ROW()","v":76}]
[{"$f":"ROW()","v":77}]
[{"$f":"ROW()","v":78}]
[{"$f":"ROW()","v":79}]
[{"$f":"ROW()","v":80}]
[{"$f":"ROW()","v":81}]
[{"$f":"ROW()","v":82}]
[{"$f":"ROW()","v":83}]
[{"$f":"ROW()","v":84}]
[{"$f":"ROW()","v":85}]
[{"$f":"ROW()","v":86}]
[{"$f":"ROW()","v":87}]
[{"$f":"ROW()","v":88}]
[{"$f":"ROW()","v":89}]
[{"$f":"ROW()","v":90}]
[{"$f":"ROW()","v":91}]
[{"$f":"ROW()","v":92}]
[{"$f":"ROW()","v":93}]
[{"$f":"ROW()","v":94}]
[{"$f":"ROW()","v":95}]
[{"$f":"ROW()","v":96}]
[{"$f":"ROW()","v":97}]
[{"$f":"ROW()","v":98}]
[{"$f":"ROW()","v":99}]
[{"$f":"ROW()","v":100}]
[{"$f":"ROW()","v":101}]
[{"$f":"ROW()","v":102}]
[{"$f":"ROW()","v":103}]
[{"$f":"ROW()","v":104}]
[{"$f":"ROW()","v":105}]
[{"$f":"ROW()","v":106}]
[{"$f":"ROW()","v":107}]
[{"$f":"ROW()","v":108}]
[{"$f":"ROW()","v":109}]
[{"$f":"ROW()","v":110}]
[{"$f":"ROW()","v":111}]
[{"$f":"ROW()","v":112}]
[{"$f":"ROW()","v":113}]
[{"$f":"ROW()","v":114}]
[{"$f":"ROW()","v":115}]
[{"$f":"ROW()","v":116}]
[{"$f":"ROW()","v":117}]
[{"$f":"ROW()","v":118}]
[{"$f":"ROW()","v":119}]
[{"$f":"ROW()","v":120}]
[{"$f":"ROW()","v":121}]
[{"$f":"ROW()","v":122}]
[{"$f":"ROW()","v":123}]
[{"$f":"ROW()","v":124}]
[{"$f":"ROW()","v":125}]
[{"$f":"ROW()","v":126}]
[{"$f":"ROW()","v":127}]
[{"$f":"ROW()","v":128}]
[{"$f":"ROW()","v":129}]
[{"$f":"ROW()","v":130}]
[{"$f":"ROW()","v":131}]
[{"$f":"ROW()","v":132}]
[{"$f":"ROW()","v":133}]
[{"$f":"ROW()","v":134}]
[{"$f":"ROW()","v":135}]
[{"$f":"ROW()","v":136}]
[{"$f":"ROW()","v":137}]
[{"$f":"ROW()","v":138}]
[{"$f":"ROW()","v":139}]
[{"$f":"ROW()","v":140}]
[{"$f":"ROW()","v":141}]
[{"$f":"ROW()","v":142}]
[{"$f":"ROW()","v":143}]
[{"$f":"ROW()","v":144}]
[{"$f":"ROW()","v":145}]
[{"$f":"ROW()","v":146}]
[{"$f":"ROW()","v":147}]
[{"$f":"ROW()","v":148}]
[{"$f":"ROW()","v":149}]
[{"$f":"ROW()","v":150}]
[{"$f":"ROW()","v":151}]
[{"$f":"ROW()","v":152}]
[{"$f":"ROW()","v":153}]
[{"$f":"ROW()","v":154}]
[{"$f":"ROW()","v":155}]
[{"$f":"ROW()","v":156}]
[{"$f":"ROW()","v":157}]
[{"$f":"ROW()","v":158}]
[{"$f":"ROW()","v":159}]
[{"$f":"ROW()","v":160}]
[{"$f":"ROW()","v":161}]
[{"$f":"ROW()","v":162}]
[{"$f":"ROW()","v":163}]
[{"$f":"ROW()","v":164}]
[{"$f":"ROW()","v":165}]
[{"$f":"ROW()","v":166}]
[{"$f":"ROW()","v":167}]
[{"$f":"ROW()","v":168}]
[{"$f":"ROW()","v":169}]
[{"$f":"ROW()","v":170}]
[{"$f":"ROW()","v":171}]
[{"$f":"ROW()","v":172}]
[{"$f":"ROW()","v":173}]
[{"$f":"ROW()","v":174}]
[{"$f":"ROW()","v":175}]
[{"$f":"ROW()","v":176}]
[{"$f":"ROW()","v":177}]
[{"$f":"ROW()","v":178}]
[{"$f":"ROW()","v":179}]
[{"$f":"ROW()","v":180}]
[{"$f":"ROW()","v":181}]
[{"$f":"ROW()","v":182}]
[{"$f":"ROW()","v":183}]
[{"$f":"ROW()","v":184}]
[{"$f":"ROW()","v":185}]
[{"$f":"ROW()","v":186}]
[{"$f":"ROW()","v":187}]
[{"$f":"ROW()","v":188}]
[{"$f":"ROW()","v":189}]
[{"$f":"ROW()","v":190}]
[{"$f":"ROW()","v":191}]
[{"$f":"ROW()","v":192}]
[{"$f":"ROW()","v":193}]
[{"$f":"ROW()","v":194}]
[{"$f":"ROW()","v":195}]
[{"$f":"ROW()","v":196}]
[{"$f":"ROW()","v":197}]
[{"$f":"ROW()","v":198}]
[{"$f":"ROW()","v":199}]
[{"$f":"ROW()","v":200}]
[{"$f":"ROW()","v":201}]
[{"$f":"ROW()","v":202}]
[{"$f":"ROW()","v":203}]
[{"$f":"ROW()","v":204}]
[{"$f":"ROW()","v":205}]
[{"$f":"ROW()","v":206}]
[{"$f":"ROW()","v":207}]
[{"$f":"ROW()","v":208}]
[{"$f":"ROW()","v":209}]
[{"$f":"ROW()","v":210}]
[{"$f":"ROW()","v":211}]
[{"$f":"ROW()","v":212}]
[{"$f":"ROW()","v":213}]
[{"$f":"ROW()","v":214}]
[{"$f":"ROW()","v":215}]
[{"$f":"ROW()","v":216}]
[{"$f":"ROW()","v":217}]
[{"$f":"ROW()","v":218}]
[{"$f":"ROW()","v":219}]
[{"$f":"ROW()","v":220}]
[{"$f":"ROW()","v":221}]
[{"$f":"ROW()","v":222}]
[{"$f":"ROW()","v":223}]
[{"$f":"ROW()","v":224}]
[{"$f":"ROW()","v":225}]
[{"$f":"ROW()","v":226}]
[{"$f":"ROW()","v":227}]
[{"$f":"ROW()","v":228}]
[{"$f":"ROW()","v":229}]
[{"$f":"ROW()","v":230}]
[{"$f":"ROW()","v":231}]
[{"$f":"ROW()","v":232}]
[{"$f":"ROW()","v":233}]
[{"$f":"ROW()","v":234}]
[{"$f":"ROW()","v":235}]
[{"$f":"ROW()","v":236}]
[{"$f":"ROW()","v":237}]
[{"$f":"ROW()","v":238}]
[{"$f":"ROW()","v":239}]
[{"$f":"ROW()","v":240}]
[{"$f":"ROW()","v":241}]
[{"$f":"ROW()","v":242}]
[{"$f":"ROW()","v":243}]
[{"$f":"ROW()","v":244}]
[{"$f":"ROW()","v":245}]
[{"$f":"ROW()","v":246}]
[{"$f":"ROW()","v":247}]
[{"$f":"ROW()","v":248}]
[{"$f":"ROW()","v":249}]
[{"$f":"ROW()","v":250}]
[{"$f":"ROW()","v":251}]
[{"$f":"ROW()","v":252}]
[{"$f":"ROW()","v":253}]
[{"$f":"ROW()","v":254}]
[{"$f":"ROW()","v":255}]
[{"$f":"ROW()","v":256}]
[{"$f":"ROW()","v":257}]
[{"$f":"ROW()","v":258}]
[{"$f":"ROW()","v":259}]
[{"$f":"ROW()","v":260}]
[{"$f":"ROW()","v":261}]
[{"$f":"ROW()","v":262}]
[{"$f":"ROW()","v":263}]
[{"$f":"ROW()","v":264}]
[{"$f":"ROW()","v":265}]
[{"$f":"ROW()","v":266}]
[{"$f":"ROW()","v":267}]
[{"$f":"ROW()","v":268}]
[{"$f":"ROW()","v":269}]
[{"$f":"ROW()","v":270}]
[{"$f":"ROW()","v":271}]
[{"$f":"ROW()","v":272}]
[{"$f":"ROW()","v":273}]
[{"$f":"ROW()","v":274}]
[{"$f":"ROW()","v":275}]
[{"$f":"ROW()","v":276}]
[{"$f":"ROW()","v":277}]
[{"$f":"ROW()","v":278}]
[{"$f":"ROW()","v":279}]
[{"$f":"ROW()","v":280}]
[{"$f":"ROW()","v":281}]
[{"$f":"ROW()","v":282}]
[{"$f":"ROW()","v":283}]
[{"$f":"ROW()","v":284}]
[{"$f":"ROW()","v":285}]
[{"$f":"ROW()","v":286}]
[{"$f":"ROW()","v":287}]
[{"$f":"ROW()","v":288}]
[{"$f":"ROW()","v":289}]
[{"$f":"ROW()","v":290}]
[{"$f":"ROW()","v":291}]
[{"$f":"ROW()","v":292}]
[{"$f":"ROW()","v":293}]
[{"$f":"ROW()","v":294}]
[{"$f":"ROW()","v":295}]
[{"$f":"ROW()","v":296}]
[{"$f":"ROW()","v":297}]
[{"$f":"ROW()","v":298}]
[{"$f":"ROW()","v":299}]
[{"$f":"ROW()","v":300}]
[{"$f":"ROW()","v":301}]
[{"$f":"ROW()","v":302}]
[{"$f":"ROW()","v":303}]
[{"$f":"ROW()","v":304}]
[{"$f":"ROW()","v":305}]
[{"$f":"ROW()","v":306}]
[{"$f":"ROW()","v":307}]
[{"$f":"ROW()","v":308}]
[{"$f":"ROW()","v":309}]
[{"$f":"ROW()","v":310}]
[{"$f":"ROW()","v":311}]
[{"$f":"ROW()","v":312}]
[{"$f":"ROW()","v":313}]
[{"$f":"ROW()","v":314}]
[{"$f":"ROW()","v":315}]
[{"$f":"ROW()","v":316}]
[{"$f":"ROW()","v":317}]
[{"$f":"ROW()","v":318}]
[{"$f":"ROW()","v":319}]
[{"$f":"ROW()","v":320}]
[{"$f":"ROW()","v":321}]
[{"$f":"ROW()","v":322}]
[{"$f":"ROW()","v":323}]
[{"$f":"ROW()","v":324}]
[{"$f":"ROW()","v":325}]
[{"$f":"ROW()","v":326}]
[{"$f":"ROW()","v":327}]
[{"$f":"ROW()","v":328}]
[{"$f":"ROW()","v":329}]
[{"$f":"ROW()","v":330}]
[{"$f":"ROW()","v":331}]
[{"$f":"ROW()","v":332}]
[{"$f":"ROW()","v":333}]
[{"$f":"ROW()","v":334}]
[{"$f":"ROW()","v":335}]
[{"$f":"ROW()","v":336}]
[{"$f":"ROW()","v":337}]
[{"$f":"ROW()","v":338}]
[{"$f":"ROW()","v":339}]
[{"$f":"ROW()","v":340}]
[{"$f":"ROW()","v":341}]
[{"$f":"ROW()","v":342}]
[{"$f":"ROW()","v":343}]
[{"$f":"ROW()","v":344}]
[{"$f":"ROW()","v":345}]
[{"$f":"ROW()","v":346}]
[{"$f":"ROW()","v":347}]
[{"$f":"ROW()","v":348}]
[{"$f":"ROW()","v":349}]
[{"$f":"ROW()","v":350}]
[{"$f":"ROW()","v":351}]
[{"$f":"ROW()","v":352}]
[{"$f":"ROW()","v":353}]
[{"$f":"ROW()","v":354}]
[{"$f":"ROW()","v":355}]
[{"$f":"ROW()","v":356}]
[{"$f":"ROW()","v":357}]
[{"$f":"ROW()","v":358}]
[{"$f":"ROW()","v":359}]
[{"$f":"ROW()","v":360}]
[{"$f":"ROW()","v":361}]
[{"$f":"ROW()","v":362}]
[{"$f":"ROW()","v":363}]
[{"$f":"ROW()","v":364}]
[{"$f":"ROW()","v":365}]
[{"$f":"ROW()","v":366}]
[{"$f":"ROW()","v":367}]
[{"$f":"ROW()","v":368}]
[{"$f":"ROW()","v":369}]
[{"$f":"ROW()","v":370}]
[{"$f":"ROW()","v":371}]
[{"$f":"ROW()","v":372}]
[{"$f":"ROW()","v":373}]
[{"$f":"ROW()","v":374}]
[{"$f":"ROW()","v":375}]
[{"$f":"ROW()","v":376}]
[{"$f":"ROW()","v":377}]
[{"$f":"ROW()","v":378}]
[{"$f":"ROW()","v":379}]
[{"$f":"ROW()","v":380}]
[{"$f":"ROW()","v":381}]
[{"$f":"ROW()","v":382}]
[{"$f":"ROW()","v":383}]
[{"$f":"ROW()","v":384}]
[{"$f":"ROW()","v":385}]
[{"$f":"ROW()","v":386}]
[{"$f":"ROW()","v":387}]
[{"$f":"ROW()","v":388}]
[{"$f":"ROW()","v":389}]
[{"$f":"ROW()","v":390}]
[{"$f":"ROW()","v":391}]
[{"$f":"ROW()","v":392}]
[{"$f":"ROW()","v":393}]
[{"$f":"ROW()","v":394}]
[{"$f":"ROW()","v":395}]
[{"$f":"ROW()","v":396}]
[{"$f":"ROW()","v":397}]
[{"$f":"ROW()","v":398}]
[{"$f":"ROW()","v":399}]
[{"$f":"ROW()","v":400}]
[{"$f":"ROW()","v":401}]
[{"$f":"ROW()","v":402}]
[{"$f":"ROW()","v":403}]
[{"$f":"ROW()","v":404}]
[{"$f":"ROW()","v":405}]
[{"$f":"ROW()","v":406}]
[{"$f":"ROW()","v":407}]
[{"$f":"ROW()","v":408}]
[{"$f":"ROW()","v":409}]
[{"$f":"ROW()","v":410}]
[{"$f":"ROW()","v":411}]
[{"$f":"ROW()","v":412}]
[{"$f":"ROW()","v":413}]
[{"$f":"ROW()","v":414}]
[{"$f":"ROW()","v":415}]
[{"$f":"ROW()","v":416}]
[{"$f":"ROW()","v":417}]
[{"$f":"ROW()","v":418}]
[{"$f":"ROW()","v":419}]
[{"$f":"ROW()","v":420}]
[{"$f":"ROW()","v":421}]
[{"$f":"ROW()","v":422}]
[{"$f":"ROW()","v":423}]
[{"$f":"ROW()","v":424}]
[{"$f":"ROW()","v":425}]
[{"$f":"ROW()","v":426}]
[{"$f":"ROW()","v":427}]
[{"$f":"ROW()","v":428}]
[{"$f":"ROW()","v":429}]
[{"$f":"ROW()","v":430}]
[{"$f":"ROW()","v":431}]
[{"$f":"ROW()","v":432}]
[{"$f":"ROW()","v":433}]
[{"$f":"ROW()","v":434}]
[{"$f":"ROW()","v":435}]
[{"$f":"ROW()","v":436}]
[{"$f":"ROW()","v":437}]
[{"$f":"ROW()","v":438}]
[{"$f":"ROW()","v":439}]
[{"$f":"ROW()","v":440}]
[{"$f":"ROW()","v":441}]
[{"$f":"ROW()","v":442}]
[{"$f":"ROW()","v":443}]
[{"$f":"ROW()","v":444}]
[{"$f":"ROW()","v":445}]
[{"$f":"ROW()","v":446}]
[{"$f":"ROW()","v":447}]
[{"$f":"ROW()","v":448}]
[{"$f":"ROW()","v":449}]
[{"$f":"ROW()","v":450}]
[{"$f":"ROW()","v":451}]
[{"$f":"ROW()","v":452}]
[{"$f":"ROW()","v":453}]
[{"$f":"ROW()","v":454}]
[{"$f":"ROW()","v":455}]
[{"$f":"ROW()","v":456}]
[{"$f":"ROW()","v":457}]
[{"$f":"ROW()","v":458}]
[{"$f":"ROW()","v":459}]
[{"$f":"ROW()","v":460}]
[{"$f":"ROW()","v":461}]
[{"$f":"ROW()","v":462}]
[{"$f":"ROW()","v":463}]
[{"$f":"ROW()","v":464}]
[{"$f":"ROW()","v":465}]
[{"$f":"ROW()","v":466}]
[{"$f":"ROW()","v":467}]
[{"$f":"ROW()","v":468}]
[{"$f":"ROW()","v":469}]
[{"$f":"ROW()","v":470}]
[{"$f":"ROW()","v":471}]
[{"$f":"ROW()","v":472}]
[{"$f":"ROW()","v":473}]
[{"$f":"ROW()","v":474}]
[{"$f":"ROW()","v":475}]
[{"$f":"ROW()","v":476}]
[{"$f":"ROW()","v":477}]
[{"$f":"ROW()","v":478}]
[{"$f":"ROW()","v":479}]
[{"$f":"ROW()","v":480}]
[{"$f":"ROW()","v":481}]
[{"$f":"ROW()","v":482}]
[{"$f":"ROW()","v":483}]
[{"$f":"ROW()","v":484}]
[{"$f":"ROW()","v":485}]
[{"$f":"ROW()","v":486}]
[{"$f":"ROW()","v":487}]
[{"$f":"ROW()","v":488}]
[{"$f":"ROW()","v":489}]
[{"$f":"ROW()","v":490}]
[{"$f":"ROW()","v":491}]
[{"$f":"ROW()","v":492}]
[{"$f":"ROW()","v":493}]
[{"$f":"ROW()","v":494}]
[{"$f":"ROW()","v":495}]
[{"$f":"ROW()","v":496}]
[{"$f":"ROW()","v":497}]
[{"$f":"ROW()","v":498}]
[{"$f":"ROW()","v":499}]
[{"$f":"ROW()","v":500}]
[{"$f":"ROW()","v":501}]
[{"$f":"ROW()","v":502}]
[{"$f":"ROW()","v":503}]
[{"$f":"ROW()","v":504}]
[{"$f":"ROW()","v":505}]
[{"$f":"ROW()","v":506}]
[{"$f":"ROW()","v":507}]
[{"$f":"ROW()","v":508}]
[{"$f":"ROW()","v":509}]
[{"$f":"ROW()","v":510}]
[{"$f":"ROW()","v":511}]
[{"$f":"ROW()","v":512}]
[{"$f":"ROW()","v":513}]
[{"$f":"ROW()","v":514}]
[{"$f":"ROW()","v":515}]
[{"$f":"ROW()","v":516}]
[{"$f":"ROW()","v":517}]
[{"$f":"ROW()","v":518}]
[{"$f":"ROW()","v":519}]
[{"$f":"ROW()","v":520}]
[{"$f":"ROW()","v":521}]
[{"$f":"ROW()","v":522}]
[{"$f":"ROW()","v":523}]
[{"$f":"ROW()","v":524}]
[{"$f":"ROW()","v":525}]
[{"$f":"ROW()","v":526}]
[{"$f":"ROW()","v":527}]
[{"$f":"ROW()","v":528}]
[{"$f":"ROW()","v":529}]
[{"$f":"ROW()","v":530}]
[{"$f":"ROW()","v":531}]
[{"$f":"ROW()","v":532}]
[{"$f":"ROW()","v":533}]
[{"$f":"ROW()","v":534}]
[{"$f":"ROW()","v":535}]
[{"$f":"ROW()","v":536}]
[{"$f":"ROW()","v":537}]
[{"$f":"ROW()","v":538}]
[{"$f":"ROW()","v":539}]
[{"$f":"ROW()","v":540}]
[{"$f":"ROW()","v":541}]
[{"$f":"ROW()","v":542}]
[{"$f":"ROW()","v":543}]
[{"$f":"ROW()","v":544}]
[{"$f":"ROW()","v":545}]
[{"$f":"ROW()","v":546}]
[{"$f":"ROW()","v":547}]
[{"$f":"ROW()","v":548}]
[{"$f":"ROW()","v":549}]
[{"$f":"ROW()","v":550}]
[{"$f":"ROW()","v":551}]
[{"$f":"ROW()","v":552}]
[{"$f":"ROW()","v":553}]
[{"$f":"ROW()","v":554}]
[{"$f":"ROW()","v":555}]
[{"$f":"ROW()","v":556}]
[{"$f":"ROW()","v":557}]
[{"$f":"ROW()","v":558}]
[{"$f":"ROW()","v":559}]
[{"$f":"ROW()","v":560}]
[{"$f":"ROW()","v":561}]
[{"$f":"ROW()","v":562}]
[{"$f":"ROW()","v":563}]
[{"$f":"ROW()","v":564}]
[{"$f":"ROW()","v":565}]
[{"$f":"ROW()","v":566}]
[{"$f":"ROW()","v":567}]
[{"$f":"ROW()","v":568}]
[{"$f":"ROW()","v":569}]
[{"$f":"ROW()","v":570}]
[{"$f":"ROW()","v":571}]
[{"$f":"ROW()","v":572}]
[{"$f":"ROW()","v":573}]
[{"$f":"ROW()","v":574}]
[{"$f":"ROW()","v":575}]
[{"$f":"ROW()","v":576}]
[{"$f":"ROW()","v":577}]
[{"$f":"ROW()","v":578}]
[{"$f":"ROW()","v":579}]
[{"$f":"ROW()","v":580}]
[{"$f":"ROW()","v":581}]
[{"$f":"ROW()","v":582}]
[{"$f":"ROW()","v":583}]
[{"$f":"ROW()","v":584}]
[{"$f":"ROW()","v":585}]
[{"$f":"ROW()","v":586}]
[{"$f":"ROW()","v":587}]
[{"$f":"ROW()","v":588}]
[{"$f":"ROW()","v":589}]
[{"$f":"ROW()","v":590}]
[{"$f":"ROW()","v":591}]
[{"$f":"ROW()","v":592}]
[{"$f":"ROW()","v":593}]
[{"$f":"ROW()","v":594}]
[{"$f":"ROW()","v":595}]
[{"$f":"ROW()","v":596}]
[{"$f":"ROW()","v":597}]
[{"$f":"ROW()","v":598}]
[{"$f":"ROW()","v":599}]
[{"$f":"ROW()","v":600}]
[{"$f":"ROW()","v":601}]
[{"$f":"ROW()","v":602}]
[{"$f":"ROW()","v":603}]
[{"$f":"ROW()","v":604}]
[{"$f":"ROW()","v":605}]
[{"$f":"ROW()","v":606}]
[{"$f":"ROW()","v":607}]
[{"$f":"ROW()","v":608}]
[{"$f":"ROW()","v":609}]
[{"$f":"ROW()","v":610}]
[{"$f":"ROW()","v":611}]
[{"$f":"ROW()","v":612}]
[{"$f":"ROW()","v":613}]
[{"$f":"ROW()","v":614}]
[{"$f":"ROW()","v":615}]
[{"$f":"ROW()","v":616}]
[{"$f":"ROW()","v":617}]
[{"$f":"ROW()","v":618}]
[{"$f":"ROW()","v":619}]
[{"$f":"ROW()","v":620}]
[{"$f":"ROW()","v":621}]
[{"$f":"ROW()","v":622}]
[{"$f":"ROW()","v":623}]
[{"$f":"ROW()","v":624}]
[{"$f":"ROW()","v":625}]
[{"$f":"ROW()","v":626}]
[{"$f":"ROW()","v":627}]
[{"$f":"ROW()","v":628}]
[{"$f":"ROW()","v":629}]
[{"$f":"ROW()","v":630}]
[{"$f":"ROW()","v":631}]
[{"$f":"ROW()","v":632}]
[{"$f":"ROW()","v":633}]
[{"$f":"ROW()","v":634}]
[{"$f":"ROW()","v":635}]
[{"$f":"ROW()","v":636}]
[{"$f":"ROW()","v":637}]
[{"$f":"ROW()","v":638}]
[{"$f":"ROW()","v":639}]
[{"$f":"ROW()","v":640}]
[{"$f":"ROW()","v":641}]
[{"$f":"ROW()","v":642}]
[{"$f":"ROW()","v":643}]
[{"$f":"ROW()","v":644}]
[{"$f":"ROW()","v":645}]
[{"$f":"ROW()","v":646}]
[{"$f":"ROW()","v":647}]
[{"$f":"ROW()","v":648}]
[{"$f":"ROW()","v":649}]
[{"$f":"ROW()","v":650}]
[{"$f":"ROW()","v":651}]
[{"$f":"ROW()","v":652}]
[{"$f":"ROW()","v":653}]
[{"$f":"ROW()","v":654}]
[{"$f":"ROW()","v":655}]
[{"$f":"ROW()","v":656}]
[{"$f":"ROW()","v":657}]
[{"$f":"ROW()","v":658}]
[{"$f":"ROW()","v":659}]
[{"$f":"ROW()","v":660}]
[{"$f":"ROW()","v":661}]
[{"$f":"ROW()","v":662}]
[{"$f":"ROW()","v":663}]
[{"$f":"ROW()","v":664}]
[{"$f":"ROW()","v":665}]
[{"$f":"ROW()","v":666}]
[{"$f":"ROW()","v":667}]
[{"$f":"ROW()","v":668}]
[{"$f":"ROW()","v":669}]
[{"$f":"ROW()","v":670}]
[{"$f":"ROW()","v":671}]
[{"$f":"ROW()","v":672}]
[{"$f":"ROW()","v":673}]
[{"$f":"ROW()","v":674}]
[{"$f":"ROW()","v":675}]
[{"$f":"ROW()","v":676}]
[{"$f":"ROW()","v":677}]
[{"$f":"ROW()","v":678}]
[{"$f":"ROW()","v":679}]
[{"$f":"ROW()","v":680}]
[{"$f":"ROW()","v":681}]
[{"$f":"ROW()","v":682}]
[{"$f":"ROW()","v":683}]
[{"$f":"ROW()","v":684}]
[{"$f":"ROW()","v":685}]
[{"$f":"ROW()","v":686}]
[{"$f":"ROW()","v":687}]
[{"$f":"ROW()","v":688}]
[{"$f":"ROW()","v":689}]
[{"$f":"ROW()","v":690}]
[{"$f":"ROW()","v":691}]
[{"$f":"ROW()","v":692}]
[{"$f":"ROW()","v":693}]
[{"$f":"ROW()","v":694}]
[{"$f":"ROW()","v":695}]
[{"$f":"ROW()","v":696}]
[{"$f":"ROW()","v":697}]
[{"$f":"ROW()","v":698}]
[{"$f":"ROW()","v":699}]
[{"$f":"ROW()","v":700}]
[{"$f":"ROW()","v":701}]
[{"$f":"ROW()","v":702}]
[{"$f":"ROW()","v":703}]
[{"$f":"ROW()","v":704}]
[{"$f":"ROW()","v":705}]
[{"$f":"ROW()","v":706}]
[{"$f":"ROW()","v":707}]
[{"$f":"ROW()","v":708}]
[{"$f":"ROW()","v":709}]
[{"$f":"ROW()","v":710}]
[{"$f":"ROW()","v":711}]
[{"$f":"ROW()","v":712}]
[{"$f":"ROW()","v":713}]
[{"$f":"ROW()","v":714}]
[{"$f":"ROW()","v":715}]
[{"$f":"ROW()","v":716}]
[{"$f":"ROW()","v":717}]
[{"$f":"ROW()","v":718}]
[{"$f":"ROW()","v":719}]
[{"$f":"ROW()","v":720}]
[{"$f":"ROW()","v":721}]
[{"$f":"ROW()","v":722}]
[{"$f":"ROW()","v":723}]
[{"$f":"ROW()","v":724}]
[{"$f":"ROW()","v":725}]
[{"$f":"ROW()","v":726}]
[{"$f":"ROW()","v":727}]
[{"$f":"ROW()","v":728}]
[{"$f":"ROW()","v":729}]
[{"$f":"ROW()","v":730}]
[{"$f":"ROW()","v":731}]
[{"$f":"ROW()","v":732}]
[{"$f":"ROW()","v":733}]
[{"$f":"ROW()","v":734}]
[{"$f":"ROW()","v":735}]
[{"$f":"ROW()","v":736}]
[{"$f":"ROW()","v":737}]
[{"$f":"ROW()","v":738}]
[{"$f":"ROW()","v":739}]
[{"$f":"ROW()","v":740}]
[{"$f":"ROW()","v":741}]
[{"$f":"ROW()","v":742}]
[{"$f":"ROW()","v":743}]
[{"$f":"ROW()","v":744}]
[{"$f":"ROW()","v":745}]
[{"$f":"ROW()","v":746}]
[{"$f":"ROW()","v":747}]
[{"$f":"ROW()","v":748}]
[{"$f":"ROW()","v":749}]
[{"$f":"ROW()","v":750}]
[{"$f":"ROW()","v":751}]
[{"$f":"ROW()","v":752}]
[{"$f":"ROW()","v":753}]
[{"$f":"ROW()","v":754}]
[{"$f":"ROW()","v":755}]
[{"$f":"ROW()","v":756}]
[{"$f":"ROW()","v":757}]
[{"$f":"ROW()","v":758}]
[{"$f":"ROW()","v":759}]
[{"$f":"ROW()","v":760}]
[{"$f":"ROW()","v":761}]
[{"$f":"ROW()","v":762}]
[{"$f":"ROW()","v":763}]
[{"$f":"ROW()","v":764}]
[{"$f":"ROW()","v":765}]
[{"$f":"ROW()","v":766}]
[{"$f":"ROW()","v":767}]
[{"$f":"ROW()","v":768}]
[{"$f":"ROW()","v":769}]
[{"$f":"ROW()","v":770}]
[{"$f":"ROW()","v":771}]
[{"$f":"ROW()","v":772}]
[{"$f":"ROW()","v":773}]
[{"$f":"ROW()","v":774}]
[{"$f":"ROW()","v":775}]
[{"$f":"ROW()","v":776}]
[{"$f":"ROW()","v":777}]
[{"$f":"ROW()","v":778}]
[{"$f":"ROW()","v":779}]
[{"$f":"ROW()","v":780}]
[{"$f":"ROW()","v":781}]
[{"$f":"ROW()","v":782}]
[{"$f":"ROW()","v":783}]
[{"$f":"ROW()","v":784}]
[{"$f":"ROW()","v":785}]
[{"$f":"ROW()","v":786}]
[{"$f":"ROW()","v":787}]
[{"$f":"ROW()","v":788}]
[{"$f":"ROW()","v":789}]
[{"$f":"ROW()","v":790}]
[{"$f":"ROW()","v":791}]
[{"$f":"ROW()","v":792}]
[{"$f":"ROW()","v":793}]
[{"$f":"ROW()","v":794}]
[{"$f":"ROW()","v":795}]
[{"$f":"ROW()","v":796}]
[{"$f":"ROW()","v":797}]
[{"$f":"ROW()","v":798}]
[{"$f":"ROW()","v":799}]
[{"$f":"ROW()","v":800}]
[{"$f":"ROW()","v":801}]
[{"$f":"ROW()","v":802}]
[{"$f":"ROW()","v":803}]
[{"$f":"ROW()","v":804}]
[{"$f":"ROW()","v":805}]
[{"$f":"ROW()","v":806}]
[{"$f":"ROW()","v":807}]
[{"$f":"ROW()","v":808}]
[{"$f":"ROW()","v":809}]
[{"$f":"ROW()","v":810}]
[{"$f":"ROW()","v":811}]
[{"$f":"ROW()","v":812}]
[{"$f":"ROW()","v":813}]
[{"$f":"ROW()","v":814}]
[{"$f":"ROW()","v":815}]
[{"$f":"ROW()","v":816}]
[{"$f":"ROW()","v":817}]
[{"$f":"ROW()","v":818}]
[{"$f":"ROW()","v":819}]
[{"$f":"ROW()","v":820}]
[{"$f":"ROW()","v":821}]
[{"$f":"ROW()","v":822}]
[{"$f":"ROW()","v":823}]
[{"$f":"ROW()","v":824}]
[{"$f":"ROW()","v":825}]
[{"$f":"ROW()","v":826}]
[{"$f":"ROW()","v":827}]
[{"$f":"ROW()","v":828}]
[{"$f":"ROW()","v":829}]
[{"$f":"ROW()","v":830}]
[{"$f":"ROW()","v":831}]
[{"$f":"ROW()","v":832}]
[{"$f":"ROW()","v":833}]
[{"$f":"ROW()","v":834}]
[{"$f":"ROW()","v":835}]
[{"$f":"ROW()","v":836}]
[{"$f":"ROW()","v":837}]
[{"$f":"ROW()","v":838}]
[{"$f":"ROW()","v":839}]
[{"$f":"ROW()","v":840}]
[{"$f":"ROW()","v":841}]
[{"$f":"ROW()","v":842}]
[{"$f":"ROW()","v":843}]
[{"$f":"ROW()","v":844}]
[{"$f":"ROW()","v":845}]
[{"$f":"ROW()","v":846}]
[{"$f":"ROW()","v":847}]
[{"$f":"ROW()","v":848}]
[{"$f":"ROW()","v":849}]
[{"$f":"ROW()","v":850}]
[{"$f":"ROW()","v":851}]
[{"$f":"ROW()","v":852}]
[{"$f":"ROW()","v":853}]
[{"$f":"ROW()","v":854}]
[{"$f":"ROW()","v":855}]
[{"$f":"ROW()","v":856}]
[{"$f":"ROW()","v":857}]
[{"$f":"ROW()","v":858}]
[{"$f":"ROW()","v":859}]
[{"$f":"ROW()","v":860}]
[{"$f":"ROW()","v":861}]
[{"$f":"ROW()","v":862}]
[{"$f":"ROW()","v":863}]
[{"$f":"ROW()","v":864}]
[{"$f":"ROW()","v":865}]
[{"$f":"ROW()","v":866}]
[{"$f":"ROW()","v":867}]
[{"$f":"ROW()","v":868}]
[{"$f":"ROW()","v":869}]
[{"$f":"ROW()","v":870}]
[{"$f":"ROW()","v":871}]
[{"$f":"ROW()","v":872}]
[{"$f":"ROW()","v":873}]
[{"$f":"ROW()","v":874}]
[{"$f":"ROW()","v":875}]
[{"$f":"ROW()","v":876}]
[{"$f":"ROW()","v":877}]
[{"$f":"ROW()","v":878}]
[{"$f":"ROW()","v":879}]
[{"$f":"ROW()","v":880}]
[{"$f":"ROW()","v":881}]
[{"$f":"ROW()","v":882}]
[{"$f":"ROW()","v":883}]
[{"$f":"ROW()","v":884}]
[{"$f":"ROW()","v":885}]
[{"$f":"ROW()","v":886}]
[{"$f":"ROW()","v":887}]
[{"$f":"ROW()","v":888}]
[{"$f":"ROW()","v":889}]
[{"$f":"ROW()","v":890}]
[{"$f":"ROW()","v":891}]
[{"$f":"ROW()","v":892}]
[{"$f":"ROW()","v":893}]
[{"$f":"ROW()","v":894}]
[{"$f":"ROW()","v":895}]
[{"$f":"ROW()","v":896}]
[{"$f":"ROW()","v":897}]
[{"$f":"ROW()","v":898}]
[{"$f":"ROW()","v":899}]
[{"$f":"ROW()","v":900}]
[{"$f":"ROW()","v":901}]
[{"$f":"ROW()","v":902}]
[{"$f":"ROW()","v":903}]
[{"$f":"ROW()","v":904}]
[{"$f":"ROW()","v":905}]
[{"$f":"ROW()","v":906}]
[{"$f":"ROW()","v":907}]
[{"$f":"ROW()","v":908}]
[{"$f":"ROW()","v":909}]
[{"$f":"ROW()","v":910}]
[{"$f":"ROW()","v":911}]
[{"$f":"ROW()","v":912}]
[{"$f":"ROW()","v":913}]
[{"$f":"ROW()","v":914}]
[{"$f":"ROW()","v":915}]
[{"$f":"ROW()","v":916}]
[{"$f":"ROW()","v":917}]
[{"$f":"ROW()","v":918}]
[{"$f":"ROW()","v":919}]
[{"$f":"ROW()","v":920}]
[{"$f":"ROW()","v":921}]
[{"$f":"ROW()","v":922}]
[{"$f":"ROW()","v":923}]
[{"$f":"ROW()","v":924}]
[{"$f":"ROW()","v":925}]
[{"$f":"ROW()","v":926}]
[{"$f":"ROW()","v":927}]
[{"$f":"ROW()","v":928}]
[{"$f":"ROW()","v":929}]
[{"$f":"ROW()","v":930}]
[{"$f":"ROW()","v":931}]
[{"$f":"ROW()","v":932}]
[{"$f":"ROW()","v":933}]
[{"$f":"ROW()","v":934}]
[{"$f":"ROW()","v":935}]
[{"$f":"ROW()","v":936}]
[{"$f":"ROW()","v":937}]
[{"$f":"ROW()","v":938}]
[{"$f":"ROW()","v":939}]
[{"$f":"ROW()","v":940}]
[{"$f":"ROW()","v":941}]
[{"$f":"ROW()","v":942}]
[{"$f":"ROW()","v":943}]
[{"$f":"ROW()","v":944}]
[{"$f":"ROW()","v":945}]
[{"$f":"ROW()","v":946}]
[{"$f":"ROW()","v":947}]
[{"$f":"ROW()","v":948}]
[{"$f":"ROW()","v":949}]
[{"$f":"ROW()","v":950}]
[{"$f":"ROW()","v":951}]
[{"$f":"ROW()","v":952}]
[{"$f":"ROW()","v":953}]
[{"$f":"ROW()","v":954}]
[{"$f":"ROW()","v":955}]
[{"$f":"ROW()","v":956}]
[{"$f":"ROW()","v":957}]
[{"$f":"ROW()","v":958}]
[{"$f":"ROW()","v":959}]
[{"$f":"ROW()","v":960}]
[{"$f":"ROW()","v":961}]
[{"$f":"ROW()","v":962}]
[{"$f":"ROW()","v":963}]
[{"$f":"ROW()","v":964}]
[{"$f":"ROW()","v":965}]
[{"$f":"ROW()","v":966}]
[{"$f":"ROW()","v":967}]
[{"$f":"ROW()","v":968}]
[{"$f":"ROW()","v":969}]
[{"$f":"ROW()","v":970}]
[{"$f":"ROW()","v":971}]
[{"$f":"ROW()","v":972}]
[{"$f":"ROW()","v":973}]
[{"$f":"ROW()","v":974}]
[{"$f":"ROW()","v":975}]
[{"$f":"ROW()","v":976}]
[{"$f":"ROW()","v":977}]
[{"$f":"ROW()","v":978}]
[{"$f":"ROW()","v":979}]
[{"$f":"ROW()","v":980}]
[{"$f":"ROW()","v":981}]
[{"$f":"ROW()","v":982}]
[{"$f":"ROW()","v":983}]
[{"$f":"ROW()","v":984}]
[{"$f":"ROW()","v":985}]
[{"$f":"ROW()","v":986}]
[{"$f":"ROW()","v":987}]
[{"$f":"ROW()","v":988}]
[{"$f":"ROW()","v":989}]
[{"$f":"ROW()","v":990}]
[{"$f":"ROW()","v":991}]
[{"$f":"ROW()","v":992}]
[{"$f":"ROW()","v":993}]
[{"$f":"ROW()","v":994}]
[{"$f":"ROW()","v":995}]
[{"$f":"ROW()","v":996}]
[{"$f":"ROW()","v":997}]
[{"$f":"ROW()","v":998}]
[{"$f":"ROW()","v":999}]
[{"$f":"ROW()","v":1000}]
[{"$f":"ROW()","v":1001}]
[{"$f":"ROW()","v":1002}]
[{"$f":"ROW()","v":1003}]
[{"$f":"ROW()","v":1004}]
[{"$f":"ROW()","v":1005}]
[{"$f":"ROW()","v":1006}]
[{"$f":"ROW()","v":1007}]
[{"$f":"ROW()","v":1008}]
[{"$f":"ROW()","v":1009}]
[{"$f":"ROW()","v":1010}]
[{"$f":"ROW()","v":1011}]
[{"$f":"ROW()","v":1012}]
[{"$f":"ROW()","v":1013}]
[{"$f":"ROW()","v":1014}]
[{"$f":"ROW()","v":1015}]
[{"$f":"ROW()","v":1016}]
[{"$f":"ROW()","v":1017}]
[{"$f":"ROW()","v":1018}]
[{"$f":"ROW()","v":1019}]
[{"$f":"ROW()","v":1020}]
[{"$f":"ROW()","v":1021}]
[{"$f":"ROW()","v":1022}]
[{"$f":"ROW()","v":1023}]
[{"$f":"ROW()","v":1024}]
[{"$f":"ROW()","v":1025}]
[{"$f":"ROW()","v":1026}]
[{"$f":"ROW()","v":1027}]
[{"$f":"ROW()","v":1028}]
[{"$f":"ROW()","v":1029}]
[{"$f":"ROW()","v":1030}]
[{"$f":"ROW()","v":1031}]
[{"$f":"ROW()","v":1032}]
[{"$f":"ROW()","v":1033}]
[{"$f":"ROW()","v":1034}]
[{"$f":"ROW()","v":1035}]
[{"$f":"ROW()","v":1036}]
[{"$f":"ROW()","v":1037}]
[{"$f":"ROW()","v":1038}]
[{"$f":"ROW()","v":1039}]
[{"$f":"ROW()","v":1040}]
[{"$f":"ROW()","v":1041}]
[{"$f":"ROW()","v":1042}]
[{"$f":"ROW()","v":1043}]
[{"$f":"ROW()","v":1044}]
[{"$f":"ROW()","v":1045}]
[{"$f":"ROW()","v":1046}]
[{"$f":"ROW()","v":1047}]
[{"$f":"ROW()","v":1048}]
[{"$f":"ROW()","v":1049}]
[{"$f":"ROW()","v":1050}]
[{"$f":"ROW()","v":1051}]
[{"$f":"ROW()","v":1052}]
[{"$f":"ROW()","v":1053}]
[{"$f":"ROW()","v":1054}]
[{"$f":"ROW()","v":1055}]
[{"$f":"ROW()","v":1056}]
[{"$f":"ROW()","v":1057}]
[{"$f":"ROW()","v":1058}]
[{"$f":"ROW()","v":1059}]
[{"$f":"ROW()","v":1060}]
[{"$f":"ROW()","v":1061}]
[{"$f":"ROW()","v":1062}]
[{"$f":"ROW()","v":1063}]
[{"$f":"ROW()","v":1064}]
[{"$f":"ROW()","v":1065}]
[{"$f":"ROW()","v":1066}]
[{"$f":"ROW()","v":1067}]
[{"$f":"ROW()","v":1068}]
[{"$f":"ROW()","v":1069}]
[{"$f":"ROW()","v":1070}]
[{"$f":"ROW()","v":1071}]
[{"$f":"ROW()","v":1072}]
[{"$f":"ROW()","v":1073}]
[{"$f":"ROW()","v":1074}]
[{"$f":"ROW()","v":1075}]
[{"$f":"ROW()","v":1076}]
[{"$f":"ROW()","v":1077}]
[{"$f":"ROW()","v":1078}]
[{"$f":"ROW()","v":1079}]
[{"$f":"ROW()","v":1080}]
[{"$f":"ROW()","v":1081}]
[{"$f":"ROW()","v":1082}]
[{"$f":"ROW()","v":1083}]
[{"$f":"ROW()","v":1084}]
[{"$f":"ROW()","v":1085}]
[{"$f":"ROW()","v":1086}]
[{"$f":"ROW()","v":1087}]
[{"$f":"ROW()","v":1088}]
[{"$f":"ROW()","v":1089}]
[{"$f":"ROW()","v":1090}]
[{"$f":"ROW()","v":1091}]
[{"$f":"ROW()","v":1092}]
[{"$f":"ROW()","v":1093}]
[{"$f":"ROW()","v":1094}]
[{"$f":"ROW()","v":1095}]
[{"$f":"ROW()","v":1096}]
[{"$f":"ROW()","v":1097}]
[{"$f":"ROW()","v":1098}]
[{"$f":"ROW()","v":1099}]
[{"$f":"ROW()","v":1100}]
[{"$f":"ROW()","v":1101}]
[{"$f":"ROW()","v":1102}]
[{"$f":"ROW()","v":1103}]
[{"$f":"ROW()","v":1104}]
[{"$f":"ROW()","v":1105}]
[{"$f":"ROW()","v":1106}]
[{"$f":"ROW()","v":1107}]
[{"$f":"ROW()","v":1108}]
[{"$f":"ROW()","v":1109}]
[{"$f":"ROW()","v":1110}]
[{"$f":"ROW()","v":1111}]
[{"$f":"ROW()","v":1112}]
[{"$f":"ROW()","v":1113}]
[{"$f":"ROW()","v":1114}]
[{"$f":"ROW()","v":1115}]
[{"$f":"ROW()","v":1116}]
[{"$f":"ROW()","v":1117}]
[{"$f":"ROW()","v":1118}]
[{"$f":"ROW()","v":1119}]
[{"$f":"ROW()","v":1120}]
[{"$f":"ROW()","v":1121}]
[{"$f":"ROW()","v":1122}]
[{"$f":"ROW()","v":1123}]
[{"$f":"ROW()","v":1124}]
[{"$f":"ROW()","v":1125}]
[{"$f":"ROW()","v":1126}]
[{"$f":"ROW()","v":1127}]
[{"$f":"ROW()","v":1128}]
[{"$f":"ROW()","v":1129}]
[{"$f":"ROW()","v":1130}]
[{"$f":"ROW()","v":1131}]
[{"$f":"ROW()","v":1132}]
[{"$f":"ROW()","v":1133}]
[{"$f":"ROW()","v":1134}]
[{"$f":"ROW()","v":1135}]
[{"$f":"ROW()","v":1136}]
[{"$f":"ROW()","v":1137}]
[{"$f":"ROW()","v":1138}]
[{"$f":"ROW()","v":1139}]
[{"$f":"ROW()","v":1140}]
[{"$f":"ROW()","v":1141}]
[{"$f":"ROW()","v":1142}]
[{"$f":"ROW()","v":1143}]
[{"$f":"ROW()","v":1144}]
[{"$f":"ROW()","v":1145}]
[{"$f":"ROW()","v":1146}]
[{"$f":"ROW()","v":1147}]
[{"$f":"ROW()","v":1148}]
[{"$f":"ROW()","v":1149}]
[{"$f":"ROW()","v":1150}]
[{"$f":"ROW()","v":1151}]
[{"$f":"ROW()","v":1152}]
[{"$f":"ROW()","v":1153}]
[{"$f":"ROW()","v":1154}]
[{"$f":"ROW()","v":1155}]
[{"$f":"ROW()","v":1156}]
[{"$f":"ROW()","v":1157}]
[{"$f":"ROW()","v":1158}]
[{"$f":"ROW()","v":1159}]
[{"$f":"ROW()","v":1160}]
[{"$f":"ROW()","v":1161}]
[{"$f":"ROW()","v":1162}]
[{"$f":"ROW()","v":1163}]
[{"$f":"ROW()","v":1164}]
[{"$f":"ROW()","v":1165}]
[{"$f":"ROW()","v":1166}]
[{"$f":"ROW()","v":1167}]
[{"$f":"ROW()","v":1168}]
[{"$f":"ROW()","v":1169}]
[{"$f":"ROW()","v":1170}]
[{"$f":"ROW()","v":1171}]
[{"$f":"ROW()","v":1172}]
[{"$f":"ROW()","v":1173}]
[{"$f":"ROW()","v":1174}]
[{"$f":"ROW()","v":1175}]
[{"$f":"ROW()","v":1176}]
[{"$f":"ROW()","v":1177}]
[{"$f":"ROW()","v":1178}]
[{"$f":"ROW()","v":1179}]
[{"$f":"ROW()","v":1180}]
[{"$f":"ROW()","v":1181}]
[{"$f":"ROW()","v":1182}]
[{"$f":"ROW()","v":1183}]
[{"$f":"ROW()","v":1184}]
[{"$f":"ROW()","v":1185}]
[{"$f":"ROW()","v":1186}]
[{"$f":"ROW()","v":1187}]
[{"$f":"ROW()","v":1188}]
[{"$f":"ROW()","v":1189}]
[{"$f":"ROW()","v":1190}]
[{"$f":"ROW()","v":1191}]
[{"$f":"ROW()","v":1192}]
[{"$f":"ROW()","v":1193}]
[{"$f":"ROW()","v":1194}]
[{"$f":"ROW()","v":1195}]
[{"$f":"ROW()","v":1196}]
[{"$f":"ROW()","v":1197}]
[{"$f":"ROW()","v":1198}]
[{"$f":"ROW()","v":1199}]
[{"$f":"ROW()","v":1200}]
[{"$f":"ROW()","v":1201}]
[{"$f":"ROW()","v":1202}]
[{"$f":"ROW()","v":1203}]
[{"$f":"ROW()","v":1204}]
[{"$f":"ROW()","v":1205}]
[{"$f":"ROW()","v":1206}]
[{"$f":"ROW()","v":1207}]
[{"$f":"ROW()","v":1208}]
[{"$f":"ROW()","v":1209}]
[{"$f":"ROW()","v":1210}]
[{"$f":"ROW()","v":1211}]
[{"$f":"ROW()","v":1212}]
[{"$f":"ROW()","v":1213}]
[{"$f":"ROW()","v":1214}]
[{"$f":"ROW()","v":1215}]
[{"$f":"ROW()","v":1216}]
[{"$f":"ROW()","v":1217}]
[{"$f":"ROW()","v":1218}]
[{"$f":"ROW()","v":1219}]
[{"$f":"ROW()","v":1220}]
[{"$f":"ROW()","v":1221}]
[{"$f":"ROW()","v":1222}]
[{"$f":"ROW()","v":1223}]
[{"$f":"ROW()","v":1224}]
[{"$f":"ROW()","v":1225}]
[{"$f":"ROW()","v":1226}]
[{"$f":"ROW()","v":1227}]
[{"$f":"ROW()","v":1228}]
[{"$f":"ROW()","v":1229}]
[{"$f":"ROW()","v":1230}]
[{"$f":"ROW()","v":1231}]
[{"$f":"ROW()","v":1232}]
[{"$f":"ROW()","v":1233}]
[{"$f":"ROW()","v":1234}]
[{"$f":"ROW()","v":1235}]
[{"$f":"ROW()","v":1236}]
[{"$f":"ROW()","v":1237}]
[{"$f":"ROW()","v":1238}]
[{"$f":"ROW()","v":1239}]
[{"$f":"ROW()","v":1240}]
[{"$f":"ROW()","v":1241}]
[{"$f":"ROW()","v":1242}]
[{"$f":"ROW()","v":1243}]
[{"$f":"ROW()","v":1244}]
[{"$f":"ROW()","v":1245}]
[{"$f":"ROW()","v":1246}]
[{"$f":"ROW()","v":1247}]
[{"$f":"ROW()","v":1248}]
[{"$f":"ROW()","v":1249}]
[{"$f":"ROW()","v":1250}]
[{"$f":"ROW()","v":1251}]
[{"$f":"ROW()","v":1252}]
[{"$f":"ROW()","v":1253}]
[{"$f":"ROW()","v":1254}]
[{"$f":"ROW()","v":1255}]
[{"$f":"ROW()","v":1256}]
[{"$f":"ROW()","v":1257}]
[{"$f":"ROW()","v":1258}]
[{"$f":"ROW()","v":1259}]
[{"$f":"ROW()","v":1260}]
[{"$f":"ROW()","v":1261}]
[{"$f":"ROW()","v":1262}]
[{"$f":"ROW()","v":1263}]
[{"$f":"ROW()","v":1264}]
[{"$f":"ROW()","v":1265}]
[{"$f":"ROW()","v":1266}]
[{"$f":"ROW()","v":1267}]
[{"$f":"ROW()","v":1268}]
[{"$f":"ROW()","v":1269}]
[{"$f":"ROW()","v":1270}]
[{"$f":"ROW()","v":1271}]
[{"$f":"ROW()","v":1272}]
[{"$f":"ROW()","v":1273}]
[{"$f":"ROW()","v":1274}]
[{"$f":"ROW()","v":1275}]
[{"$f":"ROW()","v":1276}]
[{"$f":"ROW()","v":1277}]
[{"$f":"ROW()","v":1278}]
[{"$f":"ROW()","v":1279}]
[{"$f":"ROW()","v":1280}]
[{"$f":"ROW()","v":1281}]
[{"$f":"ROW()","v":1282}]
[{"$f":"ROW()","v":1283}]
[{"$f":"ROW()","v":1284}]
[{"$f":"ROW()","v":1285}]
[{"$f":"ROW()","v":1286}]
[{"$f":"ROW()","v":1287}]
[{"$f":"ROW()","v":1288}]
[{"$f":"ROW()","v":1289}]
[{"$f":"ROW()","v":1290}]
[{"$f":"ROW()","v":1291}]
[{"$f":"ROW()","v":1292}]
[{"$f":"ROW()","v":1293}]
[{"$f":"ROW()","v":1294}]
[{"$f":"ROW()","v":1295}]
[{"$f":"ROW()","v":1296}]
[{"$f":"ROW()","v":1297}]
[{"$f":"ROW()","v":1298}]
[{"$f":"ROW()","v":1299}]
[{"$f":"ROW()","v":1300}]
[{"$f":"ROW()","v":1301}]
[{"$f":"ROW()","v":1302}]
[{"$f":"ROW()","v":1303}]
[{"$f":"ROW()","v":1304}]
[{"$f":"ROW()","v":1305}]
[{"$f":"ROW()","v":1306}]
[{"$f":"ROW()","v":1307}]
[{"$f":"ROW()","v":1308}]
[{"$f":"ROW()","v":1309}]
[{"$f":"ROW()","v":1310}]
[{"$f":"ROW()","v":1311}]
[{"$f":"ROW()","v":1312}]
[{"$f":"ROW()","v":1313}]
[{"$f":"ROW()","v":1314}]
[{"$f":"ROW()","v":1315}]
[{"$f":"ROW()","v":1316}]
[{"$f":"ROW()","v":1317}]
[{"$f":"ROW()","v":1318}]
[{"$f":"ROW()","v":1319}]
[{"$f":"ROW()","v":1320}]
[{"$f":"ROW()","v":1321}]
[{"$f":"ROW()","v":1322}]
[{"$f":"ROW()","v":1323}]
[{"$f":"ROW()","v":1324}]
[{"$f":"ROW()","v":1325}]
[{"$f":"ROW()","v":1326}]
[{"$f":"ROW()","v":1327}]
[{"$f":"ROW()","v":1328}]
[{"$f":"ROW()","v":1329}]
[{"$f":"ROW()","v":1330}]
[{"$f":"ROW()","v":1331}]
[{"$f":"ROW()","v":1332}]
[{"$f":"ROW()","v":1333}]
[{"$f":"ROW()","v":1334}]
[{"$f":"ROW()","v":1335}]
[{"$f":"ROW()","v":1336}]
[{"$f":"ROW()","v":1337}]
[{"$f":"ROW()","v":1338}]
[{"$f":"ROW()","v":1339}]
[{"$f":"ROW()","v":1340}]
[{"$f":"ROW()","v":1341}]
[{"$f":"ROW()","v":1342}]
[{"$f":"ROW()","v":1343}]
[{"$f":"ROW()","v":1344}]
[{"$f":"ROW()","v":1345}]
[{"$f":"ROW()","v":1346}]
[{"$f":"ROW()","v":1347}]
[{"$f":"ROW()","v":1348}]
[{"$f":"ROW()","v":1349}]
[{"$f":"ROW()","v":1350}]
[{"$f":"ROW()","v":1351}]
[{"$f":"ROW()","v":1352}]
[{"$f":"ROW()","v":1353}]
[{"$f":"ROW()","v":1354}]
[{"$f":"ROW()","v":1355}]
[{"$f":"ROW()","v":1356}]
[{"$f":"ROW()","v":1357}]
[{"$f":"ROW()","v":1358}]
[{"$f":"ROW()","v":1359}]
[{"$f":"ROW()","v":1360}]
[{"$f":"ROW()","v":1361}]
[{"$f":"ROW()","v":1362}]
[{"$f":"ROW()","v":1363}]
[{"$f":"ROW()","v":1364}]
[{"$f":"ROW()","v":1365}]
[{"$f":"ROW()","v":1366}]
[{"$f":"ROW()","v":1367}]
[{"$f":"ROW()","v":1368}]
[{"$f":"ROW()","v":1369}]
[{"$f":"ROW()","v":1370}]
[{"$f":"ROW()","v":1371}]
[{"$f":"ROW()","v":1372}]
[{"$f":"ROW()","v":1373}]
[{"$f":"ROW()","v":1374}]
[{"$f":"ROW()","v":1375}]
[{"$f":"ROW()","v":1376}]
[{"$f":"ROW()","v":1377}]
[{"$f":"ROW()","v":1378}]
[{"$f":"ROW()","v":1379}]
[{"$f":"ROW()","v":1380}]
[{"$f":"ROW()","v":1381}]
[{"$f":"ROW()","v":1382}]
[{"$f":"ROW()","v":1383}]
[{"$f":"ROW()","v":1384}]
[{"$f":"ROW()","v":1385}]
[{"$f":"ROW()","v":1386}]
[{"$f":"ROW()","v":1387}]
[{"$f":"ROW()","v":1388}]
[{"$f":"ROW()","v":1389}]
[{"$f":"ROW()","v":1390}]
[{"$f":"ROW()","v":1391}]
[{"$f":"ROW()","v":1392}]
[{"$f":"ROW()","v":1393}]
[{"$f":"ROW()","v":1394}]
[{"$f":"ROW()","v":1395}]
[{"$f":"ROW()","v":1396}]
[{"$f":"ROW()","v":1397}]
[{"$f":"ROW()","v":1398}]
[{"$f":"ROW()","v":1399}]
[{"$f":"ROW()","v":1400}]
[{"$f":"ROW()","v":1401}]
[{"$f":"ROW()","v":1402}]
[{"$f":"ROW()","v":1403}]
[{"$f":"ROW()","v":1404}]
[{"$f":"ROW()","v":1405}]
[{"$f":"ROW()","v":1406}]
[{"$f":"ROW()","v":1407}]
[{"$f":"ROW()","v":1408}]
[{"$f":"ROW()","v":1409}]
[{"$f":"ROW()","v":1410}]
[{"$f":"ROW()","v":1411}]
[{"$f":"ROW()","v":1412}]
[{"$f":"ROW()","v":1413}]
[{"$f":"ROW()","v":1414}]
[{"$f":"ROW()","v":1415}]
[{"$f":"ROW()","v":1416}]
[{"$f":"ROW()","v":1417}]
[{"$f":"ROW()","v":1418}]
[{"$f":"ROW()","v":1419}]
[{"$f":"ROW()","v":1420}]
[{"$f":"ROW()","v":1421}]
[{"$f":"ROW()","v":1422}]
[{"$f":"ROW()","v":1423}]
[{"$f":"ROW()","v":1424}]
[{"$f":"ROW()","v":1425}]
[{"$f":"ROW()","v":1426}]
[{"$f":"ROW()","v":1427}]
[{"$f":"ROW()","v":1428}]
[{"$f":"ROW()","v":1429}]
[{"$f":"ROW()","v":1430}]
[{"$f":"ROW()","v":1431}]
[{"$f":"ROW()","v":1432}]
[{"$f":"ROW()","v":1433}]
[{"$f":"ROW()","v":1434}]
[{"$f":"ROW()","v":1435}]
[{"$f":"ROW()","v":1436}]
[{"$f":"ROW()","v":1437}]
[{"$f":"ROW()","v":1438}]
[{"$f":"ROW()","v":1439}]
[{"$f":"ROW()","v":1440}]
[{"$f":"ROW()","v":1441}]
[{"$f":"ROW()","v":1442}]
[{"$f":"ROW()","v":1443}]
[{"$f":"ROW()","v":1444}]
[{"$f":"ROW()","v":1445}]
[{"$f":"ROW()","v":1446}]
[{"$f":"ROW()","v":1447}]
[{"$f":"ROW()","v":1448}]
[{"$f":"ROW()","v":1449}]
[{"$f":"ROW()","v":1450}]
[{"$f":"ROW()","v":1451}]
[{"$f":"ROW()","v":1452}]
[{"$f":"ROW()","v":1453}]
[{"$f":"ROW()","v":1454}]
[{"$f":"ROW()","v":1455}]
[{"$f":"ROW()","v":1456}]
[{"$f":"ROW()","v":1457}]
[{"$f":"ROW()","v":1458}]
[{"$f":"ROW()","v":1459}]
[{"$f":"ROW()","v":1460}]
[{"$f":"ROW()","v":1461}]
[{"$f":"ROW()","v":1462}]
[{"$f":"ROW()","v":1463}]
[{"$f":"ROW()","v":1464}]
[{"$f":"ROW()","v":1465}]
[{"$f":"ROW()","v":1466}]
[{"$f":"ROW()","v":1467}]
[{"$f":"ROW()","v":1468}]
[{"$f":"ROW()","v":1469}]
[{"$f":"ROW()","v":1470}]
[{"$f":"ROW()","v":1471}]
[{"$f":"ROW()","v":1472}]
[{"$f":"ROW()","v":1473}]
[{"$f":"ROW()","v":1474}]
[{"$f":"ROW()","v":1475}]
[{"$f":"ROW()","v":1476}]
[{"$f":"ROW()","v":1477}]
[{"$f":"ROW()","v":1478}]
[{"$f":"ROW()","v":1479}]
[{"$f":"ROW()","v":1480}]
[{"$f":"ROW()","v":1481}]
[{"$f":"ROW()","v":1482}]
[{"$f":"ROW()","v":1483}]
[{"$f":"ROW()","v":1484}]
[{"$f":"ROW()","v":1485}]
[{"$f":"ROW()","v":1486}]
[{"$f":"ROW()","v":1487}]
[{"$f":"ROW()","v":1488}]
[{"$f":"ROW()","v":1489}]
[{"$f":"ROW()","v":1490}]
[{"$f":"ROW()","v":1491}]
[{"$f":"ROW()","v":1492}]
[{"$f":"ROW()","v":1493}]
[{"$f":"ROW()","v":1494}]
[{"$f":"ROW()","v":1495}]
[{"$f":"ROW()","v":1496}]
[{"$f":"ROW()","v":1497}]
[{"$f":"ROW()","v":1498}]
[{"$f":"ROW()","v":1499}]
[{"$f":"ROW()","v":1500}]
[{"$f":"ROW()","v":1501}]
[{"$f":"ROW()","v":1502}]
[{"$f":"ROW()","v":1503}]
[{"$f":"ROW()","v":1504}]
[{"$f":"ROW()","v":1505}]
[{"$f":"ROW()","v":1506}]
[{"$f":"ROW()","v":1507}]
[{"$f":"ROW()","v":1508}]
[{"$f":"ROW()","v":1509}]
[{"$f":"ROW()","v":1510}]
[{"$f":"ROW()","v":1511}]
[{"$f":"ROW()","v":1512}]
[{"$f":"ROW()","v":1513}]
[{"$f":"ROW()","v":1514}]
[{"$f":"ROW()","v":1515}]
[{"$f":"ROW()","v":1516}]
[{"$f":"ROW()","v":1517}]
[{"$f":"ROW()","v":1518}]
[{"$f":"ROW()","v":1519}]
[{"$f":"ROW()","v":1520}]
[{"$f":"ROW()","v":1521}]
[{"$f":"ROW()","v":1522}]
[{"$f":"ROW()","v":1523}]
[{"$f":"ROW()","v":1524}]
[{"$f":"ROW()","v":1525}]
[{"$f":"ROW()","v":1526}]
[{"$f":"ROW()","v":1527}]
[{"$f":"ROW()","v":1528}]
[{"$f":"ROW()","v":1529}]
[{"$f":"ROW()","v":1530}]
[{"$f":"ROW()","v":1531}]
[{"$f":"ROW()","v":1532}]
[{"$f":"ROW()","v":1533}]
[{"$f":"ROW()","v":1534}]
[{"$f":"ROW()","v":1535}]
[{"$f":"ROW()","v":1536}]
[{"$f":"ROW()","v":1537}]
[{"$f":"ROW()","v":1538}]
[{"$f":"ROW()","v":1539}]
[{"$f":"ROW()","v":1540}]
[{"$f":"ROW()","v":1541}]
[{"$f":"ROW()","v":1542}]
[{"$f":"ROW()","v":1543}]
[{"$f":"ROW()","v":1544}]
[{"$f":"ROW()","v":1545}]
[{"$f":"ROW()","v":1546}]
[{"$f":"ROW()","v":1547}]
[{"$f":"ROW()","v":1548}]
[{"$f":"ROW()","v":1549}]
[{"$f":"ROW()","v":1550}]
[{"$f":"ROW()","v":1551}]
[{"$f":"ROW()","v":1552}]
[{"$f":"ROW()","v":1553}]
[{"$f":"ROW()","v":1554}]
[{"$f":"ROW()","v":1555}]
[{"$f":"ROW()","v":1556}]
[{"$f":"ROW()","v":1557}]
[{"$f":"ROW()","v":1558}]
[{"$f":"ROW()","v":1559}]
[{"$f":"ROW()","v":1560}]
[{"$f":"ROW()","v":1561}]
[{"$f":"ROW()","v":1562}]
[{"$f":"ROW()","v":1563}]
[{"$f":"ROW()","v":1564}]
[{"$f":"ROW()","v":1565}]
[{"$f":"ROW()","v":1566}]
[{"$f":"ROW()","v":1567}]
[{"$f":"ROW()","v":1568}]
[{"$f":"ROW()","v":1569}]
[{"$f":"ROW()","v":1570}]
[{"$f":"ROW()","v":1571}]
[{"$f":"ROW()","v":1572}]
[{"$f":"ROW()","v":1573}]
[{"$f":"ROW()","v":1574}]
[{"$f":"ROW()","v":1575}]
[{"$f":"ROW()","v":1576}]
[{"$f":"ROW()","v":1577}]
[{"$f":"ROW()","v":1578}]
[{"$f":"ROW()","v":1579}]
[{"$f":"ROW()","v":1580}]
[{"$f":"ROW()","v":1581}]
[{"$f":"ROW()","v":1582}]
[{"$f":"ROW()","v":1583}]
[{"$f":"ROW()","v":1584}]
[{"$f":"ROW()","v":1585}]
[{"$f":"ROW()","v":1586}]
[{"$f":"ROW()","v":1587}]
[{"$f":"ROW()","v":1588}]
[{"$f":"ROW()","v":1589}]
[{"$f":"ROW()","v":1590}]
[{"$f":"ROW()","v":1591}]
[{"$f":"ROW()","v":1592}]
[{"$f":"ROW()","v":1593}]
[{"$f":"ROW()","v":1594}]
[{"$f":"ROW()","v":1595}]
[{"$f":"ROW()","v":1596}]
[{"$f":"ROW()","v":1597}]
[{"$f":"ROW()","v":1598}]
[{"$f":"ROW()","v":1599}]
[{"$f":"ROW()","v":1600}]
[{"$f":"ROW()","v":1601}]
[{"$f":"ROW()","v":1602}]
[{"$f":"ROW()","v":1603}]
[{"$f":"ROW()","v":1604}]
[{"$f":"ROW()","v":1605}]
[{"$f":"ROW()","v":1606}]
[{"$f":"ROW()","v":1607}]
[{"$f":"ROW()","v":1608}]
[{"$f":"ROW()","v":1609}]
[{"$f":"ROW()","v":1610}]
[{"$f":"ROW()","v":1611}]
[{"$f":"ROW()","v":1612}]
[{"$f":"ROW()","v":1613}]
[{"$f":"ROW()","v":1614}]
[{"$f":"ROW()","v":1615}]
[{"$f":"ROW()","v":1616}]
[{"$f":"ROW()","v":1617}]
[{"$f":"ROW()","v":1618}]
[{"$f":"ROW()","v":1619}]
[{"$f":"ROW()","v":1620}]
[{"$f":"ROW()","v":1621}]
[{"$f":"ROW()","v":1622}]
[{"$f":"ROW()","v":1623}]
[{"$f":"ROW()","v":1624}]
[{"$f":"ROW()","v":1625}]
[{"$f":"ROW()","v":1626}]
[{"$f":"ROW()","v":1627}]
[{"$f":"ROW()","v":1628}]
[{"$f":"ROW()","v":1629}]
[{"$f":"ROW()","v":1630}]
[{"$f":"ROW()","v":1631}]
[{"$f":"ROW()","v":1632}]
[{"$f":"ROW()","v":1633}]
[{"$f":"ROW()","v":1634}]
[{"$f":"ROW()","v":1635}]
[{"$f":"ROW()","v":1636}]
[{"$f":"ROW()","v":1637}]
[{"$f":"ROW()","v":1638}]
[{"$f":"ROW()","v":1639}]
[{"$f":"ROW()","v":1640}]
[{"$f":"ROW()","v":1641}]
[{"$f":"ROW()","v":1642}]
[{"$f":"ROW()","v":1643}]
[{"$f":"ROW()","v":1644}]
[{"$f":"ROW()","v":1645}]
[{"$f":"ROW()","v":1646}]
[{"$f":"ROW()","v":1647}]
[{"$f":"ROW()","v":1648}]
[{"$f":"ROW()","v":1649}]
[{"$f":"ROW()","v":1650}]
[{"$f":"ROW()","v":1651}]
[{"$f":"ROW()","v":1652}]
[{"$f":"ROW()","v":1653}]
[{"$f":"ROW()","v":1654}]
[{"$f":"ROW()","v":1655}]
[{"$f":"ROW()","v":1656}]
[{"$f":"ROW()","v":1657}]
[{"$f":"ROW()","v":1658}]
[{"$f":"ROW()","v":1659}]
[{"$f":"ROW()","v":1660}]
[{"$f":"ROW()","v":1661}]
[{"$f":"ROW()","v":1662}]
[{"$f":"ROW()","v":1663}]
[{"$f":"ROW()","v":1664}]
[{"$f":"ROW()","v":1665}]
[{"$f":"ROW()","v":1666}]
[{"$f":"ROW()","v":1667}]
[{"$f":"ROW()","v":1668}]
[{"$f":"ROW()","v":1669}]
[{"$f":"ROW()","v":1670}]
[{"$f":"ROW()","v":1671}]
[{"$f":"ROW()","v":1672}]
[{"$f":"ROW()","v":1673}]
[{"$f":"ROW()","v":1674}]
[{"$f":"ROW()","v":1675}]
[{"$f":"ROW()","v":1676}]
[{"$f":"ROW()","v":1677}]
[{"$f":"ROW()","v":1678}]
[{"$f":"ROW()","v":1679}]
[{"$f":"ROW()","v":1680}]
[{"$f":"ROW()","v":1681}]
[{"$f":"ROW()","v":1682}]
[{"$f":"ROW()","v":1683}]
[{"$f":"ROW()","v":1684}]
[{"$f":"ROW()","v":1685}]
[{"$f":"ROW()","v":1686}]
[{"$f":"ROW()","v":1687}]
[{"$f":"ROW()","v":1688}]
[{"$f":"ROW()","v":1689}]
[{"$f":"ROW()","v":1690}]
[{"$f":"ROW()","v":1691}]
[{"$f":"ROW()","v":1692}]
[{"$f":"ROW()","v":1693}]
[{"$f":"ROW()","v":1694}]
[{"$f":"ROW()","v":1695}]
[{"$f":"ROW()","v":1696}]
[{"$f":"ROW()","v":1697}]
[{"$f":"ROW()","v":1698}]
[{"$f":"ROW()","v":1699}]
[{"$f":"ROW()","v":1700}]
[{"$f":"ROW()","v":1701}]
[{"$f":"ROW()","v":1702}]
[{"$f":"ROW()","v":1703}]
[{"$f":"ROW()","v":1704}]
[{"$f":"ROW()","v":1705}]
[{"$f":"ROW()","v":1706}]
[{"$f":"ROW()","v":1707}]
[{"$f":"ROW()","v":1708}]
[{"$f":"ROW()","v":1709}]
[{"$f":"ROW()","v":1710}]
[{"$f":"ROW()","v":1711}]
[{"$f":"ROW()","v":1712}]
[{"$f":"ROW()","v":1713}]
[{"$f":"ROW()","v":1714}]
[{"$f":"ROW()","v":1715}]
[{"$f":"ROW()","v":1716}]
[{"$f":"ROW()","v":1717}]
[{"$f":"ROW()","v":1718}]
[{"$f":"ROW()","v":1719}]
[{"$f":"ROW()","v":1720}]
[{"$f":"ROW()","v":1721}]
[{"$f":"ROW()","v":1722}]
[{"$f":"ROW()","v":1723}]
[{"$f":"ROW()","v":1724}]
[{"$f":"ROW()","v":1725}]
[{"$f":"ROW()","v":1726}]
[{"$f":"ROW()","v":1727}]
[{"$f":"ROW()","v":1728}]
[{"$f":"ROW()","v":1729}]
[{"$f":"ROW()","v":1730}]
[{"$f":"ROW()","v":1731}]
[{"$f":"ROW()","v":1732}]
[{"$f":"ROW()","v":1733}]
[{"$f":"ROW()","v":1734}]
[{"$f":"ROW()","v":1735}]
[{"$f":"ROW()","v":1736}]
[{"$f":"ROW()","v":1737}]
[{"$f":"ROW()","v":1738}]
[{"$f":"ROW()","v":1739}]
[{"$f":"ROW()","v":1740}]
[{"$f":"ROW()","v":1741}]
[{"$f":"ROW()","v":1742}]
[{"$f":"ROW()","v":1743}]
[{"$f":"ROW()","v":1744}]
[{"$f":"ROW()","v":1745}]
[{"$f":"ROW()","v":1746}]
[{"$f":"ROW()","v":1747}]
[{"$f":"ROW()","v":1748}]
[{"$f":"ROW()","v":1749}]
[{"$f":"ROW()","v":1750}]
[{"$f":"ROW()","v":1751}]
[{"$f":"ROW()","v":1752}]
[{"$f":"ROW()","v":1753}]
[{"$f":"ROW()","v":1754}]
[{"$f":"ROW()","v":1755}]
[{"$f":"ROW()","v":1756}]
[{"$f":"ROW()","v":1757}]
[{"$f":"ROW()","v":1758}]
[{"$f":"ROW()","v":1759}]
[{"$f":"ROW()","v":1760}]
[{"$f":"ROW()","v":1761}]
[{"$f":"ROW()","v":1762}]
[{"$f":"ROW()","v":1763}]
[{"$f":"ROW()","v":1764}]
[{"$f":"ROW()","v":1765}]
[{"$f":"ROW()","v":1766}]
[{"$f":"ROW()","v":1767}]
[{"$f":"ROW()","v":1768}]
[{"$f":"ROW()","v":1769}]
[{"$f":"ROW()","v":1770}]
[{"$f":"ROW()","v":1771}]
[{"$f":"ROW()","v":1772}]
[{"$f":"ROW()","v":1773}]
[{"$f":"ROW()","v":1774}]
[{"$f":"ROW()","v":1775}]
[{"$f":"ROW()","v":1776}]
[{"$f":"ROW()","v":1777}]
[{"$f":"ROW()","v":1778}]
[{"$f":"ROW()","v":1779}]
[{"$f":"ROW()","v":1780}]
[{"$f":"ROW()","v":1781}]
[{"$f":"ROW()","v":1782}]
[{"$f":"ROW()","v":1783}]
[{"$f":"ROW()","v":1784}]
[{"$f":"ROW()","v":1785}]
[{"$f":"ROW()","v":1786}]
[{"$f":"ROW()","v":1787}]
[{"$f":"ROW()","v":1788}]
[{"$f":"ROW()","v":1789}]
[{"$f":"ROW()","v":1790}]
[{"$f":"ROW()","v":1791}]
[{"$f":"ROW()","v":1792}]
[{"$f":"ROW()","v":1793}]
[{"$f":"ROW()","v":1794}]
[{"$f":"ROW()","v":1795}]
[{"$f":"ROW()","v":1796}]
[{"$f":"ROW()","v":1797}]
[{"$f":"ROW()","v":1798}]
[{"$f":"ROW()","v":1799}]
[{"$f":"ROW()","v":1800}]
[{"$f":"ROW()","v":1801}]
[{"$f":"ROW()","v":1802}]
[{"$f":"ROW()","v":1803}]
[{"$f":"ROW()","v":1804}]
[{"$f":"ROW()","v":1805}]
[{"$f":"ROW()","v":1806}]
[{"$f":"ROW()","v":1807}]
[{"$f":"ROW()","v":1808}]
[{"$f":"ROW()","v":1809}]
[{"$f":"ROW()","v":1810}]
[{"$f":"ROW()","v":1811}]
[{"$f":"ROW()","v":1812}]
[{"$f":"ROW()","v":1813}]
[{"$f":"ROW()","v":1814}]
[{"$f":"ROW()","v":1815}]
[{"$f":"ROW()","v":1816}]
[{"$f":"ROW()","v":1817}]
[{"$f":"ROW()","v":1818}]
[{"$f":"ROW()","v":1819}]
[{"$f":"ROW()","v":1820}]
[{"$f":"ROW()","v":1821}]
[{"$f":"ROW()","v":1822}]
[{"$f":"ROW()","v":1823}]
[{"$f":"ROW()","v":1824}]
[{"$f":"ROW()","v":1825}]
[{"$f":"ROW()","v":1826}]
[{"$f":"ROW()","v":1827}]
[{"$f":"ROW()","v":1828}]
[{"$f":"ROW()","v":1829}]
[{"$f":"ROW()","v":1830}]
[{"$f":"ROW()","v":1831}]
[{"$f":"ROW()","v":1832}]
[{"$f":"ROW()","v":1833}]
[{"$f":"ROW()","v":1834}]
[{"$f":"ROW()","v":1835}]
[{"$f":"ROW()","v":1836}]
[{"$f":"ROW()","v":1837}]
[{"$f":"ROW()","v":1838}]
[{"$f":"ROW()","v":1839}]
[{"$f":"ROW()","v":1840}]
[{"$f":"ROW()","v":1841}]
[{"$f":"ROW()","v":1842}]
[{"$f":"ROW()","v":1843}]
[{"$f":"ROW()","v":1844}]
[{"$f":"ROW()","v":1845}]
[{"$f":"ROW()","v":1846}]
[{"$f":"ROW()","v":1847}]
[{"$f":"ROW()","v":1848}]
[{"$f":"ROW()","v":1849}]
[{"$f":"ROW()","v":1850}]
[{"$f":"ROW()","v":1851}]
[{"$f":"ROW()","v":1852}]
[{"$f":"ROW()","v":1853}]
[{"$f":"ROW()","v":1854}]
[{"$f":"ROW()","v":1855}]
[{"$f":"ROW()","v":1856}]
[{"$f":"ROW()","v":1857}]
[{"$f":"ROW()","v":1858}]
[{"$f":"ROW()","v":1859}]
[{"$f":"ROW()","v":1860}]
[{"$f":"ROW()","v":1861}]
[{"$f":"ROW()","v":1862}]
[{"$f":"ROW()","v":1863}]
[{"$f":"ROW()","v":1864}]
[{"$f":"ROW()","v":1865}]
[{"$f":"ROW()","v":1866}]
[{"$f":"ROW()","v":1867}]
[{"$f":"ROW()","v":1868}]
[{"$f":"ROW()","v":1869}]
[{"$f":"ROW()","v":1870}]
[{"$f":"ROW()","v":1871}]
[{"$f":"ROW()","v":1872}]
[{"$f":"ROW()","v":1873}]
[{"$f":"ROW()","v":1874}]
[{"$f":"ROW()","v":1875}]
[{"$f":"ROW()","v":1876}]
[{"$f":"ROW()","v":1877}]
[{"$f":"ROW()","v":1878}]
[{"$f":"ROW()","v":1879}]
[{"$f":"ROW()","v":1880}]
[{"$f":"ROW()","v":1881}]
[{"$f":"ROW()","v":1882}]
[{"$f":"ROW()","v":1883}]
[{"$f":"ROW()","v":1884}]
[{"$f":"ROW()","v":1885}]
[{"$f":"ROW()","v":1886}]
[{"$f":"ROW()","v":1887}]
[{"$f":"ROW()","v":1888}]
[{"$f":"ROW()","v":1889}]
[{"$f":"ROW()","v":1890}]
[{"$f":"ROW()","v":1891}]
[{"$f":"ROW()","v":1892}]
[{"$f":"ROW()","v":1893}]
[{"$f":"ROW()","v":1894}]
[{"$f":"ROW()","v":1895}]
[{"$f":"ROW()","v":1896}]
[{"$f":"ROW()","v":1897}]
[{"$f":"ROW()","v":1898}]
[{"$f":"ROW()","v":1899}]
[{"$f":"ROW()","v":1900}]
[{"$f":"ROW()","v":1901}]
[{"$f":"ROW()","v":1902}]
[{"$f":"ROW()","v":1903}]
[{"$f":"ROW()","v":1904}]
[{"$f":"ROW()","v":1905}]
[{"$f":"ROW()","v":1906}]
[{"$f":"ROW()","v":1907}]
[{"$f":"ROW()","v":1908}]
[{"$f":"ROW()","v":1909}]
[{"$f":"ROW()","v":1910}]
[{"$f":"ROW()","v":1911}]
[{"$f":"ROW()","v":1912}]
[{"$f":"ROW()","v":1913}]
[{"$f":"ROW()","v":1914}]
[{"$f":"ROW()","v":1915}]
[{"$f":"ROW()","v":1916}]
[{"$f":"ROW()","v":1917}]
[{"$f":"ROW()","v":1918}]
[{"$f":"ROW()","v":1919}]
[{"$f":"ROW()","v":1920}]
[{"$f":"ROW()","v":1921}]
[{"$f":"ROW()","v":1922}]
[{"$f":"ROW()","v":1923}]
[{"$f":"ROW()","v":1924}]
[{"$f":"ROW()","v":1925}]
[{"$f":"ROW()","v":1926}]
[{"$f":"ROW()","v":1927}]
[{"$f":"ROW()","v":1928}]
[{"$f":"ROW()","v":1929}]
[{"$f":"ROW()","v":1930}]
[{"$f":"ROW()","v":1931}]
[{"$f":"ROW()","v":1932}]
[{"$f":"ROW()","v":1933}]
[{"$f":"ROW()","v":1934}]
[{"$f":"ROW()","v":1935}]
[{"$f":"ROW()","v":1936}]
[{"$f":"ROW()","v":1937}]
[{"$f":"ROW()","v":1938}]
[{"$f":"ROW()","v":1939}]
[{"$f":"ROW()","v":1940}]
[{"$f":"ROW()","v":1941}]
[{"$f":"ROW()","v":1942}]
[{"$f":"ROW()","v":1943}]
[{"$f":"ROW()","v":1944}]
[{"$f":"ROW()","v":1945}]
[{"$f":"ROW()","v":1946}]
[{"$f":"ROW()","v":1947}]
[{"$f":"ROW()","v":1948}]
[{"$f":"ROW()","v":1949}]
[{"$f":"ROW()","v":1950}]
[{"$f":"ROW()","v":1951}]
[{"$f":"ROW()","v":1952}]
[{"$f":"ROW()","v":1953}]
[{"$f":"ROW()","v":1954}]
[{"$f":"ROW()","v":1955}]
[{"$f":"ROW()","v":1956}]
[{"$f":"ROW()","v":1957}]
[{"$f":"ROW()","v":1958}]
[{"$f":"ROW()","v":1959}]
[{"$f":"ROW()","v":1960}]
[{"$f":"ROW()","v":1961}]
[{"$f":"ROW()","v":1962}]
[{"$f":"ROW()","v":1963}]
[{"$f":"ROW()","v":1964}]
[{"$f":"ROW()","v":1965}]
[{"$f":"ROW()","v":1966}]
[{"$f":"ROW()","v":1967}]
[{"$f":"ROW()","v":1968}]
[{"$f":"ROW()","v":1969}]
[{"$f":"ROW()","v":1970}]
[{"$f":"ROW()","v":1971}]
[{"$f":"ROW()","v":1972}]
[{"$f":"ROW()","v":1973}]
[{"$f":"ROW()","v":1974}]
[{"$f":"ROW()","v":1975}]
[{"$f":"ROW()","v":1976}]
[{"$f":"ROW()","v":1977}]
[{"$f":"ROW()","v":1978}]
[{"$f":"ROW()","v":1979}]
[{"$f":"ROW()","v":1980}]
[{"$f":"ROW()","v":1981}]
[{"$f":"ROW()","v":1982}]
[{"$f":"ROW()","v":1983}]
[{"$f":"ROW()","v":1984}]
[{"$f":"ROW()","v":1985}]
[{"$f":"ROW()","v":1986}]
[{"$f":"ROW()","v":1987}]
[{"$f":"ROW()","v":1988}]
[{"$f":"ROW()","v":1989}]
[{"$f":"ROW()","v":1990}]
[{"$f":"ROW()","v":1991}]
[{"$f":"ROW()","v":1992}]
[{"$f":"ROW()","v":1993}]
[{"$f":"ROW()","v":1994}]
[{"$f":"ROW()","v":1995}]
[{"$f":"ROW()","v":1996}]
[{"$f":"ROW()","v":1997}]
[{"$f":"ROW()","v":1998}]
[{"$f":"ROW()","v":1999}]
[{"$f":"ROW()","v":2000}]
[{"$f":"ROW()","v":2001}]
[{"$f":"ROW()","v":2002}]
[{"$f":"ROW()","v":2003}]
[{"$f":"ROW()","v":2004}]
[{"$f":"ROW()","v":2005}]
[{"$f":"ROW()","v":2006}]
[{"$f":"ROW()","v":2007}]
[{"$f":"ROW()","v":2008}]
[{"$f":"ROW()","v":2009}]
[{"$f":"ROW()","v":2010}]
[{"$f":"ROW()","v":2011}]
[{"$f":"ROW()","v":2012}]
[{"$f":"ROW()","v":2013}]
[{"$f":"ROW()","v":2014}]
[{"$f":"ROW()","v":2015}]
[{"$f":"ROW()","v":2016}]
[{"$f":"ROW()","v":2017}]
[{"$f":"ROW()","v":2018}]
[{"$f":"ROW()","v":2019}]
[{"$f":"ROW()","v":2020}]
[{"$f":"ROW()","v":2021}]
[{"$f":"ROW()","v":2022}]
[{"$f":"ROW()","v":2023}]
[{"$f":"ROW()","v":2024}]
[{"$f":"ROW()","v":2025}]
[{"$f":"ROW()","v":2026}]
[{"$f":"ROW()","v":2027}]
[{"$f":"ROW()","v":2028}]
[{"$f":"ROW()","v":2029}]
[{"$f":"ROW()","v":2030}]
[{"$f":"ROW()","v":2031}]
[{"$f":"ROW()","v":2032}]
[{"$f":"ROW()","v":2033}]
[{"$f":"ROW()","v":2034}]
[{"$f":"ROW()","v":2035}]
[{"$f":"ROW()","v":2036}]
[{"$f":"ROW()","v":2037}]
[{"$f":"ROW()","v":2038}]
[{"$f":"ROW()","v":2039}]
[{"$f":"ROW()","v":2040}]
[{"$f":"ROW()","v":2041}]
[{"$f":"ROW()","v":2042}]
[{"$f":"ROW()","v":2043}]
[{"$f":"ROW()","v":2044}]
[{"$f":"ROW()","v":2045}]
[{"$f":"ROW()","v":2046}]
[{"$f":"ROW()","v":2047}]
[{"$f":"ROW()","v":2048}]
[{"$f":"ROW()","v":2049}]
[{"$f":"ROW()","v":2050}]
[{"$f":"ROW()","v":2051}]
[{"$f":"ROW()","v":2052}]
[{"$f":"ROW()","v":2053}]
[{"$f":"ROW()","v":2054}]
[{"$f":"ROW()","v":2055}]
[{"$f":"ROW()","v":2056}]
[{"$f":"ROW()","v":2057}]
[{"$f":"ROW()","v":2058}]
[{"$f":"ROW()","v":2059}]
[{"$f":"ROW()","v":2060}]
[{"$f":"ROW()","v":2061}]
[{"$f":"ROW()","v":2062}]
[{"$f":"ROW()","v":2063}]
[{"$f":"ROW()","v":2064}]
[{"$f":"ROW()","v":2065}]
[{"$f":"ROW()","v":2066}]
[{"$f":"ROW()","v":2067}]
[{"$f":"ROW()","v":2068}]
[{"$f":"ROW()","v":2069}]
[{"$f":"ROW()","v":2070}]
[{"$f":"ROW()","v":2071}]
[{"$f":"ROW()","v":2072}]
[{"$f":"ROW()","v":2073}]
[{"$f":"ROW()","v":2074}]
[{"$f":"ROW()","v":2075}]
[{"$f":"ROW()","v":2076}]
[{"$f":"ROW()","v":2077}]
[{"$f":"ROW()","v":2078}]
[{"$f":"ROW()","v":2079}]
[{"$f":"ROW()","v":2080}]
[{"$f":"ROW()","v":2081}]
[{"$f":"ROW()","v":2082}]
[{"$f":"ROW()","v":2083}]
[{"$f":"ROW()","v":2084}]
[{"$f":"ROW()","v":2085}]
[{"$f":"ROW()","v":2086}]
[{"$f":"ROW()","v":2087}]
[{"$f":"ROW()","v":2088}]
[{"$f":"ROW()","v":2089}]
[{"$f":"ROW()","v":2090}]
[{"$f":"ROW()","v":2091}]
[{"$f":"ROW()","v":2092}]
[{"$f":"ROW()","v":2093}]
[{"$f":"ROW()","v":2094}]
[{"$f":"ROW()","v":2095}]
[{"$f":"ROW()","v":2096}]
[{"$f":"ROW()","v":2097}]
[{"$f":"ROW()","v":2098}]
[{"$f":"ROW()","v":2099}]
[{"$f":"ROW()","v":2100}]
[{"$f":"ROW()","v":2101}]
[{"$f":"ROW()","v":2102}]
[{"$f":"ROW()","v":2103}]
[{"$f":"ROW()","v":2104}]
[{"$f":"ROW()","v":2105}]
[{"$f":"ROW()","v":2106}]
[{"$f":"ROW()","v":2107}]
[{"$f":"ROW()","v":2108}]
[{"$f":"ROW()","v":2109}]
[{"$f":"ROW()","v":2110}]
[{"$f":"ROW()","v":2111}]
[{"$f":"ROW()","v":2112}]
[{"$f":"ROW()","v":2113}]
[{"$f":"ROW()","v":2114}]
[{"$f":"ROW()","v":2115}]
[{"$f":"ROW()","v":2116}]
[{"$f":"ROW()","v":2117}]
[{"$f":"ROW()","v":2118}]
[{"$f":"ROW()","v":2119}]
[{"$f":"ROW()","v":2120}]
[{"$f":"ROW()","v":2121}]
[{"$f":"ROW()","v":2122}]
[{"$f":"ROW()","v":2123}]
[{"$f":"ROW()","v":2124}]
[{"$f":"ROW()","v":2125}]
[{"$f":"ROW()","v":2126}]
[{"$f":"ROW()","v":2127}]
[{"$f":"ROW()","v":2128}]
[{"$f":"ROW()","v":2129}]
[{"$f":"ROW()","v":2130}]
[{"$f":"ROW()","v":2131}]
[{"$f":"ROW()","v":2132}]
[{"$f":"ROW()","v":2133}]
[{"$f":"ROW()","v":2134}]
[{"$f":"ROW()","v":2135}]
[{"$f":"ROW()","v":2136}]
[{"$f":"ROW()","v":2137}]
[{"$f":"ROW()","v":2138}]
[{"$f":"ROW()","v":2139}]
[{"$f":"ROW()","v":2140}]
[{"$f":"ROW()","v":2141}]
[{"$f":"ROW()","v":2142}]
[{"$f":"ROW()","v":2143}]
[{"$f":"ROW()","v":2144}]
[{"$f":"ROW()","v":2145}]
[{"$f":"ROW()","v":2146}]
[{"$f":"ROW()","v":2147}]
[{"$f":"ROW()","v":2148}]
[{"$f":"ROW()","v":2149}]
[{"$f":"ROW()","v":2150}]
[{"$f":"ROW()","v":2151}]
[{"$f":"ROW()","v":2152}]
[{"$f":"ROW()","v":2153}]
[{"$f":"ROW()","v":2154}]
[{"$f":"ROW()","v":2155}]
[{"$f":"ROW()","v":2156}]
[{"$f":"ROW()","v":2157}]
[{"$f":"ROW()","v":2158}]
[{"$f":"ROW()","v":2159}]
[{"$f":"ROW()","v":2160}]
[{"$f":"ROW()","v":2161}]
[{"$f":"ROW()","v":2162}]
[{"$f":"ROW()","v":2163}]
[{"$f":"ROW()","v":2164}]
[{"$f":"ROW()","v":2165}]
[{"$f":"ROW()","v":2166}]
[{"$f":"ROW()","v":2167}]
[{"$f":"ROW()","v":2168}]
[{"$f":"ROW()","v":2169}]
[{"$f":"ROW()","v":2170}]
[{"$f":"ROW()","v":2171}]
[{"$f":"ROW()","v":2172}]
[{"$f":"ROW()","v":2173}]
[{"$f":"ROW()","v":2174}]
[{"$f":"ROW()","v":2175}]
[{"$f":"ROW()","v":2176}]
[{"$f":"ROW()","v":2177}]
[{"$f":"ROW()","v":2178}]
[{"$f":"ROW()","v":2179}]
[{"$f":"ROW()","v":2180}]
[{"$f":"ROW()","v":2181}]
[{"$f":"ROW()","v":2182}]
[{"$f":"ROW()","v":2183}]
[{"$f":"ROW()","v":2184}]
[{"$f":"ROW()","v":2185}]
[{"$f":"ROW()","v":2186}]
[{"$f":"ROW()","v":2187}]
[{"$f":"ROW()","v":2188}]
[{"$f":"ROW()","v":2189}]
[{"$f":"ROW()","v":2190}]
[{"$f":"ROW()","v":2191}]
[{"$f":"ROW()","v":2192}]
[{"$f":"ROW()","v":2193}]
[{"$f":"ROW()","v":2194}]
[{"$f":"ROW()","v":2195}]
[{"$f":"ROW()","v":2196}]
[{"$f":"ROW()","v":2197}]
[{"$f":"ROW()","v":2198}]
[{"$f":"ROW()","v":2199}]
[{"$f":"ROW()","v":2200}]
[{"$f":"ROW()","v":2201}]
[{"$f":"ROW()","v":2202}]
[{"$f":"ROW()","v":2203}]
[{"$f":"ROW()","v":2204}]
[{"$f":"ROW()","v":2205}]
[{"$f":"ROW()","v":2206}]
[{"$f":"ROW()","v":2207}]
[{"$f":"ROW()","v":2208}]
[{"$f":"ROW()","v":2209}]
[{"$f":"ROW()","v":2210}]
[{"$f":"ROW()","v":2211}]
[{"$f":"ROW()","v":2212}]
[{"$f":"ROW()","v":2213}]
[{"$f":"ROW()","v":2214}]
[{"$f":"ROW()","v":2215}]
[{"$f":"ROW()","v":2216}]
[{"$f":"ROW()","v":2217}]
[{"$f":"ROW()","v":2218}]
[{"$f":"ROW()","v":2219}]
[{"$f":"ROW()","v":2220}]
[{"$f":"ROW()","v":2221}]
[{"$f":"ROW()","v":2222}]
[{"$f":"ROW()","v":2223}]
[{"$f":"ROW()","v":2224}]
[{"$f":"ROW()","v":2225}]
[{"$f":"ROW()","v":2226}]
[{"$f":"ROW()","v":2227}]
[{"$f":"ROW()","v":2228}]
[{"$f":"ROW()","v":2229}]
[{"$f":"ROW()","v":2230}]
[{"$f":"ROW()","v":2231}]
[{"$f":"ROW()","v":2232}]
[{"$f":"ROW()","v":2233}]
[{"$f":"ROW()","v":2234}]
[{"$f":"ROW()","v":2235}]
[{"$f":"ROW()","v":2236}]
[{"$f":"ROW()","v":2237}]
[{"$f":"ROW()","v":2238}]
[{"$f":"ROW()","v":2239}]
[{"$f":"ROW()","v":2240}]
[{"$f":"ROW()","v":2241}]
[{"$f":"ROW()","v":2242}]
[{"$f":"ROW()","v":2243}]
[{"$f":"ROW()","v":2244}]
[{"$f":"ROW()","v":2245}]
[{"$f":"ROW()","v":2246}]
[{"$f":"ROW()","v":2247}]
[{"$f":"ROW()","v":2248}]
[{"$f":"ROW()","v":2249}]
[{"$f":"ROW()","v":2250}]
[{"$f":"ROW()","v":2251}]
[{"$f":"ROW()","v":2252}]
[{"$f":"ROW()","v":2253}]
[{"$f":"ROW()","v":2254}]
[{"$f":"ROW()","v":2255}]
[{"$f":"ROW()","v":2256}]
[{"$f":"ROW()","v":2257}]
[{"$f":"ROW()","v":2258}]
[{"$f":"ROW()","v":2259}]
[{"$f":"ROW()","v":2260}]
[{"$f":"ROW()","v":2261}]
[{"$f":"ROW()","v":2262}]
[{"$f":"ROW()","v":2263}]
[{"$f":"ROW()","v":2264}]
[{"$f":"ROW()","v":2265}]
[{"$f":"ROW()","v":2266}]
[{"$f":"ROW()","v":2267}]
[{"$f":"ROW()","v":2268}]
[{"$f":"ROW()","v":2269}]
[{"$f":"ROW()","v":2270}]
[{"$f":"ROW()","v":2271}]
[{"$f":"ROW()","v":2272}]
[{"$f":"ROW()","v":2273}]
[{"$f":"ROW()","v":2274}]
[{"$f":"ROW()","v":2275}]
[{"$f":"ROW()","v":2276}]
[{"$f":"ROW()","v":2277}]
[{"$f":"ROW()","v":2278}]
[{"$f":"ROW()","v":2279}]
[{"$f":"ROW()","v":2280}]
[{"$f":"ROW()","v":2281}]
[{"$f":"ROW()","v":2282}]
[{"$f":"ROW()","v":2283}]
[{"$f":"ROW()","v":2284}]
[{"$f":"ROW()","v":2285}]
[{"$f":"ROW()","v":2286}]
[{"$f":"ROW()","v":2287}]
[{"$f":"ROW()","v":2288}]
[{"$f":"ROW()","v":2289}]
[{"$f":"ROW()","v":2290}]
[{"$f":"ROW()","v":2291}]
[{"$f":"ROW()","v":2292}]
[{"$f":"ROW()","v":2293}]
[{"$f":"ROW()","v":2294}]
[{"$f":"ROW()","v":2295}]
[{"$f":"ROW()","v":2296}]
[{"$f":"ROW()","v":2297}]
[{"$f":"ROW()","v":2298}]
[{"$f":"ROW()","v":2299}]
[{"$f":"ROW()","v":2300}]
[{"$f":"ROW()","v":2301}]
[{"$f":"ROW()","v":2302}]
[{"$f":"ROW()","v":2303}]
[{"$f":"ROW()","v":2304}]
[{"$f":"ROW()","v":2305}]
[{"$f":"ROW()","v":2306}]
[{"$f":"ROW()","v":2307}]
[{"$f":"ROW()","v":2308}]
[{"$f":"ROW()","v":2309}]
[{"$f":"ROW()","v":2310}]
[{"$f":"ROW()","v":2311}]
[{"$f":"ROW()","v":2312}]
[{"$f":"ROW()","v":2313}]
[{"$f":"ROW()","v":2314}]
[{"$f":"ROW()","v":2315}]
[{"$f":"ROW()","v":2316}]
[{"$f":"ROW()","v":2317}]
[{"$f":"ROW()","v":2318}]
[{"$f":"ROW()","v":2319}]
[{"$f":"ROW()","v":2320}]
[{"$f":"ROW()","v":2321}]
[{"$f":"ROW()","v":2322}]
[{"$f":"ROW()","v":2323}]
[{"$f":"ROW()","v":2324}]
[{"$f":"ROW()","v":2325}]
[{"$f":"ROW()","v":2326}]
[{"$f":"ROW()","v":2327}]
[{"$f":"ROW()","v":2328}]
[{"$f":"ROW()","v":2329}]
[{"$f":"ROW()","v":2330}]
[{"$f":"ROW()","v":2331}]
[{"$f":"ROW()","v":2332}]
[{"$f":"ROW()","v":2333}]
[{"$f":"ROW()","v":2334}]
[{"$f":"ROW()","v":2335}]
[{"$f":"ROW()","v":2336}]
[{"$f":"ROW()","v":2337}]
[{"$f":"ROW()","v":2338}]
[{"$f":"ROW()","v":2339}]
[{"$f":"ROW()","v":2340}]
[{"$f":"ROW()","v":2341}]
[{"$f":"ROW()","v":2342}]
[{"$f":"ROW()","v":2343}]
[{"$f":"ROW()","v":2344}]
[{"$f":"ROW()","v":2345}]
[{"$f":"ROW()","v":2346}]
[{"$f":"ROW()","v":2347}]
[{"$f":"ROW()","v":2348}]
[{"$f":"ROW()","v":2349}]
[{"$f":"ROW()","v":2350}]
[{"$f":"ROW()","v":2351}]
[{"$f":"ROW()","v":2352}]
[{"$f":"ROW()","v":2353}]
[{"$f":"ROW()","v":2354}]
[{"$f":"ROW()","v":2355}]
[{"$f":"ROW()","v":2356}]
[{"$f":"ROW()","v":2357}]
[{"$f":"ROW()","v":2358}]
[{"$f":"ROW()","v":2359}]
[{"$f":"ROW()","v":2360}]
[{"$f":"ROW()","v":2361}]
[{"$f":"ROW()","v":2362}]
[{"$f":"ROW()","v":2363}]
[{"$f":"ROW()","v":2364}]
[{"$f":"ROW()","v":2365}]
[{"$f":"ROW()","v":2366}]
[{"$f":"ROW()","v":2367}]
[{"$f":"ROW()","v":2368}]
[{"$f":"ROW()","v":2369}]
[{"$f":"ROW()","v":2370}]
[{"$f":"ROW()","v":2371}]
[{"$f":"ROW()","v":2372}]
[{"$f":"ROW()","v":2373}]
[{"$f":"ROW()","v":2374}]
[{"$f":"ROW()","v":2375}]
[{"$f":"ROW()","v":2376}]
[{"$f":"ROW()","v":2377}]
[{"$f":"ROW()","v":2378}]
[{"$f":"ROW()","v":2379}]
[{"$f":"ROW()","v":2380}]
[{"$f":"ROW()","v":2381}]
[{"$f":"ROW()","v":2382}]
[{"$f":"ROW()","v":2383}]
[{"$f":"ROW()","v":2384}]
[{"$f":"ROW()","v":2385}]
[{"$f":"ROW()","v":2386}]
[{"$f":"ROW()","v":2387}]
[{"$f":"ROW()","v":2388}]
[{"$f":"ROW()","v":2389}]
[{"$f":"ROW()","v":2390}]
[{"$f":"ROW()","v":2391}]
[{"$f":"ROW()","v":2392}]
[{"$f":"ROW()","v":2393}]
[{"$f":"ROW()","v":2394}]
[{"$f":"ROW()","v":2395}]
[{"$f":"ROW()","v":2396}]
[{"$f":"ROW()","v":2397}]
[{"$f":"ROW()","v":2398}]
[{"$f":"ROW()","v":2399}]
[{"$f":"ROW()","v":2400}]
[{"$f":"ROW()","v":2401}]
[{"$f":"ROW()","v":2402}]
[{"$f":"ROW()","v":2403}]
[{"$f":"ROW()","v":2404}]
[{"$f":"ROW()","v":2405}]
[{"$f":"ROW()","v":2406}]
[{"$f":"ROW()","v":2407}]
[{"$f":"ROW()","v":2408}]
[{"$f":"ROW()","v":2409}]
[{"$f":"ROW()","v":2410}]
[{"$f":"ROW()","v":2411}]
[{"$f":"ROW()","v":2412}]
[{"$f":"ROW()","v":2413}]
[{"$f":"ROW()","v":2414}]
[{"$f":"ROW()","v":2415}]
[{"$f":"ROW()","v":2416}]
[{"$f":"ROW()","v":2417}]
[{"$f":"ROW()","v":2418}]
[{"$f":"ROW()","v":2419}]
[{"$f":"ROW()","v":2420}]
[{"$f":"ROW()","v":2421}]
[{"$f":"ROW()","v":2422}]
[{"$f":"ROW()","v":2423}]
[{"$f":"ROW()","v":2424}]
[{"$f":"ROW()","v":2425}]
[{"$f":"ROW()","v":2426}]
[{"$f":"ROW()","v":2427}]
[{"$f":"ROW()","v":2428}]
[{"$f":"ROW()","v":2429}]
[{"$f":"ROW()","v":2430}]
[{"$f":"ROW()","v":2431}]
[{"$f":"ROW()","v":2432}]
[{"$f":"ROW()","v":2433}]
[{"$f":"ROW()","v":2434}]
[{"$f":"ROW()","v":2435}]
[{"$f":"ROW()","v":2436}]
[{"$f":"ROW()","v":2437}]
[{"$f":"ROW()","v":2438}]
[{"$f":"ROW()","v":2439}]
[{"$f":"ROW()","v":2440}]
[{"$f":"ROW()","v":2441}]
[{"$f":"ROW()","v":2442}]
[{"$f":"ROW()","v":2443}]
[{"$f":"ROW()","v":2444}]
[{"$f":"ROW()","v":2445}]
[{"$f":"ROW()","v":2446}]
[{"$f":"ROW()","v":2447}]
[{"$f":"ROW()","v":2448}]
[{"$f":"ROW()","v":2449}]
[{"$f":"ROW()","v":2450}]
[{"$f":"ROW()","v":2451}]
[{"$f":"ROW()","v":2452}]
[{"$f":"ROW()","v":2453}]
[{"$f":"ROW()","v":2454}]
[{"$f":"ROW()","v":2455}]
[{"$f":"ROW()","v":2456}]
[{"$f":"ROW()","v":2457}]
[{"$f":"ROW()","v":2458}]
[{"$f":"ROW()","v":2459}]
[{"$f":"ROW()","v":2460}]
[{"$f":"ROW()","v":2461}]
[{"$f":"ROW()","v":2462}]
[{"$f":"ROW()","v":2463}]
[{"$f":"ROW()","v":2464}]
[{"$f":"ROW()","v":2465}]
[{"$f":"ROW()","v":2466}]
[{"$f":"ROW()","v":2467}]
[{"$f":"ROW()","v":2468}]
[{"$f":"ROW()","v":2469}]
[{"$f":"ROW()","v":2470}]
[{"$f":"ROW()","v":2471}]
[{"$f":"ROW()","v":2472}]
[{"$f":"ROW()","v":2473}]
[{"$f":"ROW()","v":2474}]
[{"$f":"ROW()","v":2475}]
[{"$f":"ROW()","v":2476}]
[{"$f":"ROW()","v":2477}]
[{"$f":"ROW()","v":2478}]
[{"$f":"ROW()","v":2479}]
[{"$f":"ROW()","v":2480}]
[{"$f":"ROW()","v":2481}]
[{"$f":"ROW()","v":2482}]
[{"$f":"ROW()","v":2483}]
[{"$f":"ROW()","v":2484}]
[{"$f":"ROW()","v":2485}]
[{"$f":"ROW()","v":2486}]
[{"$f":"ROW()","v":2487}]
[{"$f":"ROW()","v":2488}]
[{"$f":"ROW()","v":2489}]
[{"$f":"ROW()","v":2490}]
[{"$f":"ROW()","v":2491}]
[{"$f":"ROW()","v":2492}]
[{"$f":"ROW()","v":2493}]
[{"$f":"ROW()","v":2494}]
[{"$f":"ROW()","v":2495}]
[{"$f":"ROW()","v":2496}]
[{"$f":"ROW()","v":2497}]
[{"$f":"ROW()","v":2498}]
[{"$f":"ROW()","v":2499}]
[{"$f":"ROW()","v":2500}]
[{"$f":"ROW()","v":2501}]
[{"$f":"ROW()","v":2502}]
[{"$f":"ROW()","v":2503}]
[{"$f":"ROW()","v":2504}]
[{"$f":"ROW()","v":2505}]
[{"$f":"ROW()","v":2506}]
[{"$f":"ROW()","v":2507}]
[{"$f":"ROW()","v":2508}]
[{"$f":"ROW()","v":2509}]
[{"$f":"ROW()","v":2510}]
[{"$f":"ROW()","v":2511}]
[{"$f":"ROW()","v":2512}]
[{"$f":"ROW()","v":2513}]
[{"$f":"ROW()","v":2514}]
[{"$f":"ROW()","v":2515}]
[{"$f":"ROW()","v":2516}]
[{"$f":"ROW()","v":2517}]
[{"$f":"ROW()","v":2518}]
[{"$f":"ROW()","v":2519}]
[{"$f":"ROW()","v":2520}]
[{"$f":"ROW()","v":2521}]
[{"$f":"ROW()","v":2522}]
[{"$f":"ROW()","v":2523}]
[{"$f":"ROW()","v":2524}]
[{"$f":"ROW()","v":2525}]
[{"$f":"ROW()","v":2526}]
[{"$f":"ROW()","v":2527}]
[{"$f":"ROW()","v":2528}]
[{"$f":"ROW()","v":2529}]
[{"$f":"ROW()","v":2530}]
[{"$f":"ROW()","v":2531}]
[{"$f":"ROW()","v":2532}]
[{"$f":"ROW()","v":2533}]
[{"$f":"ROW()","v":2534}]
[{"$f":"ROW()","v":2535}]
[{"$f":"ROW()","v":2536}]
[{"$f":"ROW()","v":2537}]
[{"$f":"ROW()","v":2538}]
[{"$f":"ROW()","v":2539}]
[{"$f":"ROW()","v":2540}]
[{"$f":"ROW()","v":2541}]
[{"$f":"ROW()","v":2542}]
[{"$f":"ROW()","v":2543}]
[{"$f":"ROW()","v":2544}]
[{"$f":"ROW()","v":2545}]
[{"$f":"ROW()","v":2546}]
[{"$f":"ROW()","v":2547}]
[{"$f":"ROW()","v":2548}]
[{"$f":"ROW()","v":2549}]
[{"$f":"ROW()","v":2550}]
[{"$f":"ROW()","v":2551}]
[{"$f":"ROW()","v":2552}]
[{"$f":"ROW()","v":2553}]
[{"$f":"ROW()","v":2554}]
[{"$f":"ROW()","v":2555}]
[{"$f":"ROW()","v":2556}]
[{"$f":"ROW()","v":2557}]
[{"$f":"ROW()","v":2558}]
[{"$f":"ROW()","v":2559}]
[{"$f":"ROW()","v":2560}]
[{"$f":"ROW()","v":2561}]
[{"$f":"ROW()","v":2562}]
[{"$f":"ROW()","v":2563}]
[{"$f":"ROW()","v":2564}]
[{"$f":"ROW()","v":2565}]
[{"$f":"ROW()","v":2566}]
[{"$f":"ROW()","v":2567}]
[{"$f":"ROW()","v":2568}]
[{"$f":"ROW()","v":2569}]
[{"$f":"ROW()","v":2570}]
[{"$f":"ROW()","v":2571}]
[{"$f":"ROW()","v":2572}]
[{"$f":"ROW()","v":2573}]
[{"$f":"ROW()","v":2574}]
[{"$f":"ROW()","v":2575}]
[{"$f":"ROW()","v":2576}]
[{"$f":"ROW()","v":2577}]
[{"$f":"ROW()","v":2578}]
[{"$f":"ROW()","v":2579}]
[{"$f":"ROW()","v":2580}]
[{"$f":"ROW()","v":2581}]
[{"$f":"ROW()","v":2582}]
[{"$f":"ROW()","v":2583}]
[{"$f":"ROW()","v":2584}]
[{"$f":"ROW()","v":2585}]
[{"$f":"ROW()","v":2586}]
[{"$f":"ROW()","v":2587}]
[{"$f":"ROW()","v":2588}]
[{"$f":"ROW()","v":2589}]
[{"$f":"ROW()","v":2590}]
[{"$f":"ROW()","v":2591}]
[{"$f":"ROW()","v":2592}]
[{"$f":"ROW()","v":2593}]
[{"$f":"ROW()","v":2594}]
[{"$f":"ROW()","v":2595}]
[{"$f":"ROW()","v":2596}]
[{"$f":"ROW()","v":2597}]
[{"$f":"ROW()","v":2598}]
[{"$f":"ROW()","v":2599}]
[{"$f":"ROW()","v":2600}]
[{"$f":"ROW()","v":2601}]
[{"$f":"ROW()","v":2602}]
[{"$f":"ROW()","v":2603}]
[{"$f":"ROW()","v":2604}]
[{"$f":"ROW()","v":2605}]
[{"$f":"ROW()","v":2606}]
[{"$f":"ROW()","v":2607}]
[{"$f":"ROW()","v":2608}]
[{"$f":"ROW()","v":2609}]
[{"$f":"ROW()","v":2610}]
[{"$f":"ROW()","v":2611}]
[{"$f":"ROW()","v":2612}]
[{"$f":"ROW()","v":2613}]
[{"$f":"ROW()","v":2614}]
[{"$f":"ROW()","v":2615}]
[{"$f":"ROW()","v":2616}]
[{"$f":"ROW()","v":2617}]
[{"$f":"ROW()","v":2618}]
[{"$f":"ROW()","v":2619}]
[{"$f":"ROW()","v":2620}]
[{"$f":"ROW()","v":2621}]
[{"$f":"ROW()","v":2622}]
[{"$f":"ROW()","v":2623}]
[{"$f":"ROW()","v":2624}]
[{"$f":"ROW()","v":2625}]
[{"$f":"ROW()","v":2626}]
[{"$f":"ROW()","v":2627}]
[{"$f":"ROW()","v":2628}]
[{"$f":"ROW()","v":2629}]
[{"$f":"ROW()","v":2630}]
[{"$f":"ROW()","v":2631}]
[{"$f":"ROW()","v":2632}]
[{"$f":"ROW()","v":2633}]
[{"$f":"ROW()","v":2634}]
[{"$f":"ROW()","v":2635}]
[{"$f":"ROW()","v":2636}]
[{"$f":"ROW()","v":2637}]
[{"$f":"ROW()","v":2638}]
[{"$f":"ROW()","v":2639}]
[{"$f":"ROW()","v":2640}]
[{"$f":"ROW()","v":2641}]
[{"$f":"ROW()","v":2642}]
[{"$f":"ROW()","v":2643}]
[{"$f":"ROW()","v":2644}]
[{"$f":"ROW()","v":2645}]
[{"$f":"ROW()","v":2646}]
[{"$f":"ROW()","v":2647}]
[{"$f":"ROW()","v":2648}]
[{"$f":"ROW()","v":2649}]
[{"$f":"ROW()","v":2650}]
[{"$f":"ROW()","v":2651}]
[{"$f":"ROW()","v":2652}]
[{"$f":"ROW()","v":2653}]
[{"$f":"ROW()","v":2654}]
[{"$f":"ROW()","v":2655}]
[{"$f":"ROW()","v":2656}]
[{"$f":"ROW()","v":2657}]
[{"$f":"ROW()","v":2658}]
[{"$f":"ROW()","v":2659}]
[{"$f":"ROW()","v":2660}]
[{"$f":"ROW()","v":2661}]
[{"$f":"ROW()","v":2662}]
[{"$f":"ROW()","v":2663}]
[{"$f":"ROW()","v":2664}]
[{"$f":"ROW()","v":2665}]
[{"$f":"ROW()","v":2666}]
[{"$f":"ROW()","v":2667}]
[{"$f":"ROW()","v":2668}]
[{"$f":"ROW()","v":2669}]
[{"$f":"ROW()","v":2670}]
[{"$f":"ROW()","v":2671}]
[{"$f":"ROW()","v":2672}]
[{"$f":"ROW()","v":2673}]
[{"$f":"ROW()","v":2674}]
[{"$f":"ROW()","v":2675}]
[{"$f":"ROW()","v":2676}]
[{"$f":"ROW()","v":2677}]
[{"$f":"ROW()","v":2678}]
[{"$f":"ROW()","v":2679}]
[{"$f":"ROW()","v":2680}]
[{"$f":"ROW()","v":2681}]
[{"$f":"ROW()","v":2682}]
[{"$f":"ROW()","v":2683}]
[{"$f":"ROW()","v":2684}]
[{"$f":"ROW()","v":2685}]
[{"$f":"ROW()","v":2686}]
[{"$f":"ROW()","v":2687}]
[{"$f":"ROW()","v":2688}]
[{"$f":"ROW()","v":2689}]
[{"$f":"ROW()","v":2690}]
[{"$f":"ROW()","v":2691}]
[{"$f":"ROW()","v":2692}]
[{"$f":"ROW()","v":2693}]
[{"$f":"ROW()","v":2694}]
[{"$f":"ROW()","v":2695}]
[{"$f":"ROW()","v":2696}]
[{"$f":"ROW()","v":2697}]
[{"$f":"ROW()","v":2698}]
[{"$f":"ROW()","v":2699}]
[{"$f":"ROW()","v":2700}]
[{"$f":"ROW()","v":2701}]
[{"$f":"ROW()","v":2702}]
[{"$f":"ROW()","v":2703}]
[{"$f":"ROW()","v":2704}]
[{"$f":"ROW()","v":2705}]
[{"$f":"ROW()","v":2706}]
[{"$f":"ROW()","v":2707}]
[{"$f":"ROW()","v":2708}]
[{"$f":"ROW()","v":2709}]
[{"$f":"ROW()","v":2710}]
[{"$f":"ROW()","v":2711}]
[{"$f":"ROW()","v":2712}]
[{"$f":"ROW()","v":2713}]
[{"$f":"ROW()","v":2714}]
[{"$f":"ROW()","v":2715}]
[{"$f":"ROW()","v":2716}]
[{"$f":"ROW()","v":2717}]
[{"$f":"ROW()","v":2718}]
[{"$f":"ROW()","v":2719}]
[{"$f":"ROW()","v":2720}]
[{"$f":"ROW()","v":2721}]
[{"$f":"ROW()","v":2722}]
[{"$f":"ROW()","v":2723}]
[{"$f":"ROW()","v":2724}]
[{"$f":"ROW()","v":2725}]
[{"$f":"ROW()","v":2726}]
[{"$f":"ROW()","v":2727}]
[{"$f":"ROW()","v":2728}]
[{"$f":"ROW()","v":2729}]
[{"$f":"ROW()","v":2730}]
[{"$f":"ROW()","v":2731}]
[{"$f":"ROW()","v":2732}]
[{"$f":"ROW()","v":2733}]
[{"$f":"ROW()","v":2734}]
[{"$f":"ROW()","v":2735}]
[{"$f":"ROW()","v":2736}]
[{"$f":"ROW()","v":2737}]
[{"$f":"ROW()","v":2738}]
[{"$f":"ROW()","v":2739}]
[{"$f":"ROW()","v":2740}]
[{"$f":"ROW()","v":2741}]
[{"$f":"ROW()","v":2742}]
[{"$f":"ROW()","v":2743}]
[{"$f":"ROW()","v":2744}]
[{"$f":"ROW()","v":2745}]
[{"$f":"ROW()","v":2746}]
[{"$f":"ROW()","v":2747}]
[{"$f":"ROW()","v":2748}]
[{"$f":"ROW()","v":2749}]
[{"$f":"ROW()","v":2750}]
[{"$f":"ROW()","v":2751}]
[{"$f":"ROW()","v":2752}]
[{"$f":"ROW()","v":2753}]
[{"$f":"ROW()","v":2754}]
[{"$f":"ROW()","v":2755}]
[{"$f":"ROW()","v":2756}]
[{"$f":"ROW()","v":2757}]
[{"$f":"ROW()","v":2758}]
[{"$f":"ROW()","v":2759}]
[{"$f":"ROW()","v":2760}]
[{"$f":"ROW()","v":2761}]
[{"$f":"ROW()","v":2762}]
[{"$f":"ROW()","v":2763}]
[{"$f":"ROW()","v":2764}]
[{"$f":"ROW()","v":2765}]
[{"$f":"ROW()","v":2766}]
[{"$f":"ROW()","v":2767}]
[{"$f":"ROW()","v":2768}]
[{"$f":"ROW()","v":2769}]
[{"$f":"ROW()","v":2770}]
[{"$f":"ROW()","v":2771}]
[{"$f":"ROW()","v":2772}]
[{"$f":"ROW()","v":2773}]
[{"$f":"ROW()","v":2774}]
[{"$f":"ROW()","v":2775}]
[{"$f":"ROW()","v":2776}]
[{"$f":"ROW()","v":2777}]
[{"$f":"ROW()","v":2778}]
[{"$f":"ROW()","v":2779}]
[{"$f":"ROW()","v":2780}]
[{"$f":"ROW()","v":2781}]
[{"$f":"ROW()","v":2782}]
[{"$f":"ROW()","v":2783}]
[{"$f":"ROW()","v":2784}]
[{"$f":"ROW()","v":2785}]
[{"$f":"ROW()","v":2786}]
[{"$f":"ROW()","v":2787}]
[{"$f":"ROW()","v":2788}]
[{"$f":"ROW()","v":2789}]
[{"$f":"ROW()","v":2790}]
[{"$f":"ROW()","v":2791}]
[{"$f":"ROW()","v":2792}]
[{"$f":"ROW()","v":2793}]
[{"$f":"ROW()","v":2794}]
[{"$f":"ROW()","v":2795}]
[{"$f":"ROW()","v":2796}]
[{"$f":"ROW()","v":2797}]
[{"$f":"ROW()","v":2798}]
[{"$f":"ROW()","v":2799}]
[{"$f":"ROW()","v":2800}]
[{"$f":"ROW()","v":2801}]
[{"$f":"ROW()","v":2802}]
[{"$f":"ROW()","v":2803}]
[{"$f":"ROW()","v":2804}]
[{"$f":"ROW()","v":2805}]
[{"$f":"ROW()","v":2806}]
[{"$f":"ROW()","v":2807}]
[{"$f":"ROW()","v":2808}]
[{"$f":"ROW()","v":2809}]
[{"$f":"ROW()","v":2810}]
[{"$f":"ROW()","v":2811}]
[{"$f":"ROW()","v":2812}]
[{"$f":"ROW()","v":2813}]
[{"$f":"ROW()","v":2814}]
[{"$f":"ROW()","v":2815}]
[{"$f":"ROW()","v":2816}]
[{"$f":"ROW()","v":2817}]
[{"$f":"ROW()","v":2818}]
[{"$f":"ROW()","v":2819}]
[{"$f":"ROW()","v":2820}]
[{"$f":"ROW()","v":2821}]
[{"$f":"ROW()","v":2822}]
[{"$f":"ROW()","v":2823}]
[{"$f":"ROW()","v":2824}]
[{"$f":"ROW()","v":2825}]
[{"$f":"ROW()","v":2826}]
[{"$f":"ROW()","v":2827}]
[{"$f":"ROW()","v":2828}]
[{"$f":"ROW()","v":2829}]
[{"$f":"ROW()","v":2830}]
[{"$f":"ROW()","v":2831}]
[{"$f":"ROW()","v":2832}]
[{"$f":"ROW()","v":2833}]
[{"$f":"ROW()","v":2834}]
[{"$f":"ROW()","v":2835}]
[{"$f":"ROW()","v":2836}]
[{"$f":"ROW()","v":2837}]
[{"$f":"ROW()","v":2838}]
[{"$f":"ROW()","v":2839}]
[{"$f":"ROW()","v":2840}]
[{"$f":"ROW()","v":2841}]
[{"$f":"ROW()","v":2842}]
[{"$f":"ROW()","v":2843}]
[{"$f":"ROW()","v":2844}]
[{"$f":"ROW()","v":2845}]
[{"$f":"ROW()","v":2846}]
[{"$f":"ROW()","v":2847}]
[{"$f":"ROW()","v":2848}]
[{"$f":"ROW()","v":2849}]
[{"$f":"ROW()","v":2850}]
[{"$f":"ROW()","v":2851}]
[{"$f":"ROW()","v":2852}]
[{"$f":"ROW()","v":2853}]
[{"$f":"ROW()","v":2854}]
[{"$f":"ROW()","v":2855}]
[{"$f":"ROW()","v":2856}]
[{"$f":"ROW()","v":2857}]
[{"$f":"ROW()","v":2858}]
[{"$f":"ROW()","v":2859}]
[{"$f":"ROW()","v":2860}]
[{"$f":"ROW()","v":2861}]
[{"$f":"ROW()","v":2862}]
[{"$f":"ROW()","v":2863}]
[{"$f":"ROW()","v":2864}]
[{"$f":"ROW()","v":2865}]
[{"$f":"ROW()","v":2866}]
[{"$f":"ROW()","v":2867}]
[{"$f":"ROW()","v":2868}]
[{"$f":"ROW()","v":2869}]
[{"$f":"ROW()","v":2870}]
[{"$f":"ROW()","v":2871}]
[{"$f":"ROW()","v":2872}]
[{"$f":"ROW()","v":2873}]
[{"$f":"ROW()","v":2874}]
[{"$f":"ROW()","v":2875}]
[{"$f":"ROW()","v":2876}]
[{"$f":"ROW()","v":2877}]
[{"$f":"ROW()","v":2878}]
[{"$f":"ROW()","v":2879}]
[{"$f":"ROW()","v":2880}]
[{"$f":"ROW()","v":2881}]
[{"$f":"ROW()","v":2882}]
[{"$f":"ROW()","v":2883}]
[{"$f":"ROW()","v":2884}]
[{"$f":"ROW()","v":2885}]
[{"$f":"ROW()","v":2886}]
[{"$f":"ROW()","v":2887}]
[{"$f":"ROW()","v":2888}]
[{"$f":"ROW()","v":2889}]
[{"$f":"ROW()","v":2890}]
[{"$f":"ROW()","v":2891}]
[{"$f":"ROW()","v":2892}]
[{"$f":"ROW()","v":2893}]
[{"$f":"ROW()","v":2894}]
[{"$f":"ROW()","v":2895}]
[{"$f":"ROW()","v":2896}]
[{"$f":"ROW()","v":2897}]
[{"$f":"ROW()","v":2898}]
[{"$f":"ROW()","v":2899}]
[{"$f":"ROW()","v":2900}]
[{"$f":"ROW()","v":2901}]
[{"$f":"ROW()","v":2902}]
[{"$f":"ROW()","v":2903}]
[{"$f":"ROW()","v":2904}]
[{"$f":"ROW()","v":2905}]
[{"$f":"ROW()","v":2906}]
[{"$f":"ROW()","v":2907}]
[{"$f":"ROW()","v":2908}]
[{"$f":"ROW()","v":2909}]
[{"$f":"ROW()","v":2910}]
[{"$f":"ROW()","v":2911}]
[{"$f":"ROW()","v":2912}]
[{"$f":"ROW()","v":2913}]
[{"$f":"ROW()","v":2914}]
[{"$f":"ROW()","v":2915}]
[{"$f":"ROW()","v":2916}]
[{"$f":"ROW()","v":2917}]
[{"$f":"ROW()","v":2918}]
[{"$f":"ROW()","v":2919}]
[{"$f":"ROW()","v":2920}]
[{"$f":"ROW()","v":2921}]
[{"$f":"ROW()","v":2922}]
[{"$f":"ROW()","v":2923}]
[{"$f":"ROW()","v":2924}]
[{"$f":"ROW()","v":2925}]
[{"$f":"ROW()","v":2926}]
[{"$f":"ROW()","v":2927}]
[{"$f":"ROW()","v":2928}]
[{"$f":"ROW()","v":2929}]
[{"$f":"ROW()","v":2930}]
[{"$f":"ROW()","v":2931}]
[{"$f":"ROW()","v":2932}]
[{"$f":"ROW()","v":2933}]
[{"$f":"ROW()","v":2934}]
[{"$f":"ROW()","v":2935}]
[{"$f":"ROW()","v":2936}]
[{"$f":"ROW()","v":2937}]
[{"$f":"ROW()","v":2938}]
[{"$f":"ROW()","v":2939}]
[{"$f":"ROW()","v":2940}]
[{"$f":"ROW()","v":2941}]
[{"$f":"ROW()","v":2942}]
[{"$f":"ROW()","v":2943}]
[{"$f":"ROW()","v":2944}]
[{"$f":"ROW()","v":2945}]
[{"$f":"ROW()","v":2946}]
[{"$f":"ROW()","v":2947}]
[{"$f":"ROW()","v":2948}]
[{"$f":"ROW()","v":2949}]
[{"$f":"ROW()","v":2950}]
[{"$f":"ROW()","v":2951}]
[{"$f":"ROW()","v":2952}]
[{"$f":"ROW()","v":2953}]
[{"$f":"ROW()","v":2954}]
[{"$f":"ROW()","v":2955}]
[{"$f":"ROW()","v":2956}]
[{"$f":"ROW()","v":2957}]
[{"$f":"ROW()","v":2958}]
[{"$f":"ROW()","v":2959}]
[{"$f":"ROW()","v":2960}]
[{"$f":"ROW()","v":2961}]
[{"$f":"ROW()","v":2962}]
[{"$f":"ROW()","v":2963}]
[{"$f":"ROW()","v":2964}]
[{"$f":"ROW()","v":2965}]
[{"$f":"ROW()","v":2966}]
[{"$f":"ROW()","v":2967}]
[{"$f":"ROW()","v":2968}]
[{"$f":"ROW()","v":2969}]
[{"$f":"ROW()","v":2970}]
[{"$f":"ROW()","v":2971}]
[{"$f":"ROW()","v":2972}]
[{"$f":"ROW()","v":2973}]
[{"$f":"ROW()","v":2974}]
[{"$f":"ROW()","v":2975}]
[{"$f":"ROW()","v":2976}]
[{"$f":"ROW()","v":2977}]
[{"$f":"ROW()","v":2978}]
[{"$f":"ROW()","v":2979}]
[{"$f":"ROW()","v":2980}]
[{"$f":"ROW()","v":2981}]
[{"$f":"ROW()","v":2982}]
[{"$f":"ROW()","v":2983}]
[{"$f":"ROW()","v":2984}]
[{"$f":"ROW()","v":2985}]
[{"$f":"ROW()","v":2986}]
[{"$f":"ROW()","v":2987}]
[{"$f":"ROW()","v":2988}]
[{"$f":"ROW()","v":2989}]
[{"$f":"ROW()","v":2990}]
[{"$f":"ROW()","v":2991}]
[{"$f":"ROW()","v":2992}]
[{"$f":"ROW()","v":2993}]
[{"$f":"ROW()","v":2994}]
[{"$f":"ROW()","v":2995}]
[{"$f":"ROW()","v":2996}]
[{"$f":"ROW()","v":2997}]
[{"$f":"ROW()","v":2998}]
[{"$f":"ROW()","v":2999}]
[{"$f":"ROW()","v":3000}]
[{"$f":"ROW()","v":3001}]
[{"$f":"ROW()","v":3002}]
[{"$f":"ROW()","v":3003}]
[{"$f":"ROW()","v":3004}]
[{"$f":"ROW()","v":3005}]
[{"$f":"ROW()","v":3006}]
[{"$f":"ROW()","v":3007}]
[{"$f":"ROW()","v":3008}]
[{"$f":"ROW()","v":3009}]
[{"$f":"ROW()","v":3010}]
[{"$f":"ROW()","v":3011}]
[{"$f":"ROW()","v":3012}]
[{"$f":"ROW()","v":3013}]
[{"$f":"ROW()","v":3014}]
[{"$f":"ROW()","v":3015}]
[{"$f":"ROW()","v":3016}]
[{"$f":"ROW()","v":3017}]
[{"$f":"ROW()","v":3018}]
[{"$f":"ROW()","v":3019}]
[{"$f":"ROW()","v":3020}]
[{"$f":"ROW()","v":3021}]
[{"$f":"ROW()","v":3022}]
[{"$f":"ROW()","v":3023}]
[{"$f":"ROW()","v":3024}]
[{"$f":"ROW()","v":3025}]
[{"$f":"ROW()","v":3026}]
[{"$f":"ROW()","v":3027}]
[{"$f":"ROW()","v":3028}]
[{"$f":"ROW()","v":3029}]
[{"$f":"ROW()","v":3030}]
[{"$f":"ROW()","v":3031}]
[{"$f":"ROW()","v":3032}]
[{"$f":"ROW()","v":3033}]
[{"$f":"ROW()","v":3034}]
[{"$f":"ROW()","v":3035}]
[{"$f":"ROW()","v":3036}]
[{"$f":"ROW()","v":3037}]
[{"$f":"ROW()","v":3038}]
[{"$f":"ROW()","v":3039}]
[{"$f":"ROW()","v":3040}]
[{"$f":"ROW()","v":3041}]
[{"$f":"ROW()","v":3042}]
[{"$f":"ROW()","v":3043}]
[{"$f":"ROW()","v":3044}]
[{"$f":"ROW()","v":3045}]
[{"$f":"ROW()","v":3046}]
[{"$f":"ROW()","v":3047}]
[{"$f":"ROW()","v":3048}]
[{"$f":"ROW()","v":3049}]
[{"$f":"ROW()","v":3050}]
[{"$f":"ROW()","v":3051}]
[{"$f":"ROW()","v":3052}]
[{"$f":"ROW()","v":3053}]
[{"$f":"ROW()","v":3054}]
[{"$f":"ROW()","v":3055}]
[{"$f":"ROW()","v":3056}]
[{"$f":"ROW()","v":3057}]
[{"$f":"ROW()","v":3058}]
[{"$f":"ROW()","v":3059}]
[{"$f":"ROW()","v":3060}]
[{"$f":"ROW()","v":3061}]
[{"$f":"ROW()","v":3062}]
[{"$f":"ROW()","v":3063}]
[{"$f":"ROW()","v":3064}]
[{"$f":"ROW()","v":3065}]
[{"$f":"ROW()","v":3066}]
[{"$f":"ROW()","v":3067}]
[{"$f":"ROW()","v":3068}]
[{"$f":"ROW()","v":3069}]
[{"$f":"ROW()","v":3070}]
[{"$f":"ROW()","v":3071}]
[{"$f":"ROW()","v":3072}]
[{"$f":"ROW()","v":3073}]
[{"$f":"ROW()","v":3074}]
[{"$f":"ROW()","v":3075}]
[{"$f":"ROW()","v":3076}]
[{"$f":"ROW()","v":3077}]
[{"$f":"ROW()","v":3078}]
[{"$f":"ROW()","v":3079}]
[{"$f":"ROW()","v":3080}]
[{"$f":"ROW()","v":3081}]
[{"$f":"ROW()","v":3082}]
[{"$f":"ROW()","v":3083}]
[{"$f":"ROW()","v":3084}]
[{"$f":"ROW()","v":3085}]
[{"$f":"ROW()","v":3086}]
[{"$f":"ROW()","v":3087}]
[{"$f":"ROW()","v":3088}]
[{"$f":"ROW()","v":3089}]
[{"$f":"ROW()","v":3090}]
[{"$f":"ROW()","v":3091}]
[{"$f":"ROW()","v":3092}]
[{"$f":"ROW()","v":3093}]
[{"$f":"ROW()","v":3094}]
[{"$f":"ROW()","v":3095}]
[{"$f":"ROW()","v":3096}]
[{"$f":"ROW()","v":3097}]
[{"$f":"ROW()","v":3098}]
[{"$f":"ROW()","v":3099}]
[{"$f":"ROW()","v":3100}]
[{"$f":"ROW()","v":3101}]
[{"$f":"ROW()","v":3102}]
[{"$f":"ROW()","v":3103}]
[{"$f":"ROW()","v":3104}]
[{"$f":"ROW()","v":3105}]
[{"$f":"ROW()","v":3106}]
[{"$f":"ROW()","v":3107}]
[{"$f":"ROW()","v":3108}]
[{"$f":"ROW()","v":3109}]
[{"$f":"ROW()","v":3110}]
[{"$f":"ROW()","v":3111}]
[{"$f":"ROW()","v":3112}]
[{"$f":"ROW()","v":3113}]
[{"$f":"ROW()","v":3114}]
[{"$f":"ROW()","v":3115}]
[{"$f":"ROW()","v":3116}]
[{"$f":"ROW()","v":3117}]
[{"$f":"ROW()","v":3118}]
[{"$f":"ROW()","v":3119}]
[{"$f":"ROW()","v":3120}]
[{"$f":"ROW()","v":3121}]
[{"$f":"ROW()","v":3122}]
[{"$f":"ROW()","v":3123}]
[{"$f":"ROW()","v":3124}]
[{"$f":"ROW()","v":3125}]
[{"$f":"ROW()","v":3126}]
[{"$f":"ROW()","v":3127}]
[{"$f":"ROW()","v":3128}]
[{"$f":"ROW()","v":3129}]
[{"$f":"ROW()","v":3130}]
[{"$f":"ROW()","v":3131}]
[{"$f":"ROW()","v":3132}]
[{"$f":"ROW()","v":3133}]
[{"$f":"ROW()","v":3134}]
[{"$f":"ROW()","v":3135}]
[{"$f":"ROW()","v":3136}]
[{"$f":"ROW()","v":3137}]
[{"$f":"ROW()","v":3138}]
[{"$f":"ROW()","v":3139}]
[{"$f":"ROW()","v":3140}]
[{"$f":"ROW()","v":3141}]
[{"$f":"ROW()","v":3142}]
[{"$f":"ROW()","v":3143}]
[{"$f":"ROW()","v":3144}]
[{"$f":"ROW()","v":3145}]
[{"$f":"ROW()","v":3146}]
[{"$f":"ROW()","v":3147}]
[{"$f":"ROW()","v":3148}]
[{"$f":"ROW()","v":3149}]
[{"$f":"ROW()","v":3150}]
[{"$f":"ROW()","v":3151}]
[{"$f":"ROW()","v":3152}]
[{"$f":"ROW()","v":3153}]
[{"$f":"ROW()","v":3154}]
[{"$f":"ROW()","v":3155}]
[{"$f":"ROW()","v":3156}]
[{"$f":"ROW()","v":3157}]
[{"$f":"ROW()","v":3158}]
[{"$f":"ROW()","v":3159}]
[{"$f":"ROW()","v":3160}]
[{"$f":"ROW()","v":3161}]
[{"$f":"ROW()","v":3162}]
[{"$f":"ROW()","v":3163}]
[{"$f":"ROW()","v":3164}]
[{"$f":"ROW()","v":3165}]
[{"$f":"ROW()","v":3166}]
[{"$f":"ROW()","v":3167}]
[{"$f":"ROW()","v":3168}]
[{"$f":"ROW()","v":3169}]
[{"$f":"ROW()","v":3170}]
[{"$f":"ROW()","v":3171}]
[{"$f":"ROW()","v":3172}]
[{"$f":"ROW()","v":3173}]
[{"$f":"ROW()","v":3174}]
[{"$f":"ROW()","v":3175}]
[{"$f":"ROW()","v":3176}]
[{"$f":"ROW()","v":3177}]
[{"$f":"ROW()","v":3178}]
[{"$f":"ROW()","v":3179}]
[{"$f":"ROW()","v":3180}]
[{"$f":"ROW()","v":3181}]
[{"$f":"ROW()","v":3182}]
[{"$f":"ROW()","v":3183}]
[{"$f":"ROW()","v":3184}]
[{"$f":"ROW()","v":3185}]
[{"$f":"ROW()","v":3186}]
[{"$f":"ROW()","v":3187}]
[{"$f":"ROW()","v":3188}]
[{"$f":"ROW()","v":3189}]
[{"$f":"ROW()","v":3190}]
[{"$f":"ROW()","v":3191}]
[{"$f":"ROW()","v":3192}]
[{"$f":"ROW()","v":3193}]
[{"$f":"ROW()","v":3194}]
[{"$f":"ROW()","v":3195}]
[{"$f":"ROW()","v":3196}]
[{"$f":"ROW()","v":3197}]
[{"$f":"ROW()","v":3198}]
[{"$f":"ROW()","v":3199}]
[{"$f":"ROW()","v":3200}]
[{"$f":"ROW()","v":3201}]
[{"$f":"ROW()","v":3202}]
[{"$f":"ROW()","v":3203}]
[{"$f":"ROW()","v":3204}]
[{"$f":"ROW()","v":3205}]
[{"$f":"ROW()","v":3206}]
[{"$f":"ROW()","v":3207}]
[{"$f":"ROW()","v":3208}]
[{"$f":"ROW()","v":3209}]
[{"$f":"ROW()","v":3210}]
[{"$f":"ROW()","v":3211}]
[{"$f":"ROW()","v":3212}]
[{"$f":"ROW()","v":3213}]
[{"$f":"ROW()","v":3214}]
[{"$f":"ROW()","v":3215}]
[{"$f":"ROW()","v":3216}]
[{"$f":"ROW()","v":3217}]
[{"$f":"ROW()","v":3218}]
[{"$f":"ROW()","v":3219}]
[{"$f":"ROW()","v":3220}]
[{"$f":"ROW()","v":3221}]
[{"$f":"ROW()","v":3222}]
[{"$f":"ROW()","v":3223}]
[{"$f":"ROW()","v":3224}]
[{"$f":"ROW()","v":3225}]
[{"$f":"ROW()","v":3226}]
[{"$f":"ROW()","v":3227}]
[{"$f":"ROW()","v":3228}]
[{"$f":"ROW()","v":3229}]
[{"$f":"ROW()","v":3230}]
[{"$f":"ROW()","v":3231}]
[{"$f":"ROW()","v":3232}]
[{"$f":"ROW()","v":3233}]
[{"$f":"ROW()","v":3234}]
[{"$f":"ROW()","v":3235}]
[{"$f":"ROW()","v":3236}]
[{"$f":"ROW()","v":3237}]
[{"$f":"ROW()","v":3238}]
[{"$f":"ROW()","v":3239}]
[{"$f":"ROW()","v":3240}]
[{"$f":"ROW()","v":3241}]
[{"$f":"ROW()","v":3242}]
[{"$f":"ROW()","v":3243}]
[{"$f":"ROW()","v":3244}]
[{"$f":"ROW()","v":3245}]
[{"$f":"ROW()","v":3246}]
[{"$f":"ROW()","v":3247}]
[{"$f":"ROW()","v":3248}]
[{"$f":"ROW()","v":3249}]
[{"$f":"ROW()","v":3250}]
[{"$f":"ROW()","v":3251}]
[{"$f":"ROW()","v":3252}]
[{"$f":"ROW()","v":3253}]
[{"$f":"ROW()","v":3254}]
[{"$f":"ROW()","v":3255}]
[{"$f":"ROW()","v":3256}]
[{"$f":"ROW()","v":3257}]
[{"$f":"ROW()","v":3258}]
[{"$f":"ROW()","v":3259}]
[{"$f":"ROW()","v":3260}]
[{"$f":"ROW()","v":3261}]
[{"$f":"ROW()","v":3262}]
[{"$f":"ROW()","v":3263}]
[{"$f":"ROW()","v":3264}]
[{"$f":"ROW()","v":3265}]
[{"$f":"ROW()","v":3266}]
[{"$f":"ROW()","v":3267}]
[{"$f":"ROW()","v":3268}]
[{"$f":"ROW()","v":3269}]
[{"$f":"ROW()","v":3270}]
[{"$f":"ROW()","v":3271}]
[{"$f":"ROW()","v":3272}]
[{"$f":"ROW()","v":3273}]
[{"$f":"ROW()","v":3274}]
[{"$f":"ROW()","v":3275}]
[{"$f":"ROW()","v":3276}]
[{"$f":"ROW()","v":3277}]
[{"$f":"ROW()","v":3278}]
[{"$f":"ROW()","v":3279}]
[{"$f":"ROW()","v":3280}]
[{"$f":"ROW()","v":3281}]
[{"$f":"ROW()","v":3282}]
[{"$f":"ROW()","v":3283}]
[{"$f":"ROW()","v":3284}]
[{"$f":"ROW()","v":3285}]
[{"$f":"ROW()","v":3286}]
[{"$f":"ROW()","v":3287}]
[{"$f":"ROW()","v":3288}]
[{"$f":"ROW()","v":3289}]
[{"$f":"ROW()","v":3290}]
[{"$f":"ROW()","v":3291}]
[{"$f":"ROW()","v":3292}]
[{"$f":"ROW()","v":3293}]
[{"$f":"ROW()","v":3294}]
[{"$f":"ROW()","v":3295}]
[{"$f":"ROW()","v":3296}]
[{"$f":"ROW()","v":3297}]
[{"$f":"ROW()","v":3298}]
[{"$f":"ROW()","v":3299}]
[{"$f":"ROW()","v":3300}]
[{"$f":"ROW()","v":3301}]
[{"$f":"ROW()","v":3302}]
[{"$f":"ROW()","v":3303}]
[{"$f":"ROW()","v":3304}]
[{"$f":"ROW()","v":3305}]
[{"$f":"ROW()","v":3306}]
[{"$f":"ROW()","v":3307}]
[{"$f":"ROW()","v":3308}]
[{"$f":"ROW()","v":3309}]
[{"$f":"ROW()","v":3310}]
[{"$f":"ROW()","v":3311}]
[{"$f":"ROW()","v":3312}]
[{"$f":"ROW()","v":3313}]
[{"$f":"ROW()","v":3314}]
[{"$f":"ROW()","v":3315}]
[{"$f":"ROW()","v":3316}]
[{"$f":"ROW()","v":3317}]
[{"$f":"ROW()","v":3318}]
[{"$f":"ROW()","v":3319}]
[{"$f":"ROW()","v":3320}]
[{"$f":"ROW()","v":3321}]
[{"$f":"ROW()","v":3322}]
[{"$f":"ROW()","v":3323}]
[{"$f":"ROW()","v":3324}]
[{"$f":"ROW()","v":3325}]
[{"$f":"ROW()","v":3326}]
[{"$f":"ROW()","v":3327}]
[{"$f":"ROW()","v":3328}]
[{"$f":"ROW()","v":3329}]
[{"$f":"ROW()","v":3330}]
[{"$f":"ROW()","v":3331}]
[{"$f":"ROW()","v":3332}]
[{"$f":"ROW()","v":3333}]
[{"$f":"ROW()","v":3334}]
[{"$f":"ROW()","v":3335}]
[{"$f":"ROW()","v":3336}]
[{"$f":"ROW()","v":3337}]
[{"$f":"ROW()","v":3338}]
[{"$f":"ROW()","v":3339}]
[{"$f":"ROW()","v":3340}]
[{"$f":"ROW()","v":3341}]
[{"$f":"ROW()","v":3342}]
[{"$f":"ROW()","v":3343}]
[{"$f":"ROW()","v":3344}]
[{"$f":"ROW()","v":3345}]
[{"$f":"ROW()","v":3346}]
[{"$f":"ROW()","v":3347}]
[{"$f":"ROW()","v":3348}]
[{"$f":"ROW()","v":3349}]
[{"$f":"ROW()","v":3350}]
[{"$f":"ROW()","v":3351}]
[{"$f":"ROW()","v":3352}]
[{"$f":"ROW()","v":3353}]
[{"$f":"ROW()","v":3354}]
[{"$f":"ROW()","v":3355}]
[{"$f":"ROW()","v":3356}]
[{"$f":"ROW()","v":3357}]
[{"$f":"ROW()","v":3358}]
[{"$f":"ROW()","v":3359}]
[{"$f":"ROW()","v":3360}]
[{"$f":"ROW()","v":3361}]
[{"$f":"ROW()","v":3362}]
[{"$f":"ROW()","v":3363}]
[{"$f":"ROW()","v":3364}]
[{"$f":"ROW()","v":3365}]
[{"$f":"ROW()","v":3366}]
[{"$f":"ROW()","v":3367}]
[{"$f":"ROW()","v":3368}]
[{"$f":"ROW()","v":3369}]
[{"$f":"ROW()","v":3370}]
[{"$f":"ROW()","v":3371}]
[{"$f":"ROW()","v":3372}]
[{"$f":"ROW()","v":3373}]
[{"$f":"ROW()","v":3374}]
[{"$f":"ROW()","v":3375}]
[{"$f":"ROW()","v":3376}]
[{"$f":"ROW()","v":3377}]
[{"$f":"ROW()","v":3378}]
[{"$f":"ROW()","v":3379}]
[{"$f":"ROW()","v":3380}]
[{"$f":"ROW()","v":3381}]
[{"$f":"ROW()","v":3382}]
[{"$f":"ROW()","v":3383}]
[{"$f":"ROW()","v":3384}]
[{"$f":"ROW()","v":3385}]
[{"$f":"ROW()","v":3386}]
[{"$f":"ROW()","v":3387}]
[{"$f":"ROW()","v":3388}]
[{"$f":"ROW()","v":3389}]
[{"$f":"ROW()","v":3390}]
[{"$f":"ROW()","v":3391}]
[{"$f":"ROW()","v":3392}]
[{"$f":"ROW()","v":3393}]
[{"$f":"ROW()","v":3394}]
[{"$f":"ROW()","v":3395}]
[{"$f":"ROW()","v":3396}]
[{"$f":"ROW()","v":3397}]
[{"$f":"ROW()","v":3398}]
[{"$f":"ROW()","v":3399}]
[{"$f":"ROW()","v":3400}]
[{"$f":"ROW()","v":3401}]
[{"$f":"ROW()","v":3402}]
[{"$f":"ROW()","v":3403}]
[{"$f":"ROW()","v":3404}]
[{"$f":"ROW()","v":3405}]
[{"$f":"ROW()","v":3406}]
[{"$f":"ROW()","v":3407}]
[{"$f":"ROW()","v":3408}]
[{"$f":"ROW()","v":3409}]
[{"$f":"ROW()","v":3410}]
[{"$f":"ROW()","v":3411}]
[{"$f":"ROW()","v":3412}]
[{"$f":"ROW()","v":3413}]
[{"$f":"ROW()","v":3414}]
[{"$f":"ROW()","v":3415}]
[{"$f":"ROW()","v":3416}]
[{"$f":"ROW()","v":3417}]
[{"$f":"ROW()","v":3418}]
[{"$f":"ROW()","v":3419}]
[{"$f":"ROW()","v":3420}]
[{"$f":"ROW()","v":3421}]
[{"$f":"ROW()","v":3422}]
[{"$f":"ROW()","v":3423}]
[{"$f":"ROW()","v":3424}]
[{"$f":"ROW()","v":3425}]
[{"$f":"ROW()","v":3426}]
[{"$f":"ROW()","v":3427}]
[{"$f":"ROW()","v":3428}]
[{"$f":"ROW()","v":3429}]
[{"$f":"ROW()","v":3430}]
[{"$f":"ROW()","v":3431}]
[{"$f":"ROW()","v":3432}]
[{"$f":"ROW()","v":3433}]
[{"$f":"ROW()","v":3434}]
[{"$f":"ROW()","v":3435}]
[{"$f":"ROW()","v":3436}]
[{"$f":"ROW()","v":3437}]
[{"$f":"ROW()","v":3438}]
[{"$f":"ROW()","v":3439}]
[{"$f":"ROW()","v":3440}]
[{"$f":"ROW()","v":3441}]
[{"$f":"ROW()","v":3442}]
[{"$f":"ROW()","v":3443}]
[{"$f":"ROW()","v":3444}]
[{"$f":"ROW()","v":3445}]
[{"$f":"ROW()","v":3446}]
[{"$f":"ROW()","v":3447}]
[{"$f":"ROW()","v":3448}]
[{"$f":"ROW()","v":3449}]
[{"$f":"ROW()","v":3450}]
[{"$f":"ROW()","v":3451}]
[{"$f":"ROW()","v":3452}]
[{"$f":"ROW()","v":3453}]
[{"$f":"ROW()","v":3454}]
[{"$f":"ROW()","v":3455}]
[{"$f":"ROW()","v":3456}]
[{"$f":"ROW()","v":3457}]
[{"$f":"ROW()","v":3458}]
[{"$f":"ROW()","v":3459}]
[{"$f":"ROW()","v":3460}]
[{"$f":"ROW()","v":3461}]
[{"$f":"ROW()","v":3462}]
[{"$f":"ROW()","v":3463}]
[{"$f":"ROW()","v":3464}]
[{"$f":"ROW()","v":3465}]
[{"$f":"ROW()","v":3466}]
[{"$f":"ROW()","v":3467}]
[{"$f":"ROW()","v":3468}]
[{"$f":"ROW()","v":3469}]
[{"$f":"ROW()","v":3470}]
[{"$f":"ROW()","v":3471}]
[{"$f":"ROW()","v":3472}]
[{"$f":"ROW()","v":3473}]
[{"$f":"ROW()","v":3474}]
[{"$f":"ROW()","v":3475}]
[{"$f":"ROW()","v":3476}]
[{"$f":"ROW()","v":3477}]
[{"$f":"ROW()","v":3478}]
[{"$f":"ROW()","v":3479}]
[{"$f":"ROW()","v":3480}]
[{"$f":"ROW()","v":3481}]
[{"$f":"ROW()","v":3482}]
[{"$f":"ROW()","v":3483}]
[{"$f":"ROW()","v":3484}]
[{"$f":"ROW()","v":3485}]
[{"$f":"ROW()","v":3486}]
[{"$f":"ROW()","v":3487}]
[{"$f":"ROW()","v":3488}]
[{"$f":"ROW()","v":3489}]
[{"$f":"ROW()","v":3490}]
[{"$f":"ROW()","v":3491}]
[{"$f":"ROW()","v":3492}]
[{"$f":"ROW()","v":3493}]
[{"$f":"ROW()","v":3494}]
[{"$f":"ROW()","v":3495}]
[{"$f":"ROW()","v":3496}]
[{"$f":"ROW()","v":3497}]
[{"$f":"ROW()","v":3498}]
[{"$f":"ROW()","v":3499}]
[{"$f":"ROW()","v":3500}]
[{"$f":"ROW()","v":3501}]
[{"$f":"ROW()","v":3502}]
[{"$f":"ROW()","v":3503}]
[{"$f":"ROW()","v":3504}]
[{"$f":"ROW()","v":3505}]
[{"$f":"ROW()","v":3506}]
[{"$f":"ROW()","v":3507}]
[{"$f":"ROW()","v":3508}]
[{"$f":"ROW()","v":3509}]
[{"$f":"ROW()","v":3510}]
[{"$f":"ROW()","v":3511}]
[{"$f":"ROW()","v":3512}]
[{"$f":"ROW()","v":3513}]
[{"$f":"ROW()","v":3514}]
[{"$f":"ROW()","v":3515}]
[{"$f":"ROW()","v":3516}]
[{"$f":"ROW()","v":3517}]
[{"$f":"ROW()","v":3518}]
[{"$f":"ROW()","v":3519}]
[{"$f":"ROW()","v":3520}]
[{"$f":"ROW()","v":3521}]
[{"$f":"ROW()","v":3522}]
[{"$f":"ROW()","v":3523}]
[{"$f":"ROW()","v":3524}]
[{"$f":"ROW()","v":3525}]
[{"$f":"ROW()","v":3526}]
[{"$f":"ROW()","v":3527}]
[{"$f":"ROW()","v":3528}]
[{"$f":"ROW()","v":3529}]
[{"$f":"ROW()","v":3530}]
[{"$f":"ROW()","v":3531}]
[{"$f":"ROW()","v":3532}]
[{"$f":"ROW()","v":3533}]
[{"$f":"ROW()","v":3534}]
[{"$f":"ROW()","v":3535}]
[{"$f":"ROW()","v":3536}]
[{"$f":"ROW()","v":3537}]
[{"$f":"ROW()","v":3538}]
[{"$f":"ROW()","v":3539}]
[{"$f":"ROW()","v":3540}]
[{"$f":"ROW()","v":3541}]
[{"$f":"ROW()","v":3542}]
[{"$f":"ROW()","v":3543}]
[{"$f":"ROW()","v":3544}]
[{"$f":"ROW()","v":3545}]
[{"$f":"ROW()","v":3546}]
[{"$f":"ROW()","v":3547}]
[{"$f":"ROW()","v":3548}]
[{"$f":"ROW()","v":3549}]
[{"$f":"ROW()","v":3550}]
[{"$f":"ROW()","v":3551}]
[{"$f":"ROW()","v":3552}]
[{"$f":"ROW()","v":3553}]
[{"$f":"ROW()","v":3554}]
[{"$f":"ROW()","v":3555}]
[{"$f":"ROW()","v":3556}]
[{"$f":"ROW()","v":3557}]
[{"$f":"ROW()","v":3558}]
[{"$f":"ROW()","v":3559}]
[{"$f":"ROW()","v":3560}]
[{"$f":"ROW()","v":3561}]
[{"$f":"ROW()","v":3562}]
[{"$f":"ROW()","v":3563}]
[{"$f":"ROW()","v":3564}]
[{"$f":"ROW()","v":3565}]
[{"$f":"ROW()","v":3566}]
[{"$f":"ROW()","v":3567}]
[{"$f":"ROW()","v":3568}]
[{"$f":"ROW()","v":3569}]
[{"$f":"ROW()","v":3570}]
[{"$f":"ROW()","v":3571}]
[{"$f":"ROW()","v":3572}]
[{"$f":"ROW()","v":3573}]
[{"$f":"ROW()","v":3574}]
[{"$f":"ROW()","v":3575}]
[{"$f":"ROW()","v":3576}]
[{"$f":"ROW()","v":3577}]
[{"$f":"ROW()","v":3578}]
[{"$f":"ROW()","v":3579}]
[{"$f":"ROW()","v":3580}]
[{"$f":"ROW()","v":3581}]
[{"$f":"ROW()","v":3582}]
[{"$f":"ROW()","v":3583}]
[{"$f":"ROW()","v":3584}]
[{"$f":"ROW()","v":3585}]
[{"$f":"ROW()","v":3586}]
[{"$f":"ROW()","v":3587}]
[{"$f":"ROW()","v":3588}]
[{"$f":"ROW()","v":3589}]
[{"$f":"ROW()","v":3590}]
[{"$f":"ROW()","v":3591}]
[{"$f":"ROW()","v":3592}]
[{"$f":"ROW()","v":3593}]
[{"$f":"ROW()","v":3594}]
[{"$f":"ROW()","v":3595}]
[{"$f":"ROW()","v":3596}]
[{"$f":"ROW()","v":3597}]
[{"$f":"ROW()","v":3598}]
[{"$f":"ROW()","v":3599}]
[{"$f":"ROW()","v":3600}]
[{"$f":"ROW()","v":3601}]
[{"$f":"ROW()","v":3602}]
[{"$f":"ROW()","v":3603}]
[{"$f":"ROW()","v":3604}]
[{"$f":"ROW()","v":3605}]
[{"$f":"ROW()","v":3606}]
[{"$f":"ROW()","v":3607}]
[{"$f":"ROW()","v":3608}]
[{"$f":"ROW()","v":3609}]
[{"$f":"ROW()","v":3610}]
[{"$f":"ROW()","v":3611}]
[{"$f":"ROW()","v":3612}]
[{"$f":"ROW()","v":3613}]
[{"$f":"ROW()","v":3614}]
[{"$f":"ROW()","v":3615}]
[{"$f":"ROW()","v":3616}]
[{"$f":"ROW()","v":3617}]
[{"$f":"ROW()","v":3618}]
[{"$f":"ROW()","v":3619}]
[{"$f":"ROW()","v":3620}]
[{"$f":"ROW()","v":3621}]
[{"$f":"ROW()","v":3622}]
[{"$f":"ROW()","v":3623}]
[{"$f":"ROW()","v":3624}]
[{"$f":"ROW()","v":3625}]
[{"$f":"ROW()","v":3626}]
[{"$f":"ROW()","v":3627}]
[{"$f":"ROW()","v":3628}]
[{"$f":"ROW()","v":3629}]
[{"$f":"ROW()","v":3630}]
[{"$f":"ROW()","v":3631}]
[{"$f":"ROW()","v":3632}]
[{"$f":"ROW()","v":3633}]
[{"$f":"ROW()","v":3634}]
[{"$f":"ROW()","v":3635}]
[{"$f":"ROW()","v":3636}]
[{"$f":"ROW()","v":3637}]
[{"$f":"ROW()","v":3638}]
[{"$f":"ROW()","v":3639}]
[{"$f":"ROW()","v":3640}]
[{"$f":"ROW()","v":3641}]
[{"$f":"ROW()","v":3642}]
[{"$f":"ROW()","v":3643}]
[{"$f":"ROW()","v":3644}]
[{"$f":"ROW()","v":3645}]
[{"$f":"ROW()","v":3646}]
[{"$f":"ROW()","v":3647}]
[{"$f":"ROW()","v":3648}]
[{"$f":"ROW()","v":3649}]
[{"$f":"ROW()","v":3650}]
[{"$f":"ROW()","v":3651}]
[{"$f":"ROW()","v":3652}]
[{"$f":"ROW()","v":3653}]
[{"$f":"ROW()","v":3654}]
[{"$f":"ROW()","v":3655}]
[{"$f":"ROW()","v":3656}]
[{"$f":"ROW()","v":3657}]
[{"$f":"ROW()","v":3658}]
[{"$f":"ROW()","v":3659}]
[{"$f":"ROW()","v":3660}]
[{"$f":"ROW()","v":3661}]
[{"$f":"ROW()","v":3662}]
[{"$f":"ROW()","v":3663}]
[{"$f":"ROW()","v":3664}]
[{"$f":"ROW()","v":3665}]
[{"$f":"ROW()","v":3666}]
[{"$f":"ROW()","v":3667}]
[{"$f":"ROW()","v":3668}]
[{"$f":"ROW()","v":3669}]
[{"$f":"ROW()","v":3670}]
[{"$f":"ROW()","v":3671}]
[{"$f":"ROW()","v":3672}]
[{"$f":"ROW()","v":3673}]
[{"$f":"ROW()","v":3674}]
[{"$f":"ROW()","v":3675}]
[{"$f":"ROW()","v":3676}]
[{"$f":"ROW()","v":3677}]
[{"$f":"ROW()","v":3678}]
[{"$f":"ROW()","v":3679}]
[{"$f":"ROW()","v":3680}]
[{"$f":"ROW()","v":3681}]
[{"$f":"ROW()","v":3682}]
[{"$f":"ROW()","v":3683}]
[{"$f":"ROW()","v":3684}]
[{"$f":"ROW()","v":3685}]
[{"$f":"ROW()","v":3686}]
[{"$f":"ROW()","v":3687}]
[{"$f":"ROW()","v":3688}]
[{"$f":"ROW()","v":3689}]
[{"$f":"ROW()","v":3690}]
[{"$f":"ROW()","v":3691}]
[{"$f":"ROW()","v":3692}]
[{"$f":"ROW()","v":3693}]
[{"$f":"ROW()","v":3694}]
[{"$f":"ROW()","v":3695}]
[{"$f":"ROW()","v":3696}]
[{"$f":"ROW()","v":3697}]
[{"$f":"ROW()","v":3698}]
[{"$f":"ROW()","v":3699}]
[{"$f":"ROW()","v":3700}]
[{"$f":"ROW()","v":3701}]
[{"$f":"ROW()","v":3702}]
[{"$f":"ROW()","v":3703}]
[{"$f":"ROW()","v":3704}]
[{"$f":"ROW()","v":3705}]
[{"$f":"ROW()","v":3706}]
[{"$f":"ROW()","v":3707}]
[{"$f":"ROW()","v":3708}]
[{"$f":"ROW()","v":3709}]
[{"$f":"ROW()","v":3710}]
[{"$f":"ROW()","v":3711}]
[{"$f":"ROW()","v":3712}]
[{"$f":"ROW()","v":3713}]
[{"$f":"ROW()","v":3714}]
[{"$f":"ROW()","v":3715}]
[{"$f":"ROW()","v":3716}]
[{"$f":"ROW()","v":3717}]
[{"$f":"ROW()","v":3718}]
[{"$f":"ROW()","v":3719}]
[{"$f":"ROW()","v":3720}]
[{"$f":"ROW()","v":3721}]
[{"$f":"ROW()","v":3722}]
[{"$f":"ROW()","v":3723}]
[{"$f":"ROW()","v":3724}]
[{"$f":"ROW()","v":3725}]
[{"$f":"ROW()","v":3726}]
[{"$f":"ROW()","v":3727}]
[{"$f":"ROW()","v":3728}]
[{"$f":"ROW()","v":3729}]
[{"$f":"ROW()","v":3730}]
[{"$f":"ROW()","v":3731}]
[{"$f":"ROW()","v":3732}]
[{"$f":"ROW()","v":3733}]
[{"$f":"ROW()","v":3734}]
[{"$f":"ROW()","v":3735}]
[{"$f":"ROW()","v":3736}]
[{"$f":"ROW()","v":3737}]
[{"$f":"ROW()","v":3738}]
[{"$f":"ROW()","v":3739}]
[{"$f":"ROW()","v":3740}]
[{"$f":"ROW()","v":3741}]
[{"$f":"ROW()","v":3742}]
[{"$f":"ROW()","v":3743}]
[{"$f":"ROW()","v":3744}]
[{"$f":"ROW()","v":3745}]
[{"$f":"ROW()","v":3746}]
[{"$f":"ROW()","v":3747}]
[{"$f":"ROW()","v":3748}]
[{"$f":"ROW()","v":3749}]
[{"$f":"ROW()","v":3750}]
[{"$f":"ROW()","v":3751}]
[{"$f":"ROW()","v":3752}]
[{"$f":"ROW()","v":3753}]
[{"$f":"ROW()","v":3754}]
[{"$f":"ROW()","v":3755}]
[{"$f":"ROW()","v":3756}]
[{"$f":"ROW()","v":3757}]
[{"$f":"ROW()","v":3758}]
[{"$f":"ROW()","v":3759}]
[{"$f":"ROW()","v":3760}]
[{"$f":"ROW()","v":3761}]
[{"$f":"ROW()","v":3762}]
[{"$f":"ROW()","v":3763}]
[{"$f":"ROW()","v":3764}]
[{"$f":"ROW()","v":3765}]
[{"$f":"ROW()","v":3766}]
[{"$f":"ROW()","v":3767}]
[{"$f":"ROW()","v":3768}]
[{"$f":"ROW()","v":3769}]
[{"$f":"ROW()","v":3770}]
[{"$f":"ROW()","v":3771}]
[{"$f":"ROW()","v":3772}]
[{"$f":"ROW()","v":3773}]
[{"$f":"ROW()","v":3774}]
[{"$f":"ROW()","v":3775}]
[{"$f":"ROW()","v":3776}]
[{"$f":"ROW()","v":3777}]
[{"$f":"ROW()","v":3778}]
[{"$f":"ROW()","v":3779}]
[{"$f":"ROW()","v":3780}]
[{"$f":"ROW()","v":3781}]
[{"$f":"ROW()","v":3782}]
[{"$f":"ROW()","v":3783}]
[{"$f":"ROW()","v":3784}]
[{"$f":"ROW()","v":3785}]
[{"$f":"ROW()","v":3786}]
[{"$f":"ROW()","v":3787}]
[{"$f":"ROW()","v":3788}]
[{"$f":"ROW()","v":3789}]
[{"$f":"ROW()","v":3790}]
[{"$f":"ROW()","v":3791}]
[{"$f":"ROW()","v":3792}]
[{"$f":"ROW()","v":3793}]
[{"$f":"ROW()","v":3794}]
[{"$f":"ROW()","v":3795}]
[{"$f":"ROW()","v":3796}]
[{"$f":"ROW()","v":3797}]
[{"$f":"ROW()","v":3798}]
[{"$f":"ROW()","v":3799}]
[{"$f":"ROW()","v":3800}]
[{"$f":"ROW()","v":3801}]
[{"$f":"ROW()","v":3802}]
[{"$f":"ROW()","v":3803}]
[{"$f":"ROW()","v":3804}]
[{"$f":"ROW()","v":3805}]
[{"$f":"ROW()","v":3806}]
[{"$f":"ROW()","v":3807}]
[{"$f":"ROW()","v":3808}]
[{"$f":"ROW()","v":3809}]
[{"$f":"ROW()","v":3810}]
[{"$f":"ROW()","v":3811}]
[{"$f":"ROW()","v":3812}]
[{"$f":"ROW()","v":3813}]
[{"$f":"ROW()","v":3814}]
[{"$f":"ROW()","v":3815}]
[{"$f":"ROW()","v":3816}]
[{"$f":"ROW()","v":3817}]
[{"$f":"ROW()","v":3818}]
[{"$f":"ROW()","v":3819}]
[{"$f":"ROW()","v":3820}]
[{"$f":"ROW()","v":3821}]
[{"$f":"ROW()","v":3822}]
[{"$f":"ROW()","v":3823}]
[{"$f":"ROW()","v":3824}]
[{"$f":"ROW()","v":3825}]
[{"$f":"ROW()","v":3826}]
[{"$f":"ROW()","v":3827}]
[{"$f":"ROW()","v":3828}]
[{"$f":"ROW()","v":3829}]
[{"$f":"ROW()","v":3830}]
[{"$f":"ROW()","v":3831}]
[{"$f":"ROW()","v":3832}]
[{"$f":"ROW()","v":3833}]
[{"$f":"ROW()","v":3834}]
[{"$f":"ROW()","v":3835}]
[{"$f":"ROW()","v":3836}]
[{"$f":"ROW()","v":3837}]
[{"$f":"ROW()","v":3838}]
[{"$f":"ROW()","v":3839}]
[{"$f":"ROW()","v":3840}]
[{"$f":"ROW()","v":3841}]
[{"$f":"ROW()","v":3842}]
[{"$f":"ROW()","v":3843}]
[{"$f":"ROW()","v":3844}]
[{"$f":"ROW()","v":3845}]
[{"$f":"ROW()","v":3846}]
[{"$f":"ROW()","v":3847}]
[{"$f":"ROW()","v":3848}]
[{"$f":"ROW()","v":3849}]
[{"$f":"ROW()","v":3850}]
[{"$f":"ROW()","v":3851}]
[{"$f":"ROW()","v":3852}]
[{"$f":"ROW()","v":3853}]
[{"$f":"ROW()","v":3854}]
[{"$f":"ROW()","v":3855}]
[{"$f":"ROW()","v":3856}]
[{"$f":"ROW()","v":3857}]
[{"$f":"ROW()","v":3858}]
[{"$f":"ROW()","v":3859}]
[{"$f":"ROW()","v":3860}]
[{"$f":"ROW()","v":3861}]
[{"$f":"ROW()","v":3862}]
[{"$f":"ROW()","v":3863}]
[{"$f":"ROW()","v":3864}]
[{"$f":"ROW()","v":3865}]
[{"$f":"ROW()","v":3866}]
[{"$f":"ROW()","v":3867}]
[{"$f":"ROW()","v":3868}]
[{"$f":"ROW()","v":3869}]
[{"$f":"ROW()","v":3870}]
[{"$f":"ROW()","v":3871}]
[{"$f":"ROW()","v":3872}]
[{"$f":"ROW()","v":3873}]
[{"$f":"ROW()","v":3874}]
[{"$f":"ROW()","v":3875}]
[{"$f":"ROW()","v":3876}]
[{"$f":"ROW()","v":3877}]
[{"$f":"ROW()","v":3878}]
[{"$f":"ROW()","v":3879}]
[{"$f":"ROW()","v":3880}]
[{"$f":"ROW()","v":3881}]
[{"$f":"ROW()","v":3882}]
[{"$f":"ROW()","v":3883}]
[{"$f":"ROW()","v":3884}]
[{"$f":"ROW()","v":3885}]
[{"$f":"ROW()","v":3886}]
[{"$f":"ROW()","v":3887}]
[{"$f":"ROW()","v":3888}]
[{"$f":"ROW()","v":3889}]
[{"$f":"ROW()","v":3890}]
[{"$f":"ROW()","v":3891}]
[{"$f":"ROW()","v":3892}]
[{"$f":"ROW()","v":3893}]
[{"$f":"ROW()","v":3894}]
[{"$f":"ROW()","v":3895}]
[{"$f":"ROW()","v":3896}]
[{"$f":"ROW()","v":3897}]
[{"$f":"ROW()","v":3898}]
[{"$f":"ROW()","v":3899}]
[{"$f":"ROW()","v":3900}]
[{"$f":"ROW()","v":3901}]
[{"$f":"ROW()","v":3902}]
[{"$f":"ROW()","v":3903}]
[{"$f":"ROW()","v":3904}]
[{"$f":"ROW()","v":3905}]
[{"$f":"ROW()","v":3906}]
[{"$f":"ROW()","v":3907}]
[{"$f":"ROW()","v":3908}]
[{"$f":"ROW()","v":3909}]
[{"$f":"ROW()","v":3910}]
[{"$f":"ROW()","v":3911}]
[{"$f":"ROW()","v":3912}]
[{"$f":"ROW()","v":3913}]
[{"$f":"ROW()","v":3914}]
[{"$f":"ROW()","v":3915}]
[{"$f":"ROW()","v":3916}]
[{"$f":"ROW()","v":3917}]
[{"$f":"ROW()","v":3918}]
[{"$f":"ROW()","v":3919}]
[{"$f":"ROW()","v":3920}]
[{"$f":"ROW()","v":3921}]
[{"$f":"ROW()","v":3922}]
[{"$f":"ROW()","v":3923}]
[{"$f":"ROW()","v":3924}]
[{"$f":"ROW()","v":3925}]
[{"$f":"ROW()","v":3926}]
[{"$f":"ROW()","v":3927}]
[{"$f":"ROW()","v":3928}]
[{"$f":"ROW()","v":3929}]
[{"$f":"ROW()","v":3930}]
[{"$f":"ROW()","v":3931}]
[{"$f":"ROW()","v":3932}]
[{"$f":"ROW()","v":3933}]
[{"$f":"ROW()","v":3934}]
[{"$f":"ROW()","v":3935}]
[{"$f":"ROW()","v":3936}]
[{"$f":"ROW()","v":3937}]
[{"$f":"ROW()","v":3938}]
[{"$f":"ROW()","v":3939}]
[{"$f":"ROW()","v":3940}]
[{"$f":"ROW()","v":3941}]
[{"$f":"ROW()","v":3942}]
[{"$f":"ROW()","v":3943}]
[{"$f":"ROW()","v":3944}]
[{"$f":"ROW()","v":3945}]
[{"$f":"ROW()","v":3946}]
[{"$f":"ROW()","v":3947}]
[{"$f":"ROW()","v":3948}]
[{"$f":"ROW()","v":3949}]
[{"$f":"ROW()","v":3950}]
[{"$f":"ROW()","v":3951}]
[{"$f":"ROW()","v":3952}]
[{"$f":"ROW()","v":3953}]
[{"$f":"ROW()","v":3954}]
[{"$f":"ROW()","v":3955}]
[{"$f":"ROW()","v":3956}]
[{"$f":"ROW()","v":3957}]
[{"$f":"ROW()","v":3958}]
[{"$f":"ROW()","v":3959}]
[{"$f":"ROW()","v":3960}]
[{"$f":"ROW()","v":3961}]
[{"$f":"ROW()","v":3962}]
[{"$f":"ROW()","v":3963}]
[{"$f":"ROW()","v":3964}]
[{"$f":"ROW()","v":3965}]
[{"$f":"ROW()","v":3966}]
[{"$f":"ROW()","v":3967}]
[{"$f":"ROW()","v":3968}]
[{"$f":"ROW()","v":3969}]
[{"$f":"ROW()","v":3970}]
[{"$f":"ROW()","v":3971}]
[{"$f":"ROW()","v":3972}]
[{"$f":"ROW()","v":3973}]
[{"$f":"ROW()","v":3974}]
[{"$f":"ROW()","v":3975}]
[{"$f":"ROW()","v":3976}]
[{"$f":"ROW()","v":3977}]
[{"$f":"ROW()","v":3978}]
[{"$f":"ROW()","v":3979}]
[{"$f":"ROW()","v":3980}]
[{"$f":"ROW()","v":3981}]
[{"$f":"ROW()","v":3982}]
[{"$f":"ROW()","v":3983}]
[{"$f":"ROW()","v":3984}]
[{"$f":"ROW()","v":3985}]
[{"$f":"ROW()","v":3986}]
[{"$f":"ROW()","v":3987}]
[{"$f":"ROW()","v":3988}]
[{"$f":"ROW()","v":3989}]
[{"$f":"ROW()","v":3990}]
[{"$f":"ROW()","v":3991}]
[{"$f":"ROW()","v":3992}]
[{"$f":"ROW()","v":3993}]

{"sheet":"Annexe C","index":4,"n_rows":4002,"n_cols":9,"rows_kept":4002,"cut":false,"hidden":false,"merged":[[39,1,39,8],[40,1,40,8],[17,6,19,6],[7,1,7,7],[14,3,14,7],[8,3,8,7],[17,4,19,4],[37,1,37,8],[38,1,38,8],[16,1,16,7],[10,1,10,7],[9,3,9,7],[11,3,11,7],[12,3,12,7],[15,1,15,7],[13,1,13,7],[0,3,0,8],[0,1,0,2],[6,2,6,7],[1,1,1,8],[2,1,2,8],[3,1,3,8],[5,1,5,7],[4,1,4,8],[17,2,20,2],[17,1,19,1],[17,7,19,7],[17,8,20,8],[17,3,19,3],[17,5,19,5]]}
[null,null,null,"Production de titres multimédias\n(volet sociétés spécialisées)\nVersion : 2023-09-22"]
[null,"Annexe C - Demande d'attestation de travaux de production\nTravaux de production admissibles effectués par des personnes ou sociétés de personnes sans lien de dépendance"]
[null,"(L'Annexe C fait partie intégrante de la présente demande.)"]
[]
[null,"Lorsqu'un sous-traitant a effectué des travaux qui ont été facturés à plus d'une reprise, le détail de chaque facture (ou chaque contrat) doit être inscrit dans la présente annexe (une facture par ligne)."]
[]
[null,"Nom de la société :",{"$f":"IF(Demande!A7=\"\",\"\",Demande!A7)","v":""}]
[]
[null,"Exercice financier du :",{"$f":"IF(Demande!I44=\"\",\"\",Demande!I44)","v":""}]
[null,null,"(aaaa-mm-jj)"]
[]
[null,"au :",{"$f":"IF(Demande!Q44=\"\",\"\",Demande!Q44)","v":""}]
[null,null,"(aaaa-mm-jj)"]
[]
[null,"Numéro de dossier IQ : ",{"$f":"IF(Demande!U10=\"\",\"\",Demande!U10)","v":""}]
[]
[]
[null,"Titre(s) admissible(s) pour lequel ou lesquels les services sont rendus","Nom et coordonnées des personnes ou sociétés de personnes sans lien de dépendance","Montant total de la facture1","Date de la facture2","Numéro de la facture","Pourcentage de travaux admissibles réclamé3","Services rendus à l'égard du ou des titre(s) multimédia(s) admissible(s)4 (en français)","Commentaires"]
[]
[]
[null," (nom et adresse)"]
[{"$f":"ROW()","v":22}]
[{"$f":"ROW()","v":23}]
[{"$f":"ROW()","v":24}]
[{"$f":"ROW()","v":25}]
[{"$f":"ROW()","v":26}]
[{"$f":"ROW()","v":27}]
[{"$f":"ROW()","v":28}]
[{"$f":"ROW()","v":29}]
[{"$f":"ROW()","v":30}]
[{"$f":"ROW()","v":31}]
[{"$f":"ROW()","v":32}]
[{"$f":"ROW()","v":33}]
[{"$f":"ROW()","v":34}]
[{"$f":"ROW()","v":35}]
[{"$f":"ROW()","v":36}]
[{"$f":"ROW()","v":37}]
[{"$f":"ROW()","v":38},"1. Montant total de la facture : Indiquez le montant total de la facture excluant les taxes."]
[{"$f":"ROW()","v":39},"2. Date de la facture : La date de la facture devrait être comprise dans l'exercice financier visé par la demande."]
[{"$f":"ROW()","v":40},"3. Pourcentage de travaux admissibles réclamé : Ceci correspond aux travaux réalisés par la main-d'œuvre, à l'égard du ou des titre(s) multimédia(s) admissible(s), inclus à la facture."]
[{"$f":"ROW()","v":41},"4. Services rendus à l'égard du ou des titre(s) multimédia(s) admissible(s) : Il s'agit d'indiquer la nature des services de main-d'oeuvre rendus par le sous-traitant."]
[{"$f":"ROW()","v":42}]
[{"$f":"ROW()","v":43}]
[{"$f":"ROW()","v":44}]
[{"$f":"ROW()","v":45}]
[{"$f":"ROW()","v":46}]
[{"$f":"ROW()","v":47}]
[{"$f":"ROW()","v":48}]
[{"$f":"ROW()","v":49}]
[{"$f":"ROW()","v":50}]
[{"$f":"ROW()","v":51}]
[{"$f":"ROW()","v":52}]
[{"$f":"ROW()","v":53}]
[{"$f":"ROW()","v":54}]
[{"$f":"ROW()","v":55}]
[{"$f":"ROW()","v":56}]
[{"$f":"ROW()","v":57}]
[{"$f":"ROW()","v":58}]
[{"$f":"ROW()","v":59}]
[{"$f":"ROW()","v":60}]
[{"$f":"ROW()","v":61}]
[{"$f":"ROW()","v":62}]
[{"$f":"ROW()","v":63}]
[{"$f":"ROW()","v":64}]
[{"$f":"ROW()","v":65}]
[{"$f":"ROW()","v":66}]
[{"$f":"ROW()","v":67}]
[{"$f":"ROW()","v":68}]
[{"$f":"ROW()","v":69}]
[{"$f":"ROW()","v":70}]
[{"$f":"ROW()","v":71}]
[{"$f":"ROW()","v":72}]
[{"$f":"ROW()","v":73}]
[{"$f":"ROW()","v":74}]
[{"$f":"ROW()","v":75}]
[{"$f":"ROW()","v":76}]
[{"$f":"ROW()","v":77}]
[{"$f":"ROW()","v":78}]
[{"$f":"ROW()","v":79}]
[{"$f":"ROW()","v":80}]
[{"$f":"ROW()","v":81}]
[{"$f":"ROW()","v":82}]
[{"$f":"ROW()","v":83}]
[{"$f":"ROW()","v":84}]
[{"$f":"ROW()","v":85}]
[{"$f":"ROW()","v":86}]
[{"$f":"ROW()","v":87}]
[{"$f":"ROW()","v":88}]
[{"$f":"ROW()","v":89}]
[{"$f":"ROW()","v":90}]
[{"$f":"ROW()","v":91}]
[{"$f":"ROW()","v":92}]
[{"$f":"ROW()","v":93}]
[{"$f":"ROW()","v":94}]
[{"$f":"ROW()","v":95}]
[{"$f":"ROW()","v":96}]
[{"$f":"ROW()","v":97}]
[{"$f":"ROW()","v":98}]
[{"$f":"ROW()","v":99}]
[{"$f":"ROW()","v":100}]
[{"$f":"ROW()","v":101}]
[{"$f":"ROW()","v":102}]
[{"$f":"ROW()","v":103}]
[{"$f":"ROW()","v":104}]
[{"$f":"ROW()","v":105}]
[{"$f":"ROW()","v":106}]
[{"$f":"ROW()","v":107}]
[{"$f":"ROW()","v":108}]
[{"$f":"ROW()","v":109}]
[{"$f":"ROW()","v":110}]
[{"$f":"ROW()","v":111}]
[{"$f":"ROW()","v":112}]
[{"$f":"ROW()","v":113}]
[{"$f":"ROW()","v":114}]
[{"$f":"ROW()","v":115}]
[{"$f":"ROW()","v":116}]
[{"$f":"ROW()","v":117}]
[{"$f":"ROW()","v":118}]
[{"$f":"ROW()","v":119}]
[{"$f":"ROW()","v":120}]
[{"$f":"ROW()","v":121}]
[{"$f":"ROW()","v":122}]
[{"$f":"ROW()","v":123}]
[{"$f":"ROW()","v":124}]
[{"$f":"ROW()","v":125}]
[{"$f":"ROW()","v":126}]
[{"$f":"ROW()","v":127}]
[{"$f":"ROW()","v":128}]
[{"$f":"ROW()","v":129}]
[{"$f":"ROW()","v":130}]
[{"$f":"ROW()","v":131}]
[{"$f":"ROW()","v":132}]
[{"$f":"ROW()","v":133}]
[{"$f":"ROW()","v":134}]
[{"$f":"ROW()","v":135}]
[{"$f":"ROW()","v":136}]
[{"$f":"ROW()","v":137}]
[{"$f":"ROW()","v":138}]
[{"$f":"ROW()","v":139}]
[{"$f":"ROW()","v":140}]
[{"$f":"ROW()","v":141}]
[{"$f":"ROW()","v":142}]
[{"$f":"ROW()","v":143}]
[{"$f":"ROW()","v":144}]
[{"$f":"ROW()","v":145}]
[{"$f":"ROW()","v":146}]
[{"$f":"ROW()","v":147}]
[{"$f":"ROW()","v":148}]
[{"$f":"ROW()","v":149}]
[{"$f":"ROW()","v":150}]
[{"$f":"ROW()","v":151}]
[{"$f":"ROW()","v":152}]
[{"$f":"ROW()","v":153}]
[{"$f":"ROW()","v":154}]
[{"$f":"ROW()","v":155}]
[{"$f":"ROW()","v":156}]
[{"$f":"ROW()","v":157}]
[{"$f":"ROW()","v":158}]
[{"$f":"ROW()","v":159}]
[{"$f":"ROW()","v":160}]
[{"$f":"ROW()","v":161}]
[{"$f":"ROW()","v":162}]
[{"$f":"ROW()","v":163}]
[{"$f":"ROW()","v":164}]
[{"$f":"ROW()","v":165}]
[{"$f":"ROW()","v":166}]
[{"$f":"ROW()","v":167}]
[{"$f":"ROW()","v":168}]
[{"$f":"ROW()","v":169}]
[{"$f":"ROW()","v":170}]
[{"$f":"ROW()","v":171}]
[{"$f":"ROW()","v":172}]
[{"$f":"ROW()","v":173}]
[{"$f":"ROW()","v":174}]
[{"$f":"ROW()","v":175}]
[{"$f":"ROW()","v":176}]
[{"$f":"ROW()","v":177}]
[{"$f":"ROW()","v":178}]
[{"$f":"ROW()","v":179}]
[{"$f":"ROW()","v":180}]
[{"$f":"ROW()","v":181}]
[{"$f":"ROW()","v":182}]
[{"$f":"ROW()","v":183}]
[{"$f":"ROW()","v":184}]
[{"$f":"ROW()","v":185}]
[{"$f":"ROW()","v":186}]
[{"$f":"ROW()","v":187}]
[{"$f":"ROW()","v":188}]
[{"$f":"ROW()","v":189}]
[{"$f":"ROW()","v":190}]
[{"$f":"ROW()","v":191}]
[{"$f":"ROW()","v":192}]
[{"$f":"ROW()","v":193}]
[{"$f":"ROW()","v":194}]
[{"$f":"ROW()","v":195}]
[{"$f":"ROW()","v":196}]
[{"$f":"ROW()","v":197}]
[{"$f":"ROW()","v":198}]
[{"$f":"ROW()","v":199}]
[{"$f":"ROW()","v":200}]
[{"$f":"ROW()","v":201}]
[{"$f":"ROW()","v":202}]
[{"$f":"ROW()","v":203}]
[{"$f":"ROW()","v":204}]
[{"$f":"ROW()","v":205}]
[{"$f":"ROW()","v":206}]
[{"$f":"ROW()","v":207}]
[{"$f":"ROW()","v":208}]
[{"$f":"ROW()","v":209}]
[{"$f":"ROW()","v":210}]
[{"$f":"ROW()","v":211}]
[{"$f":"ROW()","v":212}]
[{"$f":"ROW()","v":213}]
[{"$f":"ROW()","v":214}]
[{"$f":"ROW()","v":215}]
[{"$f":"ROW()","v":216}]
[{"$f":"ROW()","v":217}]
[{"$f":"ROW()","v":218}]
[{"$f":"ROW()","v":219}]
[{"$f":"ROW()","v":220}]
[{"$f":"ROW()","v":221}]
[{"$f":"ROW()","v":222}]
[{"$f":"ROW()","v":223}]
[{"$f":"ROW()","v":224}]
[{"$f":"ROW()","v":225}]
[{"$f":"ROW()","v":226}]
[{"$f":"ROW()","v":227}]
[{"$f":"ROW()","v":228}]
[{"$f":"ROW()","v":229}]
[{"$f":"ROW()","v":230}]
[{"$f":"ROW()","v":231}]
[{"$f":"ROW()","v":232}]
[{"$f":"ROW()","v":233}]
[{"$f":"ROW()","v":234}]
[{"$f":"ROW()","v":235}]
[{"$f":"ROW()","v":236}]
[{"$f":"ROW()","v":237}]
[{"$f":"ROW()","v":238}]
[{"$f":"ROW()","v":239}]
[{"$f":"ROW()","v":240}]
[{"$f":"ROW()","v":241}]
[{"$f":"ROW()","v":242}]
[{"$f":"ROW()","v":243}]
[{"$f":"ROW()","v":244}]
[{"$f":"ROW()","v":245}]
[{"$f":"ROW()","v":246}]
[{"$f":"ROW()","v":247}]
[{"$f":"ROW()","v":248}]
[{"$f":"ROW()","v":249}]
[{"$f":"ROW()","v":250}]
[{"$f":"ROW()","v":251}]
[{"$f":"ROW()","v":252}]
[{"$f":"ROW()","v":253}]
[{"$f":"ROW()","v":254}]
[{"$f":"ROW()","v":255}]
[{"$f":"ROW()","v":256}]
[{"$f":"ROW()","v":257}]
[{"$f":"ROW()","v":258}]
[{"$f":"ROW()","v":259}]
[{"$f":"ROW()","v":260}]
[{"$f":"ROW()","v":261}]
[{"$f":"ROW()","v":262}]
[{"$f":"ROW()","v":263}]
[{"$f":"ROW()","v":264}]
[{"$f":"ROW()","v":265}]
[{"$f":"ROW()","v":266}]
[{"$f":"ROW()","v":267}]
[{"$f":"ROW()","v":268}]
[{"$f":"ROW()","v":269}]
[{"$f":"ROW()","v":270}]
[{"$f":"ROW()","v":271}]
[{"$f":"ROW()","v":272}]
[{"$f":"ROW()","v":273}]
[{"$f":"ROW()","v":274}]
[{"$f":"ROW()","v":275}]
[{"$f":"ROW()","v":276}]
[{"$f":"ROW()","v":277}]
[{"$f":"ROW()","v":278}]
[{"$f":"ROW()","v":279}]
[{"$f":"ROW()","v":280}]
[{"$f":"ROW()","v":281}]
[{"$f":"ROW()","v":282}]
[{"$f":"ROW()","v":283}]
[{"$f":"ROW()","v":284}]
[{"$f":"ROW()","v":285}]
[{"$f":"ROW()","v":286}]
[{"$f":"ROW()","v":287}]
[{"$f":"ROW()","v":288}]
[{"$f":"ROW()","v":289}]
[{"$f":"ROW()","v":290}]
[{"$f":"ROW()","v":291}]
[{"$f":"ROW()","v":292}]
[{"$f":"ROW()","v":293}]
[{"$f":"ROW()","v":294}]
[{"$f":"ROW()","v":295}]
[{"$f":"ROW()","v":296}]
[{"$f":"ROW()","v":297}]
[{"$f":"ROW()","v":298}]
[{"$f":"ROW()","v":299}]
[{"$f":"ROW()","v":300}]
[{"$f":"ROW()","v":301}]
[{"$f":"ROW()","v":302}]
[{"$f":"ROW()","v":303}]
[{"$f":"ROW()","v":304}]
[{"$f":"ROW()","v":305}]
[{"$f":"ROW()","v":306}]
[{"$f":"ROW()","v":307}]
[{"$f":"ROW()","v":308}]
[{"$f":"ROW()","v":309}]
[{"$f":"ROW()","v":310}]
[{"$f":"ROW()","v":311}]
[{"$f":"ROW()","v":312}]
[{"$f":"ROW()","v":313}]
[{"$f":"ROW()","v":314}]
[{"$f":"ROW()","v":315}]
[{"$f":"ROW()","v":316}]
[{"$f":"ROW()","v":317}]
[{"$f":"ROW()","v":318}]
[{"$f":"ROW()","v":319}]
[{"$f":"ROW()","v":320}]
[{"$f":"ROW()","v":321}]
[{"$f":"ROW()","v":322}]
[{"$f":"ROW()","v":323}]
[{"$f":"ROW()","v":324}]
[{"$f":"ROW()","v":325}]
[{"$f":"ROW()","v":326}]
[{"$f":"ROW()","v":327}]
[{"$f":"ROW()","v":328}]
[{"$f":"ROW()","v":329}]
[{"$f":"ROW()","v":330}]
[{"$f":"ROW()","v":331}]
[{"$f":"ROW()","v":332}]
[{"$f":"ROW()","v":333}]
[{"$f":"ROW()","v":334}]
[{"$f":"ROW()","v":335}]
[{"$f":"ROW()","v":336}]
[{"$f":"ROW()","v":337}]
[{"$f":"ROW()","v":338}]
[{"$f":"ROW()","v":339}]
[{"$f":"ROW()","v":340}]
[{"$f":"ROW()","v":341}]
[{"$f":"ROW()","v":342}]
[{"$f":"ROW()","v":343}]
[{"$f":"ROW()","v":344}]
[{"$f":"ROW()","v":345}]
[{"$f":"ROW()","v":346}]
[{"$f":"ROW()","v":347}]
[{"$f":"ROW()","v":348}]
[{"$f":"ROW()","v":349}]
[{"$f":"ROW()","v":350}]
[{"$f":"ROW()","v":351}]
[{"$f":"ROW()","v":352}]
[{"$f":"ROW()","v":353}]
[{"$f":"ROW()","v":354}]
[{"$f":"ROW()","v":355}]
[{"$f":"ROW()","v":356}]
[{"$f":"ROW()","v":357}]
[{"$f":"ROW()","v":358}]
[{"$f":"ROW()","v":359}]
[{"$f":"ROW()","v":360}]
[{"$f":"ROW()","v":361}]
[{"$f":"ROW()","v":362}]
[{"$f":"ROW()","v":363}]
[{"$f":"ROW()","v":364}]
[{"$f":"ROW()","v":365}]
[{"$f":"ROW()","v":366}]
[{"$f":"ROW()","v":367}]
[{"$f":"ROW()","v":368}]
[{"$f":"ROW()","v":369}]
[{"$f":"ROW()","v":370}]
[{"$f":"ROW()","v":371}]
[{"$f":"ROW()","v":372}]
[{"$f":"ROW()","v":373}]
[{"$f":"ROW()","v":374}]
[{"$f":"ROW()","v":375}]
[{"$f":"ROW()","v":376}]
[{"$f":"ROW()","v":377}]
[{"$f":"ROW()","v":378}]
[{"$f":"ROW()","v":379}]
[{"$f":"ROW()","v":380}]
[{"$f":"ROW()","v":381}]
[{"$f":"ROW()","v":382}]
[{"$f":"ROW()","v":383}]
[{"$f":"ROW()","v":384}]
[{"$f":"ROW()","v":385}]
[{"$f":"ROW()","v":386}]
[{"$f":"ROW()","v":387}]
[{"$f":"ROW()","v":388}]
[{"$f":"ROW()","v":389}]
[{"$f":"ROW()","v":390}]
[{"$f":"ROW()","v":391}]
[{"$f":"ROW()","v":392}]
[{"$f":"ROW()","v":393}]
[{"$f":"ROW()","v":394}]
[{"$f":"ROW()","v":395}]
[{"$f":"ROW()","v":396}]
[{"$f":"ROW()","v":397}]
[{"$f":"ROW()","v":398}]
[{"$f":"ROW()","v":399}]
[{"$f":"ROW()","v":400}]
[{"$f":"ROW()","v":401}]
[{"$f":"ROW()","v":402}]
[{"$f":"ROW()","v":403}]
[{"$f":"ROW()","v":404}]
[{"$f":"ROW()","v":405}]
[{"$f":"ROW()","v":406}]
[{"$f":"ROW()","v":407}]
[{"$f":"ROW()","v":408}]
[{"$f":"ROW()","v":409}]
[{"$f":"ROW()","v":410}]
[{"$f":"ROW()","v":411}]
[{"$f":"ROW()","v":412}]
[{"$f":"ROW()","v":413}]
[{"$f":"ROW()","v":414}]
[{"$f":"ROW()","v":415}]
[{"$f":"ROW()","v":416}]
[{"$f":"ROW()","v":417}]
[{"$f":"ROW()","v":418}]
[{"$f":"ROW()","v":419}]
[{"$f":"ROW()","v":420}]
[{"$f":"ROW()","v":421}]
[{"$f":"ROW()","v":422}]
[{"$f":"ROW()","v":423}]
[{"$f":"ROW()","v":424}]
[{"$f":"ROW()","v":425}]
[{"$f":"ROW()","v":426}]
[{"$f":"ROW()","v":427}]
[{"$f":"ROW()","v":428}]
[{"$f":"ROW()","v":429}]
[{"$f":"ROW()","v":430}]
[{"$f":"ROW()","v":431}]
[{"$f":"ROW()","v":432}]
[{"$f":"ROW()","v":433}]
[{"$f":"ROW()","v":434}]
[{"$f":"ROW()","v":435}]
[{"$f":"ROW()","v":436}]
[{"$f":"ROW()","v":437}]
[{"$f":"ROW()","v":438}]
[{"$f":"ROW()","v":439}]
[{"$f":"ROW()","v":440}]
[{"$f":"ROW()","v":441}]
[{"$f":"ROW()","v":442}]
[{"$f":"ROW()","v":443}]
[{"$f":"ROW()","v":444}]
[{"$f":"ROW()","v":445}]
[{"$f":"ROW()","v":446}]
[{"$f":"ROW()","v":447}]
[{"$f":"ROW()","v":448}]
[{"$f":"ROW()","v":449}]
[{"$f":"ROW()","v":450}]
[{"$f":"ROW()","v":451}]
[{"$f":"ROW()","v":452}]
[{"$f":"ROW()","v":453}]
[{"$f":"ROW()","v":454}]
[{"$f":"ROW()","v":455}]
[{"$f":"ROW()","v":456}]
[{"$f":"ROW()","v":457}]
[{"$f":"ROW()","v":458}]
[{"$f":"ROW()","v":459}]
[{"$f":"ROW()","v":460}]
[{"$f":"ROW()","v":461}]
[{"$f":"ROW()","v":462}]
[{"$f":"ROW()","v":463}]
[{"$f":"ROW()","v":464}]
[{"$f":"ROW()","v":465}]
[{"$f":"ROW()","v":466}]
[{"$f":"ROW()","v":467}]
[{"$f":"ROW()","v":468}]
[{"$f":"ROW()","v":469}]
[{"$f":"ROW()","v":470}]
[{"$f":"ROW()","v":471}]
[{"$f":"ROW()","v":472}]
[{"$f":"ROW()","v":473}]
[{"$f":"ROW()","v":474}]
[{"$f":"ROW()","v":475}]
[{"$f":"ROW()","v":476}]
[{"$f":"ROW()","v":477}]
[{"$f":"ROW()","v":478}]
[{"$f":"ROW()","v":479}]
[{"$f":"ROW()","v":480}]
[{"$f":"ROW()","v":481}]
[{"$f":"ROW()","v":482}]
[{"$f":"ROW()","v":483}]
[{"$f":"ROW()","v":484}]
[{"$f":"ROW()","v":485}]
[{"$f":"ROW()","v":486}]
[{"$f":"ROW()","v":487}]
[{"$f":"ROW()","v":488}]
[{"$f":"ROW()","v":489}]
[{"$f":"ROW()","v":490}]
[{"$f":"ROW()","v":491}]
[{"$f":"ROW()","v":492}]
[{"$f":"ROW()","v":493}]
[{"$f":"ROW()","v":494}]
[{"$f":"ROW()","v":495}]
[{"$f":"ROW()","v":496}]
[{"$f":"ROW()","v":497}]
[{"$f":"ROW()","v":498}]
[{"$f":"ROW()","v":499}]
[{"$f":"ROW()","v":500}]
[{"$f":"ROW()","v":501}]
[{"$f":"ROW()","v":502}]
[{"$f":"ROW()","v":503}]
[{"$f":"ROW()","v":504}]
[{"$f":"ROW()","v":505}]
[{"$f":"ROW()","v":506}]
[{"$f":"ROW()","v":507}]
[{"$f":"ROW()","v":508}]
[{"$f":"ROW()","v":509}]
[{"$f":"ROW()","v":510}]
[{"$f":"ROW()","v":511}]
[{"$f":"ROW()","v":512}]
[{"$f":"ROW()","v":513}]
[{"$f":"ROW()","v":514}]
[{"$f":"ROW()","v":515}]
[{"$f":"ROW()","v":516}]
[{"$f":"ROW()","v":517}]
[{"$f":"ROW()","v":518}]
[{"$f":"ROW()","v":519}]
[{"$f":"ROW()","v":520}]
[{"$f":"ROW()","v":521}]
[{"$f":"ROW()","v":522}]
[{"$f":"ROW()","v":523}]
[{"$f":"ROW()","v":524}]
[{"$f":"ROW()","v":525}]
[{"$f":"ROW()","v":526}]
[{"$f":"ROW()","v":527}]
[{"$f":"ROW()","v":528}]
[{"$f":"ROW()","v":529}]
[{"$f":"ROW()","v":530}]
[{"$f":"ROW()","v":531}]
[{"$f":"ROW()","v":532}]
[{"$f":"ROW()","v":533}]
[{"$f":"ROW()","v":534}]
[{"$f":"ROW()","v":535}]
[{"$f":"ROW()","v":536}]
[{"$f":"ROW()","v":537}]
[{"$f":"ROW()","v":538}]
[{"$f":"ROW()","v":539}]
[{"$f":"ROW()","v":540}]
[{"$f":"ROW()","v":541}]
[{"$f":"ROW()","v":542}]
[{"$f":"ROW()","v":543}]
[{"$f":"ROW()","v":544}]
[{"$f":"ROW()","v":545}]
[{"$f":"ROW()","v":546}]
[{"$f":"ROW()","v":547}]
[{"$f":"ROW()","v":548}]
[{"$f":"ROW()","v":549}]
[{"$f":"ROW()","v":550}]
[{"$f":"ROW()","v":551}]
[{"$f":"ROW()","v":552}]
[{"$f":"ROW()","v":553}]
[{"$f":"ROW()","v":554}]
[{"$f":"ROW()","v":555}]
[{"$f":"ROW()","v":556}]
[{"$f":"ROW()","v":557}]
[{"$f":"ROW()","v":558}]
[{"$f":"ROW()","v":559}]
[{"$f":"ROW()","v":560}]
[{"$f":"ROW()","v":561}]
[{"$f":"ROW()","v":562}]
[{"$f":"ROW()","v":563}]
[{"$f":"ROW()","v":564}]
[{"$f":"ROW()","v":565}]
[{"$f":"ROW()","v":566}]
[{"$f":"ROW()","v":567}]
[{"$f":"ROW()","v":568}]
[{"$f":"ROW()","v":569}]
[{"$f":"ROW()","v":570}]
[{"$f":"ROW()","v":571}]
[{"$f":"ROW()","v":572}]
[{"$f":"ROW()","v":573}]
[{"$f":"ROW()","v":574}]
[{"$f":"ROW()","v":575}]
[{"$f":"ROW()","v":576}]
[{"$f":"ROW()","v":577}]
[{"$f":"ROW()","v":578}]
[{"$f":"ROW()","v":579}]
[{"$f":"ROW()","v":580}]
[{"$f":"ROW()","v":581}]
[{"$f":"ROW()","v":582}]
[{"$f":"ROW()","v":583}]
[{"$f":"ROW()","v":584}]
[{"$f":"ROW()","v":585}]
[{"$f":"ROW()","v":586}]
[{"$f":"ROW()","v":587}]
[{"$f":"ROW()","v":588}]
[{"$f":"ROW()","v":589}]
[{"$f":"ROW()","v":590}]
[{"$f":"ROW()","v":591}]
[{"$f":"ROW()","v":592}]
[{"$f":"ROW()","v":593}]
[{"$f":"ROW()","v":594}]
[{"$f":"ROW()","v":595}]
[{"$f":"ROW()","v":596}]
[{"$f":"ROW()","v":597}]
[{"$f":"ROW()","v":598}]
[{"$f":"ROW()","v":599}]
[{"$f":"ROW()","v":600}]
[{"$f":"ROW()","v":601}]
[{"$f":"ROW()","v":602}]
[{"$f":"ROW()","v":603}]
[{"$f":"ROW()","v":604}]
[{"$f":"ROW()","v":605}]
[{"$f":"ROW()","v":606}]
[{"$f":"ROW()","v":607}]
[{"$f":"ROW()","v":608}]
[{"$f":"ROW()","v":609}]
[{"$f":"ROW()","v":610}]
[{"$f":"ROW()","v":611}]
[{"$f":"ROW()","v":612}]
[{"$f":"ROW()","v":613}]
[{"$f":"ROW()","v":614}]
[{"$f":"ROW()","v":615}]
[{"$f":"ROW()","v":616}]
[{"$f":"ROW()","v":617}]
[{"$f":"ROW()","v":618}]
[{"$f":"ROW()","v":619}]
[{"$f":"ROW()","v":620}]
[{"$f":"ROW()","v":621}]
[{"$f":"ROW()","v":622}]
[{"$f":"ROW()","v":623}]
[{"$f":"ROW()","v":624}]
[{"$f":"ROW()","v":625}]
[{"$f":"ROW()","v":626}]
[{"$f":"ROW()","v":627}]
[{"$f":"ROW()","v":628}]
[{"$f":"ROW()","v":629}]
[{"$f":"ROW()","v":630}]
[{"$f":"ROW()","v":631}]
[{"$f":"ROW()","v":632}]
[{"$f":"ROW()","v":633}]
[{"$f":"ROW()","v":634}]
[{"$f":"ROW()","v":635}]
[{"$f":"ROW()","v":636}]
[{"$f":"ROW()","v":637}]
[{"$f":"ROW()","v":638}]
[{"$f":"ROW()","v":639}]
[{"$f":"ROW()","v":640}]
[{"$f":"ROW()","v":641}]
[{"$f":"ROW()","v":642}]
[{"$f":"ROW()","v":643}]
[{"$f":"ROW()","v":644}]
[{"$f":"ROW()","v":645}]
[{"$f":"ROW()","v":646}]
[{"$f":"ROW()","v":647}]
[{"$f":"ROW()","v":648}]
[{"$f":"ROW()","v":649}]
[{"$f":"ROW()","v":650}]
[{"$f":"ROW()","v":651}]
[{"$f":"ROW()","v":652}]
[{"$f":"ROW()","v":653}]
[{"$f":"ROW()","v":654}]
[{"$f":"ROW()","v":655}]
[{"$f":"ROW()","v":656}]
[{"$f":"ROW()","v":657}]
[{"$f":"ROW()","v":658}]
[{"$f":"ROW()","v":659}]
[{"$f":"ROW()","v":660}]
[{"$f":"ROW()","v":661}]
[{"$f":"ROW()","v":662}]
[{"$f":"ROW()","v":663}]
[{"$f":"ROW()","v":664}]
[{"$f":"ROW()","v":665}]
[{"$f":"ROW()","v":666}]
[{"$f":"ROW()","v":667}]
[{"$f":"ROW()","v":668}]
[{"$f":"ROW()","v":669}]
[{"$f":"ROW()","v":670}]
[{"$f":"ROW()","v":671}]
[{"$f":"ROW()","v":672}]
[{"$f":"ROW()","v":673}]
[{"$f":"ROW()","v":674}]
[{"$f":"ROW()","v":675}]
[{"$f":"ROW()","v":676}]
[{"$f":"ROW()","v":677}]
[{"$f":"ROW()","v":678}]
[{"$f":"ROW()","v":679}]
[{"$f":"ROW()","v":680}]
[{"$f":"ROW()","v":681}]
[{"$f":"ROW()","v":682}]
[{"$f":"ROW()","v":683}]
[{"$f":"ROW()","v":684}]
[{"$f":"ROW()","v":685}]
[{"$f":"ROW()","v":686}]
[{"$f":"ROW()","v":687}]
[{"$f":"ROW()","v":688}]
[{"$f":"ROW()","v":689}]
[{"$f":"ROW()","v":690}]
[{"$f":"ROW()","v":691}]
[{"$f":"ROW()","v":692}]
[{"$f":"ROW()","v":693}]
[{"$f":"ROW()","v":694}]
[{"$f":"ROW()","v":695}]
[{"$f":"ROW()","v":696}]
[{"$f":"ROW()","v":697}]
[{"$f":"ROW()","v":698}]
[{"$f":"ROW()","v":699}]
[{"$f":"ROW()","v":700}]
[{"$f":"ROW()","v":701}]
[{"$f":"ROW()","v":702}]
[{"$f":"ROW()","v":703}]
[{"$f":"ROW()","v":704}]
[{"$f":"ROW()","v":705}]
[{"$f":"ROW()","v":706}]
[{"$f":"ROW()","v":707}]
[{"$f":"ROW()","v":708}]
[{"$f":"ROW()","v":709}]
[{"$f":"ROW()","v":710}]
[{"$f":"ROW()","v":711}]
[{"$f":"ROW()","v":712}]
[{"$f":"ROW()","v":713}]
[{"$f":"ROW()","v":714}]
[{"$f":"ROW()","v":715}]
[{"$f":"ROW()","v":716}]
[{"$f":"ROW()","v":717}]
[{"$f":"ROW()","v":718}]
[{"$f":"ROW()","v":719}]
[{"$f":"ROW()","v":720}]
[{"$f":"ROW()","v":721}]
[{"$f":"ROW()","v":722}]
[{"$f":"ROW()","v":723}]
[{"$f":"ROW()","v":724}]
[{"$f":"ROW()","v":725}]
[{"$f":"ROW()","v":726}]
[{"$f":"ROW()","v":727}]
[{"$f":"ROW()","v":728}]
[{"$f":"ROW()","v":729}]
[{"$f":"ROW()","v":730}]
[{"$f":"ROW()","v":731}]
[{"$f":"ROW()","v":732}]
[{"$f":"ROW()","v":733}]
[{"$f":"ROW()","v":734}]
[{"$f":"ROW()","v":735}]
[{"$f":"ROW()","v":736}]
[{"$f":"ROW()","v":737}]
[{"$f":"ROW()","v":738}]
[{"$f":"ROW()","v":739}]
[{"$f":"ROW()","v":740}]
[{"$f":"ROW()","v":741}]
[{"$f":"ROW()","v":742}]
[{"$f":"ROW()","v":743}]
[{"$f":"ROW()","v":744}]
[{"$f":"ROW()","v":745}]
[{"$f":"ROW()","v":746}]
[{"$f":"ROW()","v":747}]
[{"$f":"ROW()","v":748}]
[{"$f":"ROW()","v":749}]
[{"$f":"ROW()","v":750}]
[{"$f":"ROW()","v":751}]
[{"$f":"ROW()","v":752}]
[{"$f":"ROW()","v":753}]
[{"$f":"ROW()","v":754}]
[{"$f":"ROW()","v":755}]
[{"$f":"ROW()","v":756}]
[{"$f":"ROW()","v":757}]
[{"$f":"ROW()","v":758}]
[{"$f":"ROW()","v":759}]
[{"$f":"ROW()","v":760}]
[{"$f":"ROW()","v":761}]
[{"$f":"ROW()","v":762}]
[{"$f":"ROW()","v":763}]
[{"$f":"ROW()","v":764}]
[{"$f":"ROW()","v":765}]
[{"$f":"ROW()","v":766}]
[{"$f":"ROW()","v":767}]
[{"$f":"ROW()","v":768}]
[{"$f":"ROW()","v":769}]
[{"$f":"ROW()","v":770}]
[{"$f":"ROW()","v":771}]
[{"$f":"ROW()","v":772}]
[{"$f":"ROW()","v":773}]
[{"$f":"ROW()","v":774}]
[{"$f":"ROW()","v":775}]
[{"$f":"ROW()","v":776}]
[{"$f":"ROW()","v":777}]
[{"$f":"ROW()","v":778}]
[{"$f":"ROW()","v":779}]
[{"$f":"ROW()","v":780}]
[{"$f":"ROW()","v":781}]
[{"$f":"ROW()","v":782}]
[{"$f":"ROW()","v":783}]
[{"$f":"ROW()","v":784}]
[{"$f":"ROW()","v":785}]
[{"$f":"ROW()","v":786}]
[{"$f":"ROW()","v":787}]
[{"$f":"ROW()","v":788}]
[{"$f":"ROW()","v":789}]
[{"$f":"ROW()","v":790}]
[{"$f":"ROW()","v":791}]
[{"$f":"ROW()","v":792}]
[{"$f":"ROW()","v":793}]
[{"$f":"ROW()","v":794}]
[{"$f":"ROW()","v":795}]
[{"$f":"ROW()","v":796}]
[{"$f":"ROW()","v":797}]
[{"$f":"ROW()","v":798}]
[{"$f":"ROW()","v":799}]
[{"$f":"ROW()","v":800}]
[{"$f":"ROW()","v":801}]
[{"$f":"ROW()","v":802}]
[{"$f":"ROW()","v":803}]
[{"$f":"ROW()","v":804}]
[{"$f":"ROW()","v":805}]
[{"$f":"ROW()","v":806}]
[{"$f":"ROW()","v":807}]
[{"$f":"ROW()","v":808}]
[{"$f":"ROW()","v":809}]
[{"$f":"ROW()","v":810}]
[{"$f":"ROW()","v":811}]
[{"$f":"ROW()","v":812}]
[{"$f":"ROW()","v":813}]
[{"$f":"ROW()","v":814}]
[{"$f":"ROW()","v":815}]
[{"$f":"ROW()","v":816}]
[{"$f":"ROW()","v":817}]
[{"$f":"ROW()","v":818}]
[{"$f":"ROW()","v":819}]
[{"$f":"ROW()","v":820}]
[{"$f":"ROW()","v":821}]
[{"$f":"ROW()","v":822}]
[{"$f":"ROW()","v":823}]
[{"$f":"ROW()","v":824}]
[{"$f":"ROW()","v":825}]
[{"$f":"ROW()","v":826}]
[{"$f":"ROW()","v":827}]
[{"$f":"ROW()","v":828}]
[{"$f":"ROW()","v":829}]
[{"$f":"ROW()","v":830}]
[{"$f":"ROW()","v":831}]
[{"$f":"ROW()","v":832}]
[{"$f":"ROW()","v":833}]
[{"$f":"ROW()","v":834}]
[{"$f":"ROW()","v":835}]
[{"$f":"ROW()","v":836}]
[{"$f":"ROW()","v":837}]
[{"$f":"ROW()","v":838}]
[{"$f":"ROW()","v":839}]
[{"$f":"ROW()","v":840}]
[{"$f":"ROW()","v":841}]
[{"$f":"ROW()","v":842}]
[{"$f":"ROW()","v":843}]
[{"$f":"ROW()","v":844}]
[{"$f":"ROW()","v":845}]
[{"$f":"ROW()","v":846}]
[{"$f":"ROW()","v":847}]
[{"$f":"ROW()","v":848}]
[{"$f":"ROW()","v":849}]
[{"$f":"ROW()","v":850}]
[{"$f":"ROW()","v":851}]
[{"$f":"ROW()","v":852}]
[{"$f":"ROW()","v":853}]
[{"$f":"ROW()","v":854}]
[{"$f":"ROW()","v":855}]
[{"$f":"ROW()","v":856}]
[{"$f":"ROW()","v":857}]
[{"$f":"ROW()","v":858}]
[{"$f":"ROW()","v":859}]
[{"$f":"ROW()","v":860}]
[{"$f":"ROW()","v":861}]
[{"$f":"ROW()","v":862}]
[{"$f":"ROW()","v":863}]
[{"$f":"ROW()","v":864}]
[{"$f":"ROW()","v":865}]
[{"$f":"ROW()","v":866}]
[{"$f":"ROW()","v":867}]
[{"$f":"ROW()","v":868}]
[{"$f":"ROW()","v":869}]
[{"$f":"ROW()","v":870}]
[{"$f":"ROW()","v":871}]
[{"$f":"ROW()","v":872}]
[{"$f":"ROW()","v":873}]
[{"$f":"ROW()","v":874}]
[{"$f":"ROW()","v":875}]
[{"$f":"ROW()","v":876}]
[{"$f":"ROW()","v":877}]
[{"$f":"ROW()","v":878}]
[{"$f":"ROW()","v":879}]
[{"$f":"ROW()","v":880}]
[{"$f":"ROW()","v":881}]
[{"$f":"ROW()","v":882}]
[{"$f":"ROW()","v":883}]
[{"$f":"ROW()","v":884}]
[{"$f":"ROW()","v":885}]
[{"$f":"ROW()","v":886}]
[{"$f":"ROW()","v":887}]
[{"$f":"ROW()","v":888}]
[{"$f":"ROW()","v":889}]
[{"$f":"ROW()","v":890}]
[{"$f":"ROW()","v":891}]
[{"$f":"ROW()","v":892}]
[{"$f":"ROW()","v":893}]
[{"$f":"ROW()","v":894}]
[{"$f":"ROW()","v":895}]
[{"$f":"ROW()","v":896}]
[{"$f":"ROW()","v":897}]
[{"$f":"ROW()","v":898}]
[{"$f":"ROW()","v":899}]
[{"$f":"ROW()","v":900}]
[{"$f":"ROW()","v":901}]
[{"$f":"ROW()","v":902}]
[{"$f":"ROW()","v":903}]
[{"$f":"ROW()","v":904}]
[{"$f":"ROW()","v":905}]
[{"$f":"ROW()","v":906}]
[{"$f":"ROW()","v":907}]
[{"$f":"ROW()","v":908}]
[{"$f":"ROW()","v":909}]
[{"$f":"ROW()","v":910}]
[{"$f":"ROW()","v":911}]
[{"$f":"ROW()","v":912}]
[{"$f":"ROW()","v":913}]
[{"$f":"ROW()","v":914}]
[{"$f":"ROW()","v":915}]
[{"$f":"ROW()","v":916}]
[{"$f":"ROW()","v":917}]
[{"$f":"ROW()","v":918}]
[{"$f":"ROW()","v":919}]
[{"$f":"ROW()","v":920}]
[{"$f":"ROW()","v":921}]
[{"$f":"ROW()","v":922}]
[{"$f":"ROW()","v":923}]
[{"$f":"ROW()","v":924}]
[{"$f":"ROW()","v":925}]
[{"$f":"ROW()","v":926}]
[{"$f":"ROW()","v":927}]
[{"$f":"ROW()","v":928}]
[{"$f":"ROW()","v":929}]
[{"$f":"ROW()","v":930}]
[{"$f":"ROW()","v":931}]
[{"$f":"ROW()","v":932}]
[{"$f":"ROW()","v":933}]
[{"$f":"ROW()","v":934}]
[{"$f":"ROW()","v":935}]
[{"$f":"ROW()","v":936}]
[{"$f":"ROW()","v":937}]
[{"$f":"ROW()","v":938}]
[{"$f":"ROW()","v":939}]
[{"$f":"ROW()","v":940}]
[{"$f":"ROW()","v":941}]
[{"$f":"ROW()","v":942}]
[{"$f":"ROW()","v":943}]
[{"$f":"ROW()","v":944}]
[{"$f":"ROW()","v":945}]
[{"$f":"ROW()","v":946}]
[{"$f":"ROW()","v":947}]
[{"$f":"ROW()","v":948}]
[{"$f":"ROW()","v":949}]
[{"$f":"ROW()","v":950}]
[{"$f":"ROW()","v":951}]
[{"$f":"ROW()","v":952}]
[{"$f":"ROW()","v":953}]
[{"$f":"ROW()","v":954}]
[{"$f":"ROW()","v":955}]
[{"$f":"ROW()","v":956}]
[{"$f":"ROW()","v":957}]
[{"$f":"ROW()","v":958}]
[{"$f":"ROW()","v":959}]
[{"$f":"ROW()","v":960}]
[{"$f":"ROW()","v":961}]
[{"$f":"ROW()","v":962}]
[{"$f":"ROW()","v":963}]
[{"$f":"ROW()","v":964}]
[{"$f":"ROW()","v":965}]
[{"$f":"ROW()","v":966}]
[{"$f":"ROW()","v":967}]
[{"$f":"ROW()","v":968}]
[{"$f":"ROW()","v":969}]
[{"$f":"ROW()","v":970}]
[{"$f":"ROW()","v":971}]
[{"$f":"ROW()","v":972}]
[{"$f":"ROW()","v":973}]
[{"$f":"ROW()","v":974}]
[{"$f":"ROW()","v":975}]
[{"$f":"ROW()","v":976}]
[{"$f":"ROW()","v":977}]
[{"$f":"ROW()","v":978}]
[{"$f":"ROW()","v":979}]
[{"$f":"ROW()","v":980}]
[{"$f":"ROW()","v":981}]
[{"$f":"ROW()","v":982}]
[{"$f":"ROW()","v":983}]
[{"$f":"ROW()","v":984}]
[{"$f":"ROW()","v":985}]
[{"$f":"ROW()","v":986}]
[{"$f":"ROW()","v":987}]
[{"$f":"ROW()","v":988}]
[{"$f":"ROW()","v":989}]
[{"$f":"ROW()","v":990}]
[{"$f":"ROW()","v":991}]
[{"$f":"ROW()","v":992}]
[{"$f":"ROW()","v":993}]
[{"$f":"ROW()","v":994}]
[{"$f":"ROW()","v":995}]
[{"$f":"ROW()","v":996}]
[{"$f":"ROW()","v":997}]
[{"$f":"ROW()","v":998}]
[{"$f":"ROW()","v":999}]
[{"$f":"ROW()","v":1000}]
[{"$f":"ROW()","v":1001}]
[{"$f":"ROW()","v":1002}]
[{"$f":"ROW()","v":1003}]
[{"$f":"ROW()","v":1004}]
[{"$f":"ROW()","v":1005}]
[{"$f":"ROW()","v":1006}]
[{"$f":"ROW()","v":1007}]
[{"$f":"ROW()","v":1008}]
[{"$f":"ROW()","v":1009}]
[{"$f":"ROW()","v":1010}]
[{"$f":"ROW()","v":1011}]
[{"$f":"ROW()","v":1012}]
[{"$f":"ROW()","v":1013}]
[{"$f":"ROW()","v":1014}]
[{"$f":"ROW()","v":1015}]
[{"$f":"ROW()","v":1016}]
[{"$f":"ROW()","v":1017}]
[{"$f":"ROW()","v":1018}]
[{"$f":"ROW()","v":1019}]
[{"$f":"ROW()","v":1020}]
[{"$f":"ROW()","v":1021}]
[{"$f":"ROW()","v":1022}]
[{"$f":"ROW()","v":1023}]
[{"$f":"ROW()","v":1024}]
[{"$f":"ROW()","v":1025}]
[{"$f":"ROW()","v":1026}]
[{"$f":"ROW()","v":1027}]
[{"$f":"ROW()","v":1028}]
[{"$f":"ROW()","v":1029}]
[{"$f":"ROW()","v":1030}]
[{"$f":"ROW()","v":1031}]
[{"$f":"ROW()","v":1032}]
[{"$f":"ROW()","v":1033}]
[{"$f":"ROW()","v":1034}]
[{"$f":"ROW()","v":1035}]
[{"$f":"ROW()","v":1036}]
[{"$f":"ROW()","v":1037}]
[{"$f":"ROW()","v":1038}]
[{"$f":"ROW()","v":1039}]
[{"$f":"ROW()","v":1040}]
[{"$f":"ROW()","v":1041}]
[{"$f":"ROW()","v":1042}]
[{"$f":"ROW()","v":1043}]
[{"$f":"ROW()","v":1044}]
[{"$f":"ROW()","v":1045}]
[{"$f":"ROW()","v":1046}]
[{"$f":"ROW()","v":1047}]
[{"$f":"ROW()","v":1048}]
[{"$f":"ROW()","v":1049}]
[{"$f":"ROW()","v":1050}]
[{"$f":"ROW()","v":1051}]
[{"$f":"ROW()","v":1052}]
[{"$f":"ROW()","v":1053}]
[{"$f":"ROW()","v":1054}]
[{"$f":"ROW()","v":1055}]
[{"$f":"ROW()","v":1056}]
[{"$f":"ROW()","v":1057}]
[{"$f":"ROW()","v":1058}]
[{"$f":"ROW()","v":1059}]
[{"$f":"ROW()","v":1060}]
[{"$f":"ROW()","v":1061}]
[{"$f":"ROW()","v":1062}]
[{"$f":"ROW()","v":1063}]
[{"$f":"ROW()","v":1064}]
[{"$f":"ROW()","v":1065}]
[{"$f":"ROW()","v":1066}]
[{"$f":"ROW()","v":1067}]
[{"$f":"ROW()","v":1068}]
[{"$f":"ROW()","v":1069}]
[{"$f":"ROW()","v":1070}]
[{"$f":"ROW()","v":1071}]
[{"$f":"ROW()","v":1072}]
[{"$f":"ROW()","v":1073}]
[{"$f":"ROW()","v":1074}]
[{"$f":"ROW()","v":1075}]
[{"$f":"ROW()","v":1076}]
[{"$f":"ROW()","v":1077}]
[{"$f":"ROW()","v":1078}]
[{"$f":"ROW()","v":1079}]
[{"$f":"ROW()","v":1080}]
[{"$f":"ROW()","v":1081}]
[{"$f":"ROW()","v":1082}]
[{"$f":"ROW()","v":1083}]
[{"$f":"ROW()","v":1084}]
[{"$f":"ROW()","v":1085}]
[{"$f":"ROW()","v":1086}]
[{"$f":"ROW()","v":1087}]
[{"$f":"ROW()","v":1088}]
[{"$f":"ROW()","v":1089}]
[{"$f":"ROW()","v":1090}]
[{"$f":"ROW()","v":1091}]
[{"$f":"ROW()","v":1092}]
[{"$f":"ROW()","v":1093}]
[{"$f":"ROW()","v":1094}]
[{"$f":"ROW()","v":1095}]
[{"$f":"ROW()","v":1096}]
[{"$f":"ROW()","v":1097}]
[{"$f":"ROW()","v":1098}]
[{"$f":"ROW()","v":1099}]
[{"$f":"ROW()","v":1100}]
[{"$f":"ROW()","v":1101}]
[{"$f":"ROW()","v":1102}]
[{"$f":"ROW()","v":1103}]
[{"$f":"ROW()","v":1104}]
[{"$f":"ROW()","v":1105}]
[{"$f":"ROW()","v":1106}]
[{"$f":"ROW()","v":1107}]
[{"$f":"ROW()","v":1108}]
[{"$f":"ROW()","v":1109}]
[{"$f":"ROW()","v":1110}]
[{"$f":"ROW()","v":1111}]
[{"$f":"ROW()","v":1112}]
[{"$f":"ROW()","v":1113}]
[{"$f":"ROW()","v":1114}]
[{"$f":"ROW()","v":1115}]
[{"$f":"ROW()","v":1116}]
[{"$f":"ROW()","v":1117}]
[{"$f":"ROW()","v":1118}]
[{"$f":"ROW()","v":1119}]
[{"$f":"ROW()","v":1120}]
[{"$f":"ROW()","v":1121}]
[{"$f":"ROW()","v":1122}]
[{"$f":"ROW()","v":1123}]
[{"$f":"ROW()","v":1124}]
[{"$f":"ROW()","v":1125}]
[{"$f":"ROW()","v":1126}]
[{"$f":"ROW()","v":1127}]
[{"$f":"ROW()","v":1128}]
[{"$f":"ROW()","v":1129}]
[{"$f":"ROW()","v":1130}]
[{"$f":"ROW()","v":1131}]
[{"$f":"ROW()","v":1132}]
[{"$f":"ROW()","v":1133}]
[{"$f":"ROW()","v":1134}]
[{"$f":"ROW()","v":1135}]
[{"$f":"ROW()","v":1136}]
[{"$f":"ROW()","v":1137}]
[{"$f":"ROW()","v":1138}]
[{"$f":"ROW()","v":1139}]
[{"$f":"ROW()","v":1140}]
[{"$f":"ROW()","v":1141}]
[{"$f":"ROW()","v":1142}]
[{"$f":"ROW()","v":1143}]
[{"$f":"ROW()","v":1144}]
[{"$f":"ROW()","v":1145}]
[{"$f":"ROW()","v":1146}]
[{"$f":"ROW()","v":1147}]
[{"$f":"ROW()","v":1148}]
[{"$f":"ROW()","v":1149}]
[{"$f":"ROW()","v":1150}]
[{"$f":"ROW()","v":1151}]
[{"$f":"ROW()","v":1152}]
[{"$f":"ROW()","v":1153}]
[{"$f":"ROW()","v":1154}]
[{"$f":"ROW()","v":1155}]
[{"$f":"ROW()","v":1156}]
[{"$f":"ROW()","v":1157}]
[{"$f":"ROW()","v":1158}]
[{"$f":"ROW()","v":1159}]
[{"$f":"ROW()","v":1160}]
[{"$f":"ROW()","v":1161}]
[{"$f":"ROW()","v":1162}]
[{"$f":"ROW()","v":1163}]
[{"$f":"ROW()","v":1164}]
[{"$f":"ROW()","v":1165}]
[{"$f":"ROW()","v":1166}]
[{"$f":"ROW()","v":1167}]
[{"$f":"ROW()","v":1168}]
[{"$f":"ROW()","v":1169}]
[{"$f":"ROW()","v":1170}]
[{"$f":"ROW()","v":1171}]
[{"$f":"ROW()","v":1172}]
[{"$f":"ROW()","v":1173}]
[{"$f":"ROW()","v":1174}]
[{"$f":"ROW()","v":1175}]
[{"$f":"ROW()","v":1176}]
[{"$f":"ROW()","v":1177}]
[{"$f":"ROW()","v":1178}]
[{"$f":"ROW()","v":1179}]
[{"$f":"ROW()","v":1180}]
[{"$f":"ROW()","v":1181}]
[{"$f":"ROW()","v":1182}]
[{"$f":"ROW()","v":1183}]
[{"$f":"ROW()","v":1184}]
[{"$f":"ROW()","v":1185}]
[{"$f":"ROW()","v":1186}]
[{"$f":"ROW()","v":1187}]
[{"$f":"ROW()","v":1188}]
[{"$f":"ROW()","v":1189}]
[{"$f":"ROW()","v":1190}]
[{"$f":"ROW()","v":1191}]
[{"$f":"ROW()","v":1192}]
[{"$f":"ROW()","v":1193}]
[{"$f":"ROW()","v":1194}]
[{"$f":"ROW()","v":1195}]
[{"$f":"ROW()","v":1196}]
[{"$f":"ROW()","v":1197}]
[{"$f":"ROW()","v":1198}]
[{"$f":"ROW()","v":1199}]
[{"$f":"ROW()","v":1200}]
[{"$f":"ROW()","v":1201}]
[{"$f":"ROW()","v":1202}]
[{"$f":"ROW()","v":1203}]
[{"$f":"ROW()","v":1204}]
[{"$f":"ROW()","v":1205}]
[{"$f":"ROW()","v":1206}]
[{"$f":"ROW()","v":1207}]
[{"$f":"ROW()","v":1208}]
[{"$f":"ROW()","v":1209}]
[{"$f":"ROW()","v":1210}]
[{"$f":"ROW()","v":1211}]
[{"$f":"ROW()","v":1212}]
[{"$f":"ROW()","v":1213}]
[{"$f":"ROW()","v":1214}]
[{"$f":"ROW()","v":1215}]
[{"$f":"ROW()","v":1216}]
[{"$f":"ROW()","v":1217}]
[{"$f":"ROW()","v":1218}]
[{"$f":"ROW()","v":1219}]
[{"$f":"ROW()","v":1220}]
[{"$f":"ROW()","v":1221}]
[{"$f":"ROW()","v":1222}]
[{"$f":"ROW()","v":1223}]
[{"$f":"ROW()","v":1224}]
[{"$f":"ROW()","v":1225}]
[{"$f":"ROW()","v":1226}]
[{"$f":"ROW()","v":1227}]
[{"$f":"ROW()","v":1228}]
[{"$f":"ROW()","v":1229}]
[{"$f":"ROW()","v":1230}]
[{"$f":"ROW()","v":1231}]
[{"$f":"ROW()","v":1232}]
[{"$f":"ROW()","v":1233}]
[{"$f":"ROW()","v":1234}]
[{"$f":"ROW()","v":1235}]
[{"$f":"ROW()","v":1236}]
[{"$f":"ROW()","v":1237}]
[{"$f":"ROW()","v":1238}]
[{"$f":"ROW()","v":1239}]
[{"$f":"ROW()","v":1240}]
[{"$f":"ROW()","v":1241}]
[{"$f":"ROW()","v":1242}]
[{"$f":"ROW()","v":1243}]
[{"$f":"ROW()","v":1244}]
[{"$f":"ROW()","v":1245}]
[{"$f":"ROW()","v":1246}]
[{"$f":"ROW()","v":1247}]
[{"$f":"ROW()","v":1248}]
[{"$f":"ROW()","v":1249}]
[{"$f":"ROW()","v":1250}]
[{"$f":"ROW()","v":1251}]
[{"$f":"ROW()","v":1252}]
[{"$f":"ROW()","v":1253}]
[{"$f":"ROW()","v":1254}]
[{"$f":"ROW()","v":1255}]
[{"$f":"ROW()","v":1256}]
[{"$f":"ROW()","v":1257}]
[{"$f":"ROW()","v":1258}]
[{"$f":"ROW()","v":1259}]
[{"$f":"ROW()","v":1260}]
[{"$f":"ROW()","v":1261}]
[{"$f":"ROW()","v":1262}]
[{"$f":"ROW()","v":1263}]
[{"$f":"ROW()","v":1264}]
[{"$f":"ROW()","v":1265}]
[{"$f":"ROW()","v":1266}]
[{"$f":"ROW()","v":1267}]
[{"$f":"ROW()","v":1268}]
[{"$f":"ROW()","v":1269}]
[{"$f":"ROW()","v":1270}]
[{"$f":"ROW()","v":1271}]
[{"$f":"ROW()","v":1272}]
[{"$f":"ROW()","v":1273}]
[{"$f":"ROW()","v":1274}]
[{"$f":"ROW()","v":1275}]
[{"$f":"ROW()","v":1276}]
[{"$f":"ROW()","v":1277}]
[{"$f":"ROW()","v":1278}]
[{"$f":"ROW()","v":1279}]
[{"$f":"ROW()","v":1280}]
[{"$f":"ROW()","v":1281}]
[{"$f":"ROW()","v":1282}]
[{"$f":"ROW()","v":1283}]
[{"$f":"ROW()","v":1284}]
[{"$f":"ROW()","v":1285}]
[{"$f":"ROW()","v":1286}]
[{"$f":"ROW()","v":1287}]
[{"$f":"ROW()","v":1288}]
[{"$f":"ROW()","v":1289}]
[{"$f":"ROW()","v":1290}]
[{"$f":"ROW()","v":1291}]
[{"$f":"ROW()","v":1292}]
[{"$f":"ROW()","v":1293}]
[{"$f":"ROW()","v":1294}]
[{"$f":"ROW()","v":1295}]
[{"$f":"ROW()","v":1296}]
[{"$f":"ROW()","v":1297}]
[{"$f":"ROW()","v":1298}]
[{"$f":"ROW()","v":1299}]
[{"$f":"ROW()","v":1300}]
[{"$f":"ROW()","v":1301}]
[{"$f":"ROW()","v":1302}]
[{"$f":"ROW()","v":1303}]
[{"$f":"ROW()","v":1304}]
[{"$f":"ROW()","v":1305}]
[{"$f":"ROW()","v":1306}]
[{"$f":"ROW()","v":1307}]
[{"$f":"ROW()","v":1308}]
[{"$f":"ROW()","v":1309}]
[{"$f":"ROW()","v":1310}]
[{"$f":"ROW()","v":1311}]
[{"$f":"ROW()","v":1312}]
[{"$f":"ROW()","v":1313}]
[{"$f":"ROW()","v":1314}]
[{"$f":"ROW()","v":1315}]
[{"$f":"ROW()","v":1316}]
[{"$f":"ROW()","v":1317}]
[{"$f":"ROW()","v":1318}]
[{"$f":"ROW()","v":1319}]
[{"$f":"ROW()","v":1320}]
[{"$f":"ROW()","v":1321}]
[{"$f":"ROW()","v":1322}]
[{"$f":"ROW()","v":1323}]
[{"$f":"ROW()","v":1324}]
[{"$f":"ROW()","v":1325}]
[{"$f":"ROW()","v":1326}]
[{"$f":"ROW()","v":1327}]
[{"$f":"ROW()","v":1328}]
[{"$f":"ROW()","v":1329}]
[{"$f":"ROW()","v":1330}]
[{"$f":"ROW()","v":1331}]
[{"$f":"ROW()","v":1332}]
[{"$f":"ROW()","v":1333}]
[{"$f":"ROW()","v":1334}]
[{"$f":"ROW()","v":1335}]
[{"$f":"ROW()","v":1336}]
[{"$f":"ROW()","v":1337}]
[{"$f":"ROW()","v":1338}]
[{"$f":"ROW()","v":1339}]
[{"$f":"ROW()","v":1340}]
[{"$f":"ROW()","v":1341}]
[{"$f":"ROW()","v":1342}]
[{"$f":"ROW()","v":1343}]
[{"$f":"ROW()","v":1344}]
[{"$f":"ROW()","v":1345}]
[{"$f":"ROW()","v":1346}]
[{"$f":"ROW()","v":1347}]
[{"$f":"ROW()","v":1348}]
[{"$f":"ROW()","v":1349}]
[{"$f":"ROW()","v":1350}]
[{"$f":"ROW()","v":1351}]
[{"$f":"ROW()","v":1352}]
[{"$f":"ROW()","v":1353}]
[{"$f":"ROW()","v":1354}]
[{"$f":"ROW()","v":1355}]
[{"$f":"ROW()","v":1356}]
[{"$f":"ROW()","v":1357}]
[{"$f":"ROW()","v":1358}]
[{"$f":"ROW()","v":1359}]
[{"$f":"ROW()","v":1360}]
[{"$f":"ROW()","v":1361}]
[{"$f":"ROW()","v":1362}]
[{"$f":"ROW()","v":1363}]
[{"$f":"ROW()","v":1364}]
[{"$f":"ROW()","v":1365}]
[{"$f":"ROW()","v":1366}]
[{"$f":"ROW()","v":1367}]
[{"$f":"ROW()","v":1368}]
[{"$f":"ROW()","v":1369}]
[{"$f":"ROW()","v":1370}]
[{"$f":"ROW()","v":1371}]
[{"$f":"ROW()","v":1372}]
[{"$f":"ROW()","v":1373}]
[{"$f":"ROW()","v":1374}]
[{"$f":"ROW()","v":1375}]
[{"$f":"ROW()","v":1376}]
[{"$f":"ROW()","v":1377}]
[{"$f":"ROW()","v":1378}]
[{"$f":"ROW()","v":1379}]
[{"$f":"ROW()","v":1380}]
[{"$f":"ROW()","v":1381}]
[{"$f":"ROW()","v":1382}]
[{"$f":"ROW()","v":1383}]
[{"$f":"ROW()","v":1384}]
[{"$f":"ROW()","v":1385}]
[{"$f":"ROW()","v":1386}]
[{"$f":"ROW()","v":1387}]
[{"$f":"ROW()","v":1388}]
[{"$f":"ROW()","v":1389}]
[{"$f":"ROW()","v":1390}]
[{"$f":"ROW()","v":1391}]
[{"$f":"ROW()","v":1392}]
[{"$f":"ROW()","v":1393}]
[{"$f":"ROW()","v":1394}]
[{"$f":"ROW()","v":1395}]
[{"$f":"ROW()","v":1396}]
[{"$f":"ROW()","v":1397}]
[{"$f":"ROW()","v":1398}]
[{"$f":"ROW()","v":1399}]
[{"$f":"ROW()","v":1400}]
[{"$f":"ROW()","v":1401}]
[{"$f":"ROW()","v":1402}]
[{"$f":"ROW()","v":1403}]
[{"$f":"ROW()","v":1404}]
[{"$f":"ROW()","v":1405}]
[{"$f":"ROW()","v":1406}]
[{"$f":"ROW()","v":1407}]
[{"$f":"ROW()","v":1408}]
[{"$f":"ROW()","v":1409}]
[{"$f":"ROW()","v":1410}]
[{"$f":"ROW()","v":1411}]
[{"$f":"ROW()","v":1412}]
[{"$f":"ROW()","v":1413}]
[{"$f":"ROW()","v":1414}]
[{"$f":"ROW()","v":1415}]
[{"$f":"ROW()","v":1416}]
[{"$f":"ROW()","v":1417}]
[{"$f":"ROW()","v":1418}]
[{"$f":"ROW()","v":1419}]
[{"$f":"ROW()","v":1420}]
[{"$f":"ROW()","v":1421}]
[{"$f":"ROW()","v":1422}]
[{"$f":"ROW()","v":1423}]
[{"$f":"ROW()","v":1424}]
[{"$f":"ROW()","v":1425}]
[{"$f":"ROW()","v":1426}]
[{"$f":"ROW()","v":1427}]
[{"$f":"ROW()","v":1428}]
[{"$f":"ROW()","v":1429}]
[{"$f":"ROW()","v":1430}]
[{"$f":"ROW()","v":1431}]
[{"$f":"ROW()","v":1432}]
[{"$f":"ROW()","v":1433}]
[{"$f":"ROW()","v":1434}]
[{"$f":"ROW()","v":1435}]
[{"$f":"ROW()","v":1436}]
[{"$f":"ROW()","v":1437}]
[{"$f":"ROW()","v":1438}]
[{"$f":"ROW()","v":1439}]
[{"$f":"ROW()","v":1440}]
[{"$f":"ROW()","v":1441}]
[{"$f":"ROW()","v":1442}]
[{"$f":"ROW()","v":1443}]
[{"$f":"ROW()","v":1444}]
[{"$f":"ROW()","v":1445}]
[{"$f":"ROW()","v":1446}]
[{"$f":"ROW()","v":1447}]
[{"$f":"ROW()","v":1448}]
[{"$f":"ROW()","v":1449}]
[{"$f":"ROW()","v":1450}]
[{"$f":"ROW()","v":1451}]
[{"$f":"ROW()","v":1452}]
[{"$f":"ROW()","v":1453}]
[{"$f":"ROW()","v":1454}]
[{"$f":"ROW()","v":1455}]
[{"$f":"ROW()","v":1456}]
[{"$f":"ROW()","v":1457}]
[{"$f":"ROW()","v":1458}]
[{"$f":"ROW()","v":1459}]
[{"$f":"ROW()","v":1460}]
[{"$f":"ROW()","v":1461}]
[{"$f":"ROW()","v":1462}]
[{"$f":"ROW()","v":1463}]
[{"$f":"ROW()","v":1464}]
[{"$f":"ROW()","v":1465}]
[{"$f":"ROW()","v":1466}]
[{"$f":"ROW()","v":1467}]
[{"$f":"ROW()","v":1468}]
[{"$f":"ROW()","v":1469}]
[{"$f":"ROW()","v":1470}]
[{"$f":"ROW()","v":1471}]
[{"$f":"ROW()","v":1472}]
[{"$f":"ROW()","v":1473}]
[{"$f":"ROW()","v":1474}]
[{"$f":"ROW()","v":1475}]
[{"$f":"ROW()","v":1476}]
[{"$f":"ROW()","v":1477}]
[{"$f":"ROW()","v":1478}]
[{"$f":"ROW()","v":1479}]
[{"$f":"ROW()","v":1480}]
[{"$f":"ROW()","v":1481}]
[{"$f":"ROW()","v":1482}]
[{"$f":"ROW()","v":1483}]
[{"$f":"ROW()","v":1484}]
[{"$f":"ROW()","v":1485}]
[{"$f":"ROW()","v":1486}]
[{"$f":"ROW()","v":1487}]
[{"$f":"ROW()","v":1488}]
[{"$f":"ROW()","v":1489}]
[{"$f":"ROW()","v":1490}]
[{"$f":"ROW()","v":1491}]
[{"$f":"ROW()","v":1492}]
[{"$f":"ROW()","v":1493}]
[{"$f":"ROW()","v":1494}]
[{"$f":"ROW()","v":1495}]
[{"$f":"ROW()","v":1496}]
[{"$f":"ROW()","v":1497}]
[{"$f":"ROW()","v":1498}]
[{"$f":"ROW()","v":1499}]
[{"$f":"ROW()","v":1500}]
[{"$f":"ROW()","v":1501}]
[{"$f":"ROW()","v":1502}]
[{"$f":"ROW()","v":1503}]
[{"$f":"ROW()","v":1504}]
[{"$f":"ROW()","v":1505}]
[{"$f":"ROW()","v":1506}]
[{"$f":"ROW()","v":1507}]
[{"$f":"ROW()","v":1508}]
[{"$f":"ROW()","v":1509}]
[{"$f":"ROW()","v":1510}]
[{"$f":"ROW()","v":1511}]
[{"$f":"ROW()","v":1512}]
[{"$f":"ROW()","v":1513}]
[{"$f":"ROW()","v":1514}]
[{"$f":"ROW()","v":1515}]
[{"$f":"ROW()","v":1516}]
[{"$f":"ROW()","v":1517}]
[{"$f":"ROW()","v":1518}]
[{"$f":"ROW()","v":1519}]
[{"$f":"ROW()","v":1520}]
[{"$f":"ROW()","v":1521}]
[{"$f":"ROW()","v":1522}]
[{"$f":"ROW()","v":1523}]
[{"$f":"ROW()","v":1524}]
[{"$f":"ROW()","v":1525}]
[{"$f":"ROW()","v":1526}]
[{"$f":"ROW()","v":1527}]
[{"$f":"ROW()","v":1528}]
[{"$f":"ROW()","v":1529}]
[{"$f":"ROW()","v":1530}]
[{"$f":"ROW()","v":1531}]
[{"$f":"ROW()","v":1532}]
[{"$f":"ROW()","v":1533}]
[{"$f":"ROW()","v":1534}]
[{"$f":"ROW()","v":1535}]
[{"$f":"ROW()","v":1536}]
[{"$f":"ROW()","v":1537}]
[{"$f":"ROW()","v":1538}]
[{"$f":"ROW()","v":1539}]
[{"$f":"ROW()","v":1540}]
[{"$f":"ROW()","v":1541}]
[{"$f":"ROW()","v":1542}]
[{"$f":"ROW()","v":1543}]
[{"$f":"ROW()","v":1544}]
[{"$f":"ROW()","v":1545}]
[{"$f":"ROW()","v":1546}]
[{"$f":"ROW()","v":1547}]
[{"$f":"ROW()","v":1548}]
[{"$f":"ROW()","v":1549}]
[{"$f":"ROW()","v":1550}]
[{"$f":"ROW()","v":1551}]
[{"$f":"ROW()","v":1552}]
[{"$f":"ROW()","v":1553}]
[{"$f":"ROW()","v":1554}]
[{"$f":"ROW()","v":1555}]
[{"$f":"ROW()","v":1556}]
[{"$f":"ROW()","v":1557}]
[{"$f":"ROW()","v":1558}]
[{"$f":"ROW()","v":1559}]
[{"$f":"ROW()","v":1560}]
[{"$f":"ROW()","v":1561}]
[{"$f":"ROW()","v":1562}]
[{"$f":"ROW()","v":1563}]
[{"$f":"ROW()","v":1564}]
[{"$f":"ROW()","v":1565}]
[{"$f":"ROW()","v":1566}]
[{"$f":"ROW()","v":1567}]
[{"$f":"ROW()","v":1568}]
[{"$f":"ROW()","v":1569}]
[{"$f":"ROW()","v":1570}]
[{"$f":"ROW()","v":1571}]
[{"$f":"ROW()","v":1572}]
[{"$f":"ROW()","v":1573}]
[{"$f":"ROW()","v":1574}]
[{"$f":"ROW()","v":1575}]
[{"$f":"ROW()","v":1576}]
[{"$f":"ROW()","v":1577}]
[{"$f":"ROW()","v":1578}]
[{"$f":"ROW()","v":1579}]
[{"$f":"ROW()","v":1580}]
[{"$f":"ROW()","v":1581}]
[{"$f":"ROW()","v":1582}]
[{"$f":"ROW()","v":1583}]
[{"$f":"ROW()","v":1584}]
[{"$f":"ROW()","v":1585}]
[{"$f":"ROW()","v":1586}]
[{"$f":"ROW()","v":1587}]
[{"$f":"ROW()","v":1588}]
[{"$f":"ROW()","v":1589}]
[{"$f":"ROW()","v":1590}]
[{"$f":"ROW()","v":1591}]
[{"$f":"ROW()","v":1592}]
[{"$f":"ROW()","v":1593}]
[{"$f":"ROW()","v":1594}]
[{"$f":"ROW()","v":1595}]
[{"$f":"ROW()","v":1596}]
[{"$f":"ROW()","v":1597}]
[{"$f":"ROW()","v":1598}]
[{"$f":"ROW()","v":1599}]
[{"$f":"ROW()","v":1600}]
[{"$f":"ROW()","v":1601}]
[{"$f":"ROW()","v":1602}]
[{"$f":"ROW()","v":1603}]
[{"$f":"ROW()","v":1604}]
[{"$f":"ROW()","v":1605}]
[{"$f":"ROW()","v":1606}]
[{"$f":"ROW()","v":1607}]
[{"$f":"ROW()","v":1608}]
[{"$f":"ROW()","v":1609}]
[{"$f":"ROW()","v":1610}]
[{"$f":"ROW()","v":1611}]
[{"$f":"ROW()","v":1612}]
[{"$f":"ROW()","v":1613}]
[{"$f":"ROW()","v":1614}]
[{"$f":"ROW()","v":1615}]
[{"$f":"ROW()","v":1616}]
[{"$f":"ROW()","v":1617}]
[{"$f":"ROW()","v":1618}]
[{"$f":"ROW()","v":1619}]
[{"$f":"ROW()","v":1620}]
[{"$f":"ROW()","v":1621}]
[{"$f":"ROW()","v":1622}]
[{"$f":"ROW()","v":1623}]
[{"$f":"ROW()","v":1624}]
[{"$f":"ROW()","v":1625}]
[{"$f":"ROW()","v":1626}]
[{"$f":"ROW()","v":1627}]
[{"$f":"ROW()","v":1628}]
[{"$f":"ROW()","v":1629}]
[{"$f":"ROW()","v":1630}]
[{"$f":"ROW()","v":1631}]
[{"$f":"ROW()","v":1632}]
[{"$f":"ROW()","v":1633}]
[{"$f":"ROW()","v":1634}]
[{"$f":"ROW()","v":1635}]
[{"$f":"ROW()","v":1636}]
[{"$f":"ROW()","v":1637}]
[{"$f":"ROW()","v":1638}]
[{"$f":"ROW()","v":1639}]
[{"$f":"ROW()","v":1640}]
[{"$f":"ROW()","v":1641}]
[{"$f":"ROW()","v":1642}]
[{"$f":"ROW()","v":1643}]
[{"$f":"ROW()","v":1644}]
[{"$f":"ROW()","v":1645}]
[{"$f":"ROW()","v":1646}]
[{"$f":"ROW()","v":1647}]
[{"$f":"ROW()","v":1648}]
[{"$f":"ROW()","v":1649}]
[{"$f":"ROW()","v":1650}]
[{"$f":"ROW()","v":1651}]
[{"$f":"ROW()","v":1652}]
[{"$f":"ROW()","v":1653}]
[{"$f":"ROW()","v":1654}]
[{"$f":"ROW()","v":1655}]
[{"$f":"ROW()","v":1656}]
[{"$f":"ROW()","v":1657}]
[{"$f":"ROW()","v":1658}]
[{"$f":"ROW()","v":1659}]
[{"$f":"ROW()","v":1660}]
[{"$f":"ROW()","v":1661}]
[{"$f":"ROW()","v":1662}]
[{"$f":"ROW()","v":1663}]
[{"$f":"ROW()","v":1664}]
[{"$f":"ROW()","v":1665}]
[{"$f":"ROW()","v":1666}]
[{"$f":"ROW()","v":1667}]
[{"$f":"ROW()","v":1668}]
[{"$f":"ROW()","v":1669}]
[{"$f":"ROW()","v":1670}]
[{"$f":"ROW()","v":1671}]
[{"$f":"ROW()","v":1672}]
[{"$f":"ROW()","v":1673}]
[{"$f":"ROW()","v":1674}]
[{"$f":"ROW()","v":1675}]
[{"$f":"ROW()","v":1676}]
[{"$f":"ROW()","v":1677}]
[{"$f":"ROW()","v":1678}]
[{"$f":"ROW()","v":1679}]
[{"$f":"ROW()","v":1680}]
[{"$f":"ROW()","v":1681}]
[{"$f":"ROW()","v":1682}]
[{"$f":"ROW()","v":1683}]
[{"$f":"ROW()","v":1684}]
[{"$f":"ROW()","v":1685}]
[{"$f":"ROW()","v":1686}]
[{"$f":"ROW()","v":1687}]
[{"$f":"ROW()","v":1688}]
[{"$f":"ROW()","v":1689}]
[{"$f":"ROW()","v":1690}]
[{"$f":"ROW()","v":1691}]
[{"$f":"ROW()","v":1692}]
[{"$f":"ROW()","v":1693}]
[{"$f":"ROW()","v":1694}]
[{"$f":"ROW()","v":1695}]
[{"$f":"ROW()","v":1696}]
[{"$f":"ROW()","v":1697}]
[{"$f":"ROW()","v":1698}]
[{"$f":"ROW()","v":1699}]
[{"$f":"ROW()","v":1700}]
[{"$f":"ROW()","v":1701}]
[{"$f":"ROW()","v":1702}]
[{"$f":"ROW()","v":1703}]
[{"$f":"ROW()","v":1704}]
[{"$f":"ROW()","v":1705}]
[{"$f":"ROW()","v":1706}]
[{"$f":"ROW()","v":1707}]
[{"$f":"ROW()","v":1708}]
[{"$f":"ROW()","v":1709}]
[{"$f":"ROW()","v":1710}]
[{"$f":"ROW()","v":1711}]
[{"$f":"ROW()","v":1712}]
[{"$f":"ROW()","v":1713}]
[{"$f":"ROW()","v":1714}]
[{"$f":"ROW()","v":1715}]
[{"$f":"ROW()","v":1716}]
[{"$f":"ROW()","v":1717}]
[{"$f":"ROW()","v":1718}]
[{"$f":"ROW()","v":1719}]
[{"$f":"ROW()","v":1720}]
[{"$f":"ROW()","v":1721}]
[{"$f":"ROW()","v":1722}]
[{"$f":"ROW()","v":1723}]
[{"$f":"ROW()","v":1724}]
[{"$f":"ROW()","v":1725}]
[{"$f":"ROW()","v":1726}]
[{"$f":"ROW()","v":1727}]
[{"$f":"ROW()","v":1728}]
[{"$f":"ROW()","v":1729}]
[{"$f":"ROW()","v":1730}]
[{"$f":"ROW()","v":1731}]
[{"$f":"ROW()","v":1732}]
[{"$f":"ROW()","v":1733}]
[{"$f":"ROW()","v":1734}]
[{"$f":"ROW()","v":1735}]
[{"$f":"ROW()","v":1736}]
[{"$f":"ROW()","v":1737}]
[{"$f":"ROW()","v":1738}]
[{"$f":"ROW()","v":1739}]
[{"$f":"ROW()","v":1740}]
[{"$f":"ROW()","v":1741}]
[{"$f":"ROW()","v":1742}]
[{"$f":"ROW()","v":1743}]
[{"$f":"ROW()","v":1744}]
[{"$f":"ROW()","v":1745}]
[{"$f":"ROW()","v":1746}]
[{"$f":"ROW()","v":1747}]
[{"$f":"ROW()","v":1748}]
[{"$f":"ROW()","v":1749}]
[{"$f":"ROW()","v":1750}]
[{"$f":"ROW()","v":1751}]
[{"$f":"ROW()","v":1752}]
[{"$f":"ROW()","v":1753}]
[{"$f":"ROW()","v":1754}]
[{"$f":"ROW()","v":1755}]
[{"$f":"ROW()","v":1756}]
[{"$f":"ROW()","v":1757}]
[{"$f":"ROW()","v":1758}]
[{"$f":"ROW()","v":1759}]
[{"$f":"ROW()","v":1760}]
[{"$f":"ROW()","v":1761}]
[{"$f":"ROW()","v":1762}]
[{"$f":"ROW()","v":1763}]
[{"$f":"ROW()","v":1764}]
[{"$f":"ROW()","v":1765}]
[{"$f":"ROW()","v":1766}]
[{"$f":"ROW()","v":1767}]
[{"$f":"ROW()","v":1768}]
[{"$f":"ROW()","v":1769}]
[{"$f":"ROW()","v":1770}]
[{"$f":"ROW()","v":1771}]
[{"$f":"ROW()","v":1772}]
[{"$f":"ROW()","v":1773}]
[{"$f":"ROW()","v":1774}]
[{"$f":"ROW()","v":1775}]
[{"$f":"ROW()","v":1776}]
[{"$f":"ROW()","v":1777}]
[{"$f":"ROW()","v":1778}]
[{"$f":"ROW()","v":1779}]
[{"$f":"ROW()","v":1780}]
[{"$f":"ROW()","v":1781}]
[{"$f":"ROW()","v":1782}]
[{"$f":"ROW()","v":1783}]
[{"$f":"ROW()","v":1784}]
[{"$f":"ROW()","v":1785}]
[{"$f":"ROW()","v":1786}]
[{"$f":"ROW()","v":1787}]
[{"$f":"ROW()","v":1788}]
[{"$f":"ROW()","v":1789}]
[{"$f":"ROW()","v":1790}]
[{"$f":"ROW()","v":1791}]
[{"$f":"ROW()","v":1792}]
[{"$f":"ROW()","v":1793}]
[{"$f":"ROW()","v":1794}]
[{"$f":"ROW()","v":1795}]
[{"$f":"ROW()","v":1796}]
[{"$f":"ROW()","v":1797}]
[{"$f":"ROW()","v":1798}]
[{"$f":"ROW()","v":1799}]
[{"$f":"ROW()","v":1800}]
[{"$f":"ROW()","v":1801}]
[{"$f":"ROW()","v":1802}]
[{"$f":"ROW()","v":1803}]
[{"$f":"ROW()","v":1804}]
[{"$f":"ROW()","v":1805}]
[{"$f":"ROW()","v":1806}]
[{"$f":"ROW()","v":1807}]
[{"$f":"ROW()","v":1808}]
[{"$f":"ROW()","v":1809}]
[{"$f":"ROW()","v":1810}]
[{"$f":"ROW()","v":1811}]
[{"$f":"ROW()","v":1812}]
[{"$f":"ROW()","v":1813}]
[{"$f":"ROW()","v":1814}]
[{"$f":"ROW()","v":1815}]
[{"$f":"ROW()","v":1816}]
[{"$f":"ROW()","v":1817}]
[{"$f":"ROW()","v":1818}]
[{"$f":"ROW()","v":1819}]
[{"$f":"ROW()","v":1820}]
[{"$f":"ROW()","v":1821}]
[{"$f":"ROW()","v":1822}]
[{"$f":"ROW()","v":1823}]
[{"$f":"ROW()","v":1824}]
[{"$f":"ROW()","v":1825}]
[{"$f":"ROW()","v":1826}]
[{"$f":"ROW()","v":1827}]
[{"$f":"ROW()","v":1828}]
[{"$f":"ROW()","v":1829}]
[{"$f":"ROW()","v":1830}]
[{"$f":"ROW()","v":1831}]
[{"$f":"ROW()","v":1832}]
[{"$f":"ROW()","v":1833}]
[{"$f":"ROW()","v":1834}]
[{"$f":"ROW()","v":1835}]
[{"$f":"ROW()","v":1836}]
[{"$f":"ROW()","v":1837}]
[{"$f":"ROW()","v":1838}]
[{"$f":"ROW()","v":1839}]
[{"$f":"ROW()","v":1840}]
[{"$f":"ROW()","v":1841}]
[{"$f":"ROW()","v":1842}]
[{"$f":"ROW()","v":1843}]
[{"$f":"ROW()","v":1844}]
[{"$f":"ROW()","v":1845}]
[{"$f":"ROW()","v":1846}]
[{"$f":"ROW()","v":1847}]
[{"$f":"ROW()","v":1848}]
[{"$f":"ROW()","v":1849}]
[{"$f":"ROW()","v":1850}]
[{"$f":"ROW()","v":1851}]
[{"$f":"ROW()","v":1852}]
[{"$f":"ROW()","v":1853}]
[{"$f":"ROW()","v":1854}]
[{"$f":"ROW()","v":1855}]
[{"$f":"ROW()","v":1856}]
[{"$f":"ROW()","v":1857}]
[{"$f":"ROW()","v":1858}]
[{"$f":"ROW()","v":1859}]
[{"$f":"ROW()","v":1860}]
[{"$f":"ROW()","v":1861}]
[{"$f":"ROW()","v":1862}]
[{"$f":"ROW()","v":1863}]
[{"$f":"ROW()","v":1864}]
[{"$f":"ROW()","v":1865}]
[{"$f":"ROW()","v":1866}]
[{"$f":"ROW()","v":1867}]
[{"$f":"ROW()","v":1868}]
[{"$f":"ROW()","v":1869}]
[{"$f":"ROW()","v":1870}]
[{"$f":"ROW()","v":1871}]
[{"$f":"ROW()","v":1872}]
[{"$f":"ROW()","v":1873}]
[{"$f":"ROW()","v":1874}]
[{"$f":"ROW()","v":1875}]
[{"$f":"ROW()","v":1876}]
[{"$f":"ROW()","v":1877}]
[{"$f":"ROW()","v":1878}]
[{"$f":"ROW()","v":1879}]
[{"$f":"ROW()","v":1880}]
[{"$f":"ROW()","v":1881}]
[{"$f":"ROW()","v":1882}]
[{"$f":"ROW()","v":1883}]
[{"$f":"ROW()","v":1884}]
[{"$f":"ROW()","v":1885}]
[{"$f":"ROW()","v":1886}]
[{"$f":"ROW()","v":1887}]
[{"$f":"ROW()","v":1888}]
[{"$f":"ROW()","v":1889}]
[{"$f":"ROW()","v":1890}]
[{"$f":"ROW()","v":1891}]
[{"$f":"ROW()","v":1892}]
[{"$f":"ROW()","v":1893}]
[{"$f":"ROW()","v":1894}]
[{"$f":"ROW()","v":1895}]
[{"$f":"ROW()","v":1896}]
[{"$f":"ROW()","v":1897}]
[{"$f":"ROW()","v":1898}]
[{"$f":"ROW()","v":1899}]
[{"$f":"ROW()","v":1900}]
[{"$f":"ROW()","v":1901}]
[{"$f":"ROW()","v":1902}]
[{"$f":"ROW()","v":1903}]
[{"$f":"ROW()","v":1904}]
[{"$f":"ROW()","v":1905}]
[{"$f":"ROW()","v":1906}]
[{"$f":"ROW()","v":1907}]
[{"$f":"ROW()","v":1908}]
[{"$f":"ROW()","v":1909}]
[{"$f":"ROW()","v":1910}]
[{"$f":"ROW()","v":1911}]
[{"$f":"ROW()","v":1912}]
[{"$f":"ROW()","v":1913}]
[{"$f":"ROW()","v":1914}]
[{"$f":"ROW()","v":1915}]
[{"$f":"ROW()","v":1916}]
[{"$f":"ROW()","v":1917}]
[{"$f":"ROW()","v":1918}]
[{"$f":"ROW()","v":1919}]
[{"$f":"ROW()","v":1920}]
[{"$f":"ROW()","v":1921}]
[{"$f":"ROW()","v":1922}]
[{"$f":"ROW()","v":1923}]
[{"$f":"ROW()","v":1924}]
[{"$f":"ROW()","v":1925}]
[{"$f":"ROW()","v":1926}]
[{"$f":"ROW()","v":1927}]
[{"$f":"ROW()","v":1928}]
[{"$f":"ROW()","v":1929}]
[{"$f":"ROW()","v":1930}]
[{"$f":"ROW()","v":1931}]
[{"$f":"ROW()","v":1932}]
[{"$f":"ROW()","v":1933}]
[{"$f":"ROW()","v":1934}]
[{"$f":"ROW()","v":1935}]
[{"$f":"ROW()","v":1936}]
[{"$f":"ROW()","v":1937}]
[{"$f":"ROW()","v":1938}]
[{"$f":"ROW()","v":1939}]
[{"$f":"ROW()","v":1940}]
[{"$f":"ROW()","v":1941}]
[{"$f":"ROW()","v":1942}]
[{"$f":"ROW()","v":1943}]
[{"$f":"ROW()","v":1944}]
[{"$f":"ROW()","v":1945}]
[{"$f":"ROW()","v":1946}]
[{"$f":"ROW()","v":1947}]
[{"$f":"ROW()","v":1948}]
[{"$f":"ROW()","v":1949}]
[{"$f":"ROW()","v":1950}]
[{"$f":"ROW()","v":1951}]
[{"$f":"ROW()","v":1952}]
[{"$f":"ROW()","v":1953}]
[{"$f":"ROW()","v":1954}]
[{"$f":"ROW()","v":1955}]
[{"$f":"ROW()","v":1956}]
[{"$f":"ROW()","v":1957}]
[{"$f":"ROW()","v":1958}]
[{"$f":"ROW()","v":1959}]
[{"$f":"ROW()","v":1960}]
[{"$f":"ROW()","v":1961}]
[{"$f":"ROW()","v":1962}]
[{"$f":"ROW()","v":1963}]
[{"$f":"ROW()","v":1964}]
[{"$f":"ROW()","v":1965}]
[{"$f":"ROW()","v":1966}]
[{"$f":"ROW()","v":1967}]
[{"$f":"ROW()","v":1968}]
[{"$f":"ROW()","v":1969}]
[{"$f":"ROW()","v":1970}]
[{"$f":"ROW()","v":1971}]
[{"$f":"ROW()","v":1972}]
[{"$f":"ROW()","v":1973}]
[{"$f":"ROW()","v":1974}]
[{"$f":"ROW()","v":1975}]
[{"$f":"ROW()","v":1976}]
[{"$f":"ROW()","v":1977}]
[{"$f":"ROW()","v":1978}]
[{"$f":"ROW()","v":1979}]
[{"$f":"ROW()","v":1980}]
[{"$f":"ROW()","v":1981}]
[{"$f":"ROW()","v":1982}]
[{"$f":"ROW()","v":1983}]
[{"$f":"ROW()","v":1984}]
[{"$f":"ROW()","v":1985}]
[{"$f":"ROW()","v":1986}]
[{"$f":"ROW()","v":1987}]
[{"$f":"ROW()","v":1988}]
[{"$f":"ROW()","v":1989}]
[{"$f":"ROW()","v":1990}]
[{"$f":"ROW()","v":1991}]
[{"$f":"ROW()","v":1992}]
[{"$f":"ROW()","v":1993}]
[{"$f":"ROW()","v":1994}]
[{"$f":"ROW()","v":1995}]
[{"$f":"ROW()","v":1996}]
[{"$f":"ROW()","v":1997}]
[{"$f":"ROW()","v":1998}]
[{"$f":"ROW()","v":1999}]
[{"$f":"ROW()","v":2000}]
[{"$f":"ROW()","v":2001}]
[{"$f":"ROW()","v":2002}]
[{"$f":"ROW()","v":2003}]
[{"$f":"ROW()","v":2004}]
[{"$f":"ROW()","v":2005}]
[{"$f":"ROW()","v":2006}]
[{"$f":"ROW()","v":2007}]
[{"$f":"ROW()","v":2008}]
[{"$f":"ROW()","v":2009}]
[{"$f":"ROW()","v":2010}]
[{"$f":"ROW()","v":2011}]
[{"$f":"ROW()","v":2012}]
[{"$f":"ROW()","v":2013}]
[{"$f":"ROW()","v":2014}]
[{"$f":"ROW()","v":2015}]
[{"$f":"ROW()","v":2016}]
[{"$f":"ROW()","v":2017}]
[{"$f":"ROW()","v":2018}]
[{"$f":"ROW()","v":2019}]
[{"$f":"ROW()","v":2020}]
[{"$f":"ROW()","v":2021}]
[{"$f":"ROW()","v":2022}]
[{"$f":"ROW()","v":2023}]
[{"$f":"ROW()","v":2024}]
[{"$f":"ROW()","v":2025}]
[{"$f":"ROW()","v":2026}]
[{"$f":"ROW()","v":2027}]
[{"$f":"ROW()","v":2028}]
[{"$f":"ROW()","v":2029}]
[{"$f":"ROW()","v":2030}]
[{"$f":"ROW()","v":2031}]
[{"$f":"ROW()","v":2032}]
[{"$f":"ROW()","v":2033}]
[{"$f":"ROW()","v":2034}]
[{"$f":"ROW()","v":2035}]
[{"$f":"ROW()","v":2036}]
[{"$f":"ROW()","v":2037}]
[{"$f":"ROW()","v":2038}]
[{"$f":"ROW()","v":2039}]
[{"$f":"ROW()","v":2040}]
[{"$f":"ROW()","v":2041}]
[{"$f":"ROW()","v":2042}]
[{"$f":"ROW()","v":2043}]
[{"$f":"ROW()","v":2044}]
[{"$f":"ROW()","v":2045}]
[{"$f":"ROW()","v":2046}]
[{"$f":"ROW()","v":2047}]
[{"$f":"ROW()","v":2048}]
[{"$f":"ROW()","v":2049}]
[{"$f":"ROW()","v":2050}]
[{"$f":"ROW()","v":2051}]
[{"$f":"ROW()","v":2052}]
[{"$f":"ROW()","v":2053}]
[{"$f":"ROW()","v":2054}]
[{"$f":"ROW()","v":2055}]
[{"$f":"ROW()","v":2056}]
[{"$f":"ROW()","v":2057}]
[{"$f":"ROW()","v":2058}]
[{"$f":"ROW()","v":2059}]
[{"$f":"ROW()","v":2060}]
[{"$f":"ROW()","v":2061}]
[{"$f":"ROW()","v":2062}]
[{"$f":"ROW()","v":2063}]
[{"$f":"ROW()","v":2064}]
[{"$f":"ROW()","v":2065}]
[{"$f":"ROW()","v":2066}]
[{"$f":"ROW()","v":2067}]
[{"$f":"ROW()","v":2068}]
[{"$f":"ROW()","v":2069}]
[{"$f":"ROW()","v":2070}]
[{"$f":"ROW()","v":2071}]
[{"$f":"ROW()","v":2072}]
[{"$f":"ROW()","v":2073}]
[{"$f":"ROW()","v":2074}]
[{"$f":"ROW()","v":2075}]
[{"$f":"ROW()","v":2076}]
[{"$f":"ROW()","v":2077}]
[{"$f":"ROW()","v":2078}]
[{"$f":"ROW()","v":2079}]
[{"$f":"ROW()","v":2080}]
[{"$f":"ROW()","v":2081}]
[{"$f":"ROW()","v":2082}]
[{"$f":"ROW()","v":2083}]
[{"$f":"ROW()","v":2084}]
[{"$f":"ROW()","v":2085}]
[{"$f":"ROW()","v":2086}]
[{"$f":"ROW()","v":2087}]
[{"$f":"ROW()","v":2088}]
[{"$f":"ROW()","v":2089}]
[{"$f":"ROW()","v":2090}]
[{"$f":"ROW()","v":2091}]
[{"$f":"ROW()","v":2092}]
[{"$f":"ROW()","v":2093}]
[{"$f":"ROW()","v":2094}]
[{"$f":"ROW()","v":2095}]
[{"$f":"ROW()","v":2096}]
[{"$f":"ROW()","v":2097}]
[{"$f":"ROW()","v":2098}]
[{"$f":"ROW()","v":2099}]
[{"$f":"ROW()","v":2100}]
[{"$f":"ROW()","v":2101}]
[{"$f":"ROW()","v":2102}]
[{"$f":"ROW()","v":2103}]
[{"$f":"ROW()","v":2104}]
[{"$f":"ROW()","v":2105}]
[{"$f":"ROW()","v":2106}]
[{"$f":"ROW()","v":2107}]
[{"$f":"ROW()","v":2108}]
[{"$f":"ROW()","v":2109}]
[{"$f":"ROW()","v":2110}]
[{"$f":"ROW()","v":2111}]
[{"$f":"ROW()","v":2112}]
[{"$f":"ROW()","v":2113}]
[{"$f":"ROW()","v":2114}]
[{"$f":"ROW()","v":2115}]
[{"$f":"ROW()","v":2116}]
[{"$f":"ROW()","v":2117}]
[{"$f":"ROW()","v":2118}]
[{"$f":"ROW()","v":2119}]
[{"$f":"ROW()","v":2120}]
[{"$f":"ROW()","v":2121}]
[{"$f":"ROW()","v":2122}]
[{"$f":"ROW()","v":2123}]
[{"$f":"ROW()","v":2124}]
[{"$f":"ROW()","v":2125}]
[{"$f":"ROW()","v":2126}]
[{"$f":"ROW()","v":2127}]
[{"$f":"ROW()","v":2128}]
[{"$f":"ROW()","v":2129}]
[{"$f":"ROW()","v":2130}]
[{"$f":"ROW()","v":2131}]
[{"$f":"ROW()","v":2132}]
[{"$f":"ROW()","v":2133}]
[{"$f":"ROW()","v":2134}]
[{"$f":"ROW()","v":2135}]
[{"$f":"ROW()","v":2136}]
[{"$f":"ROW()","v":2137}]
[{"$f":"ROW()","v":2138}]
[{"$f":"ROW()","v":2139}]
[{"$f":"ROW()","v":2140}]
[{"$f":"ROW()","v":2141}]
[{"$f":"ROW()","v":2142}]
[{"$f":"ROW()","v":2143}]
[{"$f":"ROW()","v":2144}]
[{"$f":"ROW()","v":2145}]
[{"$f":"ROW()","v":2146}]
[{"$f":"ROW()","v":2147}]
[{"$f":"ROW()","v":2148}]
[{"$f":"ROW()","v":2149}]
[{"$f":"ROW()","v":2150}]
[{"$f":"ROW()","v":2151}]
[{"$f":"ROW()","v":2152}]
[{"$f":"ROW()","v":2153}]
[{"$f":"ROW()","v":2154}]
[{"$f":"ROW()","v":2155}]
[{"$f":"ROW()","v":2156}]
[{"$f":"ROW()","v":2157}]
[{"$f":"ROW()","v":2158}]
[{"$f":"ROW()","v":2159}]
[{"$f":"ROW()","v":2160}]
[{"$f":"ROW()","v":2161}]
[{"$f":"ROW()","v":2162}]
[{"$f":"ROW()","v":2163}]
[{"$f":"ROW()","v":2164}]
[{"$f":"ROW()","v":2165}]
[{"$f":"ROW()","v":2166}]
[{"$f":"ROW()","v":2167}]
[{"$f":"ROW()","v":2168}]
[{"$f":"ROW()","v":2169}]
[{"$f":"ROW()","v":2170}]
[{"$f":"ROW()","v":2171}]
[{"$f":"ROW()","v":2172}]
[{"$f":"ROW()","v":2173}]
[{"$f":"ROW()","v":2174}]
[{"$f":"ROW()","v":2175}]
[{"$f":"ROW()","v":2176}]
[{"$f":"ROW()","v":2177}]
[{"$f":"ROW()","v":2178}]
[{"$f":"ROW()","v":2179}]
[{"$f":"ROW()","v":2180}]
[{"$f":"ROW()","v":2181}]
[{"$f":"ROW()","v":2182}]
[{"$f":"ROW()","v":2183}]
[{"$f":"ROW()","v":2184}]
[{"$f":"ROW()","v":2185}]
[{"$f":"ROW()","v":2186}]
[{"$f":"ROW()","v":2187}]
[{"$f":"ROW()","v":2188}]
[{"$f":"ROW()","v":2189}]
[{"$f":"ROW()","v":2190}]
[{"$f":"ROW()","v":2191}]
[{"$f":"ROW()","v":2192}]
[{"$f":"ROW()","v":2193}]
[{"$f":"ROW()","v":2194}]
[{"$f":"ROW()","v":2195}]
[{"$f":"ROW()","v":2196}]
[{"$f":"ROW()","v":2197}]
[{"$f":"ROW()","v":2198}]
[{"$f":"ROW()","v":2199}]
[{"$f":"ROW()","v":2200}]
[{"$f":"ROW()","v":2201}]
[{"$f":"ROW()","v":2202}]
[{"$f":"ROW()","v":2203}]
[{"$f":"ROW()","v":2204}]
[{"$f":"ROW()","v":2205}]
[{"$f":"ROW()","v":2206}]
[{"$f":"ROW()","v":2207}]
[{"$f":"ROW()","v":2208}]
[{"$f":"ROW()","v":2209}]
[{"$f":"ROW()","v":2210}]
[{"$f":"ROW()","v":2211}]
[{"$f":"ROW()","v":2212}]
[{"$f":"ROW()","v":2213}]
[{"$f":"ROW()","v":2214}]
[{"$f":"ROW()","v":2215}]
[{"$f":"ROW()","v":2216}]
[{"$f":"ROW()","v":2217}]
[{"$f":"ROW()","v":2218}]
[{"$f":"ROW()","v":2219}]
[{"$f":"ROW()","v":2220}]
[{"$f":"ROW()","v":2221}]
[{"$f":"ROW()","v":2222}]
[{"$f":"ROW()","v":2223}]
[{"$f":"ROW()","v":2224}]
[{"$f":"ROW()","v":2225}]
[{"$f":"ROW()","v":2226}]
[{"$f":"ROW()","v":2227}]
[{"$f":"ROW()","v":2228}]
[{"$f":"ROW()","v":2229}]
[{"$f":"ROW()","v":2230}]
[{"$f":"ROW()","v":2231}]
[{"$f":"ROW()","v":2232}]
[{"$f":"ROW()","v":2233}]
[{"$f":"ROW()","v":2234}]
[{"$f":"ROW()","v":2235}]
[{"$f":"ROW()","v":2236}]
[{"$f":"ROW()","v":2237}]
[{"$f":"ROW()","v":2238}]
[{"$f":"ROW()","v":2239}]
[{"$f":"ROW()","v":2240}]
[{"$f":"ROW()","v":2241}]
[{"$f":"ROW()","v":2242}]
[{"$f":"ROW()","v":2243}]
[{"$f":"ROW()","v":2244}]
[{"$f":"ROW()","v":2245}]
[{"$f":"ROW()","v":2246}]
[{"$f":"ROW()","v":2247}]
[{"$f":"ROW()","v":2248}]
[{"$f":"ROW()","v":2249}]
[{"$f":"ROW()","v":2250}]
[{"$f":"ROW()","v":2251}]
[{"$f":"ROW()","v":2252}]
[{"$f":"ROW()","v":2253}]
[{"$f":"ROW()","v":2254}]
[{"$f":"ROW()","v":2255}]
[{"$f":"ROW()","v":2256}]
[{"$f":"ROW()","v":2257}]
[{"$f":"ROW()","v":2258}]
[{"$f":"ROW()","v":2259}]
[{"$f":"ROW()","v":2260}]
[{"$f":"ROW()","v":2261}]
[{"$f":"ROW()","v":2262}]
[{"$f":"ROW()","v":2263}]
[{"$f":"ROW()","v":2264}]
[{"$f":"ROW()","v":2265}]
[{"$f":"ROW()","v":2266}]
[{"$f":"ROW()","v":2267}]
[{"$f":"ROW()","v":2268}]
[{"$f":"ROW()","v":2269}]
[{"$f":"ROW()","v":2270}]
[{"$f":"ROW()","v":2271}]
[{"$f":"ROW()","v":2272}]
[{"$f":"ROW()","v":2273}]
[{"$f":"ROW()","v":2274}]
[{"$f":"ROW()","v":2275}]
[{"$f":"ROW()","v":2276}]
[{"$f":"ROW()","v":2277}]
[{"$f":"ROW()","v":2278}]
[{"$f":"ROW()","v":2279}]
[{"$f":"ROW()","v":2280}]
[{"$f":"ROW()","v":2281}]
[{"$f":"ROW()","v":2282}]
[{"$f":"ROW()","v":2283}]
[{"$f":"ROW()","v":2284}]
[{"$f":"ROW()","v":2285}]
[{"$f":"ROW()","v":2286}]
[{"$f":"ROW()","v":2287}]
[{"$f":"ROW()","v":2288}]
[{"$f":"ROW()","v":2289}]
[{"$f":"ROW()","v":2290}]
[{"$f":"ROW()","v":2291}]
[{"$f":"ROW()","v":2292}]
[{"$f":"ROW()","v":2293}]
[{"$f":"ROW()","v":2294}]
[{"$f":"ROW()","v":2295}]
[{"$f":"ROW()","v":2296}]
[{"$f":"ROW()","v":2297}]
[{"$f":"ROW()","v":2298}]
[{"$f":"ROW()","v":2299}]
[{"$f":"ROW()","v":2300}]
[{"$f":"ROW()","v":2301}]
[{"$f":"ROW()","v":2302}]
[{"$f":"ROW()","v":2303}]
[{"$f":"ROW()","v":2304}]
[{"$f":"ROW()","v":2305}]
[{"$f":"ROW()","v":2306}]
[{"$f":"ROW()","v":2307}]
[{"$f":"ROW()","v":2308}]
[{"$f":"ROW()","v":2309}]
[{"$f":"ROW()","v":2310}]
[{"$f":"ROW()","v":2311}]
[{"$f":"ROW()","v":2312}]
[{"$f":"ROW()","v":2313}]
[{"$f":"ROW()","v":2314}]
[{"$f":"ROW()","v":2315}]
[{"$f":"ROW()","v":2316}]
[{"$f":"ROW()","v":2317}]
[{"$f":"ROW()","v":2318}]
[{"$f":"ROW()","v":2319}]
[{"$f":"ROW()","v":2320}]
[{"$f":"ROW()","v":2321}]
[{"$f":"ROW()","v":2322}]
[{"$f":"ROW()","v":2323}]
[{"$f":"ROW()","v":2324}]
[{"$f":"ROW()","v":2325}]
[{"$f":"ROW()","v":2326}]
[{"$f":"ROW()","v":2327}]
[{"$f":"ROW()","v":2328}]
[{"$f":"ROW()","v":2329}]
[{"$f":"ROW()","v":2330}]
[{"$f":"ROW()","v":2331}]
[{"$f":"ROW()","v":2332}]
[{"$f":"ROW()","v":2333}]
[{"$f":"ROW()","v":2334}]
[{"$f":"ROW()","v":2335}]
[{"$f":"ROW()","v":2336}]
[{"$f":"ROW()","v":2337}]
[{"$f":"ROW()","v":2338}]
[{"$f":"ROW()","v":2339}]
[{"$f":"ROW()","v":2340}]
[{"$f":"ROW()","v":2341}]
[{"$f":"ROW()","v":2342}]
[{"$f":"ROW()","v":2343}]
[{"$f":"ROW()","v":2344}]
[{"$f":"ROW()","v":2345}]
[{"$f":"ROW()","v":2346}]
[{"$f":"ROW()","v":2347}]
[{"$f":"ROW()","v":2348}]
[{"$f":"ROW()","v":2349}]
[{"$f":"ROW()","v":2350}]
[{"$f":"ROW()","v":2351}]
[{"$f":"ROW()","v":2352}]
[{"$f":"ROW()","v":2353}]
[{"$f":"ROW()","v":2354}]
[{"$f":"ROW()","v":2355}]
[{"$f":"ROW()","v":2356}]
[{"$f":"ROW()","v":2357}]
[{"$f":"ROW()","v":2358}]
[{"$f":"ROW()","v":2359}]
[{"$f":"ROW()","v":2360}]
[{"$f":"ROW()","v":2361}]
[{"$f":"ROW()","v":2362}]
[{"$f":"ROW()","v":2363}]
[{"$f":"ROW()","v":2364}]
[{"$f":"ROW()","v":2365}]
[{"$f":"ROW()","v":2366}]
[{"$f":"ROW()","v":2367}]
[{"$f":"ROW()","v":2368}]
[{"$f":"ROW()","v":2369}]
[{"$f":"ROW()","v":2370}]
[{"$f":"ROW()","v":2371}]
[{"$f":"ROW()","v":2372}]
[{"$f":"ROW()","v":2373}]
[{"$f":"ROW()","v":2374}]
[{"$f":"ROW()","v":2375}]
[{"$f":"ROW()","v":2376}]
[{"$f":"ROW()","v":2377}]
[{"$f":"ROW()","v":2378}]
[{"$f":"ROW()","v":2379}]
[{"$f":"ROW()","v":2380}]
[{"$f":"ROW()","v":2381}]
[{"$f":"ROW()","v":2382}]
[{"$f":"ROW()","v":2383}]
[{"$f":"ROW()","v":2384}]
[{"$f":"ROW()","v":2385}]
[{"$f":"ROW()","v":2386}]
[{"$f":"ROW()","v":2387}]
[{"$f":"ROW()","v":2388}]
[{"$f":"ROW()","v":2389}]
[{"$f":"ROW()","v":2390}]
[{"$f":"ROW()","v":2391}]
[{"$f":"ROW()","v":2392}]
[{"$f":"ROW()","v":2393}]
[{"$f":"ROW()","v":2394}]
[{"$f":"ROW()","v":2395}]
[{"$f":"ROW()","v":2396}]
[{"$f":"ROW()","v":2397}]
[{"$f":"ROW()","v":2398}]
[{"$f":"ROW()","v":2399}]
[{"$f":"ROW()","v":2400}]
[{"$f":"ROW()","v":2401}]
[{"$f":"ROW()","v":2402}]
[{"$f":"ROW()","v":2403}]
[{"$f":"ROW()","v":2404}]
[{"$f":"ROW()","v":2405}]
[{"$f":"ROW()","v":2406}]
[{"$f":"ROW()","v":2407}]
[{"$f":"ROW()","v":2408}]
[{"$f":"ROW()","v":2409}]
[{"$f":"ROW()","v":2410}]
[{"$f":"ROW()","v":2411}]
[{"$f":"ROW()","v":2412}]
[{"$f":"ROW()","v":2413}]
[{"$f":"ROW()","v":2414}]
[{"$f":"ROW()","v":2415}]
[{"$f":"ROW()","v":2416}]
[{"$f":"ROW()","v":2417}]
[{"$f":"ROW()","v":2418}]
[{"$f":"ROW()","v":2419}]
[{"$f":"ROW()","v":2420}]
[{"$f":"ROW()","v":2421}]
[{"$f":"ROW()","v":2422}]
[{"$f":"ROW()","v":2423}]
[{"$f":"ROW()","v":2424}]
[{"$f":"ROW()","v":2425}]
[{"$f":"ROW()","v":2426}]
[{"$f":"ROW()","v":2427}]
[{"$f":"ROW()","v":2428}]
[{"$f":"ROW()","v":2429}]
[{"$f":"ROW()","v":2430}]
[{"$f":"ROW()","v":2431}]
[{"$f":"ROW()","v":2432}]
[{"$f":"ROW()","v":2433}]
[{"$f":"ROW()","v":2434}]
[{"$f":"ROW()","v":2435}]
[{"$f":"ROW()","v":2436}]
[{"$f":"ROW()","v":2437}]
[{"$f":"ROW()","v":2438}]
[{"$f":"ROW()","v":2439}]
[{"$f":"ROW()","v":2440}]
[{"$f":"ROW()","v":2441}]
[{"$f":"ROW()","v":2442}]
[{"$f":"ROW()","v":2443}]
[{"$f":"ROW()","v":2444}]
[{"$f":"ROW()","v":2445}]
[{"$f":"ROW()","v":2446}]
[{"$f":"ROW()","v":2447}]
[{"$f":"ROW()","v":2448}]
[{"$f":"ROW()","v":2449}]
[{"$f":"ROW()","v":2450}]
[{"$f":"ROW()","v":2451}]
[{"$f":"ROW()","v":2452}]
[{"$f":"ROW()","v":2453}]
[{"$f":"ROW()","v":2454}]
[{"$f":"ROW()","v":2455}]
[{"$f":"ROW()","v":2456}]
[{"$f":"ROW()","v":2457}]
[{"$f":"ROW()","v":2458}]
[{"$f":"ROW()","v":2459}]
[{"$f":"ROW()","v":2460}]
[{"$f":"ROW()","v":2461}]
[{"$f":"ROW()","v":2462}]
[{"$f":"ROW()","v":2463}]
[{"$f":"ROW()","v":2464}]
[{"$f":"ROW()","v":2465}]
[{"$f":"ROW()","v":2466}]
[{"$f":"ROW()","v":2467}]
[{"$f":"ROW()","v":2468}]
[{"$f":"ROW()","v":2469}]
[{"$f":"ROW()","v":2470}]
[{"$f":"ROW()","v":2471}]
[{"$f":"ROW()","v":2472}]
[{"$f":"ROW()","v":2473}]
[{"$f":"ROW()","v":2474}]
[{"$f":"ROW()","v":2475}]
[{"$f":"ROW()","v":2476}]
[{"$f":"ROW()","v":2477}]
[{"$f":"ROW()","v":2478}]
[{"$f":"ROW()","v":2479}]
[{"$f":"ROW()","v":2480}]
[{"$f":"ROW()","v":2481}]
[{"$f":"ROW()","v":2482}]
[{"$f":"ROW()","v":2483}]
[{"$f":"ROW()","v":2484}]
[{"$f":"ROW()","v":2485}]
[{"$f":"ROW()","v":2486}]
[{"$f":"ROW()","v":2487}]
[{"$f":"ROW()","v":2488}]
[{"$f":"ROW()","v":2489}]
[{"$f":"ROW()","v":2490}]
[{"$f":"ROW()","v":2491}]
[{"$f":"ROW()","v":2492}]
[{"$f":"ROW()","v":2493}]
[{"$f":"ROW()","v":2494}]
[{"$f":"ROW()","v":2495}]
[{"$f":"ROW()","v":2496}]
[{"$f":"ROW()","v":2497}]
[{"$f":"ROW()","v":2498}]
[{"$f":"ROW()","v":2499}]
[{"$f":"ROW()","v":2500}]
[{"$f":"ROW()","v":2501}]
[{"$f":"ROW()","v":2502}]
[{"$f":"ROW()","v":2503}]
[{"$f":"ROW()","v":2504}]
[{"$f":"ROW()","v":2505}]
[{"$f":"ROW()","v":2506}]
[{"$f":"ROW()","v":2507}]
[{"$f":"ROW()","v":2508}]
[{"$f":"ROW()","v":2509}]
[{"$f":"ROW()","v":2510}]
[{"$f":"ROW()","v":2511}]
[{"$f":"ROW()","v":2512}]
[{"$f":"ROW()","v":2513}]
[{"$f":"ROW()","v":2514}]
[{"$f":"ROW()","v":2515}]
[{"$f":"ROW()","v":2516}]
[{"$f":"ROW()","v":2517}]
[{"$f":"ROW()","v":2518}]
[{"$f":"ROW()","v":2519}]
[{"$f":"ROW()","v":2520}]
[{"$f":"ROW()","v":2521}]
[{"$f":"ROW()","v":2522}]
[{"$f":"ROW()","v":2523}]
[{"$f":"ROW()","v":2524}]
[{"$f":"ROW()","v":2525}]
[{"$f":"ROW()","v":2526}]
[{"$f":"ROW()","v":2527}]
[{"$f":"ROW()","v":2528}]
[{"$f":"ROW()","v":2529}]
[{"$f":"ROW()","v":2530}]
[{"$f":"ROW()","v":2531}]
[{"$f":"ROW()","v":2532}]
[{"$f":"ROW()","v":2533}]
[{"$f":"ROW()","v":2534}]
[{"$f":"ROW()","v":2535}]
[{"$f":"ROW()","v":2536}]
[{"$f":"ROW()","v":2537}]
[{"$f":"ROW()","v":2538}]
[{"$f":"ROW()","v":2539}]
[{"$f":"ROW()","v":2540}]
[{"$f":"ROW()","v":2541}]
[{"$f":"ROW()","v":2542}]
[{"$f":"ROW()","v":2543}]
[{"$f":"ROW()","v":2544}]
[{"$f":"ROW()","v":2545}]
[{"$f":"ROW()","v":2546}]
[{"$f":"ROW()","v":2547}]
[{"$f":"ROW()","v":2548}]
[{"$f":"ROW()","v":2549}]
[{"$f":"ROW()","v":2550}]
[{"$f":"ROW()","v":2551}]
[{"$f":"ROW()","v":2552}]
[{"$f":"ROW()","v":2553}]
[{"$f":"ROW()","v":2554}]
[{"$f":"ROW()","v":2555}]
[{"$f":"ROW()","v":2556}]
[{"$f":"ROW()","v":2557}]
[{"$f":"ROW()","v":2558}]
[{"$f":"ROW()","v":2559}]
[{"$f":"ROW()","v":2560}]
[{"$f":"ROW()","v":2561}]
[{"$f":"ROW()","v":2562}]
[{"$f":"ROW()","v":2563}]
[{"$f":"ROW()","v":2564}]
[{"$f":"ROW()","v":2565}]
[{"$f":"ROW()","v":2566}]
[{"$f":"ROW()","v":2567}]
[{"$f":"ROW()","v":2568}]
[{"$f":"ROW()","v":2569}]
[{"$f":"ROW()","v":2570}]
[{"$f":"ROW()","v":2571}]
[{"$f":"ROW()","v":2572}]
[{"$f":"ROW()","v":2573}]
[{"$f":"ROW()","v":2574}]
[{"$f":"ROW()","v":2575}]
[{"$f":"ROW()","v":2576}]
[{"$f":"ROW()","v":2577}]
[{"$f":"ROW()","v":2578}]
[{"$f":"ROW()","v":2579}]
[{"$f":"ROW()","v":2580}]
[{"$f":"ROW()","v":2581}]
[{"$f":"ROW()","v":2582}]
[{"$f":"ROW()","v":2583}]
[{"$f":"ROW()","v":2584}]
[{"$f":"ROW()","v":2585}]
[{"$f":"ROW()","v":2586}]
[{"$f":"ROW()","v":2587}]
[{"$f":"ROW()","v":2588}]
[{"$f":"ROW()","v":2589}]
[{"$f":"ROW()","v":2590}]
[{"$f":"ROW()","v":2591}]
[{"$f":"ROW()","v":2592}]
[{"$f":"ROW()","v":2593}]
[{"$f":"ROW()","v":2594}]
[{"$f":"ROW()","v":2595}]
[{"$f":"ROW()","v":2596}]
[{"$f":"ROW()","v":2597}]
[{"$f":"ROW()","v":2598}]
[{"$f":"ROW()","v":2599}]
[{"$f":"ROW()","v":2600}]
[{"$f":"ROW()","v":2601}]
[{"$f":"ROW()","v":2602}]
[{"$f":"ROW()","v":2603}]
[{"$f":"ROW()","v":2604}]
[{"$f":"ROW()","v":2605}]
[{"$f":"ROW()","v":2606}]
[{"$f":"ROW()","v":2607}]
[{"$f":"ROW()","v":2608}]
[{"$f":"ROW()","v":2609}]
[{"$f":"ROW()","v":2610}]
[{"$f":"ROW()","v":2611}]
[{"$f":"ROW()","v":2612}]
[{"$f":"ROW()","v":2613}]
[{"$f":"ROW()","v":2614}]
[{"$f":"ROW()","v":2615}]
[{"$f":"ROW()","v":2616}]
[{"$f":"ROW()","v":2617}]
[{"$f":"ROW()","v":2618}]
[{"$f":"ROW()","v":2619}]
[{"$f":"ROW()","v":2620}]
[{"$f":"ROW()","v":2621}]
[{"$f":"ROW()","v":2622}]
[{"$f":"ROW()","v":2623}]
[{"$f":"ROW()","v":2624}]
[{"$f":"ROW()","v":2625}]
[{"$f":"ROW()","v":2626}]
[{"$f":"ROW()","v":2627}]
[{"$f":"ROW()","v":2628}]
[{"$f":"ROW()","v":2629}]
[{"$f":"ROW()","v":2630}]
[{"$f":"ROW()","v":2631}]
[{"$f":"ROW()","v":2632}]
[{"$f":"ROW()","v":2633}]
[{"$f":"ROW()","v":2634}]
[{"$f":"ROW()","v":2635}]
[{"$f":"ROW()","v":2636}]
[{"$f":"ROW()","v":2637}]
[{"$f":"ROW()","v":2638}]
[{"$f":"ROW()","v":2639}]
[{"$f":"ROW()","v":2640}]
[{"$f":"ROW()","v":2641}]
[{"$f":"ROW()","v":2642}]
[{"$f":"ROW()","v":2643}]
[{"$f":"ROW()","v":2644}]
[{"$f":"ROW()","v":2645}]
[{"$f":"ROW()","v":2646}]
[{"$f":"ROW()","v":2647}]
[{"$f":"ROW()","v":2648}]
[{"$f":"ROW()","v":2649}]
[{"$f":"ROW()","v":2650}]
[{"$f":"ROW()","v":2651}]
[{"$f":"ROW()","v":2652}]
[{"$f":"ROW()","v":2653}]
[{"$f":"ROW()","v":2654}]
[{"$f":"ROW()","v":2655}]
[{"$f":"ROW()","v":2656}]
[{"$f":"ROW()","v":2657}]
[{"$f":"ROW()","v":2658}]
[{"$f":"ROW()","v":2659}]
[{"$f":"ROW()","v":2660}]
[{"$f":"ROW()","v":2661}]
[{"$f":"ROW()","v":2662}]
[{"$f":"ROW()","v":2663}]
[{"$f":"ROW()","v":2664}]
[{"$f":"ROW()","v":2665}]
[{"$f":"ROW()","v":2666}]
[{"$f":"ROW()","v":2667}]
[{"$f":"ROW()","v":2668}]
[{"$f":"ROW()","v":2669}]
[{"$f":"ROW()","v":2670}]
[{"$f":"ROW()","v":2671}]
[{"$f":"ROW()","v":2672}]
[{"$f":"ROW()","v":2673}]
[{"$f":"ROW()","v":2674}]
[{"$f":"ROW()","v":2675}]
[{"$f":"ROW()","v":2676}]
[{"$f":"ROW()","v":2677}]
[{"$f":"ROW()","v":2678}]
[{"$f":"ROW()","v":2679}]
[{"$f":"ROW()","v":2680}]
[{"$f":"ROW()","v":2681}]
[{"$f":"ROW()","v":2682}]
[{"$f":"ROW()","v":2683}]
[{"$f":"ROW()","v":2684}]
[{"$f":"ROW()","v":2685}]
[{"$f":"ROW()","v":2686}]
[{"$f":"ROW()","v":2687}]
[{"$f":"ROW()","v":2688}]
[{"$f":"ROW()","v":2689}]
[{"$f":"ROW()","v":2690}]
[{"$f":"ROW()","v":2691}]
[{"$f":"ROW()","v":2692}]
[{"$f":"ROW()","v":2693}]
[{"$f":"ROW()","v":2694}]
[{"$f":"ROW()","v":2695}]
[{"$f":"ROW()","v":2696}]
[{"$f":"ROW()","v":2697}]
[{"$f":"ROW()","v":2698}]
[{"$f":"ROW()","v":2699}]
[{"$f":"ROW()","v":2700}]
[{"$f":"ROW()","v":2701}]
[{"$f":"ROW()","v":2702}]
[{"$f":"ROW()","v":2703}]
[{"$f":"ROW()","v":2704}]
[{"$f":"ROW()","v":2705}]
[{"$f":"ROW()","v":2706}]
[{"$f":"ROW()","v":2707}]
[{"$f":"ROW()","v":2708}]
[{"$f":"ROW()","v":2709}]
[{"$f":"ROW()","v":2710}]
[{"$f":"ROW()","v":2711}]
[{"$f":"ROW()","v":2712}]
[{"$f":"ROW()","v":2713}]
[{"$f":"ROW()","v":2714}]
[{"$f":"ROW()","v":2715}]
[{"$f":"ROW()","v":2716}]
[{"$f":"ROW()","v":2717}]
[{"$f":"ROW()","v":2718}]
[{"$f":"ROW()","v":2719}]
[{"$f":"ROW()","v":2720}]
[{"$f":"ROW()","v":2721}]
[{"$f":"ROW()","v":2722}]
[{"$f":"ROW()","v":2723}]
[{"$f":"ROW()","v":2724}]
[{"$f":"ROW()","v":2725}]
[{"$f":"ROW()","v":2726}]
[{"$f":"ROW()","v":2727}]
[{"$f":"ROW()","v":2728}]
[{"$f":"ROW()","v":2729}]
[{"$f":"ROW()","v":2730}]
[{"$f":"ROW()","v":2731}]
[{"$f":"ROW()","v":2732}]
[{"$f":"ROW()","v":2733}]
[{"$f":"ROW()","v":2734}]
[{"$f":"ROW()","v":2735}]
[{"$f":"ROW()","v":2736}]
[{"$f":"ROW()","v":2737}]
[{"$f":"ROW()","v":2738}]
[{"$f":"ROW()","v":2739}]
[{"$f":"ROW()","v":2740}]
[{"$f":"ROW()","v":2741}]
[{"$f":"ROW()","v":2742}]
[{"$f":"ROW()","v":2743}]
[{"$f":"ROW()","v":2744}]
[{"$f":"ROW()","v":2745}]
[{"$f":"ROW()","v":2746}]
[{"$f":"ROW()","v":2747}]
[{"$f":"ROW()","v":2748}]
[{"$f":"ROW()","v":2749}]
[{"$f":"ROW()","v":2750}]
[{"$f":"ROW()","v":2751}]
[{"$f":"ROW()","v":2752}]
[{"$f":"ROW()","v":2753}]
[{"$f":"ROW()","v":2754}]
[{"$f":"ROW()","v":2755}]
[{"$f":"ROW()","v":2756}]
[{"$f":"ROW()","v":2757}]
[{"$f":"ROW()","v":2758}]
[{"$f":"ROW()","v":2759}]
[{"$f":"ROW()","v":2760}]
[{"$f":"ROW()","v":2761}]
[{"$f":"ROW()","v":2762}]
[{"$f":"ROW()","v":2763}]
[{"$f":"ROW()","v":2764}]
[{"$f":"ROW()","v":2765}]
[{"$f":"ROW()","v":2766}]
[{"$f":"ROW()","v":2767}]
[{"$f":"ROW()","v":2768}]
[{"$f":"ROW()","v":2769}]
[{"$f":"ROW()","v":2770}]
[{"$f":"ROW()","v":2771}]
[{"$f":"ROW()","v":2772}]
[{"$f":"ROW()","v":2773}]
[{"$f":"ROW()","v":2774}]
[{"$f":"ROW()","v":2775}]
[{"$f":"ROW()","v":2776}]
[{"$f":"ROW()","v":2777}]
[{"$f":"ROW()","v":2778}]
[{"$f":"ROW()","v":2779}]
[{"$f":"ROW()","v":2780}]
[{"$f":"ROW()","v":2781}]
[{"$f":"ROW()","v":2782}]
[{"$f":"ROW()","v":2783}]
[{"$f":"ROW()","v":2784}]
[{"$f":"ROW()","v":2785}]
[{"$f":"ROW()","v":2786}]
[{"$f":"ROW()","v":2787}]
[{"$f":"ROW()","v":2788}]
[{"$f":"ROW()","v":2789}]
[{"$f":"ROW()","v":2790}]
[{"$f":"ROW()","v":2791}]
[{"$f":"ROW()","v":2792}]
[{"$f":"ROW()","v":2793}]
[{"$f":"ROW()","v":2794}]
[{"$f":"ROW()","v":2795}]
[{"$f":"ROW()","v":2796}]
[{"$f":"ROW()","v":2797}]
[{"$f":"ROW()","v":2798}]
[{"$f":"ROW()","v":2799}]
[{"$f":"ROW()","v":2800}]
[{"$f":"ROW()","v":2801}]
[{"$f":"ROW()","v":2802}]
[{"$f":"ROW()","v":2803}]
[{"$f":"ROW()","v":2804}]
[{"$f":"ROW()","v":2805}]
[{"$f":"ROW()","v":2806}]
[{"$f":"ROW()","v":2807}]
[{"$f":"ROW()","v":2808}]
[{"$f":"ROW()","v":2809}]
[{"$f":"ROW()","v":2810}]
[{"$f":"ROW()","v":2811}]
[{"$f":"ROW()","v":2812}]
[{"$f":"ROW()","v":2813}]
[{"$f":"ROW()","v":2814}]
[{"$f":"ROW()","v":2815}]
[{"$f":"ROW()","v":2816}]
[{"$f":"ROW()","v":2817}]
[{"$f":"ROW()","v":2818}]
[{"$f":"ROW()","v":2819}]
[{"$f":"ROW()","v":2820}]
[{"$f":"ROW()","v":2821}]
[{"$f":"ROW()","v":2822}]
[{"$f":"ROW()","v":2823}]
[{"$f":"ROW()","v":2824}]
[{"$f":"ROW()","v":2825}]
[{"$f":"ROW()","v":2826}]
[{"$f":"ROW()","v":2827}]
[{"$f":"ROW()","v":2828}]
[{"$f":"ROW()","v":2829}]
[{"$f":"ROW()","v":2830}]
[{"$f":"ROW()","v":2831}]
[{"$f":"ROW()","v":2832}]
[{"$f":"ROW()","v":2833}]
[{"$f":"ROW()","v":2834}]
[{"$f":"ROW()","v":2835}]
[{"$f":"ROW()","v":2836}]
[{"$f":"ROW()","v":2837}]
[{"$f":"ROW()","v":2838}]
[{"$f":"ROW()","v":2839}]
[{"$f":"ROW()","v":2840}]
[{"$f":"ROW()","v":2841}]
[{"$f":"ROW()","v":2842}]
[{"$f":"ROW()","v":2843}]
[{"$f":"ROW()","v":2844}]
[{"$f":"ROW()","v":2845}]
[{"$f":"ROW()","v":2846}]
[{"$f":"ROW()","v":2847}]
[{"$f":"ROW()","v":2848}]
[{"$f":"ROW()","v":2849}]
[{"$f":"ROW()","v":2850}]
[{"$f":"ROW()","v":2851}]
[{"$f":"ROW()","v":2852}]
[{"$f":"ROW()","v":2853}]
[{"$f":"ROW()","v":2854}]
[{"$f":"ROW()","v":2855}]
[{"$f":"ROW()","v":2856}]
[{"$f":"ROW()","v":2857}]
[{"$f":"ROW()","v":2858}]
[{"$f":"ROW()","v":2859}]
[{"$f":"ROW()","v":2860}]
[{"$f":"ROW()","v":2861}]
[{"$f":"ROW()","v":2862}]
[{"$f":"ROW()","v":2863}]
[{"$f":"ROW()","v":2864}]
[{"$f":"ROW()","v":2865}]
[{"$f":"ROW()","v":2866}]
[{"$f":"ROW()","v":2867}]
[{"$f":"ROW()","v":2868}]
[{"$f":"ROW()","v":2869}]
[{"$f":"ROW()","v":2870}]
[{"$f":"ROW()","v":2871}]
[{"$f":"ROW()","v":2872}]
[{"$f":"ROW()","v":2873}]
[{"$f":"ROW()","v":2874}]
[{"$f":"ROW()","v":2875}]
[{"$f":"ROW()","v":2876}]
[{"$f":"ROW()","v":2877}]
[{"$f":"ROW()","v":2878}]
[{"$f":"ROW()","v":2879}]
[{"$f":"ROW()","v":2880}]
[{"$f":"ROW()","v":2881}]
[{"$f":"ROW()","v":2882}]
[{"$f":"ROW()","v":2883}]
[{"$f":"ROW()","v":2884}]
[{"$f":"ROW()","v":2885}]
[{"$f":"ROW()","v":2886}]
[{"$f":"ROW()","v":2887}]
[{"$f":"ROW()","v":2888}]
[{"$f":"ROW()","v":2889}]
[{"$f":"ROW()","v":2890}]
[{"$f":"ROW()","v":2891}]
[{"$f":"ROW()","v":2892}]
[{"$f":"ROW()","v":2893}]
[{"$f":"ROW()","v":2894}]
[{"$f":"ROW()","v":2895}]
[{"$f":"ROW()","v":2896}]
[{"$f":"ROW()","v":2897}]
[{"$f":"ROW()","v":2898}]
[{"$f":"ROW()","v":2899}]
[{"$f":"ROW()","v":2900}]
[{"$f":"ROW()","v":2901}]
[{"$f":"ROW()","v":2902}]
[{"$f":"ROW()","v":2903}]
[{"$f":"ROW()","v":2904}]
[{"$f":"ROW()","v":2905}]
[{"$f":"ROW()","v":2906}]
[{"$f":"ROW()","v":2907}]
[{"$f":"ROW()","v":2908}]
[{"$f":"ROW()","v":2909}]
[{"$f":"ROW()","v":2910}]
[{"$f":"ROW()","v":2911}]
[{"$f":"ROW()","v":2912}]
[{"$f":"ROW()","v":2913}]
[{"$f":"ROW()","v":2914}]
[{"$f":"ROW()","v":2915}]
[{"$f":"ROW()","v":2916}]
[{"$f":"ROW()","v":2917}]
[{"$f":"ROW()","v":2918}]
[{"$f":"ROW()","v":2919}]
[{"$f":"ROW()","v":2920}]
[{"$f":"ROW()","v":2921}]
[{"$f":"ROW()","v":2922}]
[{"$f":"ROW()","v":2923}]
[{"$f":"ROW()","v":2924}]
[{"$f":"ROW()","v":2925}]
[{"$f":"ROW()","v":2926}]
[{"$f":"ROW()","v":2927}]
[{"$f":"ROW()","v":2928}]
[{"$f":"ROW()","v":2929}]
[{"$f":"ROW()","v":2930}]
[{"$f":"ROW()","v":2931}]
[{"$f":"ROW()","v":2932}]
[{"$f":"ROW()","v":2933}]
[{"$f":"ROW()","v":2934}]
[{"$f":"ROW()","v":2935}]
[{"$f":"ROW()","v":2936}]
[{"$f":"ROW()","v":2937}]
[{"$f":"ROW()","v":2938}]
[{"$f":"ROW()","v":2939}]
[{"$f":"ROW()","v":2940}]
[{"$f":"ROW()","v":2941}]
[{"$f":"ROW()","v":2942}]
[{"$f":"ROW()","v":2943}]
[{"$f":"ROW()","v":2944}]
[{"$f":"ROW()","v":2945}]
[{"$f":"ROW()","v":2946}]
[{"$f":"ROW()","v":2947}]
[{"$f":"ROW()","v":2948}]
[{"$f":"ROW()","v":2949}]
[{"$f":"ROW()","v":2950}]
[{"$f":"ROW()","v":2951}]
[{"$f":"ROW()","v":2952}]
[{"$f":"ROW()","v":2953}]
[{"$f":"ROW()","v":2954}]
[{"$f":"ROW()","v":2955}]
[{"$f":"ROW()","v":2956}]
[{"$f":"ROW()","v":2957}]
[{"$f":"ROW()","v":2958}]
[{"$f":"ROW()","v":2959}]
[{"$f":"ROW()","v":2960}]
[{"$f":"ROW()","v":2961}]
[{"$f":"ROW()","v":2962}]
[{"$f":"ROW()","v":2963}]
[{"$f":"ROW()","v":2964}]
[{"$f":"ROW()","v":2965}]
[{"$f":"ROW()","v":2966}]
[{"$f":"ROW()","v":2967}]
[{"$f":"ROW()","v":2968}]
[{"$f":"ROW()","v":2969}]
[{"$f":"ROW()","v":2970}]
[{"$f":"ROW()","v":2971}]
[{"$f":"ROW()","v":2972}]
[{"$f":"ROW()","v":2973}]
[{"$f":"ROW()","v":2974}]
[{"$f":"ROW()","v":2975}]
[{"$f":"ROW()","v":2976}]
[{"$f":"ROW()","v":2977}]
[{"$f":"ROW()","v":2978}]
[{"$f":"ROW()","v":2979}]
[{"$f":"ROW()","v":2980}]
[{"$f":"ROW()","v":2981}]
[{"$f":"ROW()","v":2982}]
[{"$f":"ROW()","v":2983}]
[{"$f":"ROW()","v":2984}]
[{"$f":"ROW()","v":2985}]
[{"$f":"ROW()","v":2986}]
[{"$f":"ROW()","v":2987}]
[{"$f":"ROW()","v":2988}]
[{"$f":"ROW()","v":2989}]
[{"$f":"ROW()","v":2990}]
[{"$f":"ROW()","v":2991}]
[{"$f":"ROW()","v":2992}]
[{"$f":"ROW()","v":2993}]
[{"$f":"ROW()","v":2994}]
[{"$f":"ROW()","v":2995}]
[{"$f":"ROW()","v":2996}]
[{"$f":"ROW()","v":2997}]
[{"$f":"ROW()","v":2998}]
[{"$f":"ROW()","v":2999}]
[{"$f":"ROW()","v":3000}]
[{"$f":"ROW()","v":3001}]
[{"$f":"ROW()","v":3002}]
[{"$f":"ROW()","v":3003}]
[{"$f":"ROW()","v":3004}]
[{"$f":"ROW()","v":3005}]
[{"$f":"ROW()","v":3006}]
[{"$f":"ROW()","v":3007}]
[{"$f":"ROW()","v":3008}]
[{"$f":"ROW()","v":3009}]
[{"$f":"ROW()","v":3010}]
[{"$f":"ROW()","v":3011}]
[{"$f":"ROW()","v":3012}]
[{"$f":"ROW()","v":3013}]
[{"$f":"ROW()","v":3014}]
[{"$f":"ROW()","v":3015}]
[{"$f":"ROW()","v":3016}]
[{"$f":"ROW()","v":3017}]
[{"$f":"ROW()","v":3018}]
[{"$f":"ROW()","v":3019}]
[{"$f":"ROW()","v":3020}]
[{"$f":"ROW()","v":3021}]
[{"$f":"ROW()","v":3022}]
[{"$f":"ROW()","v":3023}]
[{"$f":"ROW()","v":3024}]
[{"$f":"ROW()","v":3025}]
[{"$f":"ROW()","v":3026}]
[{"$f":"ROW()","v":3027}]
[{"$f":"ROW()","v":3028}]
[{"$f":"ROW()","v":3029}]
[{"$f":"ROW()","v":3030}]
[{"$f":"ROW()","v":3031}]
[{"$f":"ROW()","v":3032}]
[{"$f":"ROW()","v":3033}]
[{"$f":"ROW()","v":3034}]
[{"$f":"ROW()","v":3035}]
[{"$f":"ROW()","v":3036}]
[{"$f":"ROW()","v":3037}]
[{"$f":"ROW()","v":3038}]
[{"$f":"ROW()","v":3039}]
[{"$f":"ROW()","v":3040}]
[{"$f":"ROW()","v":3041}]
[{"$f":"ROW()","v":3042}]
[{"$f":"ROW()","v":3043}]
[{"$f":"ROW()","v":3044}]
[{"$f":"ROW()","v":3045}]
[{"$f":"ROW()","v":3046}]
[{"$f":"ROW()","v":3047}]
[{"$f":"ROW()","v":3048}]
[{"$f":"ROW()","v":3049}]
[{"$f":"ROW()","v":3050}]
[{"$f":"ROW()","v":3051}]
[{"$f":"ROW()","v":3052}]
[{"$f":"ROW()","v":3053}]
[{"$f":"ROW()","v":3054}]
[{"$f":"ROW()","v":3055}]
[{"$f":"ROW()","v":3056}]
[{"$f":"ROW()","v":3057}]
[{"$f":"ROW()","v":3058}]
[{"$f":"ROW()","v":3059}]
[{"$f":"ROW()","v":3060}]
[{"$f":"ROW()","v":3061}]
[{"$f":"ROW()","v":3062}]
[{"$f":"ROW()","v":3063}]
[{"$f":"ROW()","v":3064}]
[{"$f":"ROW()","v":3065}]
[{"$f":"ROW()","v":3066}]
[{"$f":"ROW()","v":3067}]
[{"$f":"ROW()","v":3068}]
[{"$f":"ROW()","v":3069}]
[{"$f":"ROW()","v":3070}]
[{"$f":"ROW()","v":3071}]
[{"$f":"ROW()","v":3072}]
[{"$f":"ROW()","v":3073}]
[{"$f":"ROW()","v":3074}]
[{"$f":"ROW()","v":3075}]
[{"$f":"ROW()","v":3076}]
[{"$f":"ROW()","v":3077}]
[{"$f":"ROW()","v":3078}]
[{"$f":"ROW()","v":3079}]
[{"$f":"ROW()","v":3080}]
[{"$f":"ROW()","v":3081}]
[{"$f":"ROW()","v":3082}]
[{"$f":"ROW()","v":3083}]
[{"$f":"ROW()","v":3084}]
[{"$f":"ROW()","v":3085}]
[{"$f":"ROW()","v":3086}]
[{"$f":"ROW()","v":3087}]
[{"$f":"ROW()","v":3088}]
[{"$f":"ROW()","v":3089}]
[{"$f":"ROW()","v":3090}]
[{"$f":"ROW()","v":3091}]
[{"$f":"ROW()","v":3092}]
[{"$f":"ROW()","v":3093}]
[{"$f":"ROW()","v":3094}]
[{"$f":"ROW()","v":3095}]
[{"$f":"ROW()","v":3096}]
[{"$f":"ROW()","v":3097}]
[{"$f":"ROW()","v":3098}]
[{"$f":"ROW()","v":3099}]
[{"$f":"ROW()","v":3100}]
[{"$f":"ROW()","v":3101}]
[{"$f":"ROW()","v":3102}]
[{"$f":"ROW()","v":3103}]
[{"$f":"ROW()","v":3104}]
[{"$f":"ROW()","v":3105}]
[{"$f":"ROW()","v":3106}]
[{"$f":"ROW()","v":3107}]
[{"$f":"ROW()","v":3108}]
[{"$f":"ROW()","v":3109}]
[{"$f":"ROW()","v":3110}]
[{"$f":"ROW()","v":3111}]
[{"$f":"ROW()","v":3112}]
[{"$f":"ROW()","v":3113}]
[{"$f":"ROW()","v":3114}]
[{"$f":"ROW()","v":3115}]
[{"$f":"ROW()","v":3116}]
[{"$f":"ROW()","v":3117}]
[{"$f":"ROW()","v":3118}]
[{"$f":"ROW()","v":3119}]
[{"$f":"ROW()","v":3120}]
[{"$f":"ROW()","v":3121}]
[{"$f":"ROW()","v":3122}]
[{"$f":"ROW()","v":3123}]
[{"$f":"ROW()","v":3124}]
[{"$f":"ROW()","v":3125}]
[{"$f":"ROW()","v":3126}]
[{"$f":"ROW()","v":3127}]
[{"$f":"ROW()","v":3128}]
[{"$f":"ROW()","v":3129}]
[{"$f":"ROW()","v":3130}]
[{"$f":"ROW()","v":3131}]
[{"$f":"ROW()","v":3132}]
[{"$f":"ROW()","v":3133}]
[{"$f":"ROW()","v":3134}]
[{"$f":"ROW()","v":3135}]
[{"$f":"ROW()","v":3136}]
[{"$f":"ROW()","v":3137}]
[{"$f":"ROW()","v":3138}]
[{"$f":"ROW()","v":3139}]
[{"$f":"ROW()","v":3140}]
[{"$f":"ROW()","v":3141}]
[{"$f":"ROW()","v":3142}]
[{"$f":"ROW()","v":3143}]
[{"$f":"ROW()","v":3144}]
[{"$f":"ROW()","v":3145}]
[{"$f":"ROW()","v":3146}]
[{"$f":"ROW()","v":3147}]
[{"$f":"ROW()","v":3148}]
[{"$f":"ROW()","v":3149}]
[{"$f":"ROW()","v":3150}]
[{"$f":"ROW()","v":3151}]
[{"$f":"ROW()","v":3152}]
[{"$f":"ROW()","v":3153}]
[{"$f":"ROW()","v":3154}]
[{"$f":"ROW()","v":3155}]
[{"$f":"ROW()","v":3156}]
[{"$f":"ROW()","v":3157}]
[{"$f":"ROW()","v":3158}]
[{"$f":"ROW()","v":3159}]
[{"$f":"ROW()","v":3160}]
[{"$f":"ROW()","v":3161}]
[{"$f":"ROW()","v":3162}]
[{"$f":"ROW()","v":3163}]
[{"$f":"ROW()","v":3164}]
[{"$f":"ROW()","v":3165}]
[{"$f":"ROW()","v":3166}]
[{"$f":"ROW()","v":3167}]
[{"$f":"ROW()","v":3168}]
[{"$f":"ROW()","v":3169}]
[{"$f":"ROW()","v":3170}]
[{"$f":"ROW()","v":3171}]
[{"$f":"ROW()","v":3172}]
[{"$f":"ROW()","v":3173}]
[{"$f":"ROW()","v":3174}]
[{"$f":"ROW()","v":3175}]
[{"$f":"ROW()","v":3176}]
[{"$f":"ROW()","v":3177}]
[{"$f":"ROW()","v":3178}]
[{"$f":"ROW()","v":3179}]
[{"$f":"ROW()","v":3180}]
[{"$f":"ROW()","v":3181}]
[{"$f":"ROW()","v":3182}]
[{"$f":"ROW()","v":3183}]
[{"$f":"ROW()","v":3184}]
[{"$f":"ROW()","v":3185}]
[{"$f":"ROW()","v":3186}]
[{"$f":"ROW()","v":3187}]
[{"$f":"ROW()","v":3188}]
[{"$f":"ROW()","v":3189}]
[{"$f":"ROW()","v":3190}]
[{"$f":"ROW()","v":3191}]
[{"$f":"ROW()","v":3192}]
[{"$f":"ROW()","v":3193}]
[{"$f":"ROW()","v":3194}]
[{"$f":"ROW()","v":3195}]
[{"$f":"ROW()","v":3196}]
[{"$f":"ROW()","v":3197}]
[{"$f":"ROW()","v":3198}]
[{"$f":"ROW()","v":3199}]
[{"$f":"ROW()","v":3200}]
[{"$f":"ROW()","v":3201}]
[{"$f":"ROW()","v":3202}]
[{"$f":"ROW()","v":3203}]
[{"$f":"ROW()","v":3204}]
[{"$f":"ROW()","v":3205}]
[{"$f":"ROW()","v":3206}]
[{"$f":"ROW()","v":3207}]
[{"$f":"ROW()","v":3208}]
[{"$f":"ROW()","v":3209}]
[{"$f":"ROW()","v":3210}]
[{"$f":"ROW()","v":3211}]
[{"$f":"ROW()","v":3212}]
[{"$f":"ROW()","v":3213}]
[{"$f":"ROW()","v":3214}]
[{"$f":"ROW()","v":3215}]
[{"$f":"ROW()","v":3216}]
[{"$f":"ROW()","v":3217}]
[{"$f":"ROW()","v":3218}]
[{"$f":"ROW()","v":3219}]
[{"$f":"ROW()","v":3220}]
[{"$f":"ROW()","v":3221}]
[{"$f":"ROW()","v":3222}]
[{"$f":"ROW()","v":3223}]
[{"$f":"ROW()","v":3224}]
[{"$f":"ROW()","v":3225}]
[{"$f":"ROW()","v":3226}]
[{"$f":"ROW()","v":3227}]
[{"$f":"ROW()","v":3228}]
[{"$f":"ROW()","v":3229}]
[{"$f":"ROW()","v":3230}]
[{"$f":"ROW()","v":3231}]
[{"$f":"ROW()","v":3232}]
[{"$f":"ROW()","v":3233}]
[{"$f":"ROW()","v":3234}]
[{"$f":"ROW()","v":3235}]
[{"$f":"ROW()","v":3236}]
[{"$f":"ROW()","v":3237}]
[{"$f":"ROW()","v":3238}]
[{"$f":"ROW()","v":3239}]
[{"$f":"ROW()","v":3240}]
[{"$f":"ROW()","v":3241}]
[{"$f":"ROW()","v":3242}]
[{"$f":"ROW()","v":3243}]
[{"$f":"ROW()","v":3244}]
[{"$f":"ROW()","v":3245}]
[{"$f":"ROW()","v":3246}]
[{"$f":"ROW()","v":3247}]
[{"$f":"ROW()","v":3248}]
[{"$f":"ROW()","v":3249}]
[{"$f":"ROW()","v":3250}]
[{"$f":"ROW()","v":3251}]
[{"$f":"ROW()","v":3252}]
[{"$f":"ROW()","v":3253}]
[{"$f":"ROW()","v":3254}]
[{"$f":"ROW()","v":3255}]
[{"$f":"ROW()","v":3256}]
[{"$f":"ROW()","v":3257}]
[{"$f":"ROW()","v":3258}]
[{"$f":"ROW()","v":3259}]
[{"$f":"ROW()","v":3260}]
[{"$f":"ROW()","v":3261}]
[{"$f":"ROW()","v":3262}]
[{"$f":"ROW()","v":3263}]
[{"$f":"ROW()","v":3264}]
[{"$f":"ROW()","v":3265}]
[{"$f":"ROW()","v":3266}]
[{"$f":"ROW()","v":3267}]
[{"$f":"ROW()","v":3268}]
[{"$f":"ROW()","v":3269}]
[{"$f":"ROW()","v":3270}]
[{"$f":"ROW()","v":3271}]
[{"$f":"ROW()","v":3272}]
[{"$f":"ROW()","v":3273}]
[{"$f":"ROW()","v":3274}]
[{"$f":"ROW()","v":3275}]
[{"$f":"ROW()","v":3276}]
[{"$f":"ROW()","v":3277}]
[{"$f":"ROW()","v":3278}]
[{"$f":"ROW()","v":3279}]
[{"$f":"ROW()","v":3280}]
[{"$f":"ROW()","v":3281}]
[{"$f":"ROW()","v":3282}]
[{"$f":"ROW()","v":3283}]
[{"$f":"ROW()","v":3284}]
[{"$f":"ROW()","v":3285}]
[{"$f":"ROW()","v":3286}]
[{"$f":"ROW()","v":3287}]
[{"$f":"ROW()","v":3288}]
[{"$f":"ROW()","v":3289}]
[{"$f":"ROW()","v":3290}]
[{"$f":"ROW()","v":3291}]
[{"$f":"ROW()","v":3292}]
[{"$f":"ROW()","v":3293}]
[{"$f":"ROW()","v":3294}]
[{"$f":"ROW()","v":3295}]
[{"$f":"ROW()","v":3296}]
[{"$f":"ROW()","v":3297}]
[{"$f":"ROW()","v":3298}]
[{"$f":"ROW()","v":3299}]
[{"$f":"ROW()","v":3300}]
[{"$f":"ROW()","v":3301}]
[{"$f":"ROW()","v":3302}]
[{"$f":"ROW()","v":3303}]
[{"$f":"ROW()","v":3304}]
[{"$f":"ROW()","v":3305}]
[{"$f":"ROW()","v":3306}]
[{"$f":"ROW()","v":3307}]
[{"$f":"ROW()","v":3308}]
[{"$f":"ROW()","v":3309}]
[{"$f":"ROW()","v":3310}]
[{"$f":"ROW()","v":3311}]
[{"$f":"ROW()","v":3312}]
[{"$f":"ROW()","v":3313}]
[{"$f":"ROW()","v":3314}]
[{"$f":"ROW()","v":3315}]
[{"$f":"ROW()","v":3316}]
[{"$f":"ROW()","v":3317}]
[{"$f":"ROW()","v":3318}]
[{"$f":"ROW()","v":3319}]
[{"$f":"ROW()","v":3320}]
[{"$f":"ROW()","v":3321}]
[{"$f":"ROW()","v":3322}]
[{"$f":"ROW()","v":3323}]
[{"$f":"ROW()","v":3324}]
[{"$f":"ROW()","v":3325}]
[{"$f":"ROW()","v":3326}]
[{"$f":"ROW()","v":3327}]
[{"$f":"ROW()","v":3328}]
[{"$f":"ROW()","v":3329}]
[{"$f":"ROW()","v":3330}]
[{"$f":"ROW()","v":3331}]
[{"$f":"ROW()","v":3332}]
[{"$f":"ROW()","v":3333}]
[{"$f":"ROW()","v":3334}]
[{"$f":"ROW()","v":3335}]
[{"$f":"ROW()","v":3336}]
[{"$f":"ROW()","v":3337}]
[{"$f":"ROW()","v":3338}]
[{"$f":"ROW()","v":3339}]
[{"$f":"ROW()","v":3340}]
[{"$f":"ROW()","v":3341}]
[{"$f":"ROW()","v":3342}]
[{"$f":"ROW()","v":3343}]
[{"$f":"ROW()","v":3344}]
[{"$f":"ROW()","v":3345}]
[{"$f":"ROW()","v":3346}]
[{"$f":"ROW()","v":3347}]
[{"$f":"ROW()","v":3348}]
[{"$f":"ROW()","v":3349}]
[{"$f":"ROW()","v":3350}]
[{"$f":"ROW()","v":3351}]
[{"$f":"ROW()","v":3352}]
[{"$f":"ROW()","v":3353}]
[{"$f":"ROW()","v":3354}]
[{"$f":"ROW()","v":3355}]
[{"$f":"ROW()","v":3356}]
[{"$f":"ROW()","v":3357}]
[{"$f":"ROW()","v":3358}]
[{"$f":"ROW()","v":3359}]
[{"$f":"ROW()","v":3360}]
[{"$f":"ROW()","v":3361}]
[{"$f":"ROW()","v":3362}]
[{"$f":"ROW()","v":3363}]
[{"$f":"ROW()","v":3364}]
[{"$f":"ROW()","v":3365}]
[{"$f":"ROW()","v":3366}]
[{"$f":"ROW()","v":3367}]
[{"$f":"ROW()","v":3368}]
[{"$f":"ROW()","v":3369}]
[{"$f":"ROW()","v":3370}]
[{"$f":"ROW()","v":3371}]
[{"$f":"ROW()","v":3372}]
[{"$f":"ROW()","v":3373}]
[{"$f":"ROW()","v":3374}]
[{"$f":"ROW()","v":3375}]
[{"$f":"ROW()","v":3376}]
[{"$f":"ROW()","v":3377}]
[{"$f":"ROW()","v":3378}]
[{"$f":"ROW()","v":3379}]
[{"$f":"ROW()","v":3380}]
[{"$f":"ROW()","v":3381}]
[{"$f":"ROW()","v":3382}]
[{"$f":"ROW()","v":3383}]
[{"$f":"ROW()","v":3384}]
[{"$f":"ROW()","v":3385}]
[{"$f":"ROW()","v":3386}]
[{"$f":"ROW()","v":3387}]
[{"$f":"ROW()","v":3388}]
[{"$f":"ROW()","v":3389}]
[{"$f":"ROW()","v":3390}]
[{"$f":"ROW()","v":3391}]
[{"$f":"ROW()","v":3392}]
[{"$f":"ROW()","v":3393}]
[{"$f":"ROW()","v":3394}]
[{"$f":"ROW()","v":3395}]
[{"$f":"ROW()","v":3396}]
[{"$f":"ROW()","v":3397}]
[{"$f":"ROW()","v":3398}]
[{"$f":"ROW()","v":3399}]
[{"$f":"ROW()","v":3400}]
[{"$f":"ROW()","v":3401}]
[{"$f":"ROW()","v":3402}]
[{"$f":"ROW()","v":3403}]
[{"$f":"ROW()","v":3404}]
[{"$f":"ROW()","v":3405}]
[{"$f":"ROW()","v":3406}]
[{"$f":"ROW()","v":3407}]
[{"$f":"ROW()","v":3408}]
[{"$f":"ROW()","v":3409}]
[{"$f":"ROW()","v":3410}]
[{"$f":"ROW()","v":3411}]
[{"$f":"ROW()","v":3412}]
[{"$f":"ROW()","v":3413}]
[{"$f":"ROW()","v":3414}]
[{"$f":"ROW()","v":3415}]
[{"$f":"ROW()","v":3416}]
[{"$f":"ROW()","v":3417}]
[{"$f":"ROW()","v":3418}]
[{"$f":"ROW()","v":3419}]
[{"$f":"ROW()","v":3420}]
[{"$f":"ROW()","v":3421}]
[{"$f":"ROW()","v":3422}]
[{"$f":"ROW()","v":3423}]
[{"$f":"ROW()","v":3424}]
[{"$f":"ROW()","v":3425}]
[{"$f":"ROW()","v":3426}]
[{"$f":"ROW()","v":3427}]
[{"$f":"ROW()","v":3428}]
[{"$f":"ROW()","v":3429}]
[{"$f":"ROW()","v":3430}]
[{"$f":"ROW()","v":3431}]
[{"$f":"ROW()","v":3432}]
[{"$f":"ROW()","v":3433}]
[{"$f":"ROW()","v":3434}]
[{"$f":"ROW()","v":3435}]
[{"$f":"ROW()","v":3436}]
[{"$f":"ROW()","v":3437}]
[{"$f":"ROW()","v":3438}]
[{"$f":"ROW()","v":3439}]
[{"$f":"ROW()","v":3440}]
[{"$f":"ROW()","v":3441}]
[{"$f":"ROW()","v":3442}]
[{"$f":"ROW()","v":3443}]
[{"$f":"ROW()","v":3444}]
[{"$f":"ROW()","v":3445}]
[{"$f":"ROW()","v":3446}]
[{"$f":"ROW()","v":3447}]
[{"$f":"ROW()","v":3448}]
[{"$f":"ROW()","v":3449}]
[{"$f":"ROW()","v":3450}]
[{"$f":"ROW()","v":3451}]
[{"$f":"ROW()","v":3452}]
[{"$f":"ROW()","v":3453}]
[{"$f":"ROW()","v":3454}]
[{"$f":"ROW()","v":3455}]
[{"$f":"ROW()","v":3456}]
[{"$f":"ROW()","v":3457}]
[{"$f":"ROW()","v":3458}]
[{"$f":"ROW()","v":3459}]
[{"$f":"ROW()","v":3460}]
[{"$f":"ROW()","v":3461}]
[{"$f":"ROW()","v":3462}]
[{"$f":"ROW()","v":3463}]
[{"$f":"ROW()","v":3464}]
[{"$f":"ROW()","v":3465}]
[{"$f":"ROW()","v":3466}]
[{"$f":"ROW()","v":3467}]
[{"$f":"ROW()","v":3468}]
[{"$f":"ROW()","v":3469}]
[{"$f":"ROW()","v":3470}]
[{"$f":"ROW()","v":3471}]
[{"$f":"ROW()","v":3472}]
[{"$f":"ROW()","v":3473}]
[{"$f":"ROW()","v":3474}]
[{"$f":"ROW()","v":3475}]
[{"$f":"ROW()","v":3476}]
[{"$f":"ROW()","v":3477}]
[{"$f":"ROW()","v":3478}]
[{"$f":"ROW()","v":3479}]
[{"$f":"ROW()","v":3480}]
[{"$f":"ROW()","v":3481}]
[{"$f":"ROW()","v":3482}]
[{"$f":"ROW()","v":3483}]
[{"$f":"ROW()","v":3484}]
[{"$f":"ROW()","v":3485}]
[{"$f":"ROW()","v":3486}]
[{"$f":"ROW()","v":3487}]
[{"$f":"ROW()","v":3488}]
[{"$f":"ROW()","v":3489}]
[{"$f":"ROW()","v":3490}]
[{"$f":"ROW()","v":3491}]
[{"$f":"ROW()","v":3492}]
[{"$f":"ROW()","v":3493}]
[{"$f":"ROW()","v":3494}]
[{"$f":"ROW()","v":3495}]
[{"$f":"ROW()","v":3496}]
[{"$f":"ROW()","v":3497}]
[{"$f":"ROW()","v":3498}]
[{"$f":"ROW()","v":3499}]
[{"$f":"ROW()","v":3500}]
[{"$f":"ROW()","v":3501}]
[{"$f":"ROW()","v":3502}]
[{"$f":"ROW()","v":3503}]
[{"$f":"ROW()","v":3504}]
[{"$f":"ROW()","v":3505}]
[{"$f":"ROW()","v":3506}]
[{"$f":"ROW()","v":3507}]
[{"$f":"ROW()","v":3508}]
[{"$f":"ROW()","v":3509}]
[{"$f":"ROW()","v":3510}]
[{"$f":"ROW()","v":3511}]
[{"$f":"ROW()","v":3512}]
[{"$f":"ROW()","v":3513}]
[{"$f":"ROW()","v":3514}]
[{"$f":"ROW()","v":3515}]
[{"$f":"ROW()","v":3516}]
[{"$f":"ROW()","v":3517}]
[{"$f":"ROW()","v":3518}]
[{"$f":"ROW()","v":3519}]
[{"$f":"ROW()","v":3520}]
[{"$f":"ROW()","v":3521}]
[{"$f":"ROW()","v":3522}]
[{"$f":"ROW()","v":3523}]
[{"$f":"ROW()","v":3524}]
[{"$f":"ROW()","v":3525}]
[{"$f":"ROW()","v":3526}]
[{"$f":"ROW()","v":3527}]
[{"$f":"ROW()","v":3528}]
[{"$f":"ROW()","v":3529}]
[{"$f":"ROW()","v":3530}]
[{"$f":"ROW()","v":3531}]
[{"$f":"ROW()","v":3532}]
[{"$f":"ROW()","v":3533}]
[{"$f":"ROW()","v":3534}]
[{"$f":"ROW()","v":3535}]
[{"$f":"ROW()","v":3536}]
[{"$f":"ROW()","v":3537}]
[{"$f":"ROW()","v":3538}]
[{"$f":"ROW()","v":3539}]
[{"$f":"ROW()","v":3540}]
[{"$f":"ROW()","v":3541}]
[{"$f":"ROW()","v":3542}]
[{"$f":"ROW()","v":3543}]
[{"$f":"ROW()","v":3544}]
[{"$f":"ROW()","v":3545}]
[{"$f":"ROW()","v":3546}]
[{"$f":"ROW()","v":3547}]
[{"$f":"ROW()","v":3548}]
[{"$f":"ROW()","v":3549}]
[{"$f":"ROW()","v":3550}]
[{"$f":"ROW()","v":3551}]
[{"$f":"ROW()","v":3552}]
[{"$f":"ROW()","v":3553}]
[{"$f":"ROW()","v":3554}]
[{"$f":"ROW()","v":3555}]
[{"$f":"ROW()","v":3556}]
[{"$f":"ROW()","v":3557}]
[{"$f":"ROW()","v":3558}]
[{"$f":"ROW()","v":3559}]
[{"$f":"ROW()","v":3560}]
[{"$f":"ROW()","v":3561}]
[{"$f":"ROW()","v":3562}]
[{"$f":"ROW()","v":3563}]
[{"$f":"ROW()","v":3564}]
[{"$f":"ROW()","v":3565}]
[{"$f":"ROW()","v":3566}]
[{"$f":"ROW()","v":3567}]
[{"$f":"ROW()","v":3568}]
[{"$f":"ROW()","v":3569}]
[{"$f":"ROW()","v":3570}]
[{"$f":"ROW()","v":3571}]
[{"$f":"ROW()","v":3572}]
[{"$f":"ROW()","v":3573}]
[{"$f":"ROW()","v":3574}]
[{"$f":"ROW()","v":3575}]
[{"$f":"ROW()","v":3576}]
[{"$f":"ROW()","v":3577}]
[{"$f":"ROW()","v":3578}]
[{"$f":"ROW()","v":3579}]
[{"$f":"ROW()","v":3580}]
[{"$f":"ROW()","v":3581}]
[{"$f":"ROW()","v":3582}]
[{"$f":"ROW()","v":3583}]
[{"$f":"ROW()","v":3584}]
[{"$f":"ROW()","v":3585}]
[{"$f":"ROW()","v":3586}]
[{"$f":"ROW()","v":3587}]
[{"$f":"ROW()","v":3588}]
[{"$f":"ROW()","v":3589}]
[{"$f":"ROW()","v":3590}]
[{"$f":"ROW()","v":3591}]
[{"$f":"ROW()","v":3592}]
[{"$f":"ROW()","v":3593}]
[{"$f":"ROW()","v":3594}]
[{"$f":"ROW()","v":3595}]
[{"$f":"ROW()","v":3596}]
[{"$f":"ROW()","v":3597}]
[{"$f":"ROW()","v":3598}]
[{"$f":"ROW()","v":3599}]
[{"$f":"ROW()","v":3600}]
[{"$f":"ROW()","v":3601}]
[{"$f":"ROW()","v":3602}]
[{"$f":"ROW()","v":3603}]
[{"$f":"ROW()","v":3604}]
[{"$f":"ROW()","v":3605}]
[{"$f":"ROW()","v":3606}]
[{"$f":"ROW()","v":3607}]
[{"$f":"ROW()","v":3608}]
[{"$f":"ROW()","v":3609}]
[{"$f":"ROW()","v":3610}]
[{"$f":"ROW()","v":3611}]
[{"$f":"ROW()","v":3612}]
[{"$f":"ROW()","v":3613}]
[{"$f":"ROW()","v":3614}]
[{"$f":"ROW()","v":3615}]
[{"$f":"ROW()","v":3616}]
[{"$f":"ROW()","v":3617}]
[{"$f":"ROW()","v":3618}]
[{"$f":"ROW()","v":3619}]
[{"$f":"ROW()","v":3620}]
[{"$f":"ROW()","v":3621}]
[{"$f":"ROW()","v":3622}]
[{"$f":"ROW()","v":3623}]
[{"$f":"ROW()","v":3624}]
[{"$f":"ROW()","v":3625}]
[{"$f":"ROW()","v":3626}]
[{"$f":"ROW()","v":3627}]
[{"$f":"ROW()","v":3628}]
[{"$f":"ROW()","v":3629}]
[{"$f":"ROW()","v":3630}]
[{"$f":"ROW()","v":3631}]
[{"$f":"ROW()","v":3632}]
[{"$f":"ROW()","v":3633}]
[{"$f":"ROW()","v":3634}]
[{"$f":"ROW()","v":3635}]
[{"$f":"ROW()","v":3636}]
[{"$f":"ROW()","v":3637}]
[{"$f":"ROW()","v":3638}]
[{"$f":"ROW()","v":3639}]
[{"$f":"ROW()","v":3640}]
[{"$f":"ROW()","v":3641}]
[{"$f":"ROW()","v":3642}]
[{"$f":"ROW()","v":3643}]
[{"$f":"ROW()","v":3644}]
[{"$f":"ROW()","v":3645}]
[{"$f":"ROW()","v":3646}]
[{"$f":"ROW()","v":3647}]
[{"$f":"ROW()","v":3648}]
[{"$f":"ROW()","v":3649}]
[{"$f":"ROW()","v":3650}]
[{"$f":"ROW()","v":3651}]
[{"$f":"ROW()","v":3652}]
[{"$f":"ROW()","v":3653}]
[{"$f":"ROW()","v":3654}]
[{"$f":"ROW()","v":3655}]
[{"$f":"ROW()","v":3656}]
[{"$f":"ROW()","v":3657}]
[{"$f":"ROW()","v":3658}]
[{"$f":"ROW()","v":3659}]
[{"$f":"ROW()","v":3660}]
[{"$f":"ROW()","v":3661}]
[{"$f":"ROW()","v":3662}]
[{"$f":"ROW()","v":3663}]
[{"$f":"ROW()","v":3664}]
[{"$f":"ROW()","v":3665}]
[{"$f":"ROW()","v":3666}]
[{"$f":"ROW()","v":3667}]
[{"$f":"ROW()","v":3668}]
[{"$f":"ROW()","v":3669}]
[{"$f":"ROW()","v":3670}]
[{"$f":"ROW()","v":3671}]
[{"$f":"ROW()","v":3672}]
[{"$f":"ROW()","v":3673}]
[{"$f":"ROW()","v":3674}]
[{"$f":"ROW()","v":3675}]
[{"$f":"ROW()","v":3676}]
[{"$f":"ROW()","v":3677}]
[{"$f":"ROW()","v":3678}]
[{"$f":"ROW()","v":3679}]
[{"$f":"ROW()","v":3680}]
[{"$f":"ROW()","v":3681}]
[{"$f":"ROW()","v":3682}]
[{"$f":"ROW()","v":3683}]
[{"$f":"ROW()","v":3684}]
[{"$f":"ROW()","v":3685}]
[{"$f":"ROW()","v":3686}]
[{"$f":"ROW()","v":3687}]
[{"$f":"ROW()","v":3688}]
[{"$f":"ROW()","v":3689}]
[{"$f":"ROW()","v":3690}]
[{"$f":"ROW()","v":3691}]
[{"$f":"ROW()","v":3692}]
[{"$f":"ROW()","v":3693}]
[{"$f":"ROW()","v":3694}]
[{"$f":"ROW()","v":3695}]
[{"$f":"ROW()","v":3696}]
[{"$f":"ROW()","v":3697}]
[{"$f":"ROW()","v":3698}]
[{"$f":"ROW()","v":3699}]
[{"$f":"ROW()","v":3700}]
[{"$f":"ROW()","v":3701}]
[{"$f":"ROW()","v":3702}]
[{"$f":"ROW()","v":3703}]
[{"$f":"ROW()","v":3704}]
[{"$f":"ROW()","v":3705}]
[{"$f":"ROW()","v":3706}]
[{"$f":"ROW()","v":3707}]
[{"$f":"ROW()","v":3708}]
[{"$f":"ROW()","v":3709}]
[{"$f":"ROW()","v":3710}]
[{"$f":"ROW()","v":3711}]
[{"$f":"ROW()","v":3712}]
[{"$f":"ROW()","v":3713}]
[{"$f":"ROW()","v":3714}]
[{"$f":"ROW()","v":3715}]
[{"$f":"ROW()","v":3716}]
[{"$f":"ROW()","v":3717}]
[{"$f":"ROW()","v":3718}]
[{"$f":"ROW()","v":3719}]
[{"$f":"ROW()","v":3720}]
[{"$f":"ROW()","v":3721}]
[{"$f":"ROW()","v":3722}]
[{"$f":"ROW()","v":3723}]
[{"$f":"ROW()","v":3724}]
[{"$f":"ROW()","v":3725}]
[{"$f":"ROW()","v":3726}]
[{"$f":"ROW()","v":3727}]
[{"$f":"ROW()","v":3728}]
[{"$f":"ROW()","v":3729}]
[{"$f":"ROW()","v":3730}]
[{"$f":"ROW()","v":3731}]
[{"$f":"ROW()","v":3732}]
[{"$f":"ROW()","v":3733}]
[{"$f":"ROW()","v":3734}]
[{"$f":"ROW()","v":3735}]
[{"$f":"ROW()","v":3736}]
[{"$f":"ROW()","v":3737}]
[{"$f":"ROW()","v":3738}]
[{"$f":"ROW()","v":3739}]
[{"$f":"ROW()","v":3740}]
[{"$f":"ROW()","v":3741}]
[{"$f":"ROW()","v":3742}]
[{"$f":"ROW()","v":3743}]
[{"$f":"ROW()","v":3744}]
[{"$f":"ROW()","v":3745}]
[{"$f":"ROW()","v":3746}]
[{"$f":"ROW()","v":3747}]
[{"$f":"ROW()","v":3748}]
[{"$f":"ROW()","v":3749}]
[{"$f":"ROW()","v":3750}]
[{"$f":"ROW()","v":3751}]
[{"$f":"ROW()","v":3752}]
[{"$f":"ROW()","v":3753}]
[{"$f":"ROW()","v":3754}]
[{"$f":"ROW()","v":3755}]
[{"$f":"ROW()","v":3756}]
[{"$f":"ROW()","v":3757}]
[{"$f":"ROW()","v":3758}]
[{"$f":"ROW()","v":3759}]
[{"$f":"ROW()","v":3760}]
[{"$f":"ROW()","v":3761}]
[{"$f":"ROW()","v":3762}]
[{"$f":"ROW()","v":3763}]
[{"$f":"ROW()","v":3764}]
[{"$f":"ROW()","v":3765}]
[{"$f":"ROW()","v":3766}]
[{"$f":"ROW()","v":3767}]
[{"$f":"ROW()","v":3768}]
[{"$f":"ROW()","v":3769}]
[{"$f":"ROW()","v":3770}]
[{"$f":"ROW()","v":3771}]
[{"$f":"ROW()","v":3772}]
[{"$f":"ROW()","v":3773}]
[{"$f":"ROW()","v":3774}]
[{"$f":"ROW()","v":3775}]
[{"$f":"ROW()","v":3776}]
[{"$f":"ROW()","v":3777}]
[{"$f":"ROW()","v":3778}]
[{"$f":"ROW()","v":3779}]
[{"$f":"ROW()","v":3780}]
[{"$f":"ROW()","v":3781}]
[{"$f":"ROW()","v":3782}]
[{"$f":"ROW()","v":3783}]
[{"$f":"ROW()","v":3784}]
[{"$f":"ROW()","v":3785}]
[{"$f":"ROW()","v":3786}]
[{"$f":"ROW()","v":3787}]
[{"$f":"ROW()","v":3788}]
[{"$f":"ROW()","v":3789}]
[{"$f":"ROW()","v":3790}]
[{"$f":"ROW()","v":3791}]
[{"$f":"ROW()","v":3792}]
[{"$f":"ROW()","v":3793}]
[{"$f":"ROW()","v":3794}]
[{"$f":"ROW()","v":3795}]
[{"$f":"ROW()","v":3796}]
[{"$f":"ROW()","v":3797}]
[{"$f":"ROW()","v":3798}]
[{"$f":"ROW()","v":3799}]
[{"$f":"ROW()","v":3800}]
[{"$f":"ROW()","v":3801}]
[{"$f":"ROW()","v":3802}]
[{"$f":"ROW()","v":3803}]
[{"$f":"ROW()","v":3804}]
[{"$f":"ROW()","v":3805}]
[{"$f":"ROW()","v":3806}]
[{"$f":"ROW()","v":3807}]
[{"$f":"ROW()","v":3808}]
[{"$f":"ROW()","v":3809}]
[{"$f":"ROW()","v":3810}]
[{"$f":"ROW()","v":3811}]
[{"$f":"ROW()","v":3812}]
[{"$f":"ROW()","v":3813}]
[{"$f":"ROW()","v":3814}]
[{"$f":"ROW()","v":3815}]
[{"$f":"ROW()","v":3816}]
[{"$f":"ROW()","v":3817}]
[{"$f":"ROW()","v":3818}]
[{"$f":"ROW()","v":3819}]
[{"$f":"ROW()","v":3820}]
[{"$f":"ROW()","v":3821}]
[{"$f":"ROW()","v":3822}]
[{"$f":"ROW()","v":3823}]
[{"$f":"ROW()","v":3824}]
[{"$f":"ROW()","v":3825}]
[{"$f":"ROW()","v":3826}]
[{"$f":"ROW()","v":3827}]
[{"$f":"ROW()","v":3828}]
[{"$f":"ROW()","v":3829}]
[{"$f":"ROW()","v":3830}]
[{"$f":"ROW()","v":3831}]
[{"$f":"ROW()","v":3832}]
[{"$f":"ROW()","v":3833}]
[{"$f":"ROW()","v":3834}]
[{"$f":"ROW()","v":3835}]
[{"$f":"ROW()","v":3836}]
[{"$f":"ROW()","v":3837}]
[{"$f":"ROW()","v":3838}]
[{"$f":"ROW()","v":3839}]
[{"$f":"ROW()","v":3840}]
[{"$f":"ROW()","v":3841}]
[{"$f":"ROW()","v":3842}]
[{"$f":"ROW()","v":3843}]
[{"$f":"ROW()","v":3844}]
[{"$f":"ROW()","v":3845}]
[{"$f":"ROW()","v":3846}]
[{"$f":"ROW()","v":3847}]
[{"$f":"ROW()","v":3848}]
[{"$f":"ROW()","v":3849}]
[{"$f":"ROW()","v":3850}]
[{"$f":"ROW()","v":3851}]
[{"$f":"ROW()","v":3852}]
[{"$f":"ROW()","v":3853}]
[{"$f":"ROW()","v":3854}]
[{"$f":"ROW()","v":3855}]
[{"$f":"ROW()","v":3856}]
[{"$f":"ROW()","v":3857}]
[{"$f":"ROW()","v":3858}]
[{"$f":"ROW()","v":3859}]
[{"$f":"ROW()","v":3860}]
[{"$f":"ROW()","v":3861}]
[{"$f":"ROW()","v":3862}]
[{"$f":"ROW()","v":3863}]
[{"$f":"ROW()","v":3864}]
[{"$f":"ROW()","v":3865}]
[{"$f":"ROW()","v":3866}]
[{"$f":"ROW()","v":3867}]
[{"$f":"ROW()","v":3868}]
[{"$f":"ROW()","v":3869}]
[{"$f":"ROW()","v":3870}]
[{"$f":"ROW()","v":3871}]
[{"$f":"ROW()","v":3872}]
[{"$f":"ROW()","v":3873}]
[{"$f":"ROW()","v":3874}]
[{"$f":"ROW()","v":3875}]
[{"$f":"ROW()","v":3876}]
[{"$f":"ROW()","v":3877}]
[{"$f":"ROW()","v":3878}]
[{"$f":"ROW()","v":3879}]
[{"$f":"ROW()","v":3880}]
[{"$f":"ROW()","v":3881}]
[{"$f":"ROW()","v":3882}]
[{"$f":"ROW()","v":3883}]
[{"$f":"ROW()","v":3884}]
[{"$f":"ROW()","v":3885}]
[{"$f":"ROW()","v":3886}]
[{"$f":"ROW()","v":3887}]
[{"$f":"ROW()","v":3888}]
[{"$f":"ROW()","v":3889}]
[{"$f":"ROW()","v":3890}]
[{"$f":"ROW()","v":3891}]
[{"$f":"ROW()","v":3892}]
[{"$f":"ROW()","v":3893}]
[{"$f":"ROW()","v":3894}]
[{"$f":"ROW()","v":3895}]
[{"$f":"ROW()","v":3896}]
[{"$f":"ROW()","v":3897}]
[{"$f":"ROW()","v":3898}]
[{"$f":"ROW()","v":3899}]
[{"$f":"ROW()","v":3900}]
[{"$f":"ROW()","v":3901}]
[{"$f":"ROW()","v":3902}]
[{"$f":"ROW()","v":3903}]
[{"$f":"ROW()","v":3904}]
[{"$f":"ROW()","v":3905}]
[{"$f":"ROW()","v":3906}]
[{"$f":"ROW()","v":3907}]
[{"$f":"ROW()","v":3908}]
[{"$f":"ROW()","v":3909}]
[{"$f":"ROW()","v":3910}]
[{"$f":"ROW()","v":3911}]
[{"$f":"ROW()","v":3912}]
[{"$f":"ROW()","v":3913}]
[{"$f":"ROW()","v":3914}]
[{"$f":"ROW()","v":3915}]
[{"$f":"ROW()","v":3916}]
[{"$f":"ROW()","v":3917}]
[{"$f":"ROW()","v":3918}]
[{"$f":"ROW()","v":3919}]
[{"$f":"ROW()","v":3920}]
[{"$f":"ROW()","v":3921}]
[{"$f":"ROW()","v":3922}]
[{"$f":"ROW()","v":3923}]
[{"$f":"ROW()","v":3924}]
[{"$f":"ROW()","v":3925}]
[{"$f":"ROW()","v":3926}]
[{"$f":"ROW()","v":3927}]
[{"$f":"ROW()","v":3928}]
[{"$f":"ROW()","v":3929}]
[{"$f":"ROW()","v":3930}]
[{"$f":"ROW()","v":3931}]
[{"$f":"ROW()","v":3932}]
[{"$f":"ROW()","v":3933}]
[{"$f":"ROW()","v":3934}]
[{"$f":"ROW()","v":3935}]
[{"$f":"ROW()","v":3936}]
[{"$f":"ROW()","v":3937}]
[{"$f":"ROW()","v":3938}]
[{"$f":"ROW()","v":3939}]
[{"$f":"ROW()","v":3940}]
[{"$f":"ROW()","v":3941}]
[{"$f":"ROW()","v":3942}]
[{"$f":"ROW()","v":3943}]
[{"$f":"ROW()","v":3944}]
[{"$f":"ROW()","v":3945}]
[{"$f":"ROW()","v":3946}]
[{"$f":"ROW()","v":3947}]
[{"$f":"ROW()","v":3948}]
[{"$f":"ROW()","v":3949}]
[{"$f":"ROW()","v":3950}]
[{"$f":"ROW()","v":3951}]
[{"$f":"ROW()","v":3952}]
[{"$f":"ROW()","v":3953}]
[{"$f":"ROW()","v":3954}]
[{"$f":"ROW()","v":3955}]
[{"$f":"ROW()","v":3956}]
[{"$f":"ROW()","v":3957}]
[{"$f":"ROW()","v":3958}]
[{"$f":"ROW()","v":3959}]
[{"$f":"ROW()","v":3960}]
[{"$f":"ROW()","v":3961}]
[{"$f":"ROW()","v":3962}]
[{"$f":"ROW()","v":3963}]
[{"$f":"ROW()","v":3964}]
[{"$f":"ROW()","v":3965}]
[{"$f":"ROW()","v":3966}]
[{"$f":"ROW()","v":3967}]
[{"$f":"ROW()","v":3968}]
[{"$f":"ROW()","v":3969}]
[{"$f":"ROW()","v":3970}]
[{"$f":"ROW()","v":3971}]
[{"$f":"ROW()","v":3972}]
[{"$f":"ROW()","v":3973}]
[{"$f":"ROW()","v":3974}]
[{"$f":"ROW()","v":3975}]
[{"$f":"ROW()","v":3976}]
[{"$f":"ROW()","v":3977}]
[{"$f":"ROW()","v":3978}]
[{"$f":"ROW()","v":3979}]
[{"$f":"ROW()","v":3980}]
[{"$f":"ROW()","v":3981}]
[{"$f":"ROW()","v":3982}]
[{"$f":"ROW()","v":3983}]
[{"$f":"ROW()","v":3984}]
[{"$f":"ROW()","v":3985}]
[{"$f":"ROW()","v":3986}]
[{"$f":"ROW()","v":3987}]
[{"$f":"ROW()","v":3988}]
[{"$f":"ROW()","v":3989}]
[{"$f":"ROW()","v":3990}]
[{"$f":"ROW()","v":3991}]
[{"$f":"ROW()","v":3992}]
[{"$f":"ROW()","v":3993}]
[{"$f":"ROW()","v":3994}]
[{"$f":"ROW()","v":3995}]
[{"$f":"ROW()","v":3996}]
[{"$f":"ROW()","v":3997}]
[{"$f":"ROW()","v":3998}]
[{"$f":"ROW()","v":3999}]
[{"$f":"ROW()","v":4000}]
[{"$f":"ROW()","v":4001}]
[{"$f":"ROW()","v":4002}]

{"sheet":"Annexe D","index":5,"n_rows":3993,"n_cols":15,"rows_kept":3993,"cut":false,"hidden":false,"merged":[[0,8,0,9],[3,8,3,14],[5,3,5,6],[8,3,8,6],[6,3,6,6],[1,2,1,7],[10,7,12,7],[3,2,3,7],[10,3,13,3],[2,2,2,7],[10,6,12,6],[10,4,12,4],[10,5,12,5],[10,1,12,1],[10,2,12,2],[10,10,12,10],[10,11,12,11],[0,12,0,14],[10,12,12,12],[10,13,12,13],[10,14,12,14],[9,11,9,14],[1,8,1,14],[2,8,2,14],[10,8,12,8],[4,3,4,6],[0,4,0,7],[10,9,12,9],[9,2,9,7]]}
[null,null,null,null,"Production de titres multimédias\n(volet sociétés spécialisées)\nVersion : 2023-09-22",null,null,null,null,null,null,null,"Production de titres multimédias\n(volet sociétés spécialisées)\nVersion : 2023-09-22"]
[null,null,"Annexe D - Demande d'attestation de travaux de production\nListe des titres et des informations connexes"]
[null,null,"(L'Annexe D fait partie intégrante de la présente demande.)"]
[null,null,"Vous devez dresser la liste de tous les titres multimédias à l’égard desquels des travaux de production ont été effectués pendant l’année d’imposition visée. Cette liste doit refléter tant les titres que la société a développés entièrement que ceux à l’égard desquels elle n’a contribué que partiellement (partie de titre). Veuillez inclure également les titres dont la date de début des travaux de production est antérieure à la date de début de l’année d’imposition visée et à l’égard desquels des travaux de production ont été effectués pendant cette année d’imposition.",null,null,null,null,null,"Annexe D (suite) - Demande d'attestation de travaux de production\nListe des titres et des informations connexes\n(L'Annexe D (suite) fait partie intégrante de la présente demande.)"]
[null,null,"Nom de la société :",{"$f":"IF(Demande!A7=\"\",\"\",Demande!A7)","v":""}]
[]
[]
[null,null,"Numéro de dossier IQ : ",{"$f":"IF(Demande!U10=\"\",\"\",Demande!U10)","v":""}]
[]
[null,null,null,null,null,null,null,null,null,null,null,"Présence et importance des composantes multimédias"]
[null,"Nom du titre","Nom et adresse du client, le cas échéant","Support électronique du titre (CD, Internet, console, etc.)","S'il s'agit d'un site Internet, indiquez l'adresse du site Internet.","Date de début des travaux de production (date à laquelle les premiers frais de production ont été engagés)","Date de la première commercialisation\n(voir le commentaire au triangle rouge)","Revenus bruts générés durant l'année d'imposition visée","Disponibilité du titre en français au moment de la date de la première commercialisation? (Oui, non ou en partie).","Sommaire du contenu \n(histoire, scénario, etc.)","Décrire l'interactivité entre l'utilisateur et le contenu (description détaillée) ","Son\n (évaluer et décrire le niveau d'importance)","Texte\n (évaluer et décrire le niveau d'importance)","Images fixes\n (évaluer et décrire le niveau d'importance)","Images animées\n (évaluer et décrire le niveau d'importance)"]
[]
[]
[]
[{"$f":"ROW()","v":15}]
[{"$f":"ROW()","v":16}]
[{"$f":"ROW()","v":17}]
[{"$f":"ROW()","v":18}]
[{"$f":"ROW()","v":19}]
[{"$f":"ROW()","v":20}]
[{"$f":"ROW()","v":21}]
[{"$f":"ROW()","v":22}]
[{"$f":"ROW()","v":23}]
[{"$f":"ROW()","v":24}]
[{"$f":"ROW()","v":25}]
[{"$f":"ROW()","v":26}]
[{"$f":"ROW()","v":27}]
[]
[]
[{"$f":"ROW()","v":30}]
[{"$f":"ROW()","v":31}]
[{"$f":"ROW()","v":32}]
[{"$f":"ROW()","v":33}]
[{"$f":"ROW()","v":34}]
[{"$f":"ROW()","v":35}]
[{"$f":"ROW()","v":36}]
[{"$f":"ROW()","v":37}]
[{"$f":"ROW()","v":38}]
[{"$f":"ROW()","v":39}]
[{"$f":"ROW()","v":40}]
[{"$f":"ROW()","v":41}]
[{"$f":"ROW()","v":42}]
[{"$f":"ROW()","v":43}]
[{"$f":"ROW()","v":44}]
[{"$f":"ROW()","v":45}]
[{"$f":"ROW()","v":46}]
[{"$f":"ROW()","v":47}]
[{"$f":"ROW()","v":48}]
[{"$f":"ROW()","v":49}]
[{"$f":"ROW()","v":50}]
[{"$f":"ROW()","v":51}]
[{"$f":"ROW()","v":52}]
[{"$f":"ROW()","v":53}]
[{"$f":"ROW()","v":54}]
[{"$f":"ROW()","v":55}]
[{"$f":"ROW()","v":56}]
[{"$f":"ROW()","v":57}]
[{"$f":"ROW()","v":58}]
[{"$f":"ROW()","v":59}]
[{"$f":"ROW()","v":60}]
[{"$f":"ROW()","v":61}]
[{"$f":"ROW()","v":62}]
[{"$f":"ROW()","v":63}]
[{"$f":"ROW()","v":64}]
[{"$f":"ROW()","v":65}]
[{"$f":"ROW()","v":66}]
[{"$f":"ROW()","v":67}]
[{"$f":"ROW()","v":68}]
[{"$f":"ROW()","v":69}]
[{"$f":"ROW()","v":70}]
[{"$f":"ROW()","v":71}]
[{"$f":"ROW()","v":72}]
[{"$f":"ROW()","v":73}]
[{"$f":"ROW()","v":74}]
[{"$f":"ROW()","v":75}]
[{"$f":"ROW()","v":76}]
[{"$f":"ROW()","v":77}]
[{"$f":"ROW()","v":78}]
[{"$f":"ROW()","v":79}]
[{"$f":"ROW()","v":80}]
[{"$f":"ROW()","v":81}]
[{"$f":"ROW()","v":82}]
[{"$f":"ROW()","v":83}]
[{"$f":"ROW()","v":84}]
[{"$f":"ROW()","v":85}]
[{"$f":"ROW()","v":86}]
[{"$f":"ROW()","v":87}]
[{"$f":"ROW()","v":88}]
[{"$f":"ROW()","v":89}]
[{"$f":"ROW()","v":90}]
[{"$f":"ROW()","v":91}]
[{"$f":"ROW()","v":92}]
[{"$f":"ROW()","v":93}]
[{"$f":"ROW()","v":94}]
[{"$f":"ROW()","v":95}]
[{"$f":"ROW()","v":96}]
[{"$f":"ROW()","v":97}]
[{"$f":"ROW()","v":98}]
[{"$f":"ROW()","v":99}]
[{"$f":"ROW()","v":100}]
[{"$f":"ROW()","v":101}]
[{"$f":"ROW()","v":102}]
[{"$f":"ROW()","v":103}]
[{"$f":"ROW()","v":104}]
[{"$f":"ROW()","v":105}]
[{"$f":"ROW()","v":106}]
[{"$f":"ROW()","v":107}]
[{"$f":"ROW()","v":108}]
[{"$f":"ROW()","v":109}]
[{"$f":"ROW()","v":110}]
[{"$f":"ROW()","v":111}]
[{"$f":"ROW()","v":112}]
[{"$f":"ROW()","v":113}]
[{"$f":"ROW()","v":114}]
[{"$f":"ROW()","v":115}]
[{"$f":"ROW()","v":116}]
[{"$f":"ROW()","v":117}]
[{"$f":"ROW()","v":118}]
[{"$f":"ROW()","v":119}]
[{"$f":"ROW()","v":120}]
[{"$f":"ROW()","v":121}]
[{"$f":"ROW()","v":122}]
[{"$f":"ROW()","v":123}]
[{"$f":"ROW()","v":124}]
[{"$f":"ROW()","v":125}]
[{"$f":"ROW()","v":126}]
[{"$f":"ROW()","v":127}]
[{"$f":"ROW()","v":128}]
[{"$f":"ROW()","v":129}]
[{"$f":"ROW()","v":130}]
[{"$f":"ROW()","v":131}]
[{"$f":"ROW()","v":132}]
[{"$f":"ROW()","v":133}]
[{"$f":"ROW()","v":134}]
[{"$f":"ROW()","v":135}]
[{"$f":"ROW()","v":136}]
[{"$f":"ROW()","v":137}]
[{"$f":"ROW()","v":138}]
[{"$f":"ROW()","v":139}]
[{"$f":"ROW()","v":140}]
[{"$f":"ROW()","v":141}]
[{"$f":"ROW()","v":142}]
[{"$f":"ROW()","v":143}]
[{"$f":"ROW()","v":144}]
[{"$f":"ROW()","v":145}]
[{"$f":"ROW()","v":146}]
[{"$f":"ROW()","v":147}]
[{"$f":"ROW()","v":148}]
[{"$f":"ROW()","v":149}]
[{"$f":"ROW()","v":150}]
[{"$f":"ROW()","v":151}]
[{"$f":"ROW()","v":152}]
[{"$f":"ROW()","v":153}]
[{"$f":"ROW()","v":154}]
[{"$f":"ROW()","v":155}]
[{"$f":"ROW()","v":156}]
[{"$f":"ROW()","v":157}]
[{"$f":"ROW()","v":158}]
[{"$f":"ROW()","v":159}]
[{"$f":"ROW()","v":160}]
[{"$f":"ROW()","v":161}]
[{"$f":"ROW()","v":162}]
[{"$f":"ROW()","v":163}]
[{"$f":"ROW()","v":164}]
[{"$f":"ROW()","v":165}]
[{"$f":"ROW()","v":166}]
[{"$f":"ROW()","v":167}]
[{"$f":"ROW()","v":168}]
[{"$f":"ROW()","v":169}]
[{"$f":"ROW()","v":170}]
[{"$f":"ROW()","v":171}]
[{"$f":"ROW()","v":172}]
[{"$f":"ROW()","v":173}]
[{"$f":"ROW()","v":174}]
[{"$f":"ROW()","v":175}]
[{"$f":"ROW()","v":176}]
[{"$f":"ROW()","v":177}]
[{"$f":"ROW()","v":178}]
[{"$f":"ROW()","v":179}]
[{"$f":"ROW()","v":180}]
[{"$f":"ROW()","v":181}]
[{"$f":"ROW()","v":182}]
[{"$f":"ROW()","v":183}]
[{"$f":"ROW()","v":184}]
[{"$f":"ROW()","v":185}]
[{"$f":"ROW()","v":186}]
[{"$f":"ROW()","v":187}]
[{"$f":"ROW()","v":188}]
[{"$f":"ROW()","v":189}]
[{"$f":"ROW()","v":190}]
[{"$f":"ROW()","v":191}]
[{"$f":"ROW()","v":192}]
[{"$f":"ROW()","v":193}]
[{"$f":"ROW()","v":194}]
[{"$f":"ROW()","v":195}]
[{"$f":"ROW()","v":196}]
[{"$f":"ROW()","v":197}]
[{"$f":"ROW()","v":198}]
[{"$f":"ROW()","v":199}]
[{"$f":"ROW()","v":200}]
[{"$f":"ROW()","v":201}]
[{"$f":"ROW()","v":202}]
[{"$f":"ROW()","v":203}]
[{"$f":"ROW()","v":204}]
[{"$f":"ROW()","v":205}]
[{"$f":"ROW()","v":206}]
[{"$f":"ROW()","v":207}]
[{"$f":"ROW()","v":208}]
[{"$f":"ROW()","v":209}]
[{"$f":"ROW()","v":210}]
[{"$f":"ROW()","v":211}]
[{"$f":"ROW()","v":212}]
[{"$f":"ROW()","v":213}]
[{"$f":"ROW()","v":214}]
[{"$f":"ROW()","v":215}]
[{"$f":"ROW()","v":216}]
[{"$f":"ROW()","v":217}]
[{"$f":"ROW()","v":218}]
[{"$f":"ROW()","v":219}]
[{"$f":"ROW()","v":220}]
[{"$f":"ROW()","v":221}]
[{"$f":"ROW()","v":222}]
[{"$f":"ROW()","v":223}]
[{"$f":"ROW()","v":224}]
[{"$f":"ROW()","v":225}]
[{"$f":"ROW()","v":226}]
[{"$f":"ROW()","v":227}]
[{"$f":"ROW()","v":228}]
[{"$f":"ROW()","v":229}]
[{"$f":"ROW()","v":230}]
[{"$f":"ROW()","v":231}]
[{"$f":"ROW()","v":232}]
[{"$f":"ROW()","v":233}]
[{"$f":"ROW()","v":234}]
[{"$f":"ROW()","v":235}]
[{"$f":"ROW()","v":236}]
[{"$f":"ROW()","v":237}]
[{"$f":"ROW()","v":238}]
[{"$f":"ROW()","v":239}]
[{"$f":"ROW()","v":240}]
[{"$f":"ROW()","v":241}]
[{"$f":"ROW()","v":242}]
[{"$f":"ROW()","v":243}]
[{"$f":"ROW()","v":244}]
[{"$f":"ROW()","v":245}]
[{"$f":"ROW()","v":246}]
[{"$f":"ROW()","v":247}]
[{"$f":"ROW()","v":248}]
[{"$f":"ROW()","v":249}]
[{"$f":"ROW()","v":250}]
[{"$f":"ROW()","v":251}]
[{"$f":"ROW()","v":252}]
[{"$f":"ROW()","v":253}]
[{"$f":"ROW()","v":254}]
[{"$f":"ROW()","v":255}]
[{"$f":"ROW()","v":256}]
[{"$f":"ROW()","v":257}]
[{"$f":"ROW()","v":258}]
[{"$f":"ROW()","v":259}]
[{"$f":"ROW()","v":260}]
[{"$f":"ROW()","v":261}]
[{"$f":"ROW()","v":262}]
[{"$f":"ROW()","v":263}]
[{"$f":"ROW()","v":264}]
[{"$f":"ROW()","v":265}]
[{"$f":"ROW()","v":266}]
[{"$f":"ROW()","v":267}]
[{"$f":"ROW()","v":268}]
[{"$f":"ROW()","v":269}]
[{"$f":"ROW()","v":270}]
[{"$f":"ROW()","v":271}]
[{"$f":"ROW()","v":272}]
[{"$f":"ROW()","v":273}]
[{"$f":"ROW()","v":274}]
[{"$f":"ROW()","v":275}]
[{"$f":"ROW()","v":276}]
[{"$f":"ROW()","v":277}]
[{"$f":"ROW()","v":278}]
[{"$f":"ROW()","v":279}]
[{"$f":"ROW()","v":280}]
[{"$f":"ROW()","v":281}]
[{"$f":"ROW()","v":282}]
[{"$f":"ROW()","v":283}]
[{"$f":"ROW()","v":284}]
[{"$f":"ROW()","v":285}]
[{"$f":"ROW()","v":286}]
[{"$f":"ROW()","v":287}]
[{"$f":"ROW()","v":288}]
[{"$f":"ROW()","v":289}]
[{"$f":"ROW()","v":290}]
[{"$f":"ROW()","v":291}]
[{"$f":"ROW()","v":292}]
[{"$f":"ROW()","v":293}]
[{"$f":"ROW()","v":294}]
[{"$f":"ROW()","v":295}]
[{"$f":"ROW()","v":296}]
[{"$f":"ROW()","v":297}]
[{"$f":"ROW()","v":298}]
[{"$f":"ROW()","v":299}]
[{"$f":"ROW()","v":300}]
[{"$f":"ROW()","v":301}]
[{"$f":"ROW()","v":302}]
[{"$f":"ROW()","v":303}]
[{"$f":"ROW()","v":304}]
[{"$f":"ROW()","v":305}]
[{"$f":"ROW()","v":306}]
[{"$f":"ROW()","v":307}]
[{"$f":"ROW()","v":308}]
[{"$f":"ROW()","v":309}]
[{"$f":"ROW()","v":310}]
[{"$f":"ROW()","v":311}]
[{"$f":"ROW()","v":312}]
[{"$f":"ROW()","v":313}]
[{"$f":"ROW()","v":314}]
[{"$f":"ROW()","v":315}]
[{"$f":"ROW()","v":316}]
[{"$f":"ROW()","v":317}]
[{"$f":"ROW()","v":318}]
[{"$f":"ROW()","v":319}]
[{"$f":"ROW()","v":320}]
[{"$f":"ROW()","v":321}]
[{"$f":"ROW()","v":322}]
[{"$f":"ROW()","v":323}]
[{"$f":"ROW()","v":324}]
[{"$f":"ROW()","v":325}]
[{"$f":"ROW()","v":326}]
[{"$f":"ROW()","v":327}]
[{"$f":"ROW()","v":328}]
[{"$f":"ROW()","v":329}]
[{"$f":"ROW()","v":330}]
[{"$f":"ROW()","v":331}]
[{"$f":"ROW()","v":332}]
[{"$f":"ROW()","v":333}]
[{"$f":"ROW()","v":334}]
[{"$f":"ROW()","v":335}]
[{"$f":"ROW()","v":336}]
[{"$f":"ROW()","v":337}]
[{"$f":"ROW()","v":338}]
[{"$f":"ROW()","v":339}]
[{"$f":"ROW()","v":340}]
[{"$f":"ROW()","v":341}]
[{"$f":"ROW()","v":342}]
[{"$f":"ROW()","v":343}]
[{"$f":"ROW()","v":344}]
[{"$f":"ROW()","v":345}]
[{"$f":"ROW()","v":346}]
[{"$f":"ROW()","v":347}]
[{"$f":"ROW()","v":348}]
[{"$f":"ROW()","v":349}]
[{"$f":"ROW()","v":350}]
[{"$f":"ROW()","v":351}]
[{"$f":"ROW()","v":352}]
[{"$f":"ROW()","v":353}]
[{"$f":"ROW()","v":354}]
[{"$f":"ROW()","v":355}]
[{"$f":"ROW()","v":356}]
[{"$f":"ROW()","v":357}]
[{"$f":"ROW()","v":358}]
[{"$f":"ROW()","v":359}]
[{"$f":"ROW()","v":360}]
[{"$f":"ROW()","v":361}]
[{"$f":"ROW()","v":362}]
[{"$f":"ROW()","v":363}]
[{"$f":"ROW()","v":364}]
[{"$f":"ROW()","v":365}]
[{"$f":"ROW()","v":366}]
[{"$f":"ROW()","v":367}]
[{"$f":"ROW()","v":368}]
[{"$f":"ROW()","v":369}]
[{"$f":"ROW()","v":370}]
[{"$f":"ROW()","v":371}]
[{"$f":"ROW()","v":372}]
[{"$f":"ROW()","v":373}]
[{"$f":"ROW()","v":374}]
[{"$f":"ROW()","v":375}]
[{"$f":"ROW()","v":376}]
[{"$f":"ROW()","v":377}]
[{"$f":"ROW()","v":378}]
[{"$f":"ROW()","v":379}]
[{"$f":"ROW()","v":380}]
[{"$f":"ROW()","v":381}]
[{"$f":"ROW()","v":382}]
[{"$f":"ROW()","v":383}]
[{"$f":"ROW()","v":384}]
[{"$f":"ROW()","v":385}]
[{"$f":"ROW()","v":386}]
[{"$f":"ROW()","v":387}]
[{"$f":"ROW()","v":388}]
[{"$f":"ROW()","v":389}]
[{"$f":"ROW()","v":390}]
[{"$f":"ROW()","v":391}]
[{"$f":"ROW()","v":392}]
[{"$f":"ROW()","v":393}]
[{"$f":"ROW()","v":394}]
[{"$f":"ROW()","v":395}]
[{"$f":"ROW()","v":396}]
[{"$f":"ROW()","v":397}]
[{"$f":"ROW()","v":398}]
[{"$f":"ROW()","v":399}]
[{"$f":"ROW()","v":400}]
[{"$f":"ROW()","v":401}]
[{"$f":"ROW()","v":402}]
[{"$f":"ROW()","v":403}]
[{"$f":"ROW()","v":404}]
[{"$f":"ROW()","v":405}]
[{"$f":"ROW()","v":406}]
[{"$f":"ROW()","v":407}]
[{"$f":"ROW()","v":408}]
[{"$f":"ROW()","v":409}]
[{"$f":"ROW()","v":410}]
[{"$f":"ROW()","v":411}]
[{"$f":"ROW()","v":412}]
[{"$f":"ROW()","v":413}]
[{"$f":"ROW()","v":414}]
[{"$f":"ROW()","v":415}]
[{"$f":"ROW()","v":416}]
[{"$f":"ROW()","v":417}]
[{"$f":"ROW()","v":418}]
[{"$f":"ROW()","v":419}]
[{"$f":"ROW()","v":420}]
[{"$f":"ROW()","v":421}]
[{"$f":"ROW()","v":422}]
[{"$f":"ROW()","v":423}]
[{"$f":"ROW()","v":424}]
[{"$f":"ROW()","v":425}]
[{"$f":"ROW()","v":426}]
[{"$f":"ROW()","v":427}]
[{"$f":"ROW()","v":428}]
[{"$f":"ROW()","v":429}]
[{"$f":"ROW()","v":430}]
[{"$f":"ROW()","v":431}]
[{"$f":"ROW()","v":432}]
[{"$f":"ROW()","v":433}]
[{"$f":"ROW()","v":434}]
[{"$f":"ROW()","v":435}]
[{"$f":"ROW()","v":436}]
[{"$f":"ROW()","v":437}]
[{"$f":"ROW()","v":438}]
[{"$f":"ROW()","v":439}]
[{"$f":"ROW()","v":440}]
[{"$f":"ROW()","v":441}]
[{"$f":"ROW()","v":442}]
[{"$f":"ROW()","v":443}]
[{"$f":"ROW()","v":444}]
[{"$f":"ROW()","v":445}]
[{"$f":"ROW()","v":446}]
[{"$f":"ROW()","v":447}]
[{"$f":"ROW()","v":448}]
[{"$f":"ROW()","v":449}]
[{"$f":"ROW()","v":450}]
[{"$f":"ROW()","v":451}]
[{"$f":"ROW()","v":452}]
[{"$f":"ROW()","v":453}]
[{"$f":"ROW()","v":454}]
[{"$f":"ROW()","v":455}]
[{"$f":"ROW()","v":456}]
[{"$f":"ROW()","v":457}]
[{"$f":"ROW()","v":458}]
[{"$f":"ROW()","v":459}]
[{"$f":"ROW()","v":460}]
[{"$f":"ROW()","v":461}]
[{"$f":"ROW()","v":462}]
[{"$f":"ROW()","v":463}]
[{"$f":"ROW()","v":464}]
[{"$f":"ROW()","v":465}]
[{"$f":"ROW()","v":466}]
[{"$f":"ROW()","v":467}]
[{"$f":"ROW()","v":468}]
[{"$f":"ROW()","v":469}]
[{"$f":"ROW()","v":470}]
[{"$f":"ROW()","v":471}]
[{"$f":"ROW()","v":472}]
[{"$f":"ROW()","v":473}]
[{"$f":"ROW()","v":474}]
[{"$f":"ROW()","v":475}]
[{"$f":"ROW()","v":476}]
[{"$f":"ROW()","v":477}]
[{"$f":"ROW()","v":478}]
[{"$f":"ROW()","v":479}]
[{"$f":"ROW()","v":480}]
[{"$f":"ROW()","v":481}]
[{"$f":"ROW()","v":482}]
[{"$f":"ROW()","v":483}]
[{"$f":"ROW()","v":484}]
[{"$f":"ROW()","v":485}]
[{"$f":"ROW()","v":486}]
[{"$f":"ROW()","v":487}]
[{"$f":"ROW()","v":488}]
[{"$f":"ROW()","v":489}]
[{"$f":"ROW()","v":490}]
[{"$f":"ROW()","v":491}]
[{"$f":"ROW()","v":492}]
[{"$f":"ROW()","v":493}]
[{"$f":"ROW()","v":494}]
[{"$f":"ROW()","v":495}]
[{"$f":"ROW()","v":496}]
[{"$f":"ROW()","v":497}]
[{"$f":"ROW()","v":498}]
[{"$f":"ROW()","v":499}]
[{"$f":"ROW()","v":500}]
[{"$f":"ROW()","v":501}]
[{"$f":"ROW()","v":502}]
[{"$f":"ROW()","v":503}]
[{"$f":"ROW()","v":504}]
[{"$f":"ROW()","v":505}]
[{"$f":"ROW()","v":506}]
[{"$f":"ROW()","v":507}]
[{"$f":"ROW()","v":508}]
[{"$f":"ROW()","v":509}]
[{"$f":"ROW()","v":510}]
[{"$f":"ROW()","v":511}]
[{"$f":"ROW()","v":512}]
[{"$f":"ROW()","v":513}]
[{"$f":"ROW()","v":514}]
[{"$f":"ROW()","v":515}]
[{"$f":"ROW()","v":516}]
[{"$f":"ROW()","v":517}]
[{"$f":"ROW()","v":518}]
[{"$f":"ROW()","v":519}]
[{"$f":"ROW()","v":520}]
[{"$f":"ROW()","v":521}]
[{"$f":"ROW()","v":522}]
[{"$f":"ROW()","v":523}]
[{"$f":"ROW()","v":524}]
[{"$f":"ROW()","v":525}]
[{"$f":"ROW()","v":526}]
[{"$f":"ROW()","v":527}]
[{"$f":"ROW()","v":528}]
[{"$f":"ROW()","v":529}]
[{"$f":"ROW()","v":530}]
[{"$f":"ROW()","v":531}]
[{"$f":"ROW()","v":532}]
[{"$f":"ROW()","v":533}]
[{"$f":"ROW()","v":534}]
[{"$f":"ROW()","v":535}]
[{"$f":"ROW()","v":536}]
[{"$f":"ROW()","v":537}]
[{"$f":"ROW()","v":538}]
[{"$f":"ROW()","v":539}]
[{"$f":"ROW()","v":540}]
[{"$f":"ROW()","v":541}]
[{"$f":"ROW()","v":542}]
[{"$f":"ROW()","v":543}]
[{"$f":"ROW()","v":544}]
[{"$f":"ROW()","v":545}]
[{"$f":"ROW()","v":546}]
[{"$f":"ROW()","v":547}]
[{"$f":"ROW()","v":548}]
[{"$f":"ROW()","v":549}]
[{"$f":"ROW()","v":550}]
[{"$f":"ROW()","v":551}]
[{"$f":"ROW()","v":552}]
[{"$f":"ROW()","v":553}]
[{"$f":"ROW()","v":554}]
[{"$f":"ROW()","v":555}]
[{"$f":"ROW()","v":556}]
[{"$f":"ROW()","v":557}]
[{"$f":"ROW()","v":558}]
[{"$f":"ROW()","v":559}]
[{"$f":"ROW()","v":560}]
[{"$f":"ROW()","v":561}]
[{"$f":"ROW()","v":562}]
[{"$f":"ROW()","v":563}]
[{"$f":"ROW()","v":564}]
[{"$f":"ROW()","v":565}]
[{"$f":"ROW()","v":566}]
[{"$f":"ROW()","v":567}]
[{"$f":"ROW()","v":568}]
[{"$f":"ROW()","v":569}]
[{"$f":"ROW()","v":570}]
[{"$f":"ROW()","v":571}]
[{"$f":"ROW()","v":572}]
[{"$f":"ROW()","v":573}]
[{"$f":"ROW()","v":574}]
[{"$f":"ROW()","v":575}]
[{"$f":"ROW()","v":576}]
[{"$f":"ROW()","v":577}]
[{"$f":"ROW()","v":578}]
[{"$f":"ROW()","v":579}]
[{"$f":"ROW()","v":580}]
[{"$f":"ROW()","v":581}]
[{"$f":"ROW()","v":582}]
[{"$f":"ROW()","v":583}]
[{"$f":"ROW()","v":584}]
[{"$f":"ROW()","v":585}]
[{"$f":"ROW()","v":586}]
[{"$f":"ROW()","v":587}]
[{"$f":"ROW()","v":588}]
[{"$f":"ROW()","v":589}]
[{"$f":"ROW()","v":590}]
[{"$f":"ROW()","v":591}]
[{"$f":"ROW()","v":592}]
[{"$f":"ROW()","v":593}]
[{"$f":"ROW()","v":594}]
[{"$f":"ROW()","v":595}]
[{"$f":"ROW()","v":596}]
[{"$f":"ROW()","v":597}]
[{"$f":"ROW()","v":598}]
[{"$f":"ROW()","v":599}]
[{"$f":"ROW()","v":600}]
[{"$f":"ROW()","v":601}]
[{"$f":"ROW()","v":602}]
[{"$f":"ROW()","v":603}]
[{"$f":"ROW()","v":604}]
[{"$f":"ROW()","v":605}]
[{"$f":"ROW()","v":606}]
[{"$f":"ROW()","v":607}]
[{"$f":"ROW()","v":608}]
[{"$f":"ROW()","v":609}]
[{"$f":"ROW()","v":610}]
[{"$f":"ROW()","v":611}]
[{"$f":"ROW()","v":612}]
[{"$f":"ROW()","v":613}]
[{"$f":"ROW()","v":614}]
[{"$f":"ROW()","v":615}]
[{"$f":"ROW()","v":616}]
[{"$f":"ROW()","v":617}]
[{"$f":"ROW()","v":618}]
[{"$f":"ROW()","v":619}]
[{"$f":"ROW()","v":620}]
[{"$f":"ROW()","v":621}]
[{"$f":"ROW()","v":622}]
[{"$f":"ROW()","v":623}]
[{"$f":"ROW()","v":624}]
[{"$f":"ROW()","v":625}]
[{"$f":"ROW()","v":626}]
[{"$f":"ROW()","v":627}]
[{"$f":"ROW()","v":628}]
[{"$f":"ROW()","v":629}]
[{"$f":"ROW()","v":630}]
[{"$f":"ROW()","v":631}]
[{"$f":"ROW()","v":632}]
[{"$f":"ROW()","v":633}]
[{"$f":"ROW()","v":634}]
[{"$f":"ROW()","v":635}]
[{"$f":"ROW()","v":636}]
[{"$f":"ROW()","v":637}]
[{"$f":"ROW()","v":638}]
[{"$f":"ROW()","v":639}]
[{"$f":"ROW()","v":640}]
[{"$f":"ROW()","v":641}]
[{"$f":"ROW()","v":642}]
[{"$f":"ROW()","v":643}]
[{"$f":"ROW()","v":644}]
[{"$f":"ROW()","v":645}]
[{"$f":"ROW()","v":646}]
[{"$f":"ROW()","v":647}]
[{"$f":"ROW()","v":648}]
[{"$f":"ROW()","v":649}]
[{"$f":"ROW()","v":650}]
[{"$f":"ROW()","v":651}]
[{"$f":"ROW()","v":652}]
[{"$f":"ROW()","v":653}]
[{"$f":"ROW()","v":654}]
[{"$f":"ROW()","v":655}]
[{"$f":"ROW()","v":656}]
[{"$f":"ROW()","v":657}]
[{"$f":"ROW()","v":658}]
[{"$f":"ROW()","v":659}]
[{"$f":"ROW()","v":660}]
[{"$f":"ROW()","v":661}]
[{"$f":"ROW()","v":662}]
[{"$f":"ROW()","v":663}]
[{"$f":"ROW()","v":664}]
[{"$f":"ROW()","v":665}]
[{"$f":"ROW()","v":666}]
[{"$f":"ROW()","v":667}]
[{"$f":"ROW()","v":668}]
[{"$f":"ROW()","v":669}]
[{"$f":"ROW()","v":670}]
[{"$f":"ROW()","v":671}]
[{"$f":"ROW()","v":672}]
[{"$f":"ROW()","v":673}]
[{"$f":"ROW()","v":674}]
[{"$f":"ROW()","v":675}]
[{"$f":"ROW()","v":676}]
[{"$f":"ROW()","v":677}]
[{"$f":"ROW()","v":678}]
[{"$f":"ROW()","v":679}]
[{"$f":"ROW()","v":680}]
[{"$f":"ROW()","v":681}]
[{"$f":"ROW()","v":682}]
[{"$f":"ROW()","v":683}]
[{"$f":"ROW()","v":684}]
[{"$f":"ROW()","v":685}]
[{"$f":"ROW()","v":686}]
[{"$f":"ROW()","v":687}]
[{"$f":"ROW()","v":688}]
[{"$f":"ROW()","v":689}]
[{"$f":"ROW()","v":690}]
[{"$f":"ROW()","v":691}]
[{"$f":"ROW()","v":692}]
[{"$f":"ROW()","v":693}]
[{"$f":"ROW()","v":694}]
[{"$f":"ROW()","v":695}]
[{"$f":"ROW()","v":696}]
[{"$f":"ROW()","v":697}]
[{"$f":"ROW()","v":698}]
[{"$f":"ROW()","v":699}]
[{"$f":"ROW()","v":700}]
[{"$f":"ROW()","v":701}]
[{"$f":"ROW()","v":702}]
[{"$f":"ROW()","v":703}]
[{"$f":"ROW()","v":704}]
[{"$f":"ROW()","v":705}]
[{"$f":"ROW()","v":706}]
[{"$f":"ROW()","v":707}]
[{"$f":"ROW()","v":708}]
[{"$f":"ROW()","v":709}]
[{"$f":"ROW()","v":710}]
[{"$f":"ROW()","v":711}]
[{"$f":"ROW()","v":712}]
[{"$f":"ROW()","v":713}]
[{"$f":"ROW()","v":714}]
[{"$f":"ROW()","v":715}]
[{"$f":"ROW()","v":716}]
[{"$f":"ROW()","v":717}]
[{"$f":"ROW()","v":718}]
[{"$f":"ROW()","v":719}]
[{"$f":"ROW()","v":720}]
[{"$f":"ROW()","v":721}]
[{"$f":"ROW()","v":722}]
[{"$f":"ROW()","v":723}]
[{"$f":"ROW()","v":724}]
[{"$f":"ROW()","v":725}]
[{"$f":"ROW()","v":726}]
[{"$f":"ROW()","v":727}]
[{"$f":"ROW()","v":728}]
[{"$f":"ROW()","v":729}]
[{"$f":"ROW()","v":730}]
[{"$f":"ROW()","v":731}]
[{"$f":"ROW()","v":732}]
[{"$f":"ROW()","v":733}]
[{"$f":"ROW()","v":734}]
[{"$f":"ROW()","v":735}]
[{"$f":"ROW()","v":736}]
[{"$f":"ROW()","v":737}]
[{"$f":"ROW()","v":738}]
[{"$f":"ROW()","v":739}]
[{"$f":"ROW()","v":740}]
[{"$f":"ROW()","v":741}]
[{"$f":"ROW()","v":742}]
[{"$f":"ROW()","v":743}]
[{"$f":"ROW()","v":744}]
[{"$f":"ROW()","v":745}]
[{"$f":"ROW()","v":746}]
[{"$f":"ROW()","v":747}]
[{"$f":"ROW()","v":748}]
[{"$f":"ROW()","v":749}]
[{"$f":"ROW()","v":750}]
[{"$f":"ROW()","v":751}]
[{"$f":"ROW()","v":752}]
[{"$f":"ROW()","v":753}]
[{"$f":"ROW()","v":754}]
[{"$f":"ROW()","v":755}]
[{"$f":"ROW()","v":756}]
[{"$f":"ROW()","v":757}]
[{"$f":"ROW()","v":758}]
[{"$f":"ROW()","v":759}]
[{"$f":"ROW()","v":760}]
[{"$f":"ROW()","v":761}]
[{"$f":"ROW()","v":762}]
[{"$f":"ROW()","v":763}]
[{"$f":"ROW()","v":764}]
[{"$f":"ROW()","v":765}]
[{"$f":"ROW()","v":766}]
[{"$f":"ROW()","v":767}]
[{"$f":"ROW()","v":768}]
[{"$f":"ROW()","v":769}]
[{"$f":"ROW()","v":770}]
[{"$f":"ROW()","v":771}]
[{"$f":"ROW()","v":772}]
[{"$f":"ROW()","v":773}]
[{"$f":"ROW()","v":774}]
[{"$f":"ROW()","v":775}]
[{"$f":"ROW()","v":776}]
[{"$f":"ROW()","v":777}]
[{"$f":"ROW()","v":778}]
[{"$f":"ROW()","v":779}]
[{"$f":"ROW()","v":780}]
[{"$f":"ROW()","v":781}]
[{"$f":"ROW()","v":782}]
[{"$f":"ROW()","v":783}]
[{"$f":"ROW()","v":784}]
[{"$f":"ROW()","v":785}]
[{"$f":"ROW()","v":786}]
[{"$f":"ROW()","v":787}]
[{"$f":"ROW()","v":788}]
[{"$f":"ROW()","v":789}]
[{"$f":"ROW()","v":790}]
[{"$f":"ROW()","v":791}]
[{"$f":"ROW()","v":792}]
[{"$f":"ROW()","v":793}]
[{"$f":"ROW()","v":794}]
[{"$f":"ROW()","v":795}]
[{"$f":"ROW()","v":796}]
[{"$f":"ROW()","v":797}]
[{"$f":"ROW()","v":798}]
[{"$f":"ROW()","v":799}]
[{"$f":"ROW()","v":800}]
[{"$f":"ROW()","v":801}]
[{"$f":"ROW()","v":802}]
[{"$f":"ROW()","v":803}]
[{"$f":"ROW()","v":804}]
[{"$f":"ROW()","v":805}]
[{"$f":"ROW()","v":806}]
[{"$f":"ROW()","v":807}]
[{"$f":"ROW()","v":808}]
[{"$f":"ROW()","v":809}]
[{"$f":"ROW()","v":810}]
[{"$f":"ROW()","v":811}]
[{"$f":"ROW()","v":812}]
[{"$f":"ROW()","v":813}]
[{"$f":"ROW()","v":814}]
[{"$f":"ROW()","v":815}]
[{"$f":"ROW()","v":816}]
[{"$f":"ROW()","v":817}]
[{"$f":"ROW()","v":818}]
[{"$f":"ROW()","v":819}]
[{"$f":"ROW()","v":820}]
[{"$f":"ROW()","v":821}]
[{"$f":"ROW()","v":822}]
[{"$f":"ROW()","v":823}]
[{"$f":"ROW()","v":824}]
[{"$f":"ROW()","v":825}]
[{"$f":"ROW()","v":826}]
[{"$f":"ROW()","v":827}]
[{"$f":"ROW()","v":828}]
[{"$f":"ROW()","v":829}]
[{"$f":"ROW()","v":830}]
[{"$f":"ROW()","v":831}]
[{"$f":"ROW()","v":832}]
[{"$f":"ROW()","v":833}]
[{"$f":"ROW()","v":834}]
[{"$f":"ROW()","v":835}]
[{"$f":"ROW()","v":836}]
[{"$f":"ROW()","v":837}]
[{"$f":"ROW()","v":838}]
[{"$f":"ROW()","v":839}]
[{"$f":"ROW()","v":840}]
[{"$f":"ROW()","v":841}]
[{"$f":"ROW()","v":842}]
[{"$f":"ROW()","v":843}]
[{"$f":"ROW()","v":844}]
[{"$f":"ROW()","v":845}]
[{"$f":"ROW()","v":846}]
[{"$f":"ROW()","v":847}]
[{"$f":"ROW()","v":848}]
[{"$f":"ROW()","v":849}]
[{"$f":"ROW()","v":850}]
[{"$f":"ROW()","v":851}]
[{"$f":"ROW()","v":852}]
[{"$f":"ROW()","v":853}]
[{"$f":"ROW()","v":854}]
[{"$f":"ROW()","v":855}]
[{"$f":"ROW()","v":856}]
[{"$f":"ROW()","v":857}]
[{"$f":"ROW()","v":858}]
[{"$f":"ROW()","v":859}]
[{"$f":"ROW()","v":860}]
[{"$f":"ROW()","v":861}]
[{"$f":"ROW()","v":862}]
[{"$f":"ROW()","v":863}]
[{"$f":"ROW()","v":864}]
[{"$f":"ROW()","v":865}]
[{"$f":"ROW()","v":866}]
[{"$f":"ROW()","v":867}]
[{"$f":"ROW()","v":868}]
[{"$f":"ROW()","v":869}]
[{"$f":"ROW()","v":870}]
[{"$f":"ROW()","v":871}]
[{"$f":"ROW()","v":872}]
[{"$f":"ROW()","v":873}]
[{"$f":"ROW()","v":874}]
[{"$f":"ROW()","v":875}]
[{"$f":"ROW()","v":876}]
[{"$f":"ROW()","v":877}]
[{"$f":"ROW()","v":878}]
[{"$f":"ROW()","v":879}]
[{"$f":"ROW()","v":880}]
[{"$f":"ROW()","v":881}]
[{"$f":"ROW()","v":882}]
[{"$f":"ROW()","v":883}]
[{"$f":"ROW()","v":884}]
[{"$f":"ROW()","v":885}]
[{"$f":"ROW()","v":886}]
[{"$f":"ROW()","v":887}]
[{"$f":"ROW()","v":888}]
[{"$f":"ROW()","v":889}]
[{"$f":"ROW()","v":890}]
[{"$f":"ROW()","v":891}]
[{"$f":"ROW()","v":892}]
[{"$f":"ROW()","v":893}]
[{"$f":"ROW()","v":894}]
[{"$f":"ROW()","v":895}]
[{"$f":"ROW()","v":896}]
[{"$f":"ROW()","v":897}]
[{"$f":"ROW()","v":898}]
[{"$f":"ROW()","v":899}]
[{"$f":"ROW()","v":900}]
[{"$f":"ROW()","v":901}]
[{"$f":"ROW()","v":902}]
[{"$f":"ROW()","v":903}]
[{"$f":"ROW()","v":904}]
[{"$f":"ROW()","v":905}]
[{"$f":"ROW()","v":906}]
[{"$f":"ROW()","v":907}]
[{"$f":"ROW()","v":908}]
[{"$f":"ROW()","v":909}]
[{"$f":"ROW()","v":910}]
[{"$f":"ROW()","v":911}]
[{"$f":"ROW()","v":912}]
[{"$f":"ROW()","v":913}]
[{"$f":"ROW()","v":914}]
[{"$f":"ROW()","v":915}]
[{"$f":"ROW()","v":916}]
[{"$f":"ROW()","v":917}]
[{"$f":"ROW()","v":918}]
[{"$f":"ROW()","v":919}]
[{"$f":"ROW()","v":920}]
[{"$f":"ROW()","v":921}]
[{"$f":"ROW()","v":922}]
[{"$f":"ROW()","v":923}]
[{"$f":"ROW()","v":924}]
[{"$f":"ROW()","v":925}]
[{"$f":"ROW()","v":926}]
[{"$f":"ROW()","v":927}]
[{"$f":"ROW()","v":928}]
[{"$f":"ROW()","v":929}]
[{"$f":"ROW()","v":930}]
[{"$f":"ROW()","v":931}]
[{"$f":"ROW()","v":932}]
[{"$f":"ROW()","v":933}]
[{"$f":"ROW()","v":934}]
[{"$f":"ROW()","v":935}]
[{"$f":"ROW()","v":936}]
[{"$f":"ROW()","v":937}]
[{"$f":"ROW()","v":938}]
[{"$f":"ROW()","v":939}]
[{"$f":"ROW()","v":940}]
[{"$f":"ROW()","v":941}]
[{"$f":"ROW()","v":942}]
[{"$f":"ROW()","v":943}]
[{"$f":"ROW()","v":944}]
[{"$f":"ROW()","v":945}]
[{"$f":"ROW()","v":946}]
[{"$f":"ROW()","v":947}]
[{"$f":"ROW()","v":948}]
[{"$f":"ROW()","v":949}]
[{"$f":"ROW()","v":950}]
[{"$f":"ROW()","v":951}]
[{"$f":"ROW()","v":952}]
[{"$f":"ROW()","v":953}]
[{"$f":"ROW()","v":954}]
[{"$f":"ROW()","v":955}]
[{"$f":"ROW()","v":956}]
[{"$f":"ROW()","v":957}]
[{"$f":"ROW()","v":958}]
[{"$f":"ROW()","v":959}]
[{"$f":"ROW()","v":960}]
[{"$f":"ROW()","v":961}]
[{"$f":"ROW()","v":962}]
[{"$f":"ROW()","v":963}]
[{"$f":"ROW()","v":964}]
[{"$f":"ROW()","v":965}]
[{"$f":"ROW()","v":966}]
[{"$f":"ROW()","v":967}]
[{"$f":"ROW()","v":968}]
[{"$f":"ROW()","v":969}]
[{"$f":"ROW()","v":970}]
[{"$f":"ROW()","v":971}]
[{"$f":"ROW()","v":972}]
[{"$f":"ROW()","v":973}]
[{"$f":"ROW()","v":974}]
[{"$f":"ROW()","v":975}]
[{"$f":"ROW()","v":976}]
[{"$f":"ROW()","v":977}]
[{"$f":"ROW()","v":978}]
[{"$f":"ROW()","v":979}]
[{"$f":"ROW()","v":980}]
[{"$f":"ROW()","v":981}]
[{"$f":"ROW()","v":982}]
[{"$f":"ROW()","v":983}]
[{"$f":"ROW()","v":984}]
[{"$f":"ROW()","v":985}]
[{"$f":"ROW()","v":986}]
[{"$f":"ROW()","v":987}]
[{"$f":"ROW()","v":988}]
[{"$f":"ROW()","v":989}]
[{"$f":"ROW()","v":990}]
[{"$f":"ROW()","v":991}]
[{"$f":"ROW()","v":992}]
[{"$f":"ROW()","v":993}]
[{"$f":"ROW()","v":994}]
[{"$f":"ROW()","v":995}]
[{"$f":"ROW()","v":996}]
[{"$f":"ROW()","v":997}]
[{"$f":"ROW()","v":998}]
[{"$f":"ROW()","v":999}]
[{"$f":"ROW()","v":1000}]
[{"$f":"ROW()","v":1001}]
[{"$f":"ROW()","v":1002}]
[{"$f":"ROW()","v":1003}]
[{"$f":"ROW()","v":1004}]
[{"$f":"ROW()","v":1005}]
[{"$f":"ROW()","v":1006}]
[{"$f":"ROW()","v":1007}]
[{"$f":"ROW()","v":1008}]
[{"$f":"ROW()","v":1009}]
[{"$f":"ROW()","v":1010}]
[{"$f":"ROW()","v":1011}]
[{"$f":"ROW()","v":1012}]
[{"$f":"ROW()","v":1013}]
[{"$f":"ROW()","v":1014}]
[{"$f":"ROW()","v":1015}]
[{"$f":"ROW()","v":1016}]
[{"$f":"ROW()","v":1017}]
[{"$f":"ROW()","v":1018}]
[{"$f":"ROW()","v":1019}]
[{"$f":"ROW()","v":1020}]
[{"$f":"ROW()","v":1021}]
[{"$f":"ROW()","v":1022}]
[{"$f":"ROW()","v":1023}]
[{"$f":"ROW()","v":1024}]
[{"$f":"ROW()","v":1025}]
[{"$f":"ROW()","v":1026}]
[{"$f":"ROW()","v":1027}]
[{"$f":"ROW()","v":1028}]
[{"$f":"ROW()","v":1029}]
[{"$f":"ROW()","v":1030}]
[{"$f":"ROW()","v":1031}]
[{"$f":"ROW()","v":1032}]
[{"$f":"ROW()","v":1033}]
[{"$f":"ROW()","v":1034}]
[{"$f":"ROW()","v":1035}]
[{"$f":"ROW()","v":1036}]
[{"$f":"ROW()","v":1037}]
[{"$f":"ROW()","v":1038}]
[{"$f":"ROW()","v":1039}]
[{"$f":"ROW()","v":1040}]
[{"$f":"ROW()","v":1041}]
[{"$f":"ROW()","v":1042}]
[{"$f":"ROW()","v":1043}]
[{"$f":"ROW()","v":1044}]
[{"$f":"ROW()","v":1045}]
[{"$f":"ROW()","v":1046}]
[{"$f":"ROW()","v":1047}]
[{"$f":"ROW()","v":1048}]
[{"$f":"ROW()","v":1049}]
[{"$f":"ROW()","v":1050}]
[{"$f":"ROW()","v":1051}]
[{"$f":"ROW()","v":1052}]
[{"$f":"ROW()","v":1053}]
[{"$f":"ROW()","v":1054}]
[{"$f":"ROW()","v":1055}]
[{"$f":"ROW()","v":1056}]
[{"$f":"ROW()","v":1057}]
[{"$f":"ROW()","v":1058}]
[{"$f":"ROW()","v":1059}]
[{"$f":"ROW()","v":1060}]
[{"$f":"ROW()","v":1061}]
[{"$f":"ROW()","v":1062}]
[{"$f":"ROW()","v":1063}]
[{"$f":"ROW()","v":1064}]
[{"$f":"ROW()","v":1065}]
[{"$f":"ROW()","v":1066}]
[{"$f":"ROW()","v":1067}]
[{"$f":"ROW()","v":1068}]
[{"$f":"ROW()","v":1069}]
[{"$f":"ROW()","v":1070}]
[{"$f":"ROW()","v":1071}]
[{"$f":"ROW()","v":1072}]
[{"$f":"ROW()","v":1073}]
[{"$f":"ROW()","v":1074}]
[{"$f":"ROW()","v":1075}]
[{"$f":"ROW()","v":1076}]
[{"$f":"ROW()","v":1077}]
[{"$f":"ROW()","v":1078}]
[{"$f":"ROW()","v":1079}]
[{"$f":"ROW()","v":1080}]
[{"$f":"ROW()","v":1081}]
[{"$f":"ROW()","v":1082}]
[{"$f":"ROW()","v":1083}]
[{"$f":"ROW()","v":1084}]
[{"$f":"ROW()","v":1085}]
[{"$f":"ROW()","v":1086}]
[{"$f":"ROW()","v":1087}]
[{"$f":"ROW()","v":1088}]
[{"$f":"ROW()","v":1089}]
[{"$f":"ROW()","v":1090}]
[{"$f":"ROW()","v":1091}]
[{"$f":"ROW()","v":1092}]
[{"$f":"ROW()","v":1093}]
[{"$f":"ROW()","v":1094}]
[{"$f":"ROW()","v":1095}]
[{"$f":"ROW()","v":1096}]
[{"$f":"ROW()","v":1097}]
[{"$f":"ROW()","v":1098}]
[{"$f":"ROW()","v":1099}]
[{"$f":"ROW()","v":1100}]
[{"$f":"ROW()","v":1101}]
[{"$f":"ROW()","v":1102}]
[{"$f":"ROW()","v":1103}]
[{"$f":"ROW()","v":1104}]
[{"$f":"ROW()","v":1105}]
[{"$f":"ROW()","v":1106}]
[{"$f":"ROW()","v":1107}]
[{"$f":"ROW()","v":1108}]
[{"$f":"ROW()","v":1109}]
[{"$f":"ROW()","v":1110}]
[{"$f":"ROW()","v":1111}]
[{"$f":"ROW()","v":1112}]
[{"$f":"ROW()","v":1113}]
[{"$f":"ROW()","v":1114}]
[{"$f":"ROW()","v":1115}]
[{"$f":"ROW()","v":1116}]
[{"$f":"ROW()","v":1117}]
[{"$f":"ROW()","v":1118}]
[{"$f":"ROW()","v":1119}]
[{"$f":"ROW()","v":1120}]
[{"$f":"ROW()","v":1121}]
[{"$f":"ROW()","v":1122}]
[{"$f":"ROW()","v":1123}]
[{"$f":"ROW()","v":1124}]
[{"$f":"ROW()","v":1125}]
[{"$f":"ROW()","v":1126}]
[{"$f":"ROW()","v":1127}]
[{"$f":"ROW()","v":1128}]
[{"$f":"ROW()","v":1129}]
[{"$f":"ROW()","v":1130}]
[{"$f":"ROW()","v":1131}]
[{"$f":"ROW()","v":1132}]
[{"$f":"ROW()","v":1133}]
[{"$f":"ROW()","v":1134}]
[{"$f":"ROW()","v":1135}]
[{"$f":"ROW()","v":1136}]
[{"$f":"ROW()","v":1137}]
[{"$f":"ROW()","v":1138}]
[{"$f":"ROW()","v":1139}]
[{"$f":"ROW()","v":1140}]
[{"$f":"ROW()","v":1141}]
[{"$f":"ROW()","v":1142}]
[{"$f":"ROW()","v":1143}]
[{"$f":"ROW()","v":1144}]
[{"$f":"ROW()","v":1145}]
[{"$f":"ROW()","v":1146}]
[{"$f":"ROW()","v":1147}]
[{"$f":"ROW()","v":1148}]
[{"$f":"ROW()","v":1149}]
[{"$f":"ROW()","v":1150}]
[{"$f":"ROW()","v":1151}]
[{"$f":"ROW()","v":1152}]
[{"$f":"ROW()","v":1153}]
[{"$f":"ROW()","v":1154}]
[{"$f":"ROW()","v":1155}]
[{"$f":"ROW()","v":1156}]
[{"$f":"ROW()","v":1157}]
[{"$f":"ROW()","v":1158}]
[{"$f":"ROW()","v":1159}]
[{"$f":"ROW()","v":1160}]
[{"$f":"ROW()","v":1161}]
[{"$f":"ROW()","v":1162}]
[{"$f":"ROW()","v":1163}]
[{"$f":"ROW()","v":1164}]
[{"$f":"ROW()","v":1165}]
[{"$f":"ROW()","v":1166}]
[{"$f":"ROW()","v":1167}]
[{"$f":"ROW()","v":1168}]
[{"$f":"ROW()","v":1169}]
[{"$f":"ROW()","v":1170}]
[{"$f":"ROW()","v":1171}]
[{"$f":"ROW()","v":1172}]
[{"$f":"ROW()","v":1173}]
[{"$f":"ROW()","v":1174}]
[{"$f":"ROW()","v":1175}]
[{"$f":"ROW()","v":1176}]
[{"$f":"ROW()","v":1177}]
[{"$f":"ROW()","v":1178}]
[{"$f":"ROW()","v":1179}]
[{"$f":"ROW()","v":1180}]
[{"$f":"ROW()","v":1181}]
[{"$f":"ROW()","v":1182}]
[{"$f":"ROW()","v":1183}]
[{"$f":"ROW()","v":1184}]
[{"$f":"ROW()","v":1185}]
[{"$f":"ROW()","v":1186}]
[{"$f":"ROW()","v":1187}]
[{"$f":"ROW()","v":1188}]
[{"$f":"ROW()","v":1189}]
[{"$f":"ROW()","v":1190}]
[{"$f":"ROW()","v":1191}]
[{"$f":"ROW()","v":1192}]
[{"$f":"ROW()","v":1193}]
[{"$f":"ROW()","v":1194}]
[{"$f":"ROW()","v":1195}]
[{"$f":"ROW()","v":1196}]
[{"$f":"ROW()","v":1197}]
[{"$f":"ROW()","v":1198}]
[{"$f":"ROW()","v":1199}]
[{"$f":"ROW()","v":1200}]
[{"$f":"ROW()","v":1201}]
[{"$f":"ROW()","v":1202}]
[{"$f":"ROW()","v":1203}]
[{"$f":"ROW()","v":1204}]
[{"$f":"ROW()","v":1205}]
[{"$f":"ROW()","v":1206}]
[{"$f":"ROW()","v":1207}]
[{"$f":"ROW()","v":1208}]
[{"$f":"ROW()","v":1209}]
[{"$f":"ROW()","v":1210}]
[{"$f":"ROW()","v":1211}]
[{"$f":"ROW()","v":1212}]
[{"$f":"ROW()","v":1213}]
[{"$f":"ROW()","v":1214}]
[{"$f":"ROW()","v":1215}]
[{"$f":"ROW()","v":1216}]
[{"$f":"ROW()","v":1217}]
[{"$f":"ROW()","v":1218}]
[{"$f":"ROW()","v":1219}]
[{"$f":"ROW()","v":1220}]
[{"$f":"ROW()","v":1221}]
[{"$f":"ROW()","v":1222}]
[{"$f":"ROW()","v":1223}]
[{"$f":"ROW()","v":1224}]
[{"$f":"ROW()","v":1225}]
[{"$f":"ROW()","v":1226}]
[{"$f":"ROW()","v":1227}]
[{"$f":"ROW()","v":1228}]
[{"$f":"ROW()","v":1229}]
[{"$f":"ROW()","v":1230}]
[{"$f":"ROW()","v":1231}]
[{"$f":"ROW()","v":1232}]
[{"$f":"ROW()","v":1233}]
[{"$f":"ROW()","v":1234}]
[{"$f":"ROW()","v":1235}]
[{"$f":"ROW()","v":1236}]
[{"$f":"ROW()","v":1237}]
[{"$f":"ROW()","v":1238}]
[{"$f":"ROW()","v":1239}]
[{"$f":"ROW()","v":1240}]
[{"$f":"ROW()","v":1241}]
[{"$f":"ROW()","v":1242}]
[{"$f":"ROW()","v":1243}]
[{"$f":"ROW()","v":1244}]
[{"$f":"ROW()","v":1245}]
[{"$f":"ROW()","v":1246}]
[{"$f":"ROW()","v":1247}]
[{"$f":"ROW()","v":1248}]
[{"$f":"ROW()","v":1249}]
[{"$f":"ROW()","v":1250}]
[{"$f":"ROW()","v":1251}]
[{"$f":"ROW()","v":1252}]
[{"$f":"ROW()","v":1253}]
[{"$f":"ROW()","v":1254}]
[{"$f":"ROW()","v":1255}]
[{"$f":"ROW()","v":1256}]
[{"$f":"ROW()","v":1257}]
[{"$f":"ROW()","v":1258}]
[{"$f":"ROW()","v":1259}]
[{"$f":"ROW()","v":1260}]
[{"$f":"ROW()","v":1261}]
[{"$f":"ROW()","v":1262}]
[{"$f":"ROW()","v":1263}]
[{"$f":"ROW()","v":1264}]
[{"$f":"ROW()","v":1265}]
[{"$f":"ROW()","v":1266}]
[{"$f":"ROW()","v":1267}]
[{"$f":"ROW()","v":1268}]
[{"$f":"ROW()","v":1269}]
[{"$f":"ROW()","v":1270}]
[{"$f":"ROW()","v":1271}]
[{"$f":"ROW()","v":1272}]
[{"$f":"ROW()","v":1273}]
[{"$f":"ROW()","v":1274}]
[{"$f":"ROW()","v":1275}]
[{"$f":"ROW()","v":1276}]
[{"$f":"ROW()","v":1277}]
[{"$f":"ROW()","v":1278}]
[{"$f":"ROW()","v":1279}]
[{"$f":"ROW()","v":1280}]
[{"$f":"ROW()","v":1281}]
[{"$f":"ROW()","v":1282}]
[{"$f":"ROW()","v":1283}]
[{"$f":"ROW()","v":1284}]
[{"$f":"ROW()","v":1285}]
[{"$f":"ROW()","v":1286}]
[{"$f":"ROW()","v":1287}]
[{"$f":"ROW()","v":1288}]
[{"$f":"ROW()","v":1289}]
[{"$f":"ROW()","v":1290}]
[{"$f":"ROW()","v":1291}]
[{"$f":"ROW()","v":1292}]
[{"$f":"ROW()","v":1293}]
[{"$f":"ROW()","v":1294}]
[{"$f":"ROW()","v":1295}]
[{"$f":"ROW()","v":1296}]
[{"$f":"ROW()","v":1297}]
[{"$f":"ROW()","v":1298}]
[{"$f":"ROW()","v":1299}]
[{"$f":"ROW()","v":1300}]
[{"$f":"ROW()","v":1301}]
[{"$f":"ROW()","v":1302}]
[{"$f":"ROW()","v":1303}]
[{"$f":"ROW()","v":1304}]
[{"$f":"ROW()","v":1305}]
[{"$f":"ROW()","v":1306}]
[{"$f":"ROW()","v":1307}]
[{"$f":"ROW()","v":1308}]
[{"$f":"ROW()","v":1309}]
[{"$f":"ROW()","v":1310}]
[{"$f":"ROW()","v":1311}]
[{"$f":"ROW()","v":1312}]
[{"$f":"ROW()","v":1313}]
[{"$f":"ROW()","v":1314}]
[{"$f":"ROW()","v":1315}]
[{"$f":"ROW()","v":1316}]
[{"$f":"ROW()","v":1317}]
[{"$f":"ROW()","v":1318}]
[{"$f":"ROW()","v":1319}]
[{"$f":"ROW()","v":1320}]
[{"$f":"ROW()","v":1321}]
[{"$f":"ROW()","v":1322}]
[{"$f":"ROW()","v":1323}]
[{"$f":"ROW()","v":1324}]
[{"$f":"ROW()","v":1325}]
[{"$f":"ROW()","v":1326}]
[{"$f":"ROW()","v":1327}]
[{"$f":"ROW()","v":1328}]
[{"$f":"ROW()","v":1329}]
[{"$f":"ROW()","v":1330}]
[{"$f":"ROW()","v":1331}]
[{"$f":"ROW()","v":1332}]
[{"$f":"ROW()","v":1333}]
[{"$f":"ROW()","v":1334}]
[{"$f":"ROW()","v":1335}]
[{"$f":"ROW()","v":1336}]
[{"$f":"ROW()","v":1337}]
[{"$f":"ROW()","v":1338}]
[{"$f":"ROW()","v":1339}]
[{"$f":"ROW()","v":1340}]
[{"$f":"ROW()","v":1341}]
[{"$f":"ROW()","v":1342}]
[{"$f":"ROW()","v":1343}]
[{"$f":"ROW()","v":1344}]
[{"$f":"ROW()","v":1345}]
[{"$f":"ROW()","v":1346}]
[{"$f":"ROW()","v":1347}]
[{"$f":"ROW()","v":1348}]
[{"$f":"ROW()","v":1349}]
[{"$f":"ROW()","v":1350}]
[{"$f":"ROW()","v":1351}]
[{"$f":"ROW()","v":1352}]
[{"$f":"ROW()","v":1353}]
[{"$f":"ROW()","v":1354}]
[{"$f":"ROW()","v":1355}]
[{"$f":"ROW()","v":1356}]
[{"$f":"ROW()","v":1357}]
[{"$f":"ROW()","v":1358}]
[{"$f":"ROW()","v":1359}]
[{"$f":"ROW()","v":1360}]
[{"$f":"ROW()","v":1361}]
[{"$f":"ROW()","v":1362}]
[{"$f":"ROW()","v":1363}]
[{"$f":"ROW()","v":1364}]
[{"$f":"ROW()","v":1365}]
[{"$f":"ROW()","v":1366}]
[{"$f":"ROW()","v":1367}]
[{"$f":"ROW()","v":1368}]
[{"$f":"ROW()","v":1369}]
[{"$f":"ROW()","v":1370}]
[{"$f":"ROW()","v":1371}]
[{"$f":"ROW()","v":1372}]
[{"$f":"ROW()","v":1373}]
[{"$f":"ROW()","v":1374}]
[{"$f":"ROW()","v":1375}]
[{"$f":"ROW()","v":1376}]
[{"$f":"ROW()","v":1377}]
[{"$f":"ROW()","v":1378}]
[{"$f":"ROW()","v":1379}]
[{"$f":"ROW()","v":1380}]
[{"$f":"ROW()","v":1381}]
[{"$f":"ROW()","v":1382}]
[{"$f":"ROW()","v":1383}]
[{"$f":"ROW()","v":1384}]
[{"$f":"ROW()","v":1385}]
[{"$f":"ROW()","v":1386}]
[{"$f":"ROW()","v":1387}]
[{"$f":"ROW()","v":1388}]
[{"$f":"ROW()","v":1389}]
[{"$f":"ROW()","v":1390}]
[{"$f":"ROW()","v":1391}]
[{"$f":"ROW()","v":1392}]
[{"$f":"ROW()","v":1393}]
[{"$f":"ROW()","v":1394}]
[{"$f":"ROW()","v":1395}]
[{"$f":"ROW()","v":1396}]
[{"$f":"ROW()","v":1397}]
[{"$f":"ROW()","v":1398}]
[{"$f":"ROW()","v":1399}]
[{"$f":"ROW()","v":1400}]
[{"$f":"ROW()","v":1401}]
[{"$f":"ROW()","v":1402}]
[{"$f":"ROW()","v":1403}]
[{"$f":"ROW()","v":1404}]
[{"$f":"ROW()","v":1405}]
[{"$f":"ROW()","v":1406}]
[{"$f":"ROW()","v":1407}]
[{"$f":"ROW()","v":1408}]
[{"$f":"ROW()","v":1409}]
[{"$f":"ROW()","v":1410}]
[{"$f":"ROW()","v":1411}]
[{"$f":"ROW()","v":1412}]
[{"$f":"ROW()","v":1413}]
[{"$f":"ROW()","v":1414}]
[{"$f":"ROW()","v":1415}]
[{"$f":"ROW()","v":1416}]
[{"$f":"ROW()","v":1417}]
[{"$f":"ROW()","v":1418}]
[{"$f":"ROW()","v":1419}]
[{"$f":"ROW()","v":1420}]
[{"$f":"ROW()","v":1421}]
[{"$f":"ROW()","v":1422}]
[{"$f":"ROW()","v":1423}]
[{"$f":"ROW()","v":1424}]
[{"$f":"ROW()","v":1425}]
[{"$f":"ROW()","v":1426}]
[{"$f":"ROW()","v":1427}]
[{"$f":"ROW()","v":1428}]
[{"$f":"ROW()","v":1429}]
[{"$f":"ROW()","v":1430}]
[{"$f":"ROW()","v":1431}]
[{"$f":"ROW()","v":1432}]
[{"$f":"ROW()","v":1433}]
[{"$f":"ROW()","v":1434}]
[{"$f":"ROW()","v":1435}]
[{"$f":"ROW()","v":1436}]
[{"$f":"ROW()","v":1437}]
[{"$f":"ROW()","v":1438}]
[{"$f":"ROW()","v":1439}]
[{"$f":"ROW()","v":1440}]
[{"$f":"ROW()","v":1441}]
[{"$f":"ROW()","v":1442}]
[{"$f":"ROW()","v":1443}]
[{"$f":"ROW()","v":1444}]
[{"$f":"ROW()","v":1445}]
[{"$f":"ROW()","v":1446}]
[{"$f":"ROW()","v":1447}]
[{"$f":"ROW()","v":1448}]
[{"$f":"ROW()","v":1449}]
[{"$f":"ROW()","v":1450}]
[{"$f":"ROW()","v":1451}]
[{"$f":"ROW()","v":1452}]
[{"$f":"ROW()","v":1453}]
[{"$f":"ROW()","v":1454}]
[{"$f":"ROW()","v":1455}]
[{"$f":"ROW()","v":1456}]
[{"$f":"ROW()","v":1457}]
[{"$f":"ROW()","v":1458}]
[{"$f":"ROW()","v":1459}]
[{"$f":"ROW()","v":1460}]
[{"$f":"ROW()","v":1461}]
[{"$f":"ROW()","v":1462}]
[{"$f":"ROW()","v":1463}]
[{"$f":"ROW()","v":1464}]
[{"$f":"ROW()","v":1465}]
[{"$f":"ROW()","v":1466}]
[{"$f":"ROW()","v":1467}]
[{"$f":"ROW()","v":1468}]
[{"$f":"ROW()","v":1469}]
[{"$f":"ROW()","v":1470}]
[{"$f":"ROW()","v":1471}]
[{"$f":"ROW()","v":1472}]
[{"$f":"ROW()","v":1473}]
[{"$f":"ROW()","v":1474}]
[{"$f":"ROW()","v":1475}]
[{"$f":"ROW()","v":1476}]
[{"$f":"ROW()","v":1477}]
[{"$f":"ROW()","v":1478}]
[{"$f":"ROW()","v":1479}]
[{"$f":"ROW()","v":1480}]
[{"$f":"ROW()","v":1481}]
[{"$f":"ROW()","v":1482}]
[{"$f":"ROW()","v":1483}]
[{"$f":"ROW()","v":1484}]
[{"$f":"ROW()","v":1485}]
[{"$f":"ROW()","v":1486}]
[{"$f":"ROW()","v":1487}]
[{"$f":"ROW()","v":1488}]
[{"$f":"ROW()","v":1489}]
[{"$f":"ROW()","v":1490}]
[{"$f":"ROW()","v":1491}]
[{"$f":"ROW()","v":1492}]
[{"$f":"ROW()","v":1493}]
[{"$f":"ROW()","v":1494}]
[{"$f":"ROW()","v":1495}]
[{"$f":"ROW()","v":1496}]
[{"$f":"ROW()","v":1497}]
[{"$f":"ROW()","v":1498}]
[{"$f":"ROW()","v":1499}]
[{"$f":"ROW()","v":1500}]
[{"$f":"ROW()","v":1501}]
[{"$f":"ROW()","v":1502}]
[{"$f":"ROW()","v":1503}]
[{"$f":"ROW()","v":1504}]
[{"$f":"ROW()","v":1505}]
[{"$f":"ROW()","v":1506}]
[{"$f":"ROW()","v":1507}]
[{"$f":"ROW()","v":1508}]
[{"$f":"ROW()","v":1509}]
[{"$f":"ROW()","v":1510}]
[{"$f":"ROW()","v":1511}]
[{"$f":"ROW()","v":1512}]
[{"$f":"ROW()","v":1513}]
[{"$f":"ROW()","v":1514}]
[{"$f":"ROW()","v":1515}]
[{"$f":"ROW()","v":1516}]
[{"$f":"ROW()","v":1517}]
[{"$f":"ROW()","v":1518}]
[{"$f":"ROW()","v":1519}]
[{"$f":"ROW()","v":1520}]
[{"$f":"ROW()","v":1521}]
[{"$f":"ROW()","v":1522}]
[{"$f":"ROW()","v":1523}]
[{"$f":"ROW()","v":1524}]
[{"$f":"ROW()","v":1525}]
[{"$f":"ROW()","v":1526}]
[{"$f":"ROW()","v":1527}]
[{"$f":"ROW()","v":1528}]
[{"$f":"ROW()","v":1529}]
[{"$f":"ROW()","v":1530}]
[{"$f":"ROW()","v":1531}]
[{"$f":"ROW()","v":1532}]
[{"$f":"ROW()","v":1533}]
[{"$f":"ROW()","v":1534}]
[{"$f":"ROW()","v":1535}]
[{"$f":"ROW()","v":1536}]
[{"$f":"ROW()","v":1537}]
[{"$f":"ROW()","v":1538}]
[{"$f":"ROW()","v":1539}]
[{"$f":"ROW()","v":1540}]
[{"$f":"ROW()","v":1541}]
[{"$f":"ROW()","v":1542}]
[{"$f":"ROW()","v":1543}]
[{"$f":"ROW()","v":1544}]
[{"$f":"ROW()","v":1545}]
[{"$f":"ROW()","v":1546}]
[{"$f":"ROW()","v":1547}]
[{"$f":"ROW()","v":1548}]
[{"$f":"ROW()","v":1549}]
[{"$f":"ROW()","v":1550}]
[{"$f":"ROW()","v":1551}]
[{"$f":"ROW()","v":1552}]
[{"$f":"ROW()","v":1553}]
[{"$f":"ROW()","v":1554}]
[{"$f":"ROW()","v":1555}]
[{"$f":"ROW()","v":1556}]
[{"$f":"ROW()","v":1557}]
[{"$f":"ROW()","v":1558}]
[{"$f":"ROW()","v":1559}]
[{"$f":"ROW()","v":1560}]
[{"$f":"ROW()","v":1561}]
[{"$f":"ROW()","v":1562}]
[{"$f":"ROW()","v":1563}]
[{"$f":"ROW()","v":1564}]
[{"$f":"ROW()","v":1565}]
[{"$f":"ROW()","v":1566}]
[{"$f":"ROW()","v":1567}]
[{"$f":"ROW()","v":1568}]
[{"$f":"ROW()","v":1569}]
[{"$f":"ROW()","v":1570}]
[{"$f":"ROW()","v":1571}]
[{"$f":"ROW()","v":1572}]
[{"$f":"ROW()","v":1573}]
[{"$f":"ROW()","v":1574}]
[{"$f":"ROW()","v":1575}]
[{"$f":"ROW()","v":1576}]
[{"$f":"ROW()","v":1577}]
[{"$f":"ROW()","v":1578}]
[{"$f":"ROW()","v":1579}]
[{"$f":"ROW()","v":1580}]
[{"$f":"ROW()","v":1581}]
[{"$f":"ROW()","v":1582}]
[{"$f":"ROW()","v":1583}]
[{"$f":"ROW()","v":1584}]
[{"$f":"ROW()","v":1585}]
[{"$f":"ROW()","v":1586}]
[{"$f":"ROW()","v":1587}]
[{"$f":"ROW()","v":1588}]
[{"$f":"ROW()","v":1589}]
[{"$f":"ROW()","v":1590}]
[{"$f":"ROW()","v":1591}]
[{"$f":"ROW()","v":1592}]
[{"$f":"ROW()","v":1593}]
[{"$f":"ROW()","v":1594}]
[{"$f":"ROW()","v":1595}]
[{"$f":"ROW()","v":1596}]
[{"$f":"ROW()","v":1597}]
[{"$f":"ROW()","v":1598}]
[{"$f":"ROW()","v":1599}]
[{"$f":"ROW()","v":1600}]
[{"$f":"ROW()","v":1601}]
[{"$f":"ROW()","v":1602}]
[{"$f":"ROW()","v":1603}]
[{"$f":"ROW()","v":1604}]
[{"$f":"ROW()","v":1605}]
[{"$f":"ROW()","v":1606}]
[{"$f":"ROW()","v":1607}]
[{"$f":"ROW()","v":1608}]
[{"$f":"ROW()","v":1609}]
[{"$f":"ROW()","v":1610}]
[{"$f":"ROW()","v":1611}]
[{"$f":"ROW()","v":1612}]
[{"$f":"ROW()","v":1613}]
[{"$f":"ROW()","v":1614}]
[{"$f":"ROW()","v":1615}]
[{"$f":"ROW()","v":1616}]
[{"$f":"ROW()","v":1617}]
[{"$f":"ROW()","v":1618}]
[{"$f":"ROW()","v":1619}]
[{"$f":"ROW()","v":1620}]
[{"$f":"ROW()","v":1621}]
[{"$f":"ROW()","v":1622}]
[{"$f":"ROW()","v":1623}]
[{"$f":"ROW()","v":1624}]
[{"$f":"ROW()","v":1625}]
[{"$f":"ROW()","v":1626}]
[{"$f":"ROW()","v":1627}]
[{"$f":"ROW()","v":1628}]
[{"$f":"ROW()","v":1629}]
[{"$f":"ROW()","v":1630}]
[{"$f":"ROW()","v":1631}]
[{"$f":"ROW()","v":1632}]
[{"$f":"ROW()","v":1633}]
[{"$f":"ROW()","v":1634}]
[{"$f":"ROW()","v":1635}]
[{"$f":"ROW()","v":1636}]
[{"$f":"ROW()","v":1637}]
[{"$f":"ROW()","v":1638}]
[{"$f":"ROW()","v":1639}]
[{"$f":"ROW()","v":1640}]
[{"$f":"ROW()","v":1641}]
[{"$f":"ROW()","v":1642}]
[{"$f":"ROW()","v":1643}]
[{"$f":"ROW()","v":1644}]
[{"$f":"ROW()","v":1645}]
[{"$f":"ROW()","v":1646}]
[{"$f":"ROW()","v":1647}]
[{"$f":"ROW()","v":1648}]
[{"$f":"ROW()","v":1649}]
[{"$f":"ROW()","v":1650}]
[{"$f":"ROW()","v":1651}]
[{"$f":"ROW()","v":1652}]
[{"$f":"ROW()","v":1653}]
[{"$f":"ROW()","v":1654}]
[{"$f":"ROW()","v":1655}]
[{"$f":"ROW()","v":1656}]
[{"$f":"ROW()","v":1657}]
[{"$f":"ROW()","v":1658}]
[{"$f":"ROW()","v":1659}]
[{"$f":"ROW()","v":1660}]
[{"$f":"ROW()","v":1661}]
[{"$f":"ROW()","v":1662}]
[{"$f":"ROW()","v":1663}]
[{"$f":"ROW()","v":1664}]
[{"$f":"ROW()","v":1665}]
[{"$f":"ROW()","v":1666}]
[{"$f":"ROW()","v":1667}]
[{"$f":"ROW()","v":1668}]
[{"$f":"ROW()","v":1669}]
[{"$f":"ROW()","v":1670}]
[{"$f":"ROW()","v":1671}]
[{"$f":"ROW()","v":1672}]
[{"$f":"ROW()","v":1673}]
[{"$f":"ROW()","v":1674}]
[{"$f":"ROW()","v":1675}]
[{"$f":"ROW()","v":1676}]
[{"$f":"ROW()","v":1677}]
[{"$f":"ROW()","v":1678}]
[{"$f":"ROW()","v":1679}]
[{"$f":"ROW()","v":1680}]
[{"$f":"ROW()","v":1681}]
[{"$f":"ROW()","v":1682}]
[{"$f":"ROW()","v":1683}]
[{"$f":"ROW()","v":1684}]
[{"$f":"ROW()","v":1685}]
[{"$f":"ROW()","v":1686}]
[{"$f":"ROW()","v":1687}]
[{"$f":"ROW()","v":1688}]
[{"$f":"ROW()","v":1689}]
[{"$f":"ROW()","v":1690}]
[{"$f":"ROW()","v":1691}]
[{"$f":"ROW()","v":1692}]
[{"$f":"ROW()","v":1693}]
[{"$f":"ROW()","v":1694}]
[{"$f":"ROW()","v":1695}]
[{"$f":"ROW()","v":1696}]
[{"$f":"ROW()","v":1697}]
[{"$f":"ROW()","v":1698}]
[{"$f":"ROW()","v":1699}]
[{"$f":"ROW()","v":1700}]
[{"$f":"ROW()","v":1701}]
[{"$f":"ROW()","v":1702}]
[{"$f":"ROW()","v":1703}]
[{"$f":"ROW()","v":1704}]
[{"$f":"ROW()","v":1705}]
[{"$f":"ROW()","v":1706}]
[{"$f":"ROW()","v":1707}]
[{"$f":"ROW()","v":1708}]
[{"$f":"ROW()","v":1709}]
[{"$f":"ROW()","v":1710}]
[{"$f":"ROW()","v":1711}]
[{"$f":"ROW()","v":1712}]
[{"$f":"ROW()","v":1713}]
[{"$f":"ROW()","v":1714}]
[{"$f":"ROW()","v":1715}]
[{"$f":"ROW()","v":1716}]
[{"$f":"ROW()","v":1717}]
[{"$f":"ROW()","v":1718}]
[{"$f":"ROW()","v":1719}]
[{"$f":"ROW()","v":1720}]
[{"$f":"ROW()","v":1721}]
[{"$f":"ROW()","v":1722}]
[{"$f":"ROW()","v":1723}]
[{"$f":"ROW()","v":1724}]
[{"$f":"ROW()","v":1725}]
[{"$f":"ROW()","v":1726}]
[{"$f":"ROW()","v":1727}]
[{"$f":"ROW()","v":1728}]
[{"$f":"ROW()","v":1729}]
[{"$f":"ROW()","v":1730}]
[{"$f":"ROW()","v":1731}]
[{"$f":"ROW()","v":1732}]
[{"$f":"ROW()","v":1733}]
[{"$f":"ROW()","v":1734}]
[{"$f":"ROW()","v":1735}]
[{"$f":"ROW()","v":1736}]
[{"$f":"ROW()","v":1737}]
[{"$f":"ROW()","v":1738}]
[{"$f":"ROW()","v":1739}]
[{"$f":"ROW()","v":1740}]
[{"$f":"ROW()","v":1741}]
[{"$f":"ROW()","v":1742}]
[{"$f":"ROW()","v":1743}]
[{"$f":"ROW()","v":1744}]
[{"$f":"ROW()","v":1745}]
[{"$f":"ROW()","v":1746}]
[{"$f":"ROW()","v":1747}]
[{"$f":"ROW()","v":1748}]
[{"$f":"ROW()","v":1749}]
[{"$f":"ROW()","v":1750}]
[{"$f":"ROW()","v":1751}]
[{"$f":"ROW()","v":1752}]
[{"$f":"ROW()","v":1753}]
[{"$f":"ROW()","v":1754}]
[{"$f":"ROW()","v":1755}]
[{"$f":"ROW()","v":1756}]
[{"$f":"ROW()","v":1757}]
[{"$f":"ROW()","v":1758}]
[{"$f":"ROW()","v":1759}]
[{"$f":"ROW()","v":1760}]
[{"$f":"ROW()","v":1761}]
[{"$f":"ROW()","v":1762}]
[{"$f":"ROW()","v":1763}]
[{"$f":"ROW()","v":1764}]
[{"$f":"ROW()","v":1765}]
[{"$f":"ROW()","v":1766}]
[{"$f":"ROW()","v":1767}]
[{"$f":"ROW()","v":1768}]
[{"$f":"ROW()","v":1769}]
[{"$f":"ROW()","v":1770}]
[{"$f":"ROW()","v":1771}]
[{"$f":"ROW()","v":1772}]
[{"$f":"ROW()","v":1773}]
[{"$f":"ROW()","v":1774}]
[{"$f":"ROW()","v":1775}]
[{"$f":"ROW()","v":1776}]
[{"$f":"ROW()","v":1777}]
[{"$f":"ROW()","v":1778}]
[{"$f":"ROW()","v":1779}]
[{"$f":"ROW()","v":1780}]
[{"$f":"ROW()","v":1781}]
[{"$f":"ROW()","v":1782}]
[{"$f":"ROW()","v":1783}]
[{"$f":"ROW()","v":1784}]
[{"$f":"ROW()","v":1785}]
[{"$f":"ROW()","v":1786}]
[{"$f":"ROW()","v":1787}]
[{"$f":"ROW()","v":1788}]
[{"$f":"ROW()","v":1789}]
[{"$f":"ROW()","v":1790}]
[{"$f":"ROW()","v":1791}]
[{"$f":"ROW()","v":1792}]
[{"$f":"ROW()","v":1793}]
[{"$f":"ROW()","v":1794}]
[{"$f":"ROW()","v":1795}]
[{"$f":"ROW()","v":1796}]
[{"$f":"ROW()","v":1797}]
[{"$f":"ROW()","v":1798}]
[{"$f":"ROW()","v":1799}]
[{"$f":"ROW()","v":1800}]
[{"$f":"ROW()","v":1801}]
[{"$f":"ROW()","v":1802}]
[{"$f":"ROW()","v":1803}]
[{"$f":"ROW()","v":1804}]
[{"$f":"ROW()","v":1805}]
[{"$f":"ROW()","v":1806}]
[{"$f":"ROW()","v":1807}]
[{"$f":"ROW()","v":1808}]
[{"$f":"ROW()","v":1809}]
[{"$f":"ROW()","v":1810}]
[{"$f":"ROW()","v":1811}]
[{"$f":"ROW()","v":1812}]
[{"$f":"ROW()","v":1813}]
[{"$f":"ROW()","v":1814}]
[{"$f":"ROW()","v":1815}]
[{"$f":"ROW()","v":1816}]
[{"$f":"ROW()","v":1817}]
[{"$f":"ROW()","v":1818}]
[{"$f":"ROW()","v":1819}]
[{"$f":"ROW()","v":1820}]
[{"$f":"ROW()","v":1821}]
[{"$f":"ROW()","v":1822}]
[{"$f":"ROW()","v":1823}]
[{"$f":"ROW()","v":1824}]
[{"$f":"ROW()","v":1825}]
[{"$f":"ROW()","v":1826}]
[{"$f":"ROW()","v":1827}]
[{"$f":"ROW()","v":1828}]
[{"$f":"ROW()","v":1829}]
[{"$f":"ROW()","v":1830}]
[{"$f":"ROW()","v":1831}]
[{"$f":"ROW()","v":1832}]
[{"$f":"ROW()","v":1833}]
[{"$f":"ROW()","v":1834}]
[{"$f":"ROW()","v":1835}]
[{"$f":"ROW()","v":1836}]
[{"$f":"ROW()","v":1837}]
[{"$f":"ROW()","v":1838}]
[{"$f":"ROW()","v":1839}]
[{"$f":"ROW()","v":1840}]
[{"$f":"ROW()","v":1841}]
[{"$f":"ROW()","v":1842}]
[{"$f":"ROW()","v":1843}]
[{"$f":"ROW()","v":1844}]
[{"$f":"ROW()","v":1845}]
[{"$f":"ROW()","v":1846}]
[{"$f":"ROW()","v":1847}]
[{"$f":"ROW()","v":1848}]
[{"$f":"ROW()","v":1849}]
[{"$f":"ROW()","v":1850}]
[{"$f":"ROW()","v":1851}]
[{"$f":"ROW()","v":1852}]
[{"$f":"ROW()","v":1853}]
[{"$f":"ROW()","v":1854}]
[{"$f":"ROW()","v":1855}]
[{"$f":"ROW()","v":1856}]
[{"$f":"ROW()","v":1857}]
[{"$f":"ROW()","v":1858}]
[{"$f":"ROW()","v":1859}]
[{"$f":"ROW()","v":1860}]
[{"$f":"ROW()","v":1861}]
[{"$f":"ROW()","v":1862}]
[{"$f":"ROW()","v":1863}]
[{"$f":"ROW()","v":1864}]
[{"$f":"ROW()","v":1865}]
[{"$f":"ROW()","v":1866}]
[{"$f":"ROW()","v":1867}]
[{"$f":"ROW()","v":1868}]
[{"$f":"ROW()","v":1869}]
[{"$f":"ROW()","v":1870}]
[{"$f":"ROW()","v":1871}]
[{"$f":"ROW()","v":1872}]
[{"$f":"ROW()","v":1873}]
[{"$f":"ROW()","v":1874}]
[{"$f":"ROW()","v":1875}]
[{"$f":"ROW()","v":1876}]
[{"$f":"ROW()","v":1877}]
[{"$f":"ROW()","v":1878}]
[{"$f":"ROW()","v":1879}]
[{"$f":"ROW()","v":1880}]
[{"$f":"ROW()","v":1881}]
[{"$f":"ROW()","v":1882}]
[{"$f":"ROW()","v":1883}]
[{"$f":"ROW()","v":1884}]
[{"$f":"ROW()","v":1885}]
[{"$f":"ROW()","v":1886}]
[{"$f":"ROW()","v":1887}]
[{"$f":"ROW()","v":1888}]
[{"$f":"ROW()","v":1889}]
[{"$f":"ROW()","v":1890}]
[{"$f":"ROW()","v":1891}]
[{"$f":"ROW()","v":1892}]
[{"$f":"ROW()","v":1893}]
[{"$f":"ROW()","v":1894}]
[{"$f":"ROW()","v":1895}]
[{"$f":"ROW()","v":1896}]
[{"$f":"ROW()","v":1897}]
[{"$f":"ROW()","v":1898}]
[{"$f":"ROW()","v":1899}]
[{"$f":"ROW()","v":1900}]
[{"$f":"ROW()","v":1901}]
[{"$f":"ROW()","v":1902}]
[{"$f":"ROW()","v":1903}]
[{"$f":"ROW()","v":1904}]
[{"$f":"ROW()","v":1905}]
[{"$f":"ROW()","v":1906}]
[{"$f":"ROW()","v":1907}]
[{"$f":"ROW()","v":1908}]
[{"$f":"ROW()","v":1909}]
[{"$f":"ROW()","v":1910}]
[{"$f":"ROW()","v":1911}]
[{"$f":"ROW()","v":1912}]
[{"$f":"ROW()","v":1913}]
[{"$f":"ROW()","v":1914}]
[{"$f":"ROW()","v":1915}]
[{"$f":"ROW()","v":1916}]
[{"$f":"ROW()","v":1917}]
[{"$f":"ROW()","v":1918}]
[{"$f":"ROW()","v":1919}]
[{"$f":"ROW()","v":1920}]
[{"$f":"ROW()","v":1921}]
[{"$f":"ROW()","v":1922}]
[{"$f":"ROW()","v":1923}]
[{"$f":"ROW()","v":1924}]
[{"$f":"ROW()","v":1925}]
[{"$f":"ROW()","v":1926}]
[{"$f":"ROW()","v":1927}]
[{"$f":"ROW()","v":1928}]
[{"$f":"ROW()","v":1929}]
[{"$f":"ROW()","v":1930}]
[{"$f":"ROW()","v":1931}]
[{"$f":"ROW()","v":1932}]
[{"$f":"ROW()","v":1933}]
[{"$f":"ROW()","v":1934}]
[{"$f":"ROW()","v":1935}]
[{"$f":"ROW()","v":1936}]
[{"$f":"ROW()","v":1937}]
[{"$f":"ROW()","v":1938}]
[{"$f":"ROW()","v":1939}]
[{"$f":"ROW()","v":1940}]
[{"$f":"ROW()","v":1941}]
[{"$f":"ROW()","v":1942}]
[{"$f":"ROW()","v":1943}]
[{"$f":"ROW()","v":1944}]
[{"$f":"ROW()","v":1945}]
[{"$f":"ROW()","v":1946}]
[{"$f":"ROW()","v":1947}]
[{"$f":"ROW()","v":1948}]
[{"$f":"ROW()","v":1949}]
[{"$f":"ROW()","v":1950}]
[{"$f":"ROW()","v":1951}]
[{"$f":"ROW()","v":1952}]
[{"$f":"ROW()","v":1953}]
[{"$f":"ROW()","v":1954}]
[{"$f":"ROW()","v":1955}]
[{"$f":"ROW()","v":1956}]
[{"$f":"ROW()","v":1957}]
[{"$f":"ROW()","v":1958}]
[{"$f":"ROW()","v":1959}]
[{"$f":"ROW()","v":1960}]
[{"$f":"ROW()","v":1961}]
[{"$f":"ROW()","v":1962}]
[{"$f":"ROW()","v":1963}]
[{"$f":"ROW()","v":1964}]
[{"$f":"ROW()","v":1965}]
[{"$f":"ROW()","v":1966}]
[{"$f":"ROW()","v":1967}]
[{"$f":"ROW()","v":1968}]
[{"$f":"ROW()","v":1969}]
[{"$f":"ROW()","v":1970}]
[{"$f":"ROW()","v":1971}]
[{"$f":"ROW()","v":1972}]
[{"$f":"ROW()","v":1973}]
[{"$f":"ROW()","v":1974}]
[{"$f":"ROW()","v":1975}]
[{"$f":"ROW()","v":1976}]
[{"$f":"ROW()","v":1977}]
[{"$f":"ROW()","v":1978}]
[{"$f":"ROW()","v":1979}]
[{"$f":"ROW()","v":1980}]
[{"$f":"ROW()","v":1981}]
[{"$f":"ROW()","v":1982}]
[{"$f":"ROW()","v":1983}]
[{"$f":"ROW()","v":1984}]
[{"$f":"ROW()","v":1985}]
[{"$f":"ROW()","v":1986}]
[{"$f":"ROW()","v":1987}]
[{"$f":"ROW()","v":1988}]
[{"$f":"ROW()","v":1989}]
[{"$f":"ROW()","v":1990}]
[{"$f":"ROW()","v":1991}]
[{"$f":"ROW()","v":1992}]
[{"$f":"ROW()","v":1993}]
[{"$f":"ROW()","v":1994}]
[{"$f":"ROW()","v":1995}]
[{"$f":"ROW()","v":1996}]
[{"$f":"ROW()","v":1997}]
[{"$f":"ROW()","v":1998}]
[{"$f":"ROW()","v":1999}]
[{"$f":"ROW()","v":2000}]
[{"$f":"ROW()","v":2001}]
[{"$f":"ROW()","v":2002}]
[{"$f":"ROW()","v":2003}]
[{"$f":"ROW()","v":2004}]
[{"$f":"ROW()","v":2005}]
[{"$f":"ROW()","v":2006}]
[{"$f":"ROW()","v":2007}]
[{"$f":"ROW()","v":2008}]
[{"$f":"ROW()","v":2009}]
[{"$f":"ROW()","v":2010}]
[{"$f":"ROW()","v":2011}]
[{"$f":"ROW()","v":2012}]
[{"$f":"ROW()","v":2013}]
[{"$f":"ROW()","v":2014}]
[{"$f":"ROW()","v":2015}]
[{"$f":"ROW()","v":2016}]
[{"$f":"ROW()","v":2017}]
[{"$f":"ROW()","v":2018}]
[{"$f":"ROW()","v":2019}]
[{"$f":"ROW()","v":2020}]
[{"$f":"ROW()","v":2021}]
[{"$f":"ROW()","v":2022}]
[{"$f":"ROW()","v":2023}]
[{"$f":"ROW()","v":2024}]
[{"$f":"ROW()","v":2025}]
[{"$f":"ROW()","v":2026}]
[{"$f":"ROW()","v":2027}]
[{"$f":"ROW()","v":2028}]
[{"$f":"ROW()","v":2029}]
[{"$f":"ROW()","v":2030}]
[{"$f":"ROW()","v":2031}]
[{"$f":"ROW()","v":2032}]
[{"$f":"ROW()","v":2033}]
[{"$f":"ROW()","v":2034}]
[{"$f":"ROW()","v":2035}]
[{"$f":"ROW()","v":2036}]
[{"$f":"ROW()","v":2037}]
[{"$f":"ROW()","v":2038}]
[{"$f":"ROW()","v":2039}]
[{"$f":"ROW()","v":2040}]
[{"$f":"ROW()","v":2041}]
[{"$f":"ROW()","v":2042}]
[{"$f":"ROW()","v":2043}]
[{"$f":"ROW()","v":2044}]
[{"$f":"ROW()","v":2045}]
[{"$f":"ROW()","v":2046}]
[{"$f":"ROW()","v":2047}]
[{"$f":"ROW()","v":2048}]
[{"$f":"ROW()","v":2049}]
[{"$f":"ROW()","v":2050}]
[{"$f":"ROW()","v":2051}]
[{"$f":"ROW()","v":2052}]
[{"$f":"ROW()","v":2053}]
[{"$f":"ROW()","v":2054}]
[{"$f":"ROW()","v":2055}]
[{"$f":"ROW()","v":2056}]
[{"$f":"ROW()","v":2057}]
[{"$f":"ROW()","v":2058}]
[{"$f":"ROW()","v":2059}]
[{"$f":"ROW()","v":2060}]
[{"$f":"ROW()","v":2061}]
[{"$f":"ROW()","v":2062}]
[{"$f":"ROW()","v":2063}]
[{"$f":"ROW()","v":2064}]
[{"$f":"ROW()","v":2065}]
[{"$f":"ROW()","v":2066}]
[{"$f":"ROW()","v":2067}]
[{"$f":"ROW()","v":2068}]
[{"$f":"ROW()","v":2069}]
[{"$f":"ROW()","v":2070}]
[{"$f":"ROW()","v":2071}]
[{"$f":"ROW()","v":2072}]
[{"$f":"ROW()","v":2073}]
[{"$f":"ROW()","v":2074}]
[{"$f":"ROW()","v":2075}]
[{"$f":"ROW()","v":2076}]
[{"$f":"ROW()","v":2077}]
[{"$f":"ROW()","v":2078}]
[{"$f":"ROW()","v":2079}]
[{"$f":"ROW()","v":2080}]
[{"$f":"ROW()","v":2081}]
[{"$f":"ROW()","v":2082}]
[{"$f":"ROW()","v":2083}]
[{"$f":"ROW()","v":2084}]
[{"$f":"ROW()","v":2085}]
[{"$f":"ROW()","v":2086}]
[{"$f":"ROW()","v":2087}]
[{"$f":"ROW()","v":2088}]
[{"$f":"ROW()","v":2089}]
[{"$f":"ROW()","v":2090}]
[{"$f":"ROW()","v":2091}]
[{"$f":"ROW()","v":2092}]
[{"$f":"ROW()","v":2093}]
[{"$f":"ROW()","v":2094}]
[{"$f":"ROW()","v":2095}]
[{"$f":"ROW()","v":2096}]
[{"$f":"ROW()","v":2097}]
[{"$f":"ROW()","v":2098}]
[{"$f":"ROW()","v":2099}]
[{"$f":"ROW()","v":2100}]
[{"$f":"ROW()","v":2101}]
[{"$f":"ROW()","v":2102}]
[{"$f":"ROW()","v":2103}]
[{"$f":"ROW()","v":2104}]
[{"$f":"ROW()","v":2105}]
[{"$f":"ROW()","v":2106}]
[{"$f":"ROW()","v":2107}]
[{"$f":"ROW()","v":2108}]
[{"$f":"ROW()","v":2109}]
[{"$f":"ROW()","v":2110}]
[{"$f":"ROW()","v":2111}]
[{"$f":"ROW()","v":2112}]
[{"$f":"ROW()","v":2113}]
[{"$f":"ROW()","v":2114}]
[{"$f":"ROW()","v":2115}]
[{"$f":"ROW()","v":2116}]
[{"$f":"ROW()","v":2117}]
[{"$f":"ROW()","v":2118}]
[{"$f":"ROW()","v":2119}]
[{"$f":"ROW()","v":2120}]
[{"$f":"ROW()","v":2121}]
[{"$f":"ROW()","v":2122}]
[{"$f":"ROW()","v":2123}]
[{"$f":"ROW()","v":2124}]
[{"$f":"ROW()","v":2125}]
[{"$f":"ROW()","v":2126}]
[{"$f":"ROW()","v":2127}]
[{"$f":"ROW()","v":2128}]
[{"$f":"ROW()","v":2129}]
[{"$f":"ROW()","v":2130}]
[{"$f":"ROW()","v":2131}]
[{"$f":"ROW()","v":2132}]
[{"$f":"ROW()","v":2133}]
[{"$f":"ROW()","v":2134}]
[{"$f":"ROW()","v":2135}]
[{"$f":"ROW()","v":2136}]
[{"$f":"ROW()","v":2137}]
[{"$f":"ROW()","v":2138}]
[{"$f":"ROW()","v":2139}]
[{"$f":"ROW()","v":2140}]
[{"$f":"ROW()","v":2141}]
[{"$f":"ROW()","v":2142}]
[{"$f":"ROW()","v":2143}]
[{"$f":"ROW()","v":2144}]
[{"$f":"ROW()","v":2145}]
[{"$f":"ROW()","v":2146}]
[{"$f":"ROW()","v":2147}]
[{"$f":"ROW()","v":2148}]
[{"$f":"ROW()","v":2149}]
[{"$f":"ROW()","v":2150}]
[{"$f":"ROW()","v":2151}]
[{"$f":"ROW()","v":2152}]
[{"$f":"ROW()","v":2153}]
[{"$f":"ROW()","v":2154}]
[{"$f":"ROW()","v":2155}]
[{"$f":"ROW()","v":2156}]
[{"$f":"ROW()","v":2157}]
[{"$f":"ROW()","v":2158}]
[{"$f":"ROW()","v":2159}]
[{"$f":"ROW()","v":2160}]
[{"$f":"ROW()","v":2161}]
[{"$f":"ROW()","v":2162}]
[{"$f":"ROW()","v":2163}]
[{"$f":"ROW()","v":2164}]
[{"$f":"ROW()","v":2165}]
[{"$f":"ROW()","v":2166}]
[{"$f":"ROW()","v":2167}]
[{"$f":"ROW()","v":2168}]
[{"$f":"ROW()","v":2169}]
[{"$f":"ROW()","v":2170}]
[{"$f":"ROW()","v":2171}]
[{"$f":"ROW()","v":2172}]
[{"$f":"ROW()","v":2173}]
[{"$f":"ROW()","v":2174}]
[{"$f":"ROW()","v":2175}]
[{"$f":"ROW()","v":2176}]
[{"$f":"ROW()","v":2177}]
[{"$f":"ROW()","v":2178}]
[{"$f":"ROW()","v":2179}]
[{"$f":"ROW()","v":2180}]
[{"$f":"ROW()","v":2181}]
[{"$f":"ROW()","v":2182}]
[{"$f":"ROW()","v":2183}]
[{"$f":"ROW()","v":2184}]
[{"$f":"ROW()","v":2185}]
[{"$f":"ROW()","v":2186}]
[{"$f":"ROW()","v":2187}]
[{"$f":"ROW()","v":2188}]
[{"$f":"ROW()","v":2189}]
[{"$f":"ROW()","v":2190}]
[{"$f":"ROW()","v":2191}]
[{"$f":"ROW()","v":2192}]
[{"$f":"ROW()","v":2193}]
[{"$f":"ROW()","v":2194}]
[{"$f":"ROW()","v":2195}]
[{"$f":"ROW()","v":2196}]
[{"$f":"ROW()","v":2197}]
[{"$f":"ROW()","v":2198}]
[{"$f":"ROW()","v":2199}]
[{"$f":"ROW()","v":2200}]
[{"$f":"ROW()","v":2201}]
[{"$f":"ROW()","v":2202}]
[{"$f":"ROW()","v":2203}]
[{"$f":"ROW()","v":2204}]
[{"$f":"ROW()","v":2205}]
[{"$f":"ROW()","v":2206}]
[{"$f":"ROW()","v":2207}]
[{"$f":"ROW()","v":2208}]
[{"$f":"ROW()","v":2209}]
[{"$f":"ROW()","v":2210}]
[{"$f":"ROW()","v":2211}]
[{"$f":"ROW()","v":2212}]
[{"$f":"ROW()","v":2213}]
[{"$f":"ROW()","v":2214}]
[{"$f":"ROW()","v":2215}]
[{"$f":"ROW()","v":2216}]
[{"$f":"ROW()","v":2217}]
[{"$f":"ROW()","v":2218}]
[{"$f":"ROW()","v":2219}]
[{"$f":"ROW()","v":2220}]
[{"$f":"ROW()","v":2221}]
[{"$f":"ROW()","v":2222}]
[{"$f":"ROW()","v":2223}]
[{"$f":"ROW()","v":2224}]
[{"$f":"ROW()","v":2225}]
[{"$f":"ROW()","v":2226}]
[{"$f":"ROW()","v":2227}]
[{"$f":"ROW()","v":2228}]
[{"$f":"ROW()","v":2229}]
[{"$f":"ROW()","v":2230}]
[{"$f":"ROW()","v":2231}]
[{"$f":"ROW()","v":2232}]
[{"$f":"ROW()","v":2233}]
[{"$f":"ROW()","v":2234}]
[{"$f":"ROW()","v":2235}]
[{"$f":"ROW()","v":2236}]
[{"$f":"ROW()","v":2237}]
[{"$f":"ROW()","v":2238}]
[{"$f":"ROW()","v":2239}]
[{"$f":"ROW()","v":2240}]
[{"$f":"ROW()","v":2241}]
[{"$f":"ROW()","v":2242}]
[{"$f":"ROW()","v":2243}]
[{"$f":"ROW()","v":2244}]
[{"$f":"ROW()","v":2245}]
[{"$f":"ROW()","v":2246}]
[{"$f":"ROW()","v":2247}]
[{"$f":"ROW()","v":2248}]
[{"$f":"ROW()","v":2249}]
[{"$f":"ROW()","v":2250}]
[{"$f":"ROW()","v":2251}]
[{"$f":"ROW()","v":2252}]
[{"$f":"ROW()","v":2253}]
[{"$f":"ROW()","v":2254}]
[{"$f":"ROW()","v":2255}]
[{"$f":"ROW()","v":2256}]
[{"$f":"ROW()","v":2257}]
[{"$f":"ROW()","v":2258}]
[{"$f":"ROW()","v":2259}]
[{"$f":"ROW()","v":2260}]
[{"$f":"ROW()","v":2261}]
[{"$f":"ROW()","v":2262}]
[{"$f":"ROW()","v":2263}]
[{"$f":"ROW()","v":2264}]
[{"$f":"ROW()","v":2265}]
[{"$f":"ROW()","v":2266}]
[{"$f":"ROW()","v":2267}]
[{"$f":"ROW()","v":2268}]
[{"$f":"ROW()","v":2269}]
[{"$f":"ROW()","v":2270}]
[{"$f":"ROW()","v":2271}]
[{"$f":"ROW()","v":2272}]
[{"$f":"ROW()","v":2273}]
[{"$f":"ROW()","v":2274}]
[{"$f":"ROW()","v":2275}]
[{"$f":"ROW()","v":2276}]
[{"$f":"ROW()","v":2277}]
[{"$f":"ROW()","v":2278}]
[{"$f":"ROW()","v":2279}]
[{"$f":"ROW()","v":2280}]
[{"$f":"ROW()","v":2281}]
[{"$f":"ROW()","v":2282}]
[{"$f":"ROW()","v":2283}]
[{"$f":"ROW()","v":2284}]
[{"$f":"ROW()","v":2285}]
[{"$f":"ROW()","v":2286}]
[{"$f":"ROW()","v":2287}]
[{"$f":"ROW()","v":2288}]
[{"$f":"ROW()","v":2289}]
[{"$f":"ROW()","v":2290}]
[{"$f":"ROW()","v":2291}]
[{"$f":"ROW()","v":2292}]
[{"$f":"ROW()","v":2293}]
[{"$f":"ROW()","v":2294}]
[{"$f":"ROW()","v":2295}]
[{"$f":"ROW()","v":2296}]
[{"$f":"ROW()","v":2297}]
[{"$f":"ROW()","v":2298}]
[{"$f":"ROW()","v":2299}]
[{"$f":"ROW()","v":2300}]
[{"$f":"ROW()","v":2301}]
[{"$f":"ROW()","v":2302}]
[{"$f":"ROW()","v":2303}]
[{"$f":"ROW()","v":2304}]
[{"$f":"ROW()","v":2305}]
[{"$f":"ROW()","v":2306}]
[{"$f":"ROW()","v":2307}]
[{"$f":"ROW()","v":2308}]
[{"$f":"ROW()","v":2309}]
[{"$f":"ROW()","v":2310}]
[{"$f":"ROW()","v":2311}]
[{"$f":"ROW()","v":2312}]
[{"$f":"ROW()","v":2313}]
[{"$f":"ROW()","v":2314}]
[{"$f":"ROW()","v":2315}]
[{"$f":"ROW()","v":2316}]
[{"$f":"ROW()","v":2317}]
[{"$f":"ROW()","v":2318}]
[{"$f":"ROW()","v":2319}]
[{"$f":"ROW()","v":2320}]
[{"$f":"ROW()","v":2321}]
[{"$f":"ROW()","v":2322}]
[{"$f":"ROW()","v":2323}]
[{"$f":"ROW()","v":2324}]
[{"$f":"ROW()","v":2325}]
[{"$f":"ROW()","v":2326}]
[{"$f":"ROW()","v":2327}]
[{"$f":"ROW()","v":2328}]
[{"$f":"ROW()","v":2329}]
[{"$f":"ROW()","v":2330}]
[{"$f":"ROW()","v":2331}]
[{"$f":"ROW()","v":2332}]
[{"$f":"ROW()","v":2333}]
[{"$f":"ROW()","v":2334}]
[{"$f":"ROW()","v":2335}]
[{"$f":"ROW()","v":2336}]
[{"$f":"ROW()","v":2337}]
[{"$f":"ROW()","v":2338}]
[{"$f":"ROW()","v":2339}]
[{"$f":"ROW()","v":2340}]
[{"$f":"ROW()","v":2341}]
[{"$f":"ROW()","v":2342}]
[{"$f":"ROW()","v":2343}]
[{"$f":"ROW()","v":2344}]
[{"$f":"ROW()","v":2345}]
[{"$f":"ROW()","v":2346}]
[{"$f":"ROW()","v":2347}]
[{"$f":"ROW()","v":2348}]
[{"$f":"ROW()","v":2349}]
[{"$f":"ROW()","v":2350}]
[{"$f":"ROW()","v":2351}]
[{"$f":"ROW()","v":2352}]
[{"$f":"ROW()","v":2353}]
[{"$f":"ROW()","v":2354}]
[{"$f":"ROW()","v":2355}]
[{"$f":"ROW()","v":2356}]
[{"$f":"ROW()","v":2357}]
[{"$f":"ROW()","v":2358}]
[{"$f":"ROW()","v":2359}]
[{"$f":"ROW()","v":2360}]
[{"$f":"ROW()","v":2361}]
[{"$f":"ROW()","v":2362}]
[{"$f":"ROW()","v":2363}]
[{"$f":"ROW()","v":2364}]
[{"$f":"ROW()","v":2365}]
[{"$f":"ROW()","v":2366}]
[{"$f":"ROW()","v":2367}]
[{"$f":"ROW()","v":2368}]
[{"$f":"ROW()","v":2369}]
[{"$f":"ROW()","v":2370}]
[{"$f":"ROW()","v":2371}]
[{"$f":"ROW()","v":2372}]
[{"$f":"ROW()","v":2373}]
[{"$f":"ROW()","v":2374}]
[{"$f":"ROW()","v":2375}]
[{"$f":"ROW()","v":2376}]
[{"$f":"ROW()","v":2377}]
[{"$f":"ROW()","v":2378}]
[{"$f":"ROW()","v":2379}]
[{"$f":"ROW()","v":2380}]
[{"$f":"ROW()","v":2381}]
[{"$f":"ROW()","v":2382}]
[{"$f":"ROW()","v":2383}]
[{"$f":"ROW()","v":2384}]
[{"$f":"ROW()","v":2385}]
[{"$f":"ROW()","v":2386}]
[{"$f":"ROW()","v":2387}]
[{"$f":"ROW()","v":2388}]
[{"$f":"ROW()","v":2389}]
[{"$f":"ROW()","v":2390}]
[{"$f":"ROW()","v":2391}]
[{"$f":"ROW()","v":2392}]
[{"$f":"ROW()","v":2393}]
[{"$f":"ROW()","v":2394}]
[{"$f":"ROW()","v":2395}]
[{"$f":"ROW()","v":2396}]
[{"$f":"ROW()","v":2397}]
[{"$f":"ROW()","v":2398}]
[{"$f":"ROW()","v":2399}]
[{"$f":"ROW()","v":2400}]
[{"$f":"ROW()","v":2401}]
[{"$f":"ROW()","v":2402}]
[{"$f":"ROW()","v":2403}]
[{"$f":"ROW()","v":2404}]
[{"$f":"ROW()","v":2405}]
[{"$f":"ROW()","v":2406}]
[{"$f":"ROW()","v":2407}]
[{"$f":"ROW()","v":2408}]
[{"$f":"ROW()","v":2409}]
[{"$f":"ROW()","v":2410}]
[{"$f":"ROW()","v":2411}]
[{"$f":"ROW()","v":2412}]
[{"$f":"ROW()","v":2413}]
[{"$f":"ROW()","v":2414}]
[{"$f":"ROW()","v":2415}]
[{"$f":"ROW()","v":2416}]
[{"$f":"ROW()","v":2417}]
[{"$f":"ROW()","v":2418}]
[{"$f":"ROW()","v":2419}]
[{"$f":"ROW()","v":2420}]
[{"$f":"ROW()","v":2421}]
[{"$f":"ROW()","v":2422}]
[{"$f":"ROW()","v":2423}]
[{"$f":"ROW()","v":2424}]
[{"$f":"ROW()","v":2425}]
[{"$f":"ROW()","v":2426}]
[{"$f":"ROW()","v":2427}]
[{"$f":"ROW()","v":2428}]
[{"$f":"ROW()","v":2429}]
[{"$f":"ROW()","v":2430}]
[{"$f":"ROW()","v":2431}]
[{"$f":"ROW()","v":2432}]
[{"$f":"ROW()","v":2433}]
[{"$f":"ROW()","v":2434}]
[{"$f":"ROW()","v":2435}]
[{"$f":"ROW()","v":2436}]
[{"$f":"ROW()","v":2437}]
[{"$f":"ROW()","v":2438}]
[{"$f":"ROW()","v":2439}]
[{"$f":"ROW()","v":2440}]
[{"$f":"ROW()","v":2441}]
[{"$f":"ROW()","v":2442}]
[{"$f":"ROW()","v":2443}]
[{"$f":"ROW()","v":2444}]
[{"$f":"ROW()","v":2445}]
[{"$f":"ROW()","v":2446}]
[{"$f":"ROW()","v":2447}]
[{"$f":"ROW()","v":2448}]
[{"$f":"ROW()","v":2449}]
[{"$f":"ROW()","v":2450}]
[{"$f":"ROW()","v":2451}]
[{"$f":"ROW()","v":2452}]
[{"$f":"ROW()","v":2453}]
[{"$f":"ROW()","v":2454}]
[{"$f":"ROW()","v":2455}]
[{"$f":"ROW()","v":2456}]
[{"$f":"ROW()","v":2457}]
[{"$f":"ROW()","v":2458}]
[{"$f":"ROW()","v":2459}]
[{"$f":"ROW()","v":2460}]
[{"$f":"ROW()","v":2461}]
[{"$f":"ROW()","v":2462}]
[{"$f":"ROW()","v":2463}]
[{"$f":"ROW()","v":2464}]
[{"$f":"ROW()","v":2465}]
[{"$f":"ROW()","v":2466}]
[{"$f":"ROW()","v":2467}]
[{"$f":"ROW()","v":2468}]
[{"$f":"ROW()","v":2469}]
[{"$f":"ROW()","v":2470}]
[{"$f":"ROW()","v":2471}]
[{"$f":"ROW()","v":2472}]
[{"$f":"ROW()","v":2473}]
[{"$f":"ROW()","v":2474}]
[{"$f":"ROW()","v":2475}]
[{"$f":"ROW()","v":2476}]
[{"$f":"ROW()","v":2477}]
[{"$f":"ROW()","v":2478}]
[{"$f":"ROW()","v":2479}]
[{"$f":"ROW()","v":2480}]
[{"$f":"ROW()","v":2481}]
[{"$f":"ROW()","v":2482}]
[{"$f":"ROW()","v":2483}]
[{"$f":"ROW()","v":2484}]
[{"$f":"ROW()","v":2485}]
[{"$f":"ROW()","v":2486}]
[{"$f":"ROW()","v":2487}]
[{"$f":"ROW()","v":2488}]
[{"$f":"ROW()","v":2489}]
[{"$f":"ROW()","v":2490}]
[{"$f":"ROW()","v":2491}]
[{"$f":"ROW()","v":2492}]
[{"$f":"ROW()","v":2493}]
[{"$f":"ROW()","v":2494}]
[{"$f":"ROW()","v":2495}]
[{"$f":"ROW()","v":2496}]
[{"$f":"ROW()","v":2497}]
[{"$f":"ROW()","v":2498}]
[{"$f":"ROW()","v":2499}]
[{"$f":"ROW()","v":2500}]
[{"$f":"ROW()","v":2501}]
[{"$f":"ROW()","v":2502}]
[{"$f":"ROW()","v":2503}]
[{"$f":"ROW()","v":2504}]
[{"$f":"ROW()","v":2505}]
[{"$f":"ROW()","v":2506}]
[{"$f":"ROW()","v":2507}]
[{"$f":"ROW()","v":2508}]
[{"$f":"ROW()","v":2509}]
[{"$f":"ROW()","v":2510}]
[{"$f":"ROW()","v":2511}]
[{"$f":"ROW()","v":2512}]
[{"$f":"ROW()","v":2513}]
[{"$f":"ROW()","v":2514}]
[{"$f":"ROW()","v":2515}]
[{"$f":"ROW()","v":2516}]
[{"$f":"ROW()","v":2517}]
[{"$f":"ROW()","v":2518}]
[{"$f":"ROW()","v":2519}]
[{"$f":"ROW()","v":2520}]
[{"$f":"ROW()","v":2521}]
[{"$f":"ROW()","v":2522}]
[{"$f":"ROW()","v":2523}]
[{"$f":"ROW()","v":2524}]
[{"$f":"ROW()","v":2525}]
[{"$f":"ROW()","v":2526}]
[{"$f":"ROW()","v":2527}]
[{"$f":"ROW()","v":2528}]
[{"$f":"ROW()","v":2529}]
[{"$f":"ROW()","v":2530}]
[{"$f":"ROW()","v":2531}]
[{"$f":"ROW()","v":2532}]
[{"$f":"ROW()","v":2533}]
[{"$f":"ROW()","v":2534}]
[{"$f":"ROW()","v":2535}]
[{"$f":"ROW()","v":2536}]
[{"$f":"ROW()","v":2537}]
[{"$f":"ROW()","v":2538}]
[{"$f":"ROW()","v":2539}]
[{"$f":"ROW()","v":2540}]
[{"$f":"ROW()","v":2541}]
[{"$f":"ROW()","v":2542}]
[{"$f":"ROW()","v":2543}]
[{"$f":"ROW()","v":2544}]
[{"$f":"ROW()","v":2545}]
[{"$f":"ROW()","v":2546}]
[{"$f":"ROW()","v":2547}]
[{"$f":"ROW()","v":2548}]
[{"$f":"ROW()","v":2549}]
[{"$f":"ROW()","v":2550}]
[{"$f":"ROW()","v":2551}]
[{"$f":"ROW()","v":2552}]
[{"$f":"ROW()","v":2553}]
[{"$f":"ROW()","v":2554}]
[{"$f":"ROW()","v":2555}]
[{"$f":"ROW()","v":2556}]
[{"$f":"ROW()","v":2557}]
[{"$f":"ROW()","v":2558}]
[{"$f":"ROW()","v":2559}]
[{"$f":"ROW()","v":2560}]
[{"$f":"ROW()","v":2561}]
[{"$f":"ROW()","v":2562}]
[{"$f":"ROW()","v":2563}]
[{"$f":"ROW()","v":2564}]
[{"$f":"ROW()","v":2565}]
[{"$f":"ROW()","v":2566}]
[{"$f":"ROW()","v":2567}]
[{"$f":"ROW()","v":2568}]
[{"$f":"ROW()","v":2569}]
[{"$f":"ROW()","v":2570}]
[{"$f":"ROW()","v":2571}]
[{"$f":"ROW()","v":2572}]
[{"$f":"ROW()","v":2573}]
[{"$f":"ROW()","v":2574}]
[{"$f":"ROW()","v":2575}]
[{"$f":"ROW()","v":2576}]
[{"$f":"ROW()","v":2577}]
[{"$f":"ROW()","v":2578}]
[{"$f":"ROW()","v":2579}]
[{"$f":"ROW()","v":2580}]
[{"$f":"ROW()","v":2581}]
[{"$f":"ROW()","v":2582}]
[{"$f":"ROW()","v":2583}]
[{"$f":"ROW()","v":2584}]
[{"$f":"ROW()","v":2585}]
[{"$f":"ROW()","v":2586}]
[{"$f":"ROW()","v":2587}]
[{"$f":"ROW()","v":2588}]
[{"$f":"ROW()","v":2589}]
[{"$f":"ROW()","v":2590}]
[{"$f":"ROW()","v":2591}]
[{"$f":"ROW()","v":2592}]
[{"$f":"ROW()","v":2593}]
[{"$f":"ROW()","v":2594}]
[{"$f":"ROW()","v":2595}]
[{"$f":"ROW()","v":2596}]
[{"$f":"ROW()","v":2597}]
[{"$f":"ROW()","v":2598}]
[{"$f":"ROW()","v":2599}]
[{"$f":"ROW()","v":2600}]
[{"$f":"ROW()","v":2601}]
[{"$f":"ROW()","v":2602}]
[{"$f":"ROW()","v":2603}]
[{"$f":"ROW()","v":2604}]
[{"$f":"ROW()","v":2605}]
[{"$f":"ROW()","v":2606}]
[{"$f":"ROW()","v":2607}]
[{"$f":"ROW()","v":2608}]
[{"$f":"ROW()","v":2609}]
[{"$f":"ROW()","v":2610}]
[{"$f":"ROW()","v":2611}]
[{"$f":"ROW()","v":2612}]
[{"$f":"ROW()","v":2613}]
[{"$f":"ROW()","v":2614}]
[{"$f":"ROW()","v":2615}]
[{"$f":"ROW()","v":2616}]
[{"$f":"ROW()","v":2617}]
[{"$f":"ROW()","v":2618}]
[{"$f":"ROW()","v":2619}]
[{"$f":"ROW()","v":2620}]
[{"$f":"ROW()","v":2621}]
[{"$f":"ROW()","v":2622}]
[{"$f":"ROW()","v":2623}]
[{"$f":"ROW()","v":2624}]
[{"$f":"ROW()","v":2625}]
[{"$f":"ROW()","v":2626}]
[{"$f":"ROW()","v":2627}]
[{"$f":"ROW()","v":2628}]
[{"$f":"ROW()","v":2629}]
[{"$f":"ROW()","v":2630}]
[{"$f":"ROW()","v":2631}]
[{"$f":"ROW()","v":2632}]
[{"$f":"ROW()","v":2633}]
[{"$f":"ROW()","v":2634}]
[{"$f":"ROW()","v":2635}]
[{"$f":"ROW()","v":2636}]
[{"$f":"ROW()","v":2637}]
[{"$f":"ROW()","v":2638}]
[{"$f":"ROW()","v":2639}]
[{"$f":"ROW()","v":2640}]
[{"$f":"ROW()","v":2641}]
[{"$f":"ROW()","v":2642}]
[{"$f":"ROW()","v":2643}]
[{"$f":"ROW()","v":2644}]
[{"$f":"ROW()","v":2645}]
[{"$f":"ROW()","v":2646}]
[{"$f":"ROW()","v":2647}]
[{"$f":"ROW()","v":2648}]
[{"$f":"ROW()","v":2649}]
[{"$f":"ROW()","v":2650}]
[{"$f":"ROW()","v":2651}]
[{"$f":"ROW()","v":2652}]
[{"$f":"ROW()","v":2653}]
[{"$f":"ROW()","v":2654}]
[{"$f":"ROW()","v":2655}]
[{"$f":"ROW()","v":2656}]
[{"$f":"ROW()","v":2657}]
[{"$f":"ROW()","v":2658}]
[{"$f":"ROW()","v":2659}]
[{"$f":"ROW()","v":2660}]
[{"$f":"ROW()","v":2661}]
[{"$f":"ROW()","v":2662}]
[{"$f":"ROW()","v":2663}]
[{"$f":"ROW()","v":2664}]
[{"$f":"ROW()","v":2665}]
[{"$f":"ROW()","v":2666}]
[{"$f":"ROW()","v":2667}]
[{"$f":"ROW()","v":2668}]
[{"$f":"ROW()","v":2669}]
[{"$f":"ROW()","v":2670}]
[{"$f":"ROW()","v":2671}]
[{"$f":"ROW()","v":2672}]
[{"$f":"ROW()","v":2673}]
[{"$f":"ROW()","v":2674}]
[{"$f":"ROW()","v":2675}]
[{"$f":"ROW()","v":2676}]
[{"$f":"ROW()","v":2677}]
[{"$f":"ROW()","v":2678}]
[{"$f":"ROW()","v":2679}]
[{"$f":"ROW()","v":2680}]
[{"$f":"ROW()","v":2681}]
[{"$f":"ROW()","v":2682}]
[{"$f":"ROW()","v":2683}]
[{"$f":"ROW()","v":2684}]
[{"$f":"ROW()","v":2685}]
[{"$f":"ROW()","v":2686}]
[{"$f":"ROW()","v":2687}]
[{"$f":"ROW()","v":2688}]
[{"$f":"ROW()","v":2689}]
[{"$f":"ROW()","v":2690}]
[{"$f":"ROW()","v":2691}]
[{"$f":"ROW()","v":2692}]
[{"$f":"ROW()","v":2693}]
[{"$f":"ROW()","v":2694}]
[{"$f":"ROW()","v":2695}]
[{"$f":"ROW()","v":2696}]
[{"$f":"ROW()","v":2697}]
[{"$f":"ROW()","v":2698}]
[{"$f":"ROW()","v":2699}]
[{"$f":"ROW()","v":2700}]
[{"$f":"ROW()","v":2701}]
[{"$f":"ROW()","v":2702}]
[{"$f":"ROW()","v":2703}]
[{"$f":"ROW()","v":2704}]
[{"$f":"ROW()","v":2705}]
[{"$f":"ROW()","v":2706}]
[{"$f":"ROW()","v":2707}]
[{"$f":"ROW()","v":2708}]
[{"$f":"ROW()","v":2709}]
[{"$f":"ROW()","v":2710}]
[{"$f":"ROW()","v":2711}]
[{"$f":"ROW()","v":2712}]
[{"$f":"ROW()","v":2713}]
[{"$f":"ROW()","v":2714}]
[{"$f":"ROW()","v":2715}]
[{"$f":"ROW()","v":2716}]
[{"$f":"ROW()","v":2717}]
[{"$f":"ROW()","v":2718}]
[{"$f":"ROW()","v":2719}]
[{"$f":"ROW()","v":2720}]
[{"$f":"ROW()","v":2721}]
[{"$f":"ROW()","v":2722}]
[{"$f":"ROW()","v":2723}]
[{"$f":"ROW()","v":2724}]
[{"$f":"ROW()","v":2725}]
[{"$f":"ROW()","v":2726}]
[{"$f":"ROW()","v":2727}]
[{"$f":"ROW()","v":2728}]
[{"$f":"ROW()","v":2729}]
[{"$f":"ROW()","v":2730}]
[{"$f":"ROW()","v":2731}]
[{"$f":"ROW()","v":2732}]
[{"$f":"ROW()","v":2733}]
[{"$f":"ROW()","v":2734}]
[{"$f":"ROW()","v":2735}]
[{"$f":"ROW()","v":2736}]
[{"$f":"ROW()","v":2737}]
[{"$f":"ROW()","v":2738}]
[{"$f":"ROW()","v":2739}]
[{"$f":"ROW()","v":2740}]
[{"$f":"ROW()","v":2741}]
[{"$f":"ROW()","v":2742}]
[{"$f":"ROW()","v":2743}]
[{"$f":"ROW()","v":2744}]
[{"$f":"ROW()","v":2745}]
[{"$f":"ROW()","v":2746}]
[{"$f":"ROW()","v":2747}]
[{"$f":"ROW()","v":2748}]
[{"$f":"ROW()","v":2749}]
[{"$f":"ROW()","v":2750}]
[{"$f":"ROW()","v":2751}]
[{"$f":"ROW()","v":2752}]
[{"$f":"ROW()","v":2753}]
[{"$f":"ROW()","v":2754}]
[{"$f":"ROW()","v":2755}]
[{"$f":"ROW()","v":2756}]
[{"$f":"ROW()","v":2757}]
[{"$f":"ROW()","v":2758}]
[{"$f":"ROW()","v":2759}]
[{"$f":"ROW()","v":2760}]
[{"$f":"ROW()","v":2761}]
[{"$f":"ROW()","v":2762}]
[{"$f":"ROW()","v":2763}]
[{"$f":"ROW()","v":2764}]
[{"$f":"ROW()","v":2765}]
[{"$f":"ROW()","v":2766}]
[{"$f":"ROW()","v":2767}]
[{"$f":"ROW()","v":2768}]
[{"$f":"ROW()","v":2769}]
[{"$f":"ROW()","v":2770}]
[{"$f":"ROW()","v":2771}]
[{"$f":"ROW()","v":2772}]
[{"$f":"ROW()","v":2773}]
[{"$f":"ROW()","v":2774}]
[{"$f":"ROW()","v":2775}]
[{"$f":"ROW()","v":2776}]
[{"$f":"ROW()","v":2777}]
[{"$f":"ROW()","v":2778}]
[{"$f":"ROW()","v":2779}]
[{"$f":"ROW()","v":2780}]
[{"$f":"ROW()","v":2781}]
[{"$f":"ROW()","v":2782}]
[{"$f":"ROW()","v":2783}]
[{"$f":"ROW()","v":2784}]
[{"$f":"ROW()","v":2785}]
[{"$f":"ROW()","v":2786}]
[{"$f":"ROW()","v":2787}]
[{"$f":"ROW()","v":2788}]
[{"$f":"ROW()","v":2789}]
[{"$f":"ROW()","v":2790}]
[{"$f":"ROW()","v":2791}]
[{"$f":"ROW()","v":2792}]
[{"$f":"ROW()","v":2793}]
[{"$f":"ROW()","v":2794}]
[{"$f":"ROW()","v":2795}]
[{"$f":"ROW()","v":2796}]
[{"$f":"ROW()","v":2797}]
[{"$f":"ROW()","v":2798}]
[{"$f":"ROW()","v":2799}]
[{"$f":"ROW()","v":2800}]
[{"$f":"ROW()","v":2801}]
[{"$f":"ROW()","v":2802}]
[{"$f":"ROW()","v":2803}]
[{"$f":"ROW()","v":2804}]
[{"$f":"ROW()","v":2805}]
[{"$f":"ROW()","v":2806}]
[{"$f":"ROW()","v":2807}]
[{"$f":"ROW()","v":2808}]
[{"$f":"ROW()","v":2809}]
[{"$f":"ROW()","v":2810}]
[{"$f":"ROW()","v":2811}]
[{"$f":"ROW()","v":2812}]
[{"$f":"ROW()","v":2813}]
[{"$f":"ROW()","v":2814}]
[{"$f":"ROW()","v":2815}]
[{"$f":"ROW()","v":2816}]
[{"$f":"ROW()","v":2817}]
[{"$f":"ROW()","v":2818}]
[{"$f":"ROW()","v":2819}]
[{"$f":"ROW()","v":2820}]
[{"$f":"ROW()","v":2821}]
[{"$f":"ROW()","v":2822}]
[{"$f":"ROW()","v":2823}]
[{"$f":"ROW()","v":2824}]
[{"$f":"ROW()","v":2825}]
[{"$f":"ROW()","v":2826}]
[{"$f":"ROW()","v":2827}]
[{"$f":"ROW()","v":2828}]
[{"$f":"ROW()","v":2829}]
[{"$f":"ROW()","v":2830}]
[{"$f":"ROW()","v":2831}]
[{"$f":"ROW()","v":2832}]
[{"$f":"ROW()","v":2833}]
[{"$f":"ROW()","v":2834}]
[{"$f":"ROW()","v":2835}]
[{"$f":"ROW()","v":2836}]
[{"$f":"ROW()","v":2837}]
[{"$f":"ROW()","v":2838}]
[{"$f":"ROW()","v":2839}]
[{"$f":"ROW()","v":2840}]
[{"$f":"ROW()","v":2841}]
[{"$f":"ROW()","v":2842}]
[{"$f":"ROW()","v":2843}]
[{"$f":"ROW()","v":2844}]
[{"$f":"ROW()","v":2845}]
[{"$f":"ROW()","v":2846}]
[{"$f":"ROW()","v":2847}]
[{"$f":"ROW()","v":2848}]
[{"$f":"ROW()","v":2849}]
[{"$f":"ROW()","v":2850}]
[{"$f":"ROW()","v":2851}]
[{"$f":"ROW()","v":2852}]
[{"$f":"ROW()","v":2853}]
[{"$f":"ROW()","v":2854}]
[{"$f":"ROW()","v":2855}]
[{"$f":"ROW()","v":2856}]
[{"$f":"ROW()","v":2857}]
[{"$f":"ROW()","v":2858}]
[{"$f":"ROW()","v":2859}]
[{"$f":"ROW()","v":2860}]
[{"$f":"ROW()","v":2861}]
[{"$f":"ROW()","v":2862}]
[{"$f":"ROW()","v":2863}]
[{"$f":"ROW()","v":2864}]
[{"$f":"ROW()","v":2865}]
[{"$f":"ROW()","v":2866}]
[{"$f":"ROW()","v":2867}]
[{"$f":"ROW()","v":2868}]
[{"$f":"ROW()","v":2869}]
[{"$f":"ROW()","v":2870}]
[{"$f":"ROW()","v":2871}]
[{"$f":"ROW()","v":2872}]
[{"$f":"ROW()","v":2873}]
[{"$f":"ROW()","v":2874}]
[{"$f":"ROW()","v":2875}]
[{"$f":"ROW()","v":2876}]
[{"$f":"ROW()","v":2877}]
[{"$f":"ROW()","v":2878}]
[{"$f":"ROW()","v":2879}]
[{"$f":"ROW()","v":2880}]
[{"$f":"ROW()","v":2881}]
[{"$f":"ROW()","v":2882}]
[{"$f":"ROW()","v":2883}]
[{"$f":"ROW()","v":2884}]
[{"$f":"ROW()","v":2885}]
[{"$f":"ROW()","v":2886}]
[{"$f":"ROW()","v":2887}]
[{"$f":"ROW()","v":2888}]
[{"$f":"ROW()","v":2889}]
[{"$f":"ROW()","v":2890}]
[{"$f":"ROW()","v":2891}]
[{"$f":"ROW()","v":2892}]
[{"$f":"ROW()","v":2893}]
[{"$f":"ROW()","v":2894}]
[{"$f":"ROW()","v":2895}]
[{"$f":"ROW()","v":2896}]
[{"$f":"ROW()","v":2897}]
[{"$f":"ROW()","v":2898}]
[{"$f":"ROW()","v":2899}]
[{"$f":"ROW()","v":2900}]
[{"$f":"ROW()","v":2901}]
[{"$f":"ROW()","v":2902}]
[{"$f":"ROW()","v":2903}]
[{"$f":"ROW()","v":2904}]
[{"$f":"ROW()","v":2905}]
[{"$f":"ROW()","v":2906}]
[{"$f":"ROW()","v":2907}]
[{"$f":"ROW()","v":2908}]
[{"$f":"ROW()","v":2909}]
[{"$f":"ROW()","v":2910}]
[{"$f":"ROW()","v":2911}]
[{"$f":"ROW()","v":2912}]
[{"$f":"ROW()","v":2913}]
[{"$f":"ROW()","v":2914}]
[{"$f":"ROW()","v":2915}]
[{"$f":"ROW()","v":2916}]
[{"$f":"ROW()","v":2917}]
[{"$f":"ROW()","v":2918}]
[{"$f":"ROW()","v":2919}]
[{"$f":"ROW()","v":2920}]
[{"$f":"ROW()","v":2921}]
[{"$f":"ROW()","v":2922}]
[{"$f":"ROW()","v":2923}]
[{"$f":"ROW()","v":2924}]
[{"$f":"ROW()","v":2925}]
[{"$f":"ROW()","v":2926}]
[{"$f":"ROW()","v":2927}]
[{"$f":"ROW()","v":2928}]
[{"$f":"ROW()","v":2929}]
[{"$f":"ROW()","v":2930}]
[{"$f":"ROW()","v":2931}]
[{"$f":"ROW()","v":2932}]
[{"$f":"ROW()","v":2933}]
[{"$f":"ROW()","v":2934}]
[{"$f":"ROW()","v":2935}]
[{"$f":"ROW()","v":2936}]
[{"$f":"ROW()","v":2937}]
[{"$f":"ROW()","v":2938}]
[{"$f":"ROW()","v":2939}]
[{"$f":"ROW()","v":2940}]
[{"$f":"ROW()","v":2941}]
[{"$f":"ROW()","v":2942}]
[{"$f":"ROW()","v":2943}]
[{"$f":"ROW()","v":2944}]
[{"$f":"ROW()","v":2945}]
[{"$f":"ROW()","v":2946}]
[{"$f":"ROW()","v":2947}]
[{"$f":"ROW()","v":2948}]
[{"$f":"ROW()","v":2949}]
[{"$f":"ROW()","v":2950}]
[{"$f":"ROW()","v":2951}]
[{"$f":"ROW()","v":2952}]
[{"$f":"ROW()","v":2953}]
[{"$f":"ROW()","v":2954}]
[{"$f":"ROW()","v":2955}]
[{"$f":"ROW()","v":2956}]
[{"$f":"ROW()","v":2957}]
[{"$f":"ROW()","v":2958}]
[{"$f":"ROW()","v":2959}]
[{"$f":"ROW()","v":2960}]
[{"$f":"ROW()","v":2961}]
[{"$f":"ROW()","v":2962}]
[{"$f":"ROW()","v":2963}]
[{"$f":"ROW()","v":2964}]
[{"$f":"ROW()","v":2965}]
[{"$f":"ROW()","v":2966}]
[{"$f":"ROW()","v":2967}]
[{"$f":"ROW()","v":2968}]
[{"$f":"ROW()","v":2969}]
[{"$f":"ROW()","v":2970}]
[{"$f":"ROW()","v":2971}]
[{"$f":"ROW()","v":2972}]
[{"$f":"ROW()","v":2973}]
[{"$f":"ROW()","v":2974}]
[{"$f":"ROW()","v":2975}]
[{"$f":"ROW()","v":2976}]
[{"$f":"ROW()","v":2977}]
[{"$f":"ROW()","v":2978}]
[{"$f":"ROW()","v":2979}]
[{"$f":"ROW()","v":2980}]
[{"$f":"ROW()","v":2981}]
[{"$f":"ROW()","v":2982}]
[{"$f":"ROW()","v":2983}]
[{"$f":"ROW()","v":2984}]
[{"$f":"ROW()","v":2985}]
[{"$f":"ROW()","v":2986}]
[{"$f":"ROW()","v":2987}]
[{"$f":"ROW()","v":2988}]
[{"$f":"ROW()","v":2989}]
[{"$f":"ROW()","v":2990}]
[{"$f":"ROW()","v":2991}]
[{"$f":"ROW()","v":2992}]
[{"$f":"ROW()","v":2993}]
[{"$f":"ROW()","v":2994}]
[{"$f":"ROW()","v":2995}]
[{"$f":"ROW()","v":2996}]
[{"$f":"ROW()","v":2997}]
[{"$f":"ROW()","v":2998}]
[{"$f":"ROW()","v":2999}]
[{"$f":"ROW()","v":3000}]
[{"$f":"ROW()","v":3001}]
[{"$f":"ROW()","v":3002}]
[{"$f":"ROW()","v":3003}]
[{"$f":"ROW()","v":3004}]
[{"$f":"ROW()","v":3005}]
[{"$f":"ROW()","v":3006}]
[{"$f":"ROW()","v":3007}]
[{"$f":"ROW()","v":3008}]
[{"$f":"ROW()","v":3009}]
[{"$f":"ROW()","v":3010}]
[{"$f":"ROW()","v":3011}]
[{"$f":"ROW()","v":3012}]
[{"$f":"ROW()","v":3013}]
[{"$f":"ROW()","v":3014}]
[{"$f":"ROW()","v":3015}]
[{"$f":"ROW()","v":3016}]
[{"$f":"ROW()","v":3017}]
[{"$f":"ROW()","v":3018}]
[{"$f":"ROW()","v":3019}]
[{"$f":"ROW()","v":3020}]
[{"$f":"ROW()","v":3021}]
[{"$f":"ROW()","v":3022}]
[{"$f":"ROW()","v":3023}]
[{"$f":"ROW()","v":3024}]
[{"$f":"ROW()","v":3025}]
[{"$f":"ROW()","v":3026}]
[{"$f":"ROW()","v":3027}]
[{"$f":"ROW()","v":3028}]
[{"$f":"ROW()","v":3029}]
[{"$f":"ROW()","v":3030}]
[{"$f":"ROW()","v":3031}]
[{"$f":"ROW()","v":3032}]
[{"$f":"ROW()","v":3033}]
[{"$f":"ROW()","v":3034}]
[{"$f":"ROW()","v":3035}]
[{"$f":"ROW()","v":3036}]
[{"$f":"ROW()","v":3037}]
[{"$f":"ROW()","v":3038}]
[{"$f":"ROW()","v":3039}]
[{"$f":"ROW()","v":3040}]
[{"$f":"ROW()","v":3041}]
[{"$f":"ROW()","v":3042}]
[{"$f":"ROW()","v":3043}]
[{"$f":"ROW()","v":3044}]
[{"$f":"ROW()","v":3045}]
[{"$f":"ROW()","v":3046}]
[{"$f":"ROW()","v":3047}]
[{"$f":"ROW()","v":3048}]
[{"$f":"ROW()","v":3049}]
[{"$f":"ROW()","v":3050}]
[{"$f":"ROW()","v":3051}]
[{"$f":"ROW()","v":3052}]
[{"$f":"ROW()","v":3053}]
[{"$f":"ROW()","v":3054}]
[{"$f":"ROW()","v":3055}]
[{"$f":"ROW()","v":3056}]
[{"$f":"ROW()","v":3057}]
[{"$f":"ROW()","v":3058}]
[{"$f":"ROW()","v":3059}]
[{"$f":"ROW()","v":3060}]
[{"$f":"ROW()","v":3061}]
[{"$f":"ROW()","v":3062}]
[{"$f":"ROW()","v":3063}]
[{"$f":"ROW()","v":3064}]
[{"$f":"ROW()","v":3065}]
[{"$f":"ROW()","v":3066}]
[{"$f":"ROW()","v":3067}]
[{"$f":"ROW()","v":3068}]
[{"$f":"ROW()","v":3069}]
[{"$f":"ROW()","v":3070}]
[{"$f":"ROW()","v":3071}]
[{"$f":"ROW()","v":3072}]
[{"$f":"ROW()","v":3073}]
[{"$f":"ROW()","v":3074}]
[{"$f":"ROW()","v":3075}]
[{"$f":"ROW()","v":3076}]
[{"$f":"ROW()","v":3077}]
[{"$f":"ROW()","v":3078}]
[{"$f":"ROW()","v":3079}]
[{"$f":"ROW()","v":3080}]
[{"$f":"ROW()","v":3081}]
[{"$f":"ROW()","v":3082}]
[{"$f":"ROW()","v":3083}]
[{"$f":"ROW()","v":3084}]
[{"$f":"ROW()","v":3085}]
[{"$f":"ROW()","v":3086}]
[{"$f":"ROW()","v":3087}]
[{"$f":"ROW()","v":3088}]
[{"$f":"ROW()","v":3089}]
[{"$f":"ROW()","v":3090}]
[{"$f":"ROW()","v":3091}]
[{"$f":"ROW()","v":3092}]
[{"$f":"ROW()","v":3093}]
[{"$f":"ROW()","v":3094}]
[{"$f":"ROW()","v":3095}]
[{"$f":"ROW()","v":3096}]
[{"$f":"ROW()","v":3097}]
[{"$f":"ROW()","v":3098}]
[{"$f":"ROW()","v":3099}]
[{"$f":"ROW()","v":3100}]
[{"$f":"ROW()","v":3101}]
[{"$f":"ROW()","v":3102}]
[{"$f":"ROW()","v":3103}]
[{"$f":"ROW()","v":3104}]
[{"$f":"ROW()","v":3105}]
[{"$f":"ROW()","v":3106}]
[{"$f":"ROW()","v":3107}]
[{"$f":"ROW()","v":3108}]
[{"$f":"ROW()","v":3109}]
[{"$f":"ROW()","v":3110}]
[{"$f":"ROW()","v":3111}]
[{"$f":"ROW()","v":3112}]
[{"$f":"ROW()","v":3113}]
[{"$f":"ROW()","v":3114}]
[{"$f":"ROW()","v":3115}]
[{"$f":"ROW()","v":3116}]
[{"$f":"ROW()","v":3117}]
[{"$f":"ROW()","v":3118}]
[{"$f":"ROW()","v":3119}]
[{"$f":"ROW()","v":3120}]
[{"$f":"ROW()","v":3121}]
[{"$f":"ROW()","v":3122}]
[{"$f":"ROW()","v":3123}]
[{"$f":"ROW()","v":3124}]
[{"$f":"ROW()","v":3125}]
[{"$f":"ROW()","v":3126}]
[{"$f":"ROW()","v":3127}]
[{"$f":"ROW()","v":3128}]
[{"$f":"ROW()","v":3129}]
[{"$f":"ROW()","v":3130}]
[{"$f":"ROW()","v":3131}]
[{"$f":"ROW()","v":3132}]
[{"$f":"ROW()","v":3133}]
[{"$f":"ROW()","v":3134}]
[{"$f":"ROW()","v":3135}]
[{"$f":"ROW()","v":3136}]
[{"$f":"ROW()","v":3137}]
[{"$f":"ROW()","v":3138}]
[{"$f":"ROW()","v":3139}]
[{"$f":"ROW()","v":3140}]
[{"$f":"ROW()","v":3141}]
[{"$f":"ROW()","v":3142}]
[{"$f":"ROW()","v":3143}]
[{"$f":"ROW()","v":3144}]
[{"$f":"ROW()","v":3145}]
[{"$f":"ROW()","v":3146}]
[{"$f":"ROW()","v":3147}]
[{"$f":"ROW()","v":3148}]
[{"$f":"ROW()","v":3149}]
[{"$f":"ROW()","v":3150}]
[{"$f":"ROW()","v":3151}]
[{"$f":"ROW()","v":3152}]
[{"$f":"ROW()","v":3153}]
[{"$f":"ROW()","v":3154}]
[{"$f":"ROW()","v":3155}]
[{"$f":"ROW()","v":3156}]
[{"$f":"ROW()","v":3157}]
[{"$f":"ROW()","v":3158}]
[{"$f":"ROW()","v":3159}]
[{"$f":"ROW()","v":3160}]
[{"$f":"ROW()","v":3161}]
[{"$f":"ROW()","v":3162}]
[{"$f":"ROW()","v":3163}]
[{"$f":"ROW()","v":3164}]
[{"$f":"ROW()","v":3165}]
[{"$f":"ROW()","v":3166}]
[{"$f":"ROW()","v":3167}]
[{"$f":"ROW()","v":3168}]
[{"$f":"ROW()","v":3169}]
[{"$f":"ROW()","v":3170}]
[{"$f":"ROW()","v":3171}]
[{"$f":"ROW()","v":3172}]
[{"$f":"ROW()","v":3173}]
[{"$f":"ROW()","v":3174}]
[{"$f":"ROW()","v":3175}]
[{"$f":"ROW()","v":3176}]
[{"$f":"ROW()","v":3177}]
[{"$f":"ROW()","v":3178}]
[{"$f":"ROW()","v":3179}]
[{"$f":"ROW()","v":3180}]
[{"$f":"ROW()","v":3181}]
[{"$f":"ROW()","v":3182}]
[{"$f":"ROW()","v":3183}]
[{"$f":"ROW()","v":3184}]
[{"$f":"ROW()","v":3185}]
[{"$f":"ROW()","v":3186}]
[{"$f":"ROW()","v":3187}]
[{"$f":"ROW()","v":3188}]
[{"$f":"ROW()","v":3189}]
[{"$f":"ROW()","v":3190}]
[{"$f":"ROW()","v":3191}]
[{"$f":"ROW()","v":3192}]
[{"$f":"ROW()","v":3193}]
[{"$f":"ROW()","v":3194}]
[{"$f":"ROW()","v":3195}]
[{"$f":"ROW()","v":3196}]
[{"$f":"ROW()","v":3197}]
[{"$f":"ROW()","v":3198}]
[{"$f":"ROW()","v":3199}]
[{"$f":"ROW()","v":3200}]
[{"$f":"ROW()","v":3201}]
[{"$f":"ROW()","v":3202}]
[{"$f":"ROW()","v":3203}]
[{"$f":"ROW()","v":3204}]
[{"$f":"ROW()","v":3205}]
[{"$f":"ROW()","v":3206}]
[{"$f":"ROW()","v":3207}]
[{"$f":"ROW()","v":3208}]
[{"$f":"ROW()","v":3209}]
[{"$f":"ROW()","v":3210}]
[{"$f":"ROW()","v":3211}]
[{"$f":"ROW()","v":3212}]
[{"$f":"ROW()","v":3213}]
[{"$f":"ROW()","v":3214}]
[{"$f":"ROW()","v":3215}]
[{"$f":"ROW()","v":3216}]
[{"$f":"ROW()","v":3217}]
[{"$f":"ROW()","v":3218}]
[{"$f":"ROW()","v":3219}]
[{"$f":"ROW()","v":3220}]
[{"$f":"ROW()","v":3221}]
[{"$f":"ROW()","v":3222}]
[{"$f":"ROW()","v":3223}]
[{"$f":"ROW()","v":3224}]
[{"$f":"ROW()","v":3225}]
[{"$f":"ROW()","v":3226}]
[{"$f":"ROW()","v":3227}]
[{"$f":"ROW()","v":3228}]
[{"$f":"ROW()","v":3229}]
[{"$f":"ROW()","v":3230}]
[{"$f":"ROW()","v":3231}]
[{"$f":"ROW()","v":3232}]
[{"$f":"ROW()","v":3233}]
[{"$f":"ROW()","v":3234}]
[{"$f":"ROW()","v":3235}]
[{"$f":"ROW()","v":3236}]
[{"$f":"ROW()","v":3237}]
[{"$f":"ROW()","v":3238}]
[{"$f":"ROW()","v":3239}]
[{"$f":"ROW()","v":3240}]
[{"$f":"ROW()","v":3241}]
[{"$f":"ROW()","v":3242}]
[{"$f":"ROW()","v":3243}]
[{"$f":"ROW()","v":3244}]
[{"$f":"ROW()","v":3245}]
[{"$f":"ROW()","v":3246}]
[{"$f":"ROW()","v":3247}]
[{"$f":"ROW()","v":3248}]
[{"$f":"ROW()","v":3249}]
[{"$f":"ROW()","v":3250}]
[{"$f":"ROW()","v":3251}]
[{"$f":"ROW()","v":3252}]
[{"$f":"ROW()","v":3253}]
[{"$f":"ROW()","v":3254}]
[{"$f":"ROW()","v":3255}]
[{"$f":"ROW()","v":3256}]
[{"$f":"ROW()","v":3257}]
[{"$f":"ROW()","v":3258}]
[{"$f":"ROW()","v":3259}]
[{"$f":"ROW()","v":3260}]
[{"$f":"ROW()","v":3261}]
[{"$f":"ROW()","v":3262}]
[{"$f":"ROW()","v":3263}]
[{"$f":"ROW()","v":3264}]
[{"$f":"ROW()","v":3265}]
[{"$f":"ROW()","v":3266}]
[{"$f":"ROW()","v":3267}]
[{"$f":"ROW()","v":3268}]
[{"$f":"ROW()","v":3269}]
[{"$f":"ROW()","v":3270}]
[{"$f":"ROW()","v":3271}]
[{"$f":"ROW()","v":3272}]
[{"$f":"ROW()","v":3273}]
[{"$f":"ROW()","v":3274}]
[{"$f":"ROW()","v":3275}]
[{"$f":"ROW()","v":3276}]
[{"$f":"ROW()","v":3277}]
[{"$f":"ROW()","v":3278}]
[{"$f":"ROW()","v":3279}]
[{"$f":"ROW()","v":3280}]
[{"$f":"ROW()","v":3281}]
[{"$f":"ROW()","v":3282}]
[{"$f":"ROW()","v":3283}]
[{"$f":"ROW()","v":3284}]
[{"$f":"ROW()","v":3285}]
[{"$f":"ROW()","v":3286}]
[{"$f":"ROW()","v":3287}]
[{"$f":"ROW()","v":3288}]
[{"$f":"ROW()","v":3289}]
[{"$f":"ROW()","v":3290}]
[{"$f":"ROW()","v":3291}]
[{"$f":"ROW()","v":3292}]
[{"$f":"ROW()","v":3293}]
[{"$f":"ROW()","v":3294}]
[{"$f":"ROW()","v":3295}]
[{"$f":"ROW()","v":3296}]
[{"$f":"ROW()","v":3297}]
[{"$f":"ROW()","v":3298}]
[{"$f":"ROW()","v":3299}]
[{"$f":"ROW()","v":3300}]
[{"$f":"ROW()","v":3301}]
[{"$f":"ROW()","v":3302}]
[{"$f":"ROW()","v":3303}]
[{"$f":"ROW()","v":3304}]
[{"$f":"ROW()","v":3305}]
[{"$f":"ROW()","v":3306}]
[{"$f":"ROW()","v":3307}]
[{"$f":"ROW()","v":3308}]
[{"$f":"ROW()","v":3309}]
[{"$f":"ROW()","v":3310}]
[{"$f":"ROW()","v":3311}]
[{"$f":"ROW()","v":3312}]
[{"$f":"ROW()","v":3313}]
[{"$f":"ROW()","v":3314}]
[{"$f":"ROW()","v":3315}]
[{"$f":"ROW()","v":3316}]
[{"$f":"ROW()","v":3317}]
[{"$f":"ROW()","v":3318}]
[{"$f":"ROW()","v":3319}]
[{"$f":"ROW()","v":3320}]
[{"$f":"ROW()","v":3321}]
[{"$f":"ROW()","v":3322}]
[{"$f":"ROW()","v":3323}]
[{"$f":"ROW()","v":3324}]
[{"$f":"ROW()","v":3325}]
[{"$f":"ROW()","v":3326}]
[{"$f":"ROW()","v":3327}]
[{"$f":"ROW()","v":3328}]
[{"$f":"ROW()","v":3329}]
[{"$f":"ROW()","v":3330}]
[{"$f":"ROW()","v":3331}]
[{"$f":"ROW()","v":3332}]
[{"$f":"ROW()","v":3333}]
[{"$f":"ROW()","v":3334}]
[{"$f":"ROW()","v":3335}]
[{"$f":"ROW()","v":3336}]
[{"$f":"ROW()","v":3337}]
[{"$f":"ROW()","v":3338}]
[{"$f":"ROW()","v":3339}]
[{"$f":"ROW()","v":3340}]
[{"$f":"ROW()","v":3341}]
[{"$f":"ROW()","v":3342}]
[{"$f":"ROW()","v":3343}]
[{"$f":"ROW()","v":3344}]
[{"$f":"ROW()","v":3345}]
[{"$f":"ROW()","v":3346}]
[{"$f":"ROW()","v":3347}]
[{"$f":"ROW()","v":3348}]
[{"$f":"ROW()","v":3349}]
[{"$f":"ROW()","v":3350}]
[{"$f":"ROW()","v":3351}]
[{"$f":"ROW()","v":3352}]
[{"$f":"ROW()","v":3353}]
[{"$f":"ROW()","v":3354}]
[{"$f":"ROW()","v":3355}]
[{"$f":"ROW()","v":3356}]
[{"$f":"ROW()","v":3357}]
[{"$f":"ROW()","v":3358}]
[{"$f":"ROW()","v":3359}]
[{"$f":"ROW()","v":3360}]
[{"$f":"ROW()","v":3361}]
[{"$f":"ROW()","v":3362}]
[{"$f":"ROW()","v":3363}]
[{"$f":"ROW()","v":3364}]
[{"$f":"ROW()","v":3365}]
[{"$f":"ROW()","v":3366}]
[{"$f":"ROW()","v":3367}]
[{"$f":"ROW()","v":3368}]
[{"$f":"ROW()","v":3369}]
[{"$f":"ROW()","v":3370}]
[{"$f":"ROW()","v":3371}]
[{"$f":"ROW()","v":3372}]
[{"$f":"ROW()","v":3373}]
[{"$f":"ROW()","v":3374}]
[{"$f":"ROW()","v":3375}]
[{"$f":"ROW()","v":3376}]
[{"$f":"ROW()","v":3377}]
[{"$f":"ROW()","v":3378}]
[{"$f":"ROW()","v":3379}]
[{"$f":"ROW()","v":3380}]
[{"$f":"ROW()","v":3381}]
[{"$f":"ROW()","v":3382}]
[{"$f":"ROW()","v":3383}]
[{"$f":"ROW()","v":3384}]
[{"$f":"ROW()","v":3385}]
[{"$f":"ROW()","v":3386}]
[{"$f":"ROW()","v":3387}]
[{"$f":"ROW()","v":3388}]
[{"$f":"ROW()","v":3389}]
[{"$f":"ROW()","v":3390}]
[{"$f":"ROW()","v":3391}]
[{"$f":"ROW()","v":3392}]
[{"$f":"ROW()","v":3393}]
[{"$f":"ROW()","v":3394}]
[{"$f":"ROW()","v":3395}]
[{"$f":"ROW()","v":3396}]
[{"$f":"ROW()","v":3397}]
[{"$f":"ROW()","v":3398}]
[{"$f":"ROW()","v":3399}]
[{"$f":"ROW()","v":3400}]
[{"$f":"ROW()","v":3401}]
[{"$f":"ROW()","v":3402}]
[{"$f":"ROW()","v":3403}]
[{"$f":"ROW()","v":3404}]
[{"$f":"ROW()","v":3405}]
[{"$f":"ROW()","v":3406}]
[{"$f":"ROW()","v":3407}]
[{"$f":"ROW()","v":3408}]
[{"$f":"ROW()","v":3409}]
[{"$f":"ROW()","v":3410}]
[{"$f":"ROW()","v":3411}]
[{"$f":"ROW()","v":3412}]
[{"$f":"ROW()","v":3413}]
[{"$f":"ROW()","v":3414}]
[{"$f":"ROW()","v":3415}]
[{"$f":"ROW()","v":3416}]
[{"$f":"ROW()","v":3417}]
[{"$f":"ROW()","v":3418}]
[{"$f":"ROW()","v":3419}]
[{"$f":"ROW()","v":3420}]
[{"$f":"ROW()","v":3421}]
[{"$f":"ROW()","v":3422}]
[{"$f":"ROW()","v":3423}]
[{"$f":"ROW()","v":3424}]
[{"$f":"ROW()","v":3425}]
[{"$f":"ROW()","v":3426}]
[{"$f":"ROW()","v":3427}]
[{"$f":"ROW()","v":3428}]
[{"$f":"ROW()","v":3429}]
[{"$f":"ROW()","v":3430}]
[{"$f":"ROW()","v":3431}]
[{"$f":"ROW()","v":3432}]
[{"$f":"ROW()","v":3433}]
[{"$f":"ROW()","v":3434}]
[{"$f":"ROW()","v":3435}]
[{"$f":"ROW()","v":3436}]
[{"$f":"ROW()","v":3437}]
[{"$f":"ROW()","v":3438}]
[{"$f":"ROW()","v":3439}]
[{"$f":"ROW()","v":3440}]
[{"$f":"ROW()","v":3441}]
[{"$f":"ROW()","v":3442}]
[{"$f":"ROW()","v":3443}]
[{"$f":"ROW()","v":3444}]
[{"$f":"ROW()","v":3445}]
[{"$f":"ROW()","v":3446}]
[{"$f":"ROW()","v":3447}]
[{"$f":"ROW()","v":3448}]
[{"$f":"ROW()","v":3449}]
[{"$f":"ROW()","v":3450}]
[{"$f":"ROW()","v":3451}]
[{"$f":"ROW()","v":3452}]
[{"$f":"ROW()","v":3453}]
[{"$f":"ROW()","v":3454}]
[{"$f":"ROW()","v":3455}]
[{"$f":"ROW()","v":3456}]
[{"$f":"ROW()","v":3457}]
[{"$f":"ROW()","v":3458}]
[{"$f":"ROW()","v":3459}]
[{"$f":"ROW()","v":3460}]
[{"$f":"ROW()","v":3461}]
[{"$f":"ROW()","v":3462}]
[{"$f":"ROW()","v":3463}]
[{"$f":"ROW()","v":3464}]
[{"$f":"ROW()","v":3465}]
[{"$f":"ROW()","v":3466}]
[{"$f":"ROW()","v":3467}]
[{"$f":"ROW()","v":3468}]
[{"$f":"ROW()","v":3469}]
[{"$f":"ROW()","v":3470}]
[{"$f":"ROW()","v":3471}]
[{"$f":"ROW()","v":3472}]
[{"$f":"ROW()","v":3473}]
[{"$f":"ROW()","v":3474}]
[{"$f":"ROW()","v":3475}]
[{"$f":"ROW()","v":3476}]
[{"$f":"ROW()","v":3477}]
[{"$f":"ROW()","v":3478}]
[{"$f":"ROW()","v":3479}]
[{"$f":"ROW()","v":3480}]
[{"$f":"ROW()","v":3481}]
[{"$f":"ROW()","v":3482}]
[{"$f":"ROW()","v":3483}]
[{"$f":"ROW()","v":3484}]
[{"$f":"ROW()","v":3485}]
[{"$f":"ROW()","v":3486}]
[{"$f":"ROW()","v":3487}]
[{"$f":"ROW()","v":3488}]
[{"$f":"ROW()","v":3489}]
[{"$f":"ROW()","v":3490}]
[{"$f":"ROW()","v":3491}]
[{"$f":"ROW()","v":3492}]
[{"$f":"ROW()","v":3493}]
[{"$f":"ROW()","v":3494}]
[{"$f":"ROW()","v":3495}]
[{"$f":"ROW()","v":3496}]
[{"$f":"ROW()","v":3497}]
[{"$f":"ROW()","v":3498}]
[{"$f":"ROW()","v":3499}]
[{"$f":"ROW()","v":3500}]
[{"$f":"ROW()","v":3501}]
[{"$f":"ROW()","v":3502}]
[{"$f":"ROW()","v":3503}]
[{"$f":"ROW()","v":3504}]
[{"$f":"ROW()","v":3505}]
[{"$f":"ROW()","v":3506}]
[{"$f":"ROW()","v":3507}]
[{"$f":"ROW()","v":3508}]
[{"$f":"ROW()","v":3509}]
[{"$f":"ROW()","v":3510}]
[{"$f":"ROW()","v":3511}]
[{"$f":"ROW()","v":3512}]
[{"$f":"ROW()","v":3513}]
[{"$f":"ROW()","v":3514}]
[{"$f":"ROW()","v":3515}]
[{"$f":"ROW()","v":3516}]
[{"$f":"ROW()","v":3517}]
[{"$f":"ROW()","v":3518}]
[{"$f":"ROW()","v":3519}]
[{"$f":"ROW()","v":3520}]
[{"$f":"ROW()","v":3521}]
[{"$f":"ROW()","v":3522}]
[{"$f":"ROW()","v":3523}]
[{"$f":"ROW()","v":3524}]
[{"$f":"ROW()","v":3525}]
[{"$f":"ROW()","v":3526}]
[{"$f":"ROW()","v":3527}]
[{"$f":"ROW()","v":3528}]
[{"$f":"ROW()","v":3529}]
[{"$f":"ROW()","v":3530}]
[{"$f":"ROW()","v":3531}]
[{"$f":"ROW()","v":3532}]
[{"$f":"ROW()","v":3533}]
[{"$f":"ROW()","v":3534}]
[{"$f":"ROW()","v":3535}]
[{"$f":"ROW()","v":3536}]
[{"$f":"ROW()","v":3537}]
[{"$f":"ROW()","v":3538}]
[{"$f":"ROW()","v":3539}]
[{"$f":"ROW()","v":3540}]
[{"$f":"ROW()","v":3541}]
[{"$f":"ROW()","v":3542}]
[{"$f":"ROW()","v":3543}]
[{"$f":"ROW()","v":3544}]
[{"$f":"ROW()","v":3545}]
[{"$f":"ROW()","v":3546}]
[{"$f":"ROW()","v":3547}]
[{"$f":"ROW()","v":3548}]
[{"$f":"ROW()","v":3549}]
[{"$f":"ROW()","v":3550}]
[{"$f":"ROW()","v":3551}]
[{"$f":"ROW()","v":3552}]
[{"$f":"ROW()","v":3553}]
[{"$f":"ROW()","v":3554}]
[{"$f":"ROW()","v":3555}]
[{"$f":"ROW()","v":3556}]
[{"$f":"ROW()","v":3557}]
[{"$f":"ROW()","v":3558}]
[{"$f":"ROW()","v":3559}]
[{"$f":"ROW()","v":3560}]
[{"$f":"ROW()","v":3561}]
[{"$f":"ROW()","v":3562}]
[{"$f":"ROW()","v":3563}]
[{"$f":"ROW()","v":3564}]
[{"$f":"ROW()","v":3565}]
[{"$f":"ROW()","v":3566}]
[{"$f":"ROW()","v":3567}]
[{"$f":"ROW()","v":3568}]
[{"$f":"ROW()","v":3569}]
[{"$f":"ROW()","v":3570}]
[{"$f":"ROW()","v":3571}]
[{"$f":"ROW()","v":3572}]
[{"$f":"ROW()","v":3573}]
[{"$f":"ROW()","v":3574}]
[{"$f":"ROW()","v":3575}]
[{"$f":"ROW()","v":3576}]
[{"$f":"ROW()","v":3577}]
[{"$f":"ROW()","v":3578}]
[{"$f":"ROW()","v":3579}]
[{"$f":"ROW()","v":3580}]
[{"$f":"ROW()","v":3581}]
[{"$f":"ROW()","v":3582}]
[{"$f":"ROW()","v":3583}]
[{"$f":"ROW()","v":3584}]
[{"$f":"ROW()","v":3585}]
[{"$f":"ROW()","v":3586}]
[{"$f":"ROW()","v":3587}]
[{"$f":"ROW()","v":3588}]
[{"$f":"ROW()","v":3589}]
[{"$f":"ROW()","v":3590}]
[{"$f":"ROW()","v":3591}]
[{"$f":"ROW()","v":3592}]
[{"$f":"ROW()","v":3593}]
[{"$f":"ROW()","v":3594}]
[{"$f":"ROW()","v":3595}]
[{"$f":"ROW()","v":3596}]
[{"$f":"ROW()","v":3597}]
[{"$f":"ROW()","v":3598}]
[{"$f":"ROW()","v":3599}]
[{"$f":"ROW()","v":3600}]
[{"$f":"ROW()","v":3601}]
[{"$f":"ROW()","v":3602}]
[{"$f":"ROW()","v":3603}]
[{"$f":"ROW()","v":3604}]
[{"$f":"ROW()","v":3605}]
[{"$f":"ROW()","v":3606}]
[{"$f":"ROW()","v":3607}]
[{"$f":"ROW()","v":3608}]
[{"$f":"ROW()","v":3609}]
[{"$f":"ROW()","v":3610}]
[{"$f":"ROW()","v":3611}]
[{"$f":"ROW()","v":3612}]
[{"$f":"ROW()","v":3613}]
[{"$f":"ROW()","v":3614}]
[{"$f":"ROW()","v":3615}]
[{"$f":"ROW()","v":3616}]
[{"$f":"ROW()","v":3617}]
[{"$f":"ROW()","v":3618}]
[{"$f":"ROW()","v":3619}]
[{"$f":"ROW()","v":3620}]
[{"$f":"ROW()","v":3621}]
[{"$f":"ROW()","v":3622}]
[{"$f":"ROW()","v":3623}]
[{"$f":"ROW()","v":3624}]
[{"$f":"ROW()","v":3625}]
[{"$f":"ROW()","v":3626}]
[{"$f":"ROW()","v":3627}]
[{"$f":"ROW()","v":3628}]
[{"$f":"ROW()","v":3629}]
[{"$f":"ROW()","v":3630}]
[{"$f":"ROW()","v":3631}]
[{"$f":"ROW()","v":3632}]
[{"$f":"ROW()","v":3633}]
[{"$f":"ROW()","v":3634}]
[{"$f":"ROW()","v":3635}]
[{"$f":"ROW()","v":3636}]
[{"$f":"ROW()","v":3637}]
[{"$f":"ROW()","v":3638}]
[{"$f":"ROW()","v":3639}]
[{"$f":"ROW()","v":3640}]
[{"$f":"ROW()","v":3641}]
[{"$f":"ROW()","v":3642}]
[{"$f":"ROW()","v":3643}]
[{"$f":"ROW()","v":3644}]
[{"$f":"ROW()","v":3645}]
[{"$f":"ROW()","v":3646}]
[{"$f":"ROW()","v":3647}]
[{"$f":"ROW()","v":3648}]
[{"$f":"ROW()","v":3649}]
[{"$f":"ROW()","v":3650}]
[{"$f":"ROW()","v":3651}]
[{"$f":"ROW()","v":3652}]
[{"$f":"ROW()","v":3653}]
[{"$f":"ROW()","v":3654}]
[{"$f":"ROW()","v":3655}]
[{"$f":"ROW()","v":3656}]
[{"$f":"ROW()","v":3657}]
[{"$f":"ROW()","v":3658}]
[{"$f":"ROW()","v":3659}]
[{"$f":"ROW()","v":3660}]
[{"$f":"ROW()","v":3661}]
[{"$f":"ROW()","v":3662}]
[{"$f":"ROW()","v":3663}]
[{"$f":"ROW()","v":3664}]
[{"$f":"ROW()","v":3665}]
[{"$f":"ROW()","v":3666}]
[{"$f":"ROW()","v":3667}]
[{"$f":"ROW()","v":3668}]
[{"$f":"ROW()","v":3669}]
[{"$f":"ROW()","v":3670}]
[{"$f":"ROW()","v":3671}]
[{"$f":"ROW()","v":3672}]
[{"$f":"ROW()","v":3673}]
[{"$f":"ROW()","v":3674}]
[{"$f":"ROW()","v":3675}]
[{"$f":"ROW()","v":3676}]
[{"$f":"ROW()","v":3677}]
[{"$f":"ROW()","v":3678}]
[{"$f":"ROW()","v":3679}]
[{"$f":"ROW()","v":3680}]
[{"$f":"ROW()","v":3681}]
[{"$f":"ROW()","v":3682}]
[{"$f":"ROW()","v":3683}]
[{"$f":"ROW()","v":3684}]
[{"$f":"ROW()","v":3685}]
[{"$f":"ROW()","v":3686}]
[{"$f":"ROW()","v":3687}]
[{"$f":"ROW()","v":3688}]
[{"$f":"ROW()","v":3689}]
[{"$f":"ROW()","v":3690}]
[{"$f":"ROW()","v":3691}]
[{"$f":"ROW()","v":3692}]
[{"$f":"ROW()","v":3693}]
[{"$f":"ROW()","v":3694}]
[{"$f":"ROW()","v":3695}]
[{"$f":"ROW()","v":3696}]
[{"$f":"ROW()","v":3697}]
[{"$f":"ROW()","v":3698}]
[{"$f":"ROW()","v":3699}]
[{"$f":"ROW()","v":3700}]
[{"$f":"ROW()","v":3701}]
[{"$f":"ROW()","v":3702}]
[{"$f":"ROW()","v":3703}]
[{"$f":"ROW()","v":3704}]
[{"$f":"ROW()","v":3705}]
[{"$f":"ROW()","v":3706}]
[{"$f":"ROW()","v":3707}]
[{"$f":"ROW()","v":3708}]
[{"$f":"ROW()","v":3709}]
[{"$f":"ROW()","v":3710}]
[{"$f":"ROW()","v":3711}]
[{"$f":"ROW()","v":3712}]
[{"$f":"ROW()","v":3713}]
[{"$f":"ROW()","v":3714}]
[{"$f":"ROW()","v":3715}]
[{"$f":"ROW()","v":3716}]
[{"$f":"ROW()","v":3717}]
[{"$f":"ROW()","v":3718}]
[{"$f":"ROW()","v":3719}]
[{"$f":"ROW()","v":3720}]
[{"$f":"ROW()","v":3721}]
[{"$f":"ROW()","v":3722}]
[{"$f":"ROW()","v":3723}]
[{"$f":"ROW()","v":3724}]
[{"$f":"ROW()","v":3725}]
[{"$f":"ROW()","v":3726}]
[{"$f":"ROW()","v":3727}]
[{"$f":"ROW()","v":3728}]
[{"$f":"ROW()","v":3729}]
[{"$f":"ROW()","v":3730}]
[{"$f":"ROW()","v":3731}]
[{"$f":"ROW()","v":3732}]
[{"$f":"ROW()","v":3733}]
[{"$f":"ROW()","v":3734}]
[{"$f":"ROW()","v":3735}]
[{"$f":"ROW()","v":3736}]
[{"$f":"ROW()","v":3737}]
[{"$f":"ROW()","v":3738}]
[{"$f":"ROW()","v":3739}]
[{"$f":"ROW()","v":3740}]
[{"$f":"ROW()","v":3741}]
[{"$f":"ROW()","v":3742}]
[{"$f":"ROW()","v":3743}]
[{"$f":"ROW()","v":3744}]
[{"$f":"ROW()","v":3745}]
[{"$f":"ROW()","v":3746}]
[{"$f":"ROW()","v":3747}]
[{"$f":"ROW()","v":3748}]
[{"$f":"ROW()","v":3749}]
[{"$f":"ROW()","v":3750}]
[{"$f":"ROW()","v":3751}]
[{"$f":"ROW()","v":3752}]
[{"$f":"ROW()","v":3753}]
[{"$f":"ROW()","v":3754}]
[{"$f":"ROW()","v":3755}]
[{"$f":"ROW()","v":3756}]
[{"$f":"ROW()","v":3757}]
[{"$f":"ROW()","v":3758}]
[{"$f":"ROW()","v":3759}]
[{"$f":"ROW()","v":3760}]
[{"$f":"ROW()","v":3761}]
[{"$f":"ROW()","v":3762}]
[{"$f":"ROW()","v":3763}]
[{"$f":"ROW()","v":3764}]
[{"$f":"ROW()","v":3765}]
[{"$f":"ROW()","v":3766}]
[{"$f":"ROW()","v":3767}]
[{"$f":"ROW()","v":3768}]
[{"$f":"ROW()","v":3769}]
[{"$f":"ROW()","v":3770}]
[{"$f":"ROW()","v":3771}]
[{"$f":"ROW()","v":3772}]
[{"$f":"ROW()","v":3773}]
[{"$f":"ROW()","v":3774}]
[{"$f":"ROW()","v":3775}]
[{"$f":"ROW()","v":3776}]
[{"$f":"ROW()","v":3777}]
[{"$f":"ROW()","v":3778}]
[{"$f":"ROW()","v":3779}]
[{"$f":"ROW()","v":3780}]
[{"$f":"ROW()","v":3781}]
[{"$f":"ROW()","v":3782}]
[{"$f":"ROW()","v":3783}]
[{"$f":"ROW()","v":3784}]
[{"$f":"ROW()","v":3785}]
[{"$f":"ROW()","v":3786}]
[{"$f":"ROW()","v":3787}]
[{"$f":"ROW()","v":3788}]
[{"$f":"ROW()","v":3789}]
[{"$f":"ROW()","v":3790}]
[{"$f":"ROW()","v":3791}]
[{"$f":"ROW()","v":3792}]
[{"$f":"ROW()","v":3793}]
[{"$f":"ROW()","v":3794}]
[{"$f":"ROW()","v":3795}]
[{"$f":"ROW()","v":3796}]
[{"$f":"ROW()","v":3797}]
[{"$f":"ROW()","v":3798}]
[{"$f":"ROW()","v":3799}]
[{"$f":"ROW()","v":3800}]
[{"$f":"ROW()","v":3801}]
[{"$f":"ROW()","v":3802}]
[{"$f":"ROW()","v":3803}]
[{"$f":"ROW()","v":3804}]
[{"$f":"ROW()","v":3805}]
[{"$f":"ROW()","v":3806}]
[{"$f":"ROW()","v":3807}]
[{"$f":"ROW()","v":3808}]
[{"$f":"ROW()","v":3809}]
[{"$f":"ROW()","v":3810}]
[{"$f":"ROW()","v":3811}]
[{"$f":"ROW()","v":3812}]
[{"$f":"ROW()","v":3813}]
[{"$f":"ROW()","v":3814}]
[{"$f":"ROW()","v":3815}]
[{"$f":"ROW()","v":3816}]
[{"$f":"ROW()","v":3817}]
[{"$f":"ROW()","v":3818}]
[{"$f":"ROW()","v":3819}]
[{"$f":"ROW()","v":3820}]
[{"$f":"ROW()","v":3821}]
[{"$f":"ROW()","v":3822}]
[{"$f":"ROW()","v":3823}]
[{"$f":"ROW()","v":3824}]
[{"$f":"ROW()","v":3825}]
[{"$f":"ROW()","v":3826}]
[{"$f":"ROW()","v":3827}]
[{"$f":"ROW()","v":3828}]
[{"$f":"ROW()","v":3829}]
[{"$f":"ROW()","v":3830}]
[{"$f":"ROW()","v":3831}]
[{"$f":"ROW()","v":3832}]
[{"$f":"ROW()","v":3833}]
[{"$f":"ROW()","v":3834}]
[{"$f":"ROW()","v":3835}]
[{"$f":"ROW()","v":3836}]
[{"$f":"ROW()","v":3837}]
[{"$f":"ROW()","v":3838}]
[{"$f":"ROW()","v":3839}]
[{"$f":"ROW()","v":3840}]
[{"$f":"ROW()","v":3841}]
[{"$f":"ROW()","v":3842}]
[{"$f":"ROW()","v":3843}]
[{"$f":"ROW()","v":3844}]
[{"$f":"ROW()","v":3845}]
[{"$f":"ROW()","v":3846}]
[{"$f":"ROW()","v":3847}]
[{"$f":"ROW()","v":3848}]
[{"$f":"ROW()","v":3849}]
[{"$f":"ROW()","v":3850}]
[{"$f":"ROW()","v":3851}]
[{"$f":"ROW()","v":3852}]
[{"$f":"ROW()","v":3853}]
[{"$f":"ROW()","v":3854}]
[{"$f":"ROW()","v":3855}]
[{"$f":"ROW()","v":3856}]
[{"$f":"ROW()","v":3857}]
[{"$f":"ROW()","v":3858}]
[{"$f":"ROW()","v":3859}]
[{"$f":"ROW()","v":3860}]
[{"$f":"ROW()","v":3861}]
[{"$f":"ROW()","v":3862}]
[{"$f":"ROW()","v":3863}]
[{"$f":"ROW()","v":3864}]
[{"$f":"ROW()","v":3865}]
[{"$f":"ROW()","v":3866}]
[{"$f":"ROW()","v":3867}]
[{"$f":"ROW()","v":3868}]
[{"$f":"ROW()","v":3869}]
[{"$f":"ROW()","v":3870}]
[{"$f":"ROW()","v":3871}]
[{"$f":"ROW()","v":3872}]
[{"$f":"ROW()","v":3873}]
[{"$f":"ROW()","v":3874}]
[{"$f":"ROW()","v":3875}]
[{"$f":"ROW()","v":3876}]
[{"$f":"ROW()","v":3877}]
[{"$f":"ROW()","v":3878}]
[{"$f":"ROW()","v":3879}]
[{"$f":"ROW()","v":3880}]
[{"$f":"ROW()","v":3881}]
[{"$f":"ROW()","v":3882}]
[{"$f":"ROW()","v":3883}]
[{"$f":"ROW()","v":3884}]
[{"$f":"ROW()","v":3885}]
[{"$f":"ROW()","v":3886}]
[{"$f":"ROW()","v":3887}]
[{"$f":"ROW()","v":3888}]
[{"$f":"ROW()","v":3889}]
[{"$f":"ROW()","v":3890}]
[{"$f":"ROW()","v":3891}]
[{"$f":"ROW()","v":3892}]
[{"$f":"ROW()","v":3893}]
[{"$f":"ROW()","v":3894}]
[{"$f":"ROW()","v":3895}]
[{"$f":"ROW()","v":3896}]
[{"$f":"ROW()","v":3897}]
[{"$f":"ROW()","v":3898}]
[{"$f":"ROW()","v":3899}]
[{"$f":"ROW()","v":3900}]
[{"$f":"ROW()","v":3901}]
[{"$f":"ROW()","v":3902}]
[{"$f":"ROW()","v":3903}]
[{"$f":"ROW()","v":3904}]
[{"$f":"ROW()","v":3905}]
[{"$f":"ROW()","v":3906}]
[{"$f":"ROW()","v":3907}]
[{"$f":"ROW()","v":3908}]
[{"$f":"ROW()","v":3909}]
[{"$f":"ROW()","v":3910}]
[{"$f":"ROW()","v":3911}]
[{"$f":"ROW()","v":3912}]
[{"$f":"ROW()","v":3913}]
[{"$f":"ROW()","v":3914}]
[{"$f":"ROW()","v":3915}]
[{"$f":"ROW()","v":3916}]
[{"$f":"ROW()","v":3917}]
[{"$f":"ROW()","v":3918}]
[{"$f":"ROW()","v":3919}]
[{"$f":"ROW()","v":3920}]
[{"$f":"ROW()","v":3921}]
[{"$f":"ROW()","v":3922}]
[{"$f":"ROW()","v":3923}]
[{"$f":"ROW()","v":3924}]
[{"$f":"ROW()","v":3925}]
[{"$f":"ROW()","v":3926}]
[{"$f":"ROW()","v":3927}]
[{"$f":"ROW()","v":3928}]
[{"$f":"ROW()","v":3929}]
[{"$f":"ROW()","v":3930}]
[{"$f":"ROW()","v":3931}]
[{"$f":"ROW()","v":3932}]
[{"$f":"ROW()","v":3933}]
[{"$f":"ROW()","v":3934}]
[{"$f":"ROW()","v":3935}]
[{"$f":"ROW()","v":3936}]
[{"$f":"ROW()","v":3937}]
[{"$f":"ROW()","v":3938}]
[{"$f":"ROW()","v":3939}]
[{"$f":"ROW()","v":3940}]
[{"$f":"ROW()","v":3941}]
[{"$f":"ROW()","v":3942}]
[{"$f":"ROW()","v":3943}]
[{"$f":"ROW()","v":3944}]
[{"$f":"ROW()","v":3945}]
[{"$f":"ROW()","v":3946}]
[{"$f":"ROW()","v":3947}]
[{"$f":"ROW()","v":3948}]
[{"$f":"ROW()","v":3949}]
[{"$f":"ROW()","v":3950}]
[{"$f":"ROW()","v":3951}]
[{"$f":"ROW()","v":3952}]
[{"$f":"ROW()","v":3953}]
[{"$f":"ROW()","v":3954}]
[{"$f":"ROW()","v":3955}]
[{"$f":"ROW()","v":3956}]
[{"$f":"ROW()","v":3957}]
[{"$f":"ROW()","v":3958}]
[{"$f":"ROW()","v":3959}]
[{"$f":"ROW()","v":3960}]
[{"$f":"ROW()","v":3961}]
[{"$f":"ROW()","v":3962}]
[{"$f":"ROW()","v":3963}]
[{"$f":"ROW()","v":3964}]
[{"$f":"ROW()","v":3965}]
[{"$f":"ROW()","v":3966}]
[{"$f":"ROW()","v":3967}]
[{"$f":"ROW()","v":3968}]
[{"$f":"ROW()","v":3969}]
[{"$f":"ROW()","v":3970}]
[{"$f":"ROW()","v":3971}]
[{"$f":"ROW()","v":3972}]
[{"$f":"ROW()","v":3973}]
[{"$f":"ROW()","v":3974}]
[{"$f":"ROW()","v":3975}]
[{"$f":"ROW()","v":3976}]
[{"$f":"ROW()","v":3977}]
[{"$f":"ROW()","v":3978}]
[{"$f":"ROW()","v":3979}]
[{"$f":"ROW()","v":3980}]
[{"$f":"ROW()","v":3981}]
[{"$f":"ROW()","v":3982}]
[{"$f":"ROW()","v":3983}]
[{"$f":"ROW()","v":3984}]
[{"$f":"ROW()","v":3985}]
[{"$f":"ROW()","v":3986}]
[{"$f":"ROW()","v":3987}]
[{"$f":"ROW()","v":3988}]
[{"$f":"ROW()","v":3989}]
[{"$f":"ROW()","v":3990}]
[{"$f":"ROW()","v":3991}]
[{"$f":"ROW()","v":3992}]
[{"$f":"ROW()","v":3993}]

{"sheet":"Annexe E","index":6,"n_rows":46,"n_cols":4,"rows_kept":46,"cut":false,"hidden":false,"merged":[[31,0,31,1],[13,0,13,3],[33,0,33,1],[34,0,34,1],[44,0,44,1],[40,0,40,1],[41,0,41,1],[42,0,42,1],[43,0,43,1],[35,0,35,1],[36,0,36,1],[37,0,37,1],[38,0,38,1],[39,0,39,1],[0,1,0,3],[1,0,1,3],[2,0,2,3],[3,0,3,3],[21,0,21,1],[4,0,4,3],[11,1,11,4],[7,0,7,1],[9,2,9,3],[6,0,6,2],[16,0,16,1],[17,0,17,1],[18,0,18,1],[19,0,19,1],[10,0,10,4],[12,0,12,4],[8,2,8,4],[45,0,45,3],[14,0,14,3],[15,0,15,1],[20,0,20,1],[22,0,22,1],[23,0,23,1],[24,0,24,1],[25,0,25,1],[26,0,26,1],[27,0,27,1],[28,0,28,1],[29,0,29,1],[30,0,30,1],[8,0,8,1],[32,0,32,1]]}
[null,"Production de titres multimédias\n(volet sociétés spécialisées)\nVersion : 2023-09-22"]
["\nAnnexe E - Demande d'attestation de travaux de production\nDescription de poste"]
["(L'Annexe E fait partie intégrante de la présente demande.)"]
["Vous devez fournir une description de poste pour chaque type de poste visé par votre demande d'attestation. Ne donnez qu'une seule description de poste pour tous les employés occupant exactement le même poste. Chaque poste doit être suffisamment décrit et doit présenter toutes les tâches qui le composent. Veuillez accorder un pourcentage représentatif du temps consacré à chaque tâche d'un poste donné   (ex. : ne pas inscrire une tâche représentant 100 % du temps de l'employé)."]
["Dans le cadre du traitement de la demande, Investissement Québec peut exiger que des feuilles de temps, rapport de facturation ou tout autre document appuyant les descriptions de postes lui soient présentés afin de justifier les postes réclamés. Pour plus de détails, consultez nos « Directives relatives aux descriptions de tâches dans les demandes d'attestations d'admissibilité » sur notre site Internet à l'adresse suivante : http://www.investquebec.com/documents/fr/publications/NouvellesLignesDirectrices_MesuresFiscales.pdf"]
[]
["Nom de la société",null,null,"Numéro de dossier IQ "]
[{"$f":"IF(Demande!A7=\"\",\"\",Demande!A7)","v":""},null,null,{"$f":"IF(Demande!U10=\"\",\"\",Demande!U10)","v":""}]
["Titre du poste ",null,"Supérieur immédiat "]
[]
["Titulaire(s)"]
[]
["Raison d'être du poste"]
[]
[]
["Description détaillée des tâches réalisées par l'employé durant l'exercice financier",null,"Temps\n consacré à\nces activités (%)","Réservé à IQ"]
[]
[]
[]
[]
[]
[]
[]
[]
[]
[]
[]
[]
[]
[]
[]
[]
[]
[]
[]
[]
[]
[]
[]
[]
[]
[]
[]
[]
[]
["La description des responsabilités et des tâches est conforme à la réalité et ne comporte ni ajout ni retrait aux responsabilités et aux tâches du ou des titulaires pendant l'année d'imposition visée.\n\nJe certifie que les salaires ont été versés au Québec pour l’ensemble des responsabilités et tâches indiquées précédemment."]

{"sheet":"Annexe F","index":7,"n_rows":39,"n_cols":4,"rows_kept":39,"cut":false,"hidden":false,"merged":[[0,1,0,3],[38,0,38,3],[10,0,10,3],[32,0,32,1],[34,0,34,1],[36,0,36,3],[9,0,9,3],[11,0,11,3],[8,0,8,1],[1,0,1,3],[2,0,2,3],[3,0,3,3],[4,0,4,3]]}
[null,"Production de titres multimédias\n(volet sociétés spécialisées)\nVersion : 2023-09-22"]
["Annexe F - Demande d'attestation de société spécialisée\nPourcentage d'activités exercées au Québec à l'égard de la \nproduction de titres multimédias admissibles"]
["(L'Annexe F fait partie intégrante de la présente demande.)"]
["Une attestation de société spécialisée est délivrée à une société lorsqu'au moins 75 % des activités qu'elle exerce au Québec, pour une année d’imposition donnée, consiste à produire des titres admissibles pour elle-même ou pour le compte d’autres personnes et, le cas échéant, à effectuer des recherches scientifiques et du développement expérimental se rapportant à de tels titres."]
["Pour évaluer au préalable si la société respecte le critère relatif au 75 % d'activités, veuillez indiquer les informations demandées ci-dessous."]
[]
["Nom de la société",null,"No dossier IQ"]
[{"$f":"IF(Demande!A7=\"\",\"\",Demande!A7)","v":""},null,{"$f":"IF(Demande!U10=\"\",\"\",Demande!U10)","v":""}]
[]
["Méthode basée sur la masse salariale (activités du Québec uniquement)"]
["Énumérez et additionnez tous les postes de salaires qui figurent à la balance de vérification pour l'exercice financier visé."]
["Bien que les calculs de la présente annexe soient basés sur les salaires, Investissement Québec pourra accepter toute autre méthode raisonnable présentée par la société (par exemples les heures travaillées ou méthode basée sur les revenus) pour établir le ratio du 75 % d'activités."]
[]
["Nom du compte de la balance de vérification (salaires, bonis, temps supplémentaires.)","# de compte de grand livre","Montant pour l'exercice financier"]
[]
[]
[]
[]
[]
[]
[]
[]
[]
[]
[]
[]
[]
[]
[]
["Total de la masse salariale totale pour l'exercice (au Québec)",null,{"$f":"SUM(C15:C29)","v":0},"A"]
[]
["Total des salaires relatifs aux employés réclamés ",null,null,"B"]
["(Calcul selon les données figurant à l'annexe A de votre demande d'attestation annuelle. Ceci correspond au total des salaires des employés réclamés multiplié par leurs pourcentages d'admissibilité respectifs.)"]
[]
["Pourcentage des activités admissibles sur la masse salariale totale (B/A)",null,{"$f":"C32/C30","v":{"$error":"#DIV/0!"}},"voir triangle rouge"]
[]
["Veuillez également soumettre la conciliation du montant de la masse salariale totale (A) avec le montant des salaires figurant aux états financiers."]
[]
["Note : Aux seules fins du critère du 75 % et des paramètres servant à la détermination des taux du crédit d’impôt, une partie d’un autre titre multimédia sera réputée un titre multimédia admissible, bien qu’elle soit un composant d’un autre titre produit par une société ayant un établissement au Québec, si par ailleurs cet autre titre est un titre multimédia admissible."]

{"sheet":"Annexe G","index":8,"n_rows":9,"n_cols":4,"rows_kept":9,"cut":false,"hidden":false,"merged":[[30,0,30,1],[31,0,31,1],[22,0,22,1],[23,0,23,1],[24,0,24,1],[25,0,25,1],[26,0,26,1],[27,0,27,1],[28,0,28,1],[29,0,29,1],[19,0,19,1],[20,0,20,1],[9,2,9,4],[10,2,10,4],[11,2,11,4],[12,2,12,4],[13,2,13,4],[14,2,14,4],[15,2,15,4],[16,2,16,4],[17,2,17,4],[18,2,18,4],[0,2,0,4],[21,0,21,1],[9,0,9,1],[10,0,10,1],[11,0,11,1],[12,0,12,1],[13,0,13,1],[14,0,14,1],[15,0,15,1],[16,0,16,1],[17,0,17,1],[18,0,18,1],[19,2,19,4],[20,2,20,4],[8,0,8,1],[8,2,8,4],[7,0,7,2],[2,0,2,4],[3,0,3,4],[6,0,6,1],[1,0,1,4],[32,0,32,1],[33,0,33,1],[34,0,34,1],[35,0,35,1],[36,0,36,1],[37,0,37,1],[38,0,38,1],[39,0,39,1],[40,0,40,1],[41,0,41,1],[42,0,42,1],[43,0,43,1],[44,0,44,1],[45,0,45,1],[46,0,46,1],[47,0,47,1],[48,0,48,1],[49,0,49,1],[50,0,50,1],[51,0,51,1],[21,2,21,4],[22,2,22,4],[23,2,23,4],[24,2,24,4],[25,2,25,4],[26,2,26,4],[27,2,27,4],[28,2,28,4],[29,2,29,4],[30,2,30,4],[31,2,31,4],[32,2,32,4],[33,2,33,4],[34,2,34,4],[35,2,35,4],[36,2,36,4],[37,2,37,4],[38,2,38,4],[39,2,39,4],[40,2,40,4],[41,2,41,4],[42,2,42,4],[43,2,43,4],[44,2,44,4],[45,2,45,4],[51,2,51,4],[46,2,46,4],[47,2,47,4],[48,2,48,4],[49,2,49,4],[50,2,50,4]]}
[null,null,"Production de titres multimédias\n(volet sociétés spécialisées)\nVersion : 2023-09-22"]
["Annexe G - Demande d'attestation de société spécialisée\nNom des titres exclus"]
["(L'Annexe G fait partie intégrante de la présente demande.)"]
["Vous devez fournir une liste des titres multimédias exclus. Un titre multimédia exclu est un titre qui ne satisfait pas les critères d'admissibilité prévus au chapitre 6 de l'annexe A de la Loi concernant les paramètres sectoriels de certaines mesures fiscales."]
[]
["Nom de la société",null,null,"No dossier IQ"]
[{"$f":"IF(Demande!A7=\"\",\"\",Demande!A7)","v":""},null,null,{"$f":"IF(Demande!U10=\"\",\"\",Demande!U10)","v":""}]
[]
["Nom des titres multimédias exclus",null,"Nom du client"]

{"sheet":"Annexe H","index":9,"n_rows":9,"n_cols":3,"rows_kept":9,"cut":false,"hidden":false,"merged":[[1,0,1,2],[2,0,2,2],[3,0,3,2],[7,0,7,1],[0,1,0,2]]}
[null,"Production de titres multimédias\n(volet sociétés spécialisées)\nVersion : 2023-09-22"]
["Annexe H - Employés non réclamés de l'établissement au Québec"]
["(L'Annexe H fait partie intégrante de la présente demande.)"]
["Veuillez fournir la liste des employés que la société n'a pas réclamés pour son établissement au Québec, le titre de leur poste ainsi que leur salaire brut versé durant l'exercice financier."]
[]
["Nom de la société",null,"No dossier IQ"]
[{"$f":"IF(Demande!A7=\"\",\"\",Demande!A7)","v":""},null,{"$f":"IF(Demande!U10=\"\",\"\",Demande!U10)","v":""}]
[]
["Nom de l'employé non réclamé","Titre du poste occupé","Salaire brut pour l'exercice"]